{"text_format":"1","workbook":"xlsx","n_sheets":21,"sheets":["Readme","Site Plan","INFO - Vehicle classification","07 04 2016","08 04 2016","09 04 2016","10 04 2016","11 04 2016","12 04 2016","13 04 2016","14 04 2016","15 04 2016","16 04 2016","17 04 2016","18 04 2016","19 04 2016","rolling hour totals_dir 1","rolling hour totals_dir 2","1hr_summary_dir 1","1hr_summary_dir 2","at a glance_for the report"],"not_rendered":{"charts":4,"images":3,"macros":1,"external_links":2,"defined_names":10,"comments":3,"pivot_tables":0},"unopened":[],"bounds":{"document_bytes":16777216,"sheet_cells":100000,"rows_first":2000,"rows_last":500,"rows_between":2000,"halvings":0,"cell_chars":16384,"cell_head_chars":4096},"cells_cut":0,"cells_raw":0,"read":"whole","date_system":"1900"}

{"sheet":"Readme","index":0,"n_rows":22,"n_cols":3,"rows_kept":22,"cut":false,"hidden":false,"merged":[]}
["DO NOT CHANGE THE STRUCTURE OF THE SPREADSHEET (i.e. add or delete rows/columns, modify formulas, etc.)"]
[]
[]
["GENERAL"]
["§ this spreadsheet may be used by survey companies to input ATC data"]
["§ automatically produces hourly flows"]
["§ there is no warranty that the spreadsheet will meet your requirements"]
["§ it is the responsibility of the user to check the results"]
["§ ATC data should be input separately for each date into respective sheets. The name of such sheet should comply with the following format <DD MM YYYY>"]
["§ if ATC data is not available by vehicle class and 15-minute interval, the hourly data can be input directly into the 1hr summary sheets"]
[]
["SPREADSHEET STRUCTURE"]
[]
["Sheet Name","Description","Comments"]
["Site Plan","Contains general information about the survey site","can be printed out for the survey report"]
["INFO - Vehicle classification","Information about vehicle classification"]
["<DD MM YYYY>","ATC data by vehicle class and 15-minute interval","to be filled in by the survey company\n(values in grey areas are calculated automatically)"]
["rolling hour totals_dir 1","Rolling hour ATC summary","calculated automatically and can be used to identify the busiest hour"]
["rolling hour totals_dir 2","Rolling hour ATC summary","calculated automatically and can be used to identify the busiest hour"]
["1hr_summary_dir 1","Hourly ATC summary, calculates the mean and compliance with WebTAG criteria","calculated automatically or can be partially filled in"]
["1hr_summary_dir 2","Hourly ATC summary, calculates the mean and compliance with WebTAG criteria","calculated automatically or can be partially filled in"]
["at a glance_for the report","Survey results at a glance","can be printed out for the survey report"]

{"sheet":"Site Plan","index":1,"n_rows":20,"n_cols":17,"rows_kept":20,"cut":false,"hidden":false,"merged":[[2,16,2,19],[1,0,1,1],[1,2,1,5],[1,7,1,8],[1,9,1,12],[1,14,1,15],[1,16,1,19],[2,0,2,1],[2,2,2,5],[2,7,2,8],[2,9,2,12],[2,14,2,15],[4,16,4,19],[3,0,3,1],[3,2,3,5],[3,7,3,8],[3,14,3,15],[3,16,3,19],[4,0,4,1],[4,2,4,5],[4,7,4,8],[4,14,4,15],[3,10,3,11],[4,10,4,11],[7,14,7,15],[7,16,7,19],[16,0,16,5],[5,0,5,1],[5,2,5,5],[5,7,5,8],[5,9,5,12],[5,14,5,15],[5,16,5,19],[21,1,21,5],[22,1,22,5],[23,1,23,5],[24,1,24,5],[7,0,7,1],[7,2,7,12],[18,2,18,4],[19,2,19,4],[18,0,18,1],[19,0,19,1],[20,1,20,5]]}
["AUTOMATIC TRAFFIC COUNT (ATC)"]
["Project Reference",null,"ID02591",null,null,null,null,"Site ID",null,"Site 23",null,null,null,null,"Survey Period",null,"15 minutes"]
["Client",null,"WSP | Parsons Brinckerhoff",null,null,null,null,"Site Location",null,"A131 Ballingdon Street",null,null,null,null,"Start Date of Survey Period",null,"2016-04-07"]
["Survey Company Name",null,"Intelligent Data Collection",null,null,null,null,"Easting",null,586680,"Latitude",null,{"$f":"IFERROR(E_N_to_Lat(J4,J5,a,b,E0,N0,F0,DecimalPHI0,DecimalLAM0),\"\")","v":52.034359975552647},null,"End Date of Survery Period",null,"2016-04-19"]
["Prepared by",null,"David Brown",null,null,null,null,"Northing",null,240872,"Longitude",null,{"$f":"IFERROR(E_N_to_Long(J4,J5,a,b,E0,N0,F0,DecimalPHI0,DecimalLAM0),\"\")","v":0.72187303171837391},null,"Weather conditions",null,"Raining"]
["Checked by",null,"Luke Martin",null,null,null,null,"Link to location on Google Maps",null,{"$f":"HYPERLINK(\"http://maps.google.co.uk/maps?hl=en&safe=off&q=\"&M4&\",\"&M5&\"&cr=countryUK|countryGB&um=1&ie=UTF-8&sa=N&tab=wl\",\"Click for location\")","v":"Click for location"},null,null,null,null,"Incidents",null,"None"]
[]
["Comments",null,"The tubes were damaged from the 19th at 13:45",null,null,null,null,null,null,null,null,null,null,null,"Units",null,"Vehicles"]
[]
[]
[]
[]
[]
[]
[]
[]
["Directions"]
[]
["Direction 1",null,"Eastbound",null,null,"EB"]
["Direction 2",null,"Westbound",null,null,"WB"]

{"sheet":"INFO - Vehicle classification","index":2,"n_rows":11,"n_cols":2,"rows_kept":11,"cut":false,"hidden":false,"merged":[]}
["Source: ","Coba 11 User Manual currently DMRB Volume 13"]
[null,"Part 4: Traffic input to COBA (revised June 2006)"]
[]
["Vehicle class","Description"]
["CAR","Including taxis, estate cars, ‘people carriers’ and other passenger vehicles (for example, minibuses and camper vans) with a gross vehicle weight of less than 3.5 tonnes, normally ones which can accommodate not more than 15 seats.  Three-wheeled cars, motor invalid carriages, Land Rovers, Range Rovers and Jeeps and smaller ambulances are included.  Cars towing caravans or trailers are counted as one vehicle unless included as a separate class"]
["LGV","Light Goods Vehicles\nIncludes all goods vehicles up to 3.5 tonnes gross vehicle weight \n(goods vehicles over 3.5 tonnes have sideguards fitted between axles), \nincluding those towing a trailer or caravan.  This includes all car delivery vans \nand those of the next larger carrying capacity such as transit vans.  Included \nhere are small pickup vans, three-wheeled goods vehicles, milk floats and \npedestrian controlled motor vehicles.  Most of this group are delivery vans of \none type or another"]
["OGV1","Other Goods Vehicles 1\nIncludes all rigid vehicles over 3.5 tonnes gross vehicle weight with \ntwo or three axles Includes larger ambulances, tractors (without trailers), road \nrollers for tarmac pressing, box vans and similar large vans.  A two or three axle \nmotor tractive unit without a trailer is also included"]
["OGV2","Other Goods Vehicles 2\nIncludes all rigid vehicles with four or more axles and all articulated \nvehicles. Also included in this class are OGV1 goods vehicles towing a caravan \nor trailer"]
["PSV","Buses and Coaches\nIncludes all public service vehicles and works buses with a gross vehicle \nweight of 3.5 tonnes or more, usually vehicles with more than 16 seats"]
["MCL","Motorcycle\nIncludes all types of motorcycles and also those with sidecars"]
["PCL","Pedal Cycle\nIncludes all types of pedal cycles and those carrying one or more passengers"]

{"sheet":"07 04 2016","index":3,"n_rows":102,"n_cols":21,"rows_kept":102,"cut":false,"hidden":false,"merged":[[3,1,3,7],[3,8,3,10],[3,11,3,17],[3,18,3,20]]}
["* Fill the table with data"]
["DO NOT CHANGE THE STRUCTURE OF THE SPREADSHEET (i.e. ADD OR DELETE ROWS/COLUMNS, ETC.)"]
[]
[null,{"$f":"'Site Plan'!$A$19&\" - \"&'Site Plan'!$C$19","v":"Direction 1 - Eastbound"},null,null,null,null,null,null,"TOTAL",null,null,{"$f":"'Site Plan'!$A$20&\" - \"&'Site Plan'!$C$20","v":"Direction 2 - Westbound"},null,null,null,null,null,null,"TOTAL"]
["TIME","CAR","LGV","OGV1","OGV2","PSV","MCL","PCL","CAR + LGV + HGV","HGV","ALL modes","CAR","LGV","OGV1","OGV2","PSV","MCL","PCL","CAR + LGV + HGV","HGV","ALL modes"]
["00:00:00",4,5,1,0,0,0,0,{"$f":"SUM(B6:E6)","v":10},{"$f":"SUM(D6:E6)","v":1},{"$f":"SUM(B6:H6)","v":10},2,2,1,0,0,0,0,{"$f":"SUM(L6:O6)","v":5},{"$f":"SUM(N6:O6)","v":1},{"$f":"SUM(L6:R6)","v":5}]
["00:15:00",1,5,0,0,0,0,0,{"$f":"SUM(B7:E7)","v":6},{"$f":"SUM(D7:E7)","v":0},{"$f":"SUM(B7:H7)","v":6},2,1,0,0,0,0,0,{"$f":"SUM(L7:O7)","v":3},{"$f":"SUM(N7:O7)","v":0},{"$f":"SUM(L7:R7)","v":3}]
["00:30:00",3,1,0,0,0,0,0,4,0,4,3,1,0,0,0,0,0,4,0,4]
["00:45:00",3,2,0,0,0,0,0,5,0,5,0,2,1,0,0,0,0,3,1,3]
["01:00:00",1,2,0,0,0,0,0,3,0,3,0,2,0,0,0,1,0,2,0,3]
["01:15:00",1,1,0,0,0,1,0,2,0,3,1,1,0,0,0,0,0,2,0,2]
["01:30:00",0,1,0,0,0,0,0,1,0,1,0,0,0,0,0,0,0,0,0,0]
["01:45:00",0,1,0,1,0,0,0,2,1,2,1,1,0,0,0,0,0,2,0,2]
["02:00:00",1,1,0,0,0,0,0,2,0,2,0,1,1,0,0,0,0,2,1,2]
["02:15:00",3,1,0,0,0,0,0,4,0,4,0,2,0,0,0,0,0,2,0,2]
["02:30:00",1,0,0,0,0,0,0,1,0,1,1,2,0,0,0,0,0,3,0,3]
["02:45:00",0,1,1,1,0,0,0,3,2,3,2,0,0,0,0,0,0,2,0,2]
["03:00:00",0,3,0,0,0,0,0,3,0,3,1,2,0,0,0,0,0,3,0,3]
["03:15:00",0,1,0,0,0,0,0,1,0,1,1,3,0,0,0,0,0,4,0,4]
["03:30:00",0,1,0,0,0,0,0,1,0,1,0,1,0,0,0,0,0,1,0,1]
["03:45:00",0,0,0,1,0,0,0,1,1,1,1,1,1,0,0,0,0,3,1,3]
["04:00:00",3,2,2,0,0,0,0,7,2,7,3,1,0,0,1,0,0,4,0,5]
["04:15:00",2,1,0,0,0,0,0,3,0,3,1,10,2,1,0,0,0,14,3,14]
["04:30:00",3,3,0,0,0,0,0,6,0,6,2,8,1,0,0,0,0,11,1,11]
["04:45:00",5,3,0,0,0,0,0,8,0,8,6,9,1,0,0,0,0,16,1,16]
["05:00:00",4,5,3,1,0,0,2,13,4,15,6,13,4,2,0,0,0,25,6,25]
["05:15:00",5,4,2,0,0,1,0,11,2,12,17,17,2,0,0,0,0,36,2,36]
["05:30:00",11,8,1,0,0,0,0,20,1,20,9,23,3,1,0,2,0,36,4,38]
["05:45:00",17,9,6,0,0,0,0,32,6,32,17,26,2,1,0,1,0,46,3,47]
["06:00:00",17,11,3,0,0,1,1,31,3,33,27,30,5,1,0,0,0,63,6,63]
["06:15:00",31,14,3,0,0,0,0,48,3,48,19,30,2,1,0,3,1,52,3,56]
["06:30:00",41,26,4,1,0,0,0,72,5,72,35,32,7,0,0,2,0,74,7,76]
["06:45:00",31,32,1,2,0,0,0,66,3,66,43,50,6,1,0,3,0,100,7,103]
["07:00:00",49,32,6,0,1,1,2,87,6,91,69,47,5,1,1,2,0,122,6,125]
["07:15:00",79,37,3,1,0,0,0,120,4,120,56,65,4,4,0,5,0,129,8,134]
["07:30:00",90,53,1,2,0,1,0,146,3,147,61,61,4,2,1,0,1,128,6,130]
["07:45:00",90,43,3,2,2,1,0,138,5,141,84,48,5,1,1,0,1,138,6,140]
["08:00:00",85,32,6,2,0,0,1,125,8,126,91,43,2,1,0,0,1,137,3,138]
["08:15:00",96,59,3,2,3,0,0,160,5,163,66,51,7,2,0,0,0,126,9,126]
["08:30:00",85,35,5,1,1,0,0,126,6,127,77,53,10,2,0,1,0,142,12,143]
["08:45:00",90,47,11,0,0,0,0,148,11,148,87,44,5,0,1,1,0,136,5,138]
["09:00:00",75,54,2,2,2,2,0,133,4,137,70,43,6,1,1,0,1,120,7,122]
["09:15:00",88,49,8,2,1,0,0,147,10,148,59,34,6,1,1,2,0,100,7,103]
["09:30:00",71,42,10,1,3,1,0,124,11,128,76,44,5,1,0,2,0,126,6,128]
["09:45:00",88,56,7,0,0,1,1,151,7,153,62,25,7,0,0,0,0,94,7,94]
["10:00:00",81,47,4,5,0,0,0,137,9,137,75,42,2,1,1,0,0,120,3,121]
["10:15:00",90,50,5,0,1,0,0,145,5,146,67,43,6,1,2,1,0,117,7,120]
["10:30:00",88,49,2,4,4,1,0,143,6,148,76,36,3,2,0,1,0,117,5,118]
["10:45:00",96,56,8,3,1,0,0,163,11,164,65,39,7,0,1,0,0,111,7,112]
["11:00:00",105,53,4,5,1,0,1,167,9,169,72,42,6,0,0,0,0,120,6,120]
["11:15:00",98,42,6,2,0,0,0,148,8,148,88,53,3,0,2,0,1,144,3,147]
["11:30:00",81,42,5,1,2,0,1,129,6,132,88,38,3,1,0,0,0,130,4,130]
["11:45:00",82,43,5,1,0,1,0,131,6,132,72,32,4,2,0,0,0,110,6,110]
["12:00:00",93,48,5,0,0,2,0,146,5,148,90,59,6,0,1,0,0,155,6,156]
["12:15:00",80,49,8,5,0,0,0,142,13,142,94,47,3,1,0,1,0,145,4,146]
["12:30:00",117,32,6,2,0,1,0,157,8,158,102,29,5,3,1,1,0,139,8,141]
["12:45:00",86,50,9,1,0,0,0,146,10,146,77,39,7,3,0,0,0,126,10,126]
["13:00:00",101,44,4,2,0,2,1,151,6,154,71,49,5,1,1,1,0,126,6,128]
["13:15:00",90,43,5,4,1,0,1,142,9,144,80,43,6,1,1,0,0,130,7,131]
["13:30:00",101,47,3,2,1,0,0,153,5,154,85,49,4,0,3,1,0,138,4,142]
["13:45:00",98,42,5,4,3,0,1,149,9,153,82,37,3,0,1,0,1,122,3,124]
["14:00:00",81,33,7,0,0,1,0,121,7,122,93,52,3,2,0,0,1,150,5,151]
["14:15:00",83,41,7,2,1,0,0,133,9,134,74,45,6,4,1,0,0,129,10,130]
["14:30:00",77,43,9,3,0,1,0,132,12,133,87,51,5,0,0,0,0,143,5,143]
["14:45:00",58,38,3,0,2,0,1,99,3,102,76,46,7,1,0,2,0,130,8,132]
["15:00:00",96,38,8,2,0,0,0,144,10,144,78,26,7,2,0,0,0,113,9,113]
["15:15:00",80,47,7,2,0,1,0,136,9,137,102,56,4,2,0,1,0,164,6,165]
["15:30:00",96,49,4,4,0,2,0,153,8,155,89,47,5,3,0,0,1,144,8,145]
["15:45:00",84,47,4,3,0,0,0,138,7,138,95,57,7,2,0,0,0,161,9,161]
["16:00:00",109,43,5,2,0,0,0,159,7,159,91,54,6,1,0,1,0,152,7,153]
["16:15:00",92,38,6,0,0,0,0,{"$f":"SUM(B71:E71)","v":136},{"$f":"SUM(D71:E71)","v":6},{"$f":"SUM(B71:H71)","v":136},97,60,7,0,1,1,0,{"$f":"SUM(L71:O71)","v":164},{"$f":"SUM(N71:O71)","v":7},{"$f":"SUM(L71:R71)","v":166}]
["16:30:00",114,60,5,1,0,1,0,180,6,181,94,47,3,1,0,0,3,145,4,148]
["16:45:00",102,49,0,2,0,1,1,153,2,155,97,67,5,1,0,1,1,170,6,172]
["17:00:00",125,54,2,6,0,0,1,187,8,188,132,52,3,1,0,0,0,188,4,188]
["17:15:00",129,62,3,1,0,1,1,195,4,197,93,54,1,0,0,1,1,148,1,150]
["17:30:00",106,66,3,1,0,3,0,176,4,179,118,55,0,1,0,0,2,174,1,176]
["17:45:00",100,46,0,0,0,2,0,146,0,148,86,46,4,0,0,0,0,136,4,136]
["18:00:00",92,59,4,1,0,0,0,156,5,156,69,43,1,1,0,0,0,114,2,114]
["18:15:00",82,50,3,1,0,1,0,136,4,137,78,37,0,1,0,0,1,116,1,117]
["18:30:00",68,38,3,0,0,0,0,109,3,109,80,44,2,2,0,0,0,128,4,128]
["18:45:00",75,47,5,3,0,1,1,130,8,132,39,35,1,0,0,0,1,75,1,76]
["19:00:00",69,37,1,0,0,1,0,107,1,108,51,30,0,0,0,0,1,81,0,82]
["19:15:00",59,32,1,0,0,2,0,92,1,94,60,27,2,0,0,1,0,89,2,90]
["19:30:00",55,37,2,2,0,0,1,96,4,97,44,28,4,0,0,0,1,76,4,77]
["19:45:00",43,25,2,1,0,2,0,71,3,73,37,26,0,0,0,0,0,63,0,63]
["20:00:00",31,24,1,1,0,0,0,57,2,57,46,14,0,1,0,0,0,61,1,61]
["20:15:00",24,18,2,1,0,0,0,45,3,45,23,29,0,0,0,2,0,52,0,54]
["20:30:00",24,19,1,0,0,1,0,44,1,45,24,7,0,0,0,1,0,31,0,32]
["20:45:00",34,14,1,0,0,0,0,49,1,49,25,14,1,0,0,0,0,40,1,40]
["21:00:00",21,15,0,0,0,0,1,36,0,37,24,7,1,0,0,0,0,32,1,32]
["21:15:00",13,11,0,1,0,0,0,25,1,25,17,12,0,0,0,1,0,29,0,30]
["21:30:00",23,16,0,1,0,0,0,40,1,40,39,15,0,0,0,0,0,54,0,54]
["21:45:00",15,14,1,0,0,0,0,30,1,30,22,8,0,1,0,1,0,31,1,32]
["22:00:00",22,14,2,0,0,1,0,38,2,39,14,13,0,0,0,1,0,27,0,28]
["22:15:00",10,11,1,0,0,0,0,22,1,22,14,19,0,1,0,0,0,34,1,34]
["22:30:00",24,7,0,0,0,0,0,31,0,31,17,15,0,0,0,0,0,32,0,32]
["22:45:00",11,6,0,0,0,1,0,17,0,18,12,4,0,0,0,1,0,16,0,17]
["23:00:00",8,9,0,0,0,0,0,17,0,17,13,8,0,0,0,0,1,21,0,22]
["23:15:00",3,5,0,0,0,0,0,8,0,8,7,9,0,0,0,0,0,16,0,16]
["23:30:00",5,7,0,0,0,0,0,12,0,12,1,5,0,0,0,0,0,6,0,6]
["23:45:00",7,6,0,0,0,0,0,13,0,13,3,2,0,0,0,1,0,5,0,6]
["TOTAL",{"$f":"SUM(B6:B101)","v":5011},{"$f":"SUM(C6:C101)","v":2695},279,104,30,40,19,8089,383,8178,{"$f":"SUM(L6:L101)","v":4603},{"$f":"SUM(M6:M101)","v":2772},263,68,23,47,21,7706,331,7797]

{"sheet":"08 04 2016","index":4,"n_rows":102,"n_cols":21,"rows_kept":102,"cut":false,"hidden":false,"merged":[[3,1,3,7],[3,8,3,10],[3,11,3,17],[3,18,3,20]]}
["* Fill the table with data"]
["DO NOT CHANGE THE STRUCTURE OF THE SPREADSHEET (i.e. ADD OR DELETE ROWS/COLUMNS, ETC.)"]
[]
[null,{"$f":"'Site Plan'!$A$19&\" - \"&'Site Plan'!$C$19","v":"Direction 1 - Eastbound"},null,null,null,null,null,null,"TOTAL",null,null,{"$f":"'Site Plan'!$A$20&\" - \"&'Site Plan'!$C$20","v":"Direction 2 - Westbound"},null,null,null,null,null,null,"TOTAL"]
["TIME","CAR","LGV","OGV1","OGV2","PSV","MCL","PCL","CAR + LGV + HGV","HGV","ALL modes","CAR","LGV","OGV1","OGV2","PSV","MCL","PCL","CAR + LGV + HGV","HGV","ALL modes"]
["00:00:00",7,2,1,0,0,1,0,{"$f":"SUM(B6:E6)","v":10},{"$f":"SUM(D6:E6)","v":1},{"$f":"SUM(B6:H6)","v":11},1,4,0,0,0,0,0,{"$f":"SUM(L6:O6)","v":5},{"$f":"SUM(N6:O6)","v":0},{"$f":"SUM(L6:R6)","v":5}]
["00:15:00",4,4,0,0,0,0,0,{"$f":"SUM(B7:E7)","v":8},{"$f":"SUM(D7:E7)","v":0},{"$f":"SUM(B7:H7)","v":8},1,2,0,0,0,0,0,{"$f":"SUM(L7:O7)","v":3},{"$f":"SUM(N7:O7)","v":0},{"$f":"SUM(L7:R7)","v":3}]
["00:30:00",6,3,0,0,0,0,0,9,0,9,3,0,0,0,0,0,1,3,0,4]
["00:45:00",4,1,0,0,0,0,0,5,0,5,0,2,0,0,0,0,0,2,0,2]
["01:00:00",0,2,0,0,0,0,0,2,0,2,2,1,0,0,0,0,0,3,0,3]
["01:15:00",2,2,0,0,0,0,0,4,0,4,0,2,0,0,1,0,0,2,0,3]
["01:30:00",1,1,0,0,0,0,0,2,0,2,1,0,0,0,0,0,0,1,0,1]
["01:45:00",0,1,1,1,0,0,0,3,2,3,0,0,0,1,0,0,0,1,1,1]
["02:00:00",4,2,0,0,0,0,0,6,0,6,1,0,0,0,0,0,0,1,0,1]
["02:15:00",1,1,0,1,0,0,0,3,1,3,0,3,1,0,0,0,0,4,1,4]
["02:30:00",0,0,0,0,0,0,0,0,0,0,0,2,0,0,0,0,0,2,0,2]
["02:45:00",1,3,0,0,0,0,0,4,0,4,1,1,0,1,0,0,1,3,1,4]
["03:00:00",1,3,1,0,0,0,0,5,1,5,1,3,0,0,0,0,0,4,0,4]
["03:15:00",0,1,1,0,0,0,0,2,1,2,2,3,1,0,0,0,0,6,1,6]
["03:30:00",1,2,0,0,0,0,0,3,0,3,0,1,0,0,0,0,0,1,0,1]
["03:45:00",0,0,1,0,0,0,0,1,1,1,2,1,0,0,0,0,0,3,0,3]
["04:00:00",3,1,1,0,0,1,0,5,1,6,3,4,2,0,0,0,0,9,2,9]
["04:15:00",1,0,0,0,0,0,0,1,0,1,4,6,0,0,0,0,0,10,0,10]
["04:30:00",4,3,1,1,0,0,0,9,2,9,3,7,1,1,0,0,0,12,2,12]
["04:45:00",3,1,0,0,0,0,0,4,0,4,6,8,2,0,0,0,0,16,2,16]
["05:00:00",10,5,2,0,0,1,0,17,2,18,7,9,0,0,1,0,0,16,0,17]
["05:15:00",4,3,2,0,2,0,0,9,2,11,14,14,4,3,0,0,0,35,7,35]
["05:30:00",13,8,1,0,0,0,0,22,1,22,17,17,3,0,0,0,0,37,3,37]
["05:45:00",11,7,4,0,0,0,0,22,4,22,25,16,4,1,0,3,0,46,5,49]
["06:00:00",18,17,1,0,0,0,0,36,1,36,27,36,2,0,0,1,0,65,2,66]
["06:15:00",20,18,1,0,0,0,0,39,1,39,26,32,7,0,2,1,0,65,7,68]
["06:30:00",22,19,1,1,0,0,0,43,2,43,45,37,3,0,0,2,0,85,3,87]
["06:45:00",37,28,4,1,0,0,0,70,5,70,45,41,6,2,0,4,0,94,8,98]
["07:00:00",57,30,4,3,0,1,1,94,7,96,59,49,4,2,0,1,0,114,6,115]
["07:15:00",51,52,3,0,0,0,0,106,3,106,54,65,5,1,0,0,0,125,6,125]
["07:30:00",73,40,3,2,1,2,0,118,5,121,75,54,11,0,0,2,1,140,11,143]
["07:45:00",91,44,9,1,1,0,0,145,10,146,119,57,7,2,0,1,0,185,9,186]
["08:00:00",79,44,8,2,0,0,0,133,10,133,91,52,5,1,0,2,1,149,6,152]
["08:15:00",82,45,3,0,0,1,0,130,3,131,69,41,8,1,1,1,1,119,9,122]
["08:30:00",102,50,10,0,0,0,0,162,10,162,65,43,3,0,0,1,1,111,3,113]
["08:45:00",85,41,2,0,1,2,0,128,2,131,58,48,7,0,1,0,0,113,7,114]
["09:00:00",91,49,10,2,0,0,0,152,12,152,59,44,3,0,0,0,0,106,3,106]
["09:15:00",86,44,8,2,1,0,0,140,10,141,67,41,7,0,0,0,0,115,7,115]
["09:30:00",95,35,4,2,0,0,0,136,6,136,75,40,4,4,1,0,0,123,8,124]
["09:45:00",96,44,5,1,0,0,0,146,6,146,67,46,5,2,1,0,1,120,7,122]
["10:00:00",103,54,5,4,0,0,0,166,9,166,69,33,4,3,0,1,0,109,7,110]
["10:15:00",104,37,6,4,1,2,3,151,10,157,76,45,5,2,0,0,0,128,7,128]
["10:30:00",95,58,6,0,0,1,0,159,6,160,72,47,2,0,0,1,2,121,2,124]
["10:45:00",93,34,3,1,1,0,0,131,4,132,71,50,5,2,0,0,0,128,7,128]
["11:00:00",106,43,10,4,2,1,1,163,14,167,68,36,6,0,0,1,0,110,6,111]
["11:15:00",79,40,6,0,0,1,1,125,6,127,89,41,5,1,0,0,0,136,6,136]
["11:30:00",85,41,6,1,3,2,0,133,7,138,81,38,4,0,1,0,0,123,4,124]
["11:45:00",97,56,5,1,0,0,0,159,6,159,70,47,9,1,0,1,1,127,10,129]
["12:00:00",97,59,1,1,0,1,1,158,2,160,76,52,3,1,1,0,0,132,4,133]
["12:15:00",98,41,8,2,0,0,1,149,10,150,80,38,5,0,0,1,0,123,5,124]
["12:30:00",80,43,7,1,0,2,1,131,8,134,92,49,4,0,0,4,0,145,4,149]
["12:45:00",83,58,6,4,0,0,2,151,10,153,89,47,1,0,0,1,0,137,1,138]
["13:00:00",94,61,7,0,0,1,0,162,7,163,101,40,5,1,0,3,2,147,6,152]
["13:15:00",112,33,4,2,0,0,0,151,6,151,63,43,4,2,0,0,1,112,6,113]
["13:30:00",96,38,3,1,1,1,0,138,4,140,103,39,6,3,1,1,0,151,9,153]
["13:45:00",110,48,3,2,1,0,0,163,5,164,95,39,3,1,1,0,0,138,4,139]
["14:00:00",109,57,3,2,0,2,2,171,5,175,86,49,7,0,0,0,0,142,7,142]
["14:15:00",102,45,7,3,0,1,0,157,10,158,91,52,6,1,0,0,1,150,7,151]
["14:30:00",114,61,4,3,0,1,1,182,7,184,74,46,3,1,0,0,0,124,4,124]
["14:45:00",82,48,4,2,1,0,0,136,6,137,89,61,3,0,0,2,0,153,3,155]
["15:00:00",99,49,4,0,0,1,0,152,4,153,96,53,11,3,0,1,0,163,14,164]
["15:15:00",90,51,3,3,0,0,3,147,6,150,81,51,5,2,0,0,0,139,7,139]
["15:30:00",112,54,6,0,0,2,0,172,6,174,112,54,4,2,1,1,3,172,6,177]
["15:45:00",114,54,4,1,0,2,3,173,5,178,117,53,6,1,0,2,0,177,7,179]
["16:00:00",103,54,2,0,0,2,0,159,2,161,109,52,5,2,0,1,1,168,7,170]
["16:15:00",90,51,6,1,0,2,1,{"$f":"SUM(B71:E71)","v":148},{"$f":"SUM(D71:E71)","v":7},{"$f":"SUM(B71:H71)","v":151},127,52,5,2,0,0,0,{"$f":"SUM(L71:O71)","v":186},{"$f":"SUM(N71:O71)","v":7},{"$f":"SUM(L71:R71)","v":186}]
["16:30:00",126,78,2,1,0,3,1,207,3,211,110,54,4,0,0,0,0,168,4,168]
["16:45:00",123,60,6,1,1,1,1,190,7,193,116,55,3,0,0,0,0,174,3,174]
["17:00:00",131,71,1,2,0,3,1,205,3,209,98,46,0,0,0,0,0,144,0,144]
["17:15:00",128,62,1,3,0,3,0,194,4,197,99,54,2,1,0,1,0,156,3,157]
["17:30:00",111,51,0,0,0,0,0,162,0,162,107,53,1,0,0,1,2,161,1,164]
["17:45:00",83,46,2,1,0,0,0,132,3,132,71,57,4,1,0,1,0,133,5,134]
["18:00:00",114,45,1,0,0,3,0,160,1,163,86,38,2,0,0,2,0,126,2,128]
["18:15:00",82,48,3,0,0,1,0,133,3,134,92,35,2,0,0,1,0,129,2,130]
["18:30:00",60,39,2,1,0,0,1,102,3,103,77,37,1,0,0,0,1,115,1,116]
["18:45:00",67,42,1,2,0,1,1,112,3,114,61,46,1,0,0,2,0,108,1,110]
["19:00:00",62,31,2,0,0,1,0,95,2,96,47,37,0,1,0,1,0,85,1,86]
["19:15:00",47,26,2,1,0,0,2,76,3,78,46,25,0,2,0,1,1,73,2,75]
["19:30:00",35,26,1,0,0,2,0,62,1,64,36,27,0,1,0,0,1,64,1,65]
["19:45:00",41,33,0,0,0,0,0,74,0,74,34,24,1,1,0,0,0,60,2,60]
["20:00:00",41,23,0,2,0,2,0,66,2,68,39,19,0,0,0,1,0,58,0,59]
["20:15:00",33,17,0,0,0,1,0,50,0,51,32,28,1,0,0,0,0,61,1,61]
["20:30:00",29,18,0,0,0,1,0,47,0,48,27,16,0,0,0,0,0,43,0,43]
["20:45:00",18,13,0,0,0,0,0,31,0,31,20,21,0,0,0,0,0,41,0,41]
["21:00:00",32,19,1,1,0,0,0,53,2,53,19,22,0,0,0,1,0,41,0,42]
["21:15:00",25,14,1,1,0,0,0,41,2,41,20,13,0,0,0,0,0,33,0,33]
["21:30:00",30,16,0,0,0,0,0,46,0,46,29,16,0,0,0,1,0,45,0,46]
["21:45:00",32,9,1,0,0,1,1,42,1,44,25,10,0,0,0,0,0,35,0,35]
["22:00:00",31,12,0,1,0,0,0,44,1,44,20,11,0,1,0,1,0,32,1,33]
["22:15:00",17,16,0,0,0,0,0,33,0,33,23,16,0,0,0,0,0,39,0,39]
["22:30:00",18,11,0,0,0,0,0,29,0,29,14,6,0,1,0,0,0,21,1,21]
["22:45:00",19,10,0,0,0,0,0,29,0,29,8,13,0,0,0,0,0,21,0,21]
["23:00:00",13,5,0,0,0,0,0,18,0,18,21,5,0,0,0,0,1,26,0,27]
["23:15:00",11,7,0,0,0,0,0,18,0,18,10,7,0,0,0,0,0,17,0,17]
["23:30:00",15,7,0,0,0,0,0,22,0,22,11,5,0,0,0,0,0,16,0,16]
["23:45:00",11,10,0,0,0,0,0,21,0,21,8,5,0,0,0,0,0,13,0,13]
["TOTAL",{"$f":"SUM(B6:B101)","v":5298},{"$f":"SUM(C6:C101)","v":2789},248,80,17,57,29,8415,328,8518,{"$f":"SUM(L6:L101)","v":4778},{"$f":"SUM(M6:M101)","v":2840},253,62,13,54,24,7933,315,8024]

{"sheet":"09 04 2016","index":5,"n_rows":102,"n_cols":21,"rows_kept":102,"cut":false,"hidden":false,"merged":[[3,1,3,7],[3,8,3,10],[3,11,3,17],[3,18,3,20]]}
["* Fill the table with data"]
["DO NOT CHANGE THE STRUCTURE OF THE SPREADSHEET (i.e. ADD OR DELETE ROWS/COLUMNS, ETC.)"]
[]
[null,{"$f":"'Site Plan'!$A$19&\" - \"&'Site Plan'!$C$19","v":"Direction 1 - Eastbound"},null,null,null,null,null,null,"TOTAL",null,null,{"$f":"'Site Plan'!$A$20&\" - \"&'Site Plan'!$C$20","v":"Direction 2 - Westbound"},null,null,null,null,null,null,"TOTAL"]
["TIME","CAR","LGV","OGV1","OGV2","PSV","MCL","PCL","CAR + LGV + HGV","HGV","ALL modes","CAR","LGV","OGV1","OGV2","PSV","MCL","PCL","CAR + LGV + HGV","HGV","ALL modes"]
["00:00:00",6,5,0,0,0,0,0,{"$f":"SUM(B6:E6)","v":11},{"$f":"SUM(D6:E6)","v":0},{"$f":"SUM(B6:H6)","v":11},10,12,0,0,0,0,0,{"$f":"SUM(L6:O6)","v":22},{"$f":"SUM(N6:O6)","v":0},{"$f":"SUM(L6:R6)","v":22}]
["00:15:00",6,13,0,0,0,0,0,{"$f":"SUM(B7:E7)","v":19},{"$f":"SUM(D7:E7)","v":0},{"$f":"SUM(B7:H7)","v":19},6,2,0,0,0,0,0,{"$f":"SUM(L7:O7)","v":8},{"$f":"SUM(N7:O7)","v":0},{"$f":"SUM(L7:R7)","v":8}]
["00:30:00",5,5,0,0,0,0,0,10,0,10,5,1,0,0,0,0,0,6,0,6]
["00:45:00",3,3,3,0,0,0,0,9,3,9,6,2,1,0,0,0,0,9,1,9]
["01:00:00",4,2,0,0,0,0,0,6,0,6,3,2,0,0,0,0,0,5,0,5]
["01:15:00",2,2,0,0,0,0,0,4,0,4,1,4,0,0,0,0,0,5,0,5]
["01:30:00",4,1,0,0,0,0,0,5,0,5,4,3,0,0,0,0,0,7,0,7]
["01:45:00",1,2,0,1,0,0,0,4,1,4,3,1,0,0,0,0,0,4,0,4]
["02:00:00",0,0,0,0,0,0,0,0,0,0,2,0,0,0,0,0,0,2,0,2]
["02:15:00",1,1,0,2,0,0,0,4,2,4,0,0,0,0,0,0,0,0,0,0]
["02:30:00",0,0,0,0,0,0,0,0,0,0,1,0,0,0,0,0,0,1,0,1]
["02:45:00",0,0,0,0,0,0,0,0,0,0,0,0,0,0,0,0,0,0,0,0]
["03:00:00",0,1,0,0,0,0,0,1,0,1,1,1,0,0,0,0,0,2,0,2]
["03:15:00",0,2,1,0,0,0,0,3,1,3,1,2,0,1,0,0,0,4,1,4]
["03:30:00",1,1,1,1,0,0,0,4,2,4,4,1,1,0,0,0,0,6,1,6]
["03:45:00",1,1,0,0,0,0,0,2,0,2,2,1,0,0,0,0,0,3,0,3]
["04:00:00",1,2,0,0,0,0,0,3,0,3,3,6,0,0,1,0,0,9,0,10]
["04:15:00",2,0,0,0,0,0,0,2,0,2,2,0,0,0,0,0,0,2,0,2]
["04:30:00",0,1,1,1,0,0,0,3,2,3,3,4,0,0,0,0,0,7,0,7]
["04:45:00",1,2,2,0,0,0,0,5,2,5,4,1,0,0,0,0,0,5,0,5]
["05:00:00",7,1,0,0,0,1,0,8,0,9,2,5,0,0,0,0,0,7,0,7]
["05:15:00",4,2,1,0,0,0,0,7,1,7,4,2,2,0,0,0,0,8,2,8]
["05:30:00",5,8,2,0,0,0,0,15,2,15,11,8,0,0,0,0,0,19,0,19]
["05:45:00",10,4,0,0,0,0,0,14,0,14,5,13,0,1,0,0,0,19,1,19]
["06:00:00",9,4,0,0,0,0,0,13,0,13,10,4,0,1,0,1,0,15,1,16]
["06:15:00",7,2,2,0,0,0,0,11,2,11,13,10,1,1,0,0,0,25,2,25]
["06:30:00",14,8,1,0,0,0,0,23,1,23,14,4,1,2,0,1,0,21,3,22]
["06:45:00",17,12,2,3,0,0,0,34,5,34,10,8,2,2,0,1,0,22,4,23]
["07:00:00",20,6,3,1,0,0,0,30,4,30,20,20,2,0,0,0,0,42,2,42]
["07:15:00",25,25,1,0,1,0,0,51,1,52,21,12,1,0,0,0,0,34,1,34]
["07:30:00",46,25,1,0,0,0,0,72,1,72,27,19,0,2,0,0,0,48,2,48]
["07:45:00",35,32,1,1,0,0,0,69,2,69,26,25,3,0,0,0,0,54,3,54]
["08:00:00",52,27,2,2,0,0,0,83,4,83,39,24,4,2,0,1,0,69,6,70]
["08:15:00",86,28,3,0,0,0,0,117,3,117,46,36,1,0,0,0,0,83,1,83]
["08:30:00",72,53,2,1,2,0,1,128,3,131,52,22,2,1,0,0,0,77,3,77]
["08:45:00",90,62,1,1,0,0,0,154,2,154,51,35,2,0,0,1,0,88,2,89]
["09:00:00",81,52,1,0,0,1,0,134,1,135,60,32,1,0,0,1,1,93,1,95]
["09:15:00",84,50,1,0,0,0,0,135,1,135,43,42,2,0,1,1,0,87,2,89]
["09:30:00",89,51,3,0,0,1,0,143,3,144,61,51,2,0,0,0,0,114,2,114]
["09:45:00",106,54,0,4,0,0,0,164,4,164,80,46,0,0,0,0,0,126,0,126]
["10:00:00",105,42,3,2,0,0,0,152,5,152,92,41,3,1,0,0,0,137,4,137]
["10:15:00",132,56,2,1,0,0,0,191,3,191,90,51,1,0,0,0,0,142,1,142]
["10:30:00",119,44,1,0,0,0,0,164,1,164,73,52,3,1,1,0,0,129,4,130]
["10:45:00",111,47,2,1,0,0,1,161,3,162,98,40,3,0,0,0,1,141,3,142]
["11:00:00",116,52,3,0,0,0,0,171,3,171,100,56,0,0,0,0,1,156,0,157]
["11:15:00",94,56,0,0,0,0,0,150,0,150,116,45,1,0,0,0,0,162,1,162]
["11:30:00",127,59,4,1,0,0,0,191,5,191,101,45,1,1,0,0,0,148,2,148]
["11:45:00",101,57,0,1,0,0,0,159,1,159,113,42,1,1,0,0,0,157,2,157]
["12:00:00",119,53,1,0,2,2,0,173,1,177,108,54,2,0,0,0,0,164,2,164]
["12:15:00",137,51,3,1,1,1,0,192,4,194,108,41,0,0,0,1,0,149,0,150]
["12:30:00",113,66,5,0,0,0,0,184,5,184,119,52,3,0,0,0,0,174,3,174]
["12:45:00",110,63,1,1,0,0,0,175,2,175,119,39,0,0,0,1,0,158,0,159]
["13:00:00",111,34,1,0,0,1,0,146,1,147,92,42,4,0,0,0,0,138,4,138]
["13:15:00",110,50,2,1,0,0,0,163,3,163,92,56,2,0,0,0,1,150,2,151]
["13:30:00",103,56,1,1,0,1,0,161,2,162,88,50,1,0,0,1,0,139,1,140]
["13:45:00",106,46,1,3,0,0,1,156,4,157,92,46,0,0,0,0,0,138,0,138]
["14:00:00",86,42,0,0,0,0,0,128,0,128,106,57,1,0,0,0,1,164,1,165]
["14:15:00",101,52,1,1,0,0,0,155,2,155,81,42,0,0,0,0,0,123,0,123]
["14:30:00",91,40,1,2,0,0,0,134,3,134,82,46,3,0,0,1,1,131,3,133]
["14:45:00",85,54,2,0,0,0,0,141,2,141,100,43,1,0,0,0,0,144,1,144]
["15:00:00",75,32,1,0,0,0,1,108,1,109,115,42,0,0,0,0,0,157,0,157]
["15:15:00",63,38,0,0,0,1,0,101,0,102,96,41,0,0,1,0,0,137,0,138]
["15:30:00",70,33,0,0,0,0,0,103,0,103,85,52,4,0,0,0,0,141,4,141]
["15:45:00",63,40,1,0,0,1,0,104,1,105,85,46,2,1,0,0,0,134,3,134]
["16:00:00",84,42,3,2,0,2,0,131,5,133,79,45,0,1,0,0,1,125,1,126]
["16:15:00",72,33,2,0,0,0,0,{"$f":"SUM(B71:E71)","v":107},{"$f":"SUM(D71:E71)","v":2},{"$f":"SUM(B71:H71)","v":107},99,53,2,0,0,0,0,{"$f":"SUM(L71:O71)","v":154},{"$f":"SUM(N71:O71)","v":2},{"$f":"SUM(L71:R71)","v":154}]
["16:30:00",64,47,2,1,0,0,0,114,3,114,91,51,2,0,0,0,0,144,2,144]
["16:45:00",77,25,3,0,0,0,1,105,3,106,99,48,3,1,0,0,1,151,4,152]
["17:00:00",67,31,3,0,0,1,0,101,3,102,55,58,2,0,0,0,0,115,2,115]
["17:15:00",67,29,1,0,0,1,0,97,1,98,75,34,4,1,0,1,0,114,5,115]
["17:30:00",80,40,2,0,0,0,0,122,2,122,73,52,1,0,0,0,0,126,1,126]
["17:45:00",77,37,0,1,0,0,1,115,1,116,70,54,1,1,0,0,0,126,2,126]
["18:00:00",62,45,2,0,0,0,1,109,2,110,81,33,1,0,0,0,0,115,1,115]
["18:15:00",55,25,1,0,0,0,0,81,1,81,76,29,0,0,0,1,0,105,0,106]
["18:30:00",44,42,1,0,0,0,0,87,1,87,55,23,1,0,0,0,0,79,1,79]
["18:45:00",58,28,0,1,0,0,0,87,1,87,46,45,1,0,0,1,0,92,1,93]
["19:00:00",50,22,0,0,0,0,0,72,0,72,52,30,1,1,0,2,0,84,2,86]
["19:15:00",61,29,0,0,0,0,0,90,0,90,35,34,2,0,0,0,0,71,2,71]
["19:30:00",43,23,1,0,0,0,1,67,1,68,35,31,1,0,0,0,0,67,1,67]
["19:45:00",39,22,0,0,0,0,0,61,0,61,35,19,0,0,0,0,0,54,0,54]
["20:00:00",33,18,0,0,0,0,0,51,0,51,45,20,1,0,0,0,0,66,1,66]
["20:15:00",27,13,1,0,1,0,0,41,1,42,26,18,0,0,0,0,0,44,0,44]
["20:30:00",39,16,0,0,0,0,0,55,0,55,32,11,0,0,0,0,0,43,0,43]
["20:45:00",31,24,0,0,0,0,0,55,0,55,22,15,0,0,0,0,0,37,0,37]
["21:00:00",21,20,0,1,0,0,0,42,1,42,20,12,0,0,0,0,0,32,0,32]
["21:15:00",40,13,1,0,0,0,0,54,1,54,30,9,0,0,0,0,0,39,0,39]
["21:30:00",17,10,0,0,0,2,0,27,0,29,15,17,0,0,0,0,0,32,0,32]
["21:45:00",29,14,0,0,0,0,0,43,0,43,10,12,0,0,0,0,0,22,0,22]
["22:00:00",26,12,0,0,0,1,0,38,0,39,26,16,0,0,0,0,0,42,0,42]
["22:15:00",33,10,0,0,0,0,0,43,0,43,27,8,1,1,0,0,0,37,2,37]
["22:30:00",15,11,0,0,0,0,0,26,0,26,19,14,0,0,0,1,0,33,0,34]
["22:45:00",20,11,0,0,0,0,0,31,0,31,16,10,0,0,0,0,0,26,0,26]
["23:00:00",13,8,0,0,0,1,0,21,0,22,11,9,0,0,0,0,0,20,0,20]
["23:15:00",18,13,0,0,0,0,0,31,0,31,17,8,1,0,0,0,0,26,1,26]
["23:30:00",15,3,0,0,0,0,0,18,0,18,20,12,0,0,0,0,0,32,0,32]
["23:45:00",13,13,0,0,0,1,0,26,0,27,22,6,0,0,0,1,0,28,0,29]
["TOTAL",{"$f":"SUM(B6:B101)","v":4735},{"$f":"SUM(C6:C101)","v":2442},94,40,7,19,8,7311,134,7345,{"$f":"SUM(L6:L101)","v":4421},{"$f":"SUM(M6:M101)","v":2418},89,24,4,18,8,6952,113,6982]

{"sheet":"10 04 2016","index":6,"n_rows":102,"n_cols":21,"rows_kept":102,"cut":false,"hidden":false,"merged":[[3,1,3,7],[3,8,3,10],[3,11,3,17],[3,18,3,20]]}
["* Fill the table with data"]
["DO NOT CHANGE THE STRUCTURE OF THE SPREADSHEET (i.e. ADD OR DELETE ROWS/COLUMNS, ETC.)"]
[]
[null,{"$f":"'Site Plan'!$A$19&\" - \"&'Site Plan'!$C$19","v":"Direction 1 - Eastbound"},null,null,null,null,null,null,"TOTAL",null,null,{"$f":"'Site Plan'!$A$20&\" - \"&'Site Plan'!$C$20","v":"Direction 2 - Westbound"},null,null,null,null,null,null,"TOTAL"]
["TIME","CAR","LGV","OGV1","OGV2","PSV","MCL","PCL","CAR + LGV + HGV","HGV","ALL modes","CAR","LGV","OGV1","OGV2","PSV","MCL","PCL","CAR + LGV + HGV","HGV","ALL modes"]
["00:00:00",19,5,1,1,0,0,0,{"$f":"SUM(B6:E6)","v":26},{"$f":"SUM(D6:E6)","v":2},{"$f":"SUM(B6:H6)","v":26},11,11,0,0,0,0,0,{"$f":"SUM(L6:O6)","v":22},{"$f":"SUM(N6:O6)","v":0},{"$f":"SUM(L6:R6)","v":22}]
["00:15:00",11,9,0,0,0,0,0,{"$f":"SUM(B7:E7)","v":20},{"$f":"SUM(D7:E7)","v":0},{"$f":"SUM(B7:H7)","v":20},6,10,0,0,0,0,0,{"$f":"SUM(L7:O7)","v":16},{"$f":"SUM(N7:O7)","v":0},{"$f":"SUM(L7:R7)","v":16}]
["00:30:00",11,9,0,0,0,0,0,20,0,20,7,9,0,0,0,0,0,16,0,16]
["00:45:00",3,4,0,0,0,0,0,7,0,7,4,3,0,0,0,0,0,7,0,7]
["01:00:00",4,4,0,0,0,0,0,8,0,8,2,1,0,0,0,0,0,3,0,3]
["01:15:00",5,3,0,0,0,0,0,8,0,8,3,4,0,1,0,0,0,8,1,8]
["01:30:00",4,4,1,0,0,0,0,9,1,9,3,3,0,0,0,0,0,6,0,6]
["01:45:00",5,3,0,1,0,0,0,9,1,9,5,2,0,0,0,0,0,7,0,7]
["02:00:00",6,2,0,1,0,0,0,9,1,9,4,2,0,0,0,0,0,6,0,6]
["02:15:00",2,1,0,0,0,0,0,3,0,3,2,0,0,1,0,0,0,3,1,3]
["02:30:00",5,3,0,0,0,0,0,8,0,8,3,7,0,0,0,0,0,10,0,10]
["02:45:00",2,2,0,0,0,0,0,4,0,4,1,3,0,0,0,0,0,4,0,4]
["03:00:00",1,6,0,0,0,0,0,7,0,7,3,0,0,0,0,0,1,3,0,4]
["03:15:00",1,2,0,0,0,0,0,3,0,3,0,3,0,0,0,0,0,3,0,3]
["03:30:00",1,0,0,0,0,0,0,1,0,1,3,2,0,0,0,0,0,5,0,5]
["03:45:00",2,1,0,0,0,0,0,3,0,3,2,2,0,0,0,0,0,4,0,4]
["04:00:00",2,1,0,0,0,0,0,3,0,3,5,1,0,0,0,0,0,6,0,6]
["04:15:00",1,2,0,0,0,0,0,3,0,3,3,5,0,0,0,0,0,8,0,8]
["04:30:00",2,0,0,0,0,0,0,2,0,2,4,4,0,0,0,0,0,8,0,8]
["04:45:00",2,1,0,0,0,0,0,3,0,3,2,3,0,0,0,0,0,5,0,5]
["05:00:00",4,6,0,0,0,1,0,10,0,11,3,5,0,0,0,0,0,8,0,8]
["05:15:00",3,2,0,0,0,0,0,5,0,5,4,3,0,0,0,0,0,7,0,7]
["05:30:00",3,4,0,0,0,0,0,7,0,7,1,6,0,1,0,3,0,8,1,11]
["05:45:00",5,5,0,0,0,0,0,10,0,10,5,4,1,1,0,0,0,11,2,11]
["06:00:00",5,3,0,0,0,0,0,8,0,8,6,4,0,0,0,0,0,10,0,10]
["06:15:00",14,5,1,0,0,0,0,20,1,20,5,5,0,0,0,0,0,10,0,10]
["06:30:00",5,6,0,0,0,0,0,11,0,11,10,2,2,0,0,0,0,14,2,14]
["06:45:00",10,5,0,0,0,0,0,15,0,15,9,3,1,1,0,0,0,14,2,14]
["07:00:00",10,0,0,0,0,0,0,10,0,10,12,9,0,0,0,0,1,21,0,22]
["07:15:00",10,10,0,2,0,0,0,22,2,22,15,11,1,1,0,1,0,28,2,29]
["07:30:00",21,8,2,0,0,0,0,31,2,31,14,13,1,0,0,1,0,28,1,29]
["07:45:00",20,4,0,1,0,0,0,25,1,25,21,16,1,0,0,0,1,38,1,39]
["08:00:00",25,16,1,0,1,0,1,42,1,44,17,19,3,0,0,0,0,39,3,39]
["08:15:00",31,13,3,0,0,0,4,47,3,51,23,17,1,2,0,1,0,43,3,44]
["08:30:00",33,15,0,1,0,2,4,49,1,55,36,18,1,1,0,1,0,56,2,57]
["08:45:00",47,26,1,0,0,2,2,74,1,78,23,24,2,0,0,1,2,49,2,52]
["09:00:00",53,30,0,0,0,0,3,83,0,86,44,22,0,1,0,2,0,67,1,69]
["09:15:00",59,43,0,2,0,8,1,104,2,113,35,24,1,1,0,0,0,61,2,61]
["09:30:00",80,37,2,0,0,6,0,119,2,125,62,26,0,3,0,6,0,91,3,97]
["09:45:00",110,44,0,1,0,5,3,155,1,163,50,29,1,1,0,2,0,81,2,83]
["10:00:00",101,62,0,3,0,4,3,166,3,173,68,38,1,1,0,1,2,108,2,111]
["10:15:00",98,50,3,0,1,5,0,151,3,157,81,45,5,1,0,4,1,132,6,137]
["10:30:00",66,50,3,1,0,5,2,120,4,127,62,49,1,0,0,1,2,112,1,115]
["10:45:00",128,44,2,1,0,2,2,175,3,179,79,38,2,0,0,1,1,119,2,121]
["11:00:00",100,48,1,3,0,2,0,152,4,154,86,31,0,1,0,6,2,118,1,126]
["11:15:00",98,36,1,7,0,12,0,142,8,154,95,55,0,0,0,1,0,150,0,151]
["11:30:00",96,42,0,0,0,7,0,138,0,145,90,43,0,1,0,2,0,134,1,136]
["11:45:00",119,44,1,2,0,9,0,166,3,175,114,54,0,1,0,6,0,169,1,175]
["12:00:00",95,46,1,2,0,4,0,144,3,148,85,35,1,2,0,4,3,123,3,130]
["12:15:00",93,37,1,0,0,7,0,131,1,138,100,50,1,0,0,6,2,151,1,159]
["12:30:00",99,34,0,0,0,2,2,133,0,137,97,47,1,0,0,4,1,145,1,150]
["12:45:00",97,47,3,1,0,3,0,148,4,151,90,53,1,1,0,4,1,145,2,150]
["13:00:00",85,43,1,2,0,1,0,131,3,132,79,52,1,6,0,9,2,138,7,149]
["13:15:00",91,37,2,2,0,0,5,132,4,137,87,43,2,2,0,13,1,134,4,148]
["13:30:00",101,40,0,1,0,6,1,142,1,149,92,40,1,3,0,6,1,136,4,143]
["13:45:00",93,46,0,0,0,3,2,139,0,144,104,43,0,2,0,3,0,149,2,152]
["14:00:00",71,34,2,0,1,1,0,107,2,109,105,55,0,2,0,11,2,162,2,175]
["14:15:00",102,37,4,0,0,4,0,143,4,147,115,44,0,4,0,4,1,163,4,168]
["14:30:00",101,34,1,2,0,3,1,138,3,142,77,57,1,2,0,8,0,137,3,145]
["14:45:00",80,33,0,1,0,3,1,114,1,118,92,37,0,1,0,4,0,130,1,134]
["15:00:00",66,35,1,0,0,4,1,102,1,107,64,45,0,1,0,1,0,110,1,111]
["15:15:00",56,31,0,1,0,2,0,88,1,90,84,43,0,2,0,0,0,129,2,129]
["15:30:00",73,43,2,1,0,2,1,119,3,122,84,39,1,0,0,4,0,124,1,128]
["15:45:00",75,37,2,2,0,3,1,116,4,120,83,59,1,0,0,0,0,143,1,143]
["16:00:00",45,21,0,1,0,10,0,67,1,77,79,62,1,1,0,2,0,143,2,145]
["16:15:00",46,35,1,1,0,3,0,{"$f":"SUM(B71:E71)","v":83},{"$f":"SUM(D71:E71)","v":2},{"$f":"SUM(B71:H71)","v":86},71,44,0,0,0,2,0,{"$f":"SUM(L71:O71)","v":115},{"$f":"SUM(N71:O71)","v":0},{"$f":"SUM(L71:R71)","v":117}]
["16:30:00",67,35,0,0,0,0,1,102,0,103,70,43,2,0,0,6,0,115,2,121]
["16:45:00",50,20,1,1,0,2,0,72,2,74,71,31,0,1,0,0,0,103,1,103]
["17:00:00",45,35,3,0,0,1,0,83,3,84,54,30,1,0,0,0,0,85,1,85]
["17:15:00",38,24,0,0,0,1,0,62,0,63,74,28,1,0,0,2,0,103,1,105]
["17:30:00",39,28,0,0,0,0,0,67,0,67,67,34,0,0,0,1,1,101,0,103]
["17:45:00",36,28,0,0,0,1,0,64,0,65,56,31,2,0,0,0,0,89,2,89]
["18:00:00",44,21,1,0,0,0,0,66,1,66,60,25,0,0,0,1,1,85,0,87]
["18:15:00",46,25,1,2,0,1,0,74,3,75,43,17,1,0,0,2,1,61,1,64]
["18:30:00",29,25,0,0,0,0,0,54,0,54,34,24,0,0,0,0,0,58,0,58]
["18:45:00",51,8,0,0,0,0,0,59,0,59,45,27,0,1,0,1,0,73,1,74]
["19:00:00",39,26,0,0,0,0,0,65,0,65,31,17,0,1,0,1,0,49,1,50]
["19:15:00",38,13,0,1,1,0,0,52,1,53,37,21,0,0,0,0,0,58,0,58]
["19:30:00",33,35,0,0,0,0,0,68,0,68,26,32,1,0,0,0,0,59,1,59]
["19:45:00",19,16,1,0,0,0,0,36,1,36,30,15,1,0,0,0,0,46,1,46]
["20:00:00",36,14,0,0,0,1,0,50,0,51,30,14,0,0,0,0,0,44,0,44]
["20:15:00",29,20,0,1,0,0,1,50,1,51,22,20,0,0,0,0,0,42,0,42]
["20:30:00",19,16,0,0,0,0,0,35,0,35,24,12,1,0,0,0,0,37,1,37]
["20:45:00",22,12,0,0,0,0,0,34,0,34,23,6,0,0,0,0,0,29,0,29]
["21:00:00",23,10,0,1,0,0,0,34,1,34,24,12,1,0,1,0,0,37,1,38]
["21:15:00",26,12,2,0,0,0,0,40,2,40,20,8,0,0,0,0,0,28,0,28]
["21:30:00",18,7,2,0,0,0,0,27,2,27,16,5,1,0,0,0,0,22,1,22]
["21:45:00",10,4,0,0,0,0,0,14,0,14,17,7,0,0,0,0,0,24,0,24]
["22:00:00",16,7,0,0,0,0,0,23,0,23,11,6,0,0,0,0,0,17,0,17]
["22:15:00",11,12,1,0,0,0,0,24,1,24,8,7,0,0,0,0,0,15,0,15]
["22:30:00",9,8,0,0,0,0,0,17,0,17,8,3,0,1,0,0,1,12,1,13]
["22:45:00",4,4,0,0,0,0,0,8,0,8,2,7,0,0,0,0,1,9,0,10]
["23:00:00",4,3,0,0,0,0,0,7,0,7,6,3,0,0,0,0,0,9,0,9]
["23:15:00",7,8,0,0,0,0,0,15,0,15,9,1,1,0,0,0,0,11,1,11]
["23:30:00",2,2,0,0,0,0,0,4,0,4,5,1,0,0,0,0,1,6,0,7]
["23:45:00",8,1,0,0,0,0,0,9,0,9,3,1,0,0,0,0,0,4,0,4]
["TOTAL",{"$f":"SUM(B6:B101)","v":3730},{"$f":"SUM(C6:C101)","v":1869},56,50,4,138,42,5705,106,5889,{"$f":"SUM(L6:L101)","v":3657},{"$f":"SUM(M6:M101)","v":2024},50,53,1,139,33,5784,103,5957]

{"sheet":"11 04 2016","index":7,"n_rows":102,"n_cols":21,"rows_kept":102,"cut":false,"hidden":false,"merged":[[3,11,3,17],[3,1,3,7],[3,8,3,10],[3,18,3,20]]}
["* Fill the table with data"]
["DO NOT CHANGE THE STRUCTURE OF THE SPREADSHEET (i.e. ADD OR DELETE ROWS/COLUMNS, ETC.)"]
[]
[null,{"$f":"'Site Plan'!$A$19&\" - \"&'Site Plan'!$C$19","v":"Direction 1 - Eastbound"},null,null,null,null,null,null,"TOTAL",null,null,{"$f":"'Site Plan'!$A$20&\" - \"&'Site Plan'!$C$20","v":"Direction 2 - Westbound"},null,null,null,null,null,null,"TOTAL"]
["TIME","CAR","LGV","OGV1","OGV2","PSV","MCL","PCL","CAR + LGV + HGV","HGV","ALL modes","CAR","LGV","OGV1","OGV2","PSV","MCL","PCL","CAR + LGV + HGV","HGV","ALL modes"]
["00:00:00",2,3,0,0,0,0,0,{"$f":"SUM(B6:E6)","v":5},{"$f":"SUM(D6:E6)","v":0},{"$f":"SUM(B6:H6)","v":5},2,3,0,0,0,0,0,{"$f":"SUM(L6:O6)","v":5},{"$f":"SUM(N6:O6)","v":0},{"$f":"SUM(L6:R6)","v":5}]
["00:15:00",3,2,0,0,0,0,0,{"$f":"SUM(B7:E7)","v":5},{"$f":"SUM(D7:E7)","v":0},{"$f":"SUM(B7:H7)","v":5},1,2,0,0,0,0,0,{"$f":"SUM(L7:O7)","v":3},{"$f":"SUM(N7:O7)","v":0},{"$f":"SUM(L7:R7)","v":3}]
["00:30:00",1,3,0,0,0,0,0,4,0,4,1,0,1,0,0,0,0,2,1,2]
["00:45:00",3,0,0,0,0,0,0,3,0,3,2,1,0,0,0,0,0,3,0,3]
["01:00:00",1,3,1,0,0,0,0,5,1,5,0,1,1,0,0,0,0,2,1,2]
["01:15:00",2,0,1,1,0,0,0,4,2,4,1,0,0,0,0,0,0,1,0,1]
["01:30:00",1,0,0,0,0,0,0,1,0,1,1,0,0,0,0,0,0,1,0,1]
["01:45:00",0,0,0,0,0,0,0,0,0,0,1,1,0,0,0,0,0,2,0,2]
["02:00:00",2,1,0,1,0,0,0,4,1,4,0,2,1,0,0,0,0,3,1,3]
["02:15:00",1,1,0,1,0,0,0,3,1,3,1,1,0,1,0,0,0,3,1,3]
["02:30:00",2,0,0,0,0,0,0,2,0,2,0,0,0,0,0,0,0,0,0,0]
["02:45:00",0,2,0,0,0,0,0,2,0,2,1,1,0,1,0,0,0,3,1,3]
["03:00:00",2,1,1,1,0,0,0,5,2,5,1,0,0,0,0,0,0,1,0,1]
["03:15:00",1,1,0,0,0,0,0,2,0,2,2,1,0,0,0,0,0,3,0,3]
["03:30:00",1,3,0,0,0,0,0,4,0,4,6,1,0,0,0,0,0,7,0,7]
["03:45:00",0,1,1,0,0,0,0,2,1,2,4,3,0,0,0,0,0,7,0,7]
["04:00:00",0,1,1,0,0,0,0,2,1,2,5,1,1,0,0,0,0,7,1,7]
["04:15:00",2,2,0,0,0,0,0,4,0,4,8,7,3,1,0,0,0,19,4,19]
["04:30:00",1,3,1,0,0,0,0,5,1,5,7,9,2,1,0,0,0,19,3,19]
["04:45:00",8,3,0,0,0,0,0,11,0,11,6,9,0,0,0,0,0,15,0,15]
["05:00:00",6,6,1,0,0,0,1,13,1,14,6,12,2,1,0,0,0,21,3,21]
["05:15:00",5,10,1,0,0,0,0,16,1,16,20,19,3,1,0,0,0,43,4,43]
["05:30:00",8,8,1,0,0,1,0,17,1,18,18,18,2,1,0,2,0,39,3,41]
["05:45:00",13,7,2,1,0,0,0,23,3,23,20,27,2,0,0,3,0,49,2,52]
["06:00:00",16,10,1,2,0,0,0,29,3,29,22,42,6,3,0,0,0,73,9,73]
["06:15:00",28,24,1,0,0,0,0,53,1,53,27,38,4,0,0,1,0,69,4,70]
["06:30:00",33,28,1,0,0,0,0,62,1,62,48,25,2,1,2,3,0,76,3,81]
["06:45:00",43,29,0,2,0,1,0,74,2,75,55,51,3,1,1,2,1,110,4,114]
["07:00:00",76,35,4,1,2,1,0,116,5,119,83,39,4,4,0,3,0,130,8,133]
["07:15:00",67,48,2,3,0,0,0,120,5,120,77,65,7,2,0,0,0,151,9,151]
["07:30:00",125,49,1,0,0,0,0,175,1,175,65,59,4,2,0,1,1,130,6,132]
["07:45:00",95,46,6,1,0,0,0,148,7,148,104,54,3,4,2,0,0,165,7,167]
["08:00:00",95,36,5,3,0,2,0,139,8,141,96,42,3,1,0,0,1,142,4,143]
["08:15:00",101,47,4,2,3,0,0,154,6,157,83,53,6,3,1,0,0,145,9,146]
["08:30:00",95,32,8,2,0,1,0,137,10,138,68,55,4,1,0,1,1,128,5,130]
["08:45:00",71,53,7,1,1,1,0,132,8,134,95,42,5,2,0,2,1,144,7,147]
["09:00:00",83,40,7,0,0,0,0,130,7,130,64,37,8,1,1,0,0,110,9,111]
["09:15:00",93,40,10,0,0,0,0,143,10,143,77,38,2,0,1,0,0,117,2,118]
["09:30:00",84,37,3,3,1,0,0,127,6,128,63,36,7,4,0,0,0,110,11,110]
["09:45:00",79,36,8,1,0,0,0,124,9,124,90,38,4,0,0,0,0,132,4,132]
["10:00:00",79,51,1,4,0,0,0,135,5,135,63,39,3,1,1,1,0,106,4,108]
["10:15:00",70,33,10,0,0,1,0,113,10,114,72,36,10,1,0,0,0,119,11,119]
["10:30:00",72,50,5,2,0,1,1,129,7,131,68,34,2,2,1,3,0,106,4,110]
["10:45:00",69,47,9,0,0,1,0,125,9,126,77,38,4,1,0,1,0,120,5,121]
["11:00:00",65,42,7,2,1,0,1,116,9,118,61,37,3,2,1,1,0,103,5,105]
["11:15:00",76,39,7,2,0,0,0,124,9,124,96,47,6,5,0,1,0,154,11,155]
["11:30:00",78,41,3,3,1,0,0,125,6,126,88,49,7,2,1,1,0,146,9,148]
["11:45:00",62,35,10,2,0,0,2,109,12,111,92,37,9,2,0,0,1,140,11,141]
["12:00:00",86,43,5,2,0,0,2,136,7,138,71,48,1,2,0,0,0,122,3,122]
["12:15:00",80,47,11,1,1,1,0,139,12,141,72,42,4,0,0,0,0,118,4,118]
["12:30:00",83,33,9,2,1,0,0,127,11,128,71,41,2,3,0,2,0,117,5,119]
["12:45:00",83,38,6,2,2,6,0,129,8,137,78,46,1,2,1,1,0,127,3,129]
["13:00:00",76,43,8,1,1,0,1,128,9,130,78,39,7,0,1,1,0,124,7,126]
["13:15:00",78,42,2,4,3,0,1,126,6,130,73,46,4,0,0,2,0,123,4,125]
["13:30:00",82,54,3,2,1,1,1,141,5,144,92,37,6,3,1,0,1,138,9,140]
["13:45:00",82,48,6,2,1,1,1,138,8,141,67,50,8,1,0,1,0,126,9,127]
["14:00:00",97,41,4,1,1,0,0,143,5,144,79,47,4,2,0,1,0,132,6,133]
["14:15:00",100,35,10,2,0,2,0,147,12,149,78,54,4,0,1,2,0,136,4,139]
["14:30:00",81,46,9,5,0,2,0,141,14,143,72,29,4,1,1,0,0,106,5,107]
["14:45:00",82,37,4,4,0,0,1,127,8,128,82,42,5,0,1,0,0,129,5,130]
["15:00:00",83,53,5,1,0,0,1,142,6,143,79,49,4,1,0,0,1,133,5,134]
["15:15:00",72,42,3,3,0,1,1,120,6,122,84,50,9,3,0,1,0,146,12,147]
["15:30:00",93,45,9,3,0,0,0,150,12,150,71,57,4,1,0,1,2,133,5,136]
["15:45:00",93,54,6,3,1,2,1,156,9,160,89,48,4,1,0,1,0,142,5,143]
["16:00:00",101,50,0,2,1,3,0,153,2,157,87,54,2,2,0,2,2,145,4,149]
["16:15:00",97,51,3,0,0,0,1,{"$f":"SUM(B71:E71)","v":151},{"$f":"SUM(D71:E71)","v":3},{"$f":"SUM(B71:H71)","v":152},97,46,4,2,0,0,0,{"$f":"SUM(L71:O71)","v":149},{"$f":"SUM(N71:O71)","v":6},{"$f":"SUM(L71:R71)","v":149}]
["16:30:00",83,62,2,1,0,2,0,148,3,150,116,50,5,0,0,2,1,171,5,174]
["16:45:00",103,54,8,2,1,1,1,167,10,170,98,49,3,0,1,1,0,150,3,152]
["17:00:00",156,64,2,2,0,2,2,224,4,228,91,45,3,0,0,0,0,139,3,139]
["17:15:00",126,64,1,0,1,1,1,191,1,194,121,49,1,0,0,2,0,171,1,173]
["17:30:00",127,59,6,1,0,0,0,193,7,193,116,50,1,1,0,2,0,168,2,170]
["17:45:00",95,52,3,1,0,1,0,151,4,152,97,48,2,0,0,0,0,147,2,147]
["18:00:00",88,32,5,2,0,1,0,127,7,128,97,40,0,0,0,2,0,137,0,139]
["18:15:00",87,55,2,1,0,0,0,145,3,145,67,44,0,1,0,1,1,112,1,114]
["18:30:00",49,33,2,1,0,1,0,85,3,86,81,42,2,0,0,1,1,125,2,127]
["18:45:00",51,38,2,1,0,0,0,92,3,92,64,29,1,1,0,0,0,95,2,95]
["19:00:00",57,39,1,0,0,0,1,97,1,98,54,32,1,0,0,0,0,87,1,87]
["19:15:00",39,27,1,1,0,3,0,68,2,71,49,27,2,1,0,0,0,79,3,79]
["19:30:00",48,26,1,0,0,0,0,75,1,75,31,24,1,0,0,1,0,56,1,57]
["19:45:00",28,25,1,0,0,0,0,54,1,54,52,27,0,0,0,0,0,79,0,79]
["20:00:00",29,22,2,0,0,0,0,53,2,53,27,21,2,0,0,0,0,50,2,50]
["20:15:00",22,19,2,0,0,0,0,43,2,43,24,24,0,1,0,0,0,49,1,49]
["20:30:00",26,12,1,0,0,0,0,39,1,39,24,15,0,0,0,0,0,39,0,39]
["20:45:00",22,13,0,0,0,0,0,35,0,35,20,12,0,0,0,0,0,32,0,32]
["21:00:00",24,13,1,1,0,0,0,39,2,39,23,14,0,0,0,0,0,37,0,37]
["21:15:00",16,10,0,0,0,0,0,26,0,26,21,7,1,0,0,0,0,29,1,29]
["21:30:00",18,8,0,1,0,2,0,27,1,29,25,6,0,0,0,0,0,31,0,31]
["21:45:00",19,14,1,0,0,0,0,34,1,34,12,8,0,0,0,0,0,20,0,20]
["22:00:00",18,7,0,0,0,0,0,25,0,25,24,7,0,0,0,2,0,31,0,33]
["22:15:00",19,9,2,0,0,0,0,30,2,30,9,7,0,0,0,0,0,16,0,16]
["22:30:00",12,9,0,1,0,0,0,22,1,22,10,3,0,1,0,0,0,14,1,14]
["22:45:00",5,2,0,0,0,0,0,7,0,7,7,5,0,0,0,0,0,12,0,12]
["23:00:00",8,9,0,0,0,0,0,17,0,17,5,4,0,0,0,0,1,9,0,10]
["23:15:00",4,8,0,0,0,0,0,12,0,12,3,3,0,0,0,0,0,6,0,6]
["23:30:00",5,2,0,0,0,0,0,7,0,7,6,1,1,0,0,0,0,8,1,8]
["23:45:00",10,1,0,0,0,0,0,11,0,11,2,1,0,0,0,0,0,3,0,3]
["TOTAL",{"$f":"SUM(B6:B101)","v":4763},{"$f":"SUM(C6:C101)","v":2579},280,97,24,43,21,7719,377,{"$f":"SUM(K6:K101)","v":7807},{"$f":"SUM(L6:L101)","v":4644},{"$f":"SUM(M6:M101)","v":2669},{"$f":"SUM(N6:N101)","v":237},{"$f":"SUM(O6:O101)","v":82},{"$f":"SUM(P6:P101)","v":19},{"$f":"SUM(Q6:Q101)","v":55},{"$f":"SUM(R6:R101)","v":16},7632,319,7722]

{"sheet":"12 04 2016","index":8,"n_rows":102,"n_cols":21,"rows_kept":102,"cut":false,"hidden":false,"merged":[[3,1,3,7],[3,8,3,10],[3,11,3,17],[3,18,3,20]]}
["* Fill the table with data"]
["DO NOT CHANGE THE STRUCTURE OF THE SPREADSHEET (i.e. ADD OR DELETE ROWS/COLUMNS, ETC.)"]
[]
[null,{"$f":"'Site Plan'!$A$19&\" - \"&'Site Plan'!$C$19","v":"Direction 1 - Eastbound"},null,null,null,null,null,null,"TOTAL",null,null,{"$f":"'Site Plan'!$A$20&\" - \"&'Site Plan'!$C$20","v":"Direction 2 - Westbound"},null,null,null,null,null,null,"TOTAL"]
["TIME","CAR","LGV","OGV1","OGV2","PSV","MCL","PCL","CAR + LGV + HGV","HGV","ALL modes","CAR","LGV","OGV1","OGV2","PSV","MCL","PCL","CAR + LGV + HGV","HGV","ALL modes"]
["00:00:00",2,3,0,0,0,0,0,{"$f":"SUM(B6:E6)","v":5},{"$f":"SUM(D6:E6)","v":0},{"$f":"SUM(B6:H6)","v":5},2,2,0,0,0,0,1,{"$f":"SUM(L6:O6)","v":4},{"$f":"SUM(N6:O6)","v":0},{"$f":"SUM(L6:R6)","v":5}]
["00:15:00",4,2,0,0,0,0,0,{"$f":"SUM(B7:E7)","v":6},{"$f":"SUM(D7:E7)","v":0},{"$f":"SUM(B7:H7)","v":6},1,1,0,0,0,0,0,{"$f":"SUM(L7:O7)","v":2},{"$f":"SUM(N7:O7)","v":0},{"$f":"SUM(L7:R7)","v":2}]
["00:30:00",3,3,1,0,0,0,0,7,1,7,1,1,0,0,0,0,0,2,0,2]
["00:45:00",3,2,1,0,0,0,0,6,1,6,2,2,0,0,0,0,0,4,0,4]
["01:00:00",1,2,0,0,0,0,0,3,0,3,0,0,0,0,0,0,0,0,0,0]
["01:15:00",2,0,0,1,0,0,0,3,1,3,1,3,1,0,0,0,0,5,1,5]
["01:30:00",1,1,1,0,0,0,0,3,1,3,1,2,0,0,0,0,0,3,0,3]
["01:45:00",1,1,0,0,0,0,0,2,0,2,0,1,0,0,0,0,0,1,0,1]
["02:00:00",0,0,0,0,0,0,0,0,0,0,0,3,2,0,0,0,0,5,2,5]
["02:15:00",2,0,1,1,0,0,0,4,2,4,1,2,0,0,0,0,0,3,0,3]
["02:30:00",3,2,0,1,0,0,0,6,1,6,1,1,0,0,0,0,0,2,0,2]
["02:45:00",0,2,0,0,0,0,0,2,0,2,2,2,0,0,0,0,0,4,0,4]
["03:00:00",0,2,0,0,0,0,0,2,0,2,0,0,0,0,0,0,0,0,0,0]
["03:15:00",1,1,0,0,0,0,0,2,0,2,5,1,0,0,0,0,0,6,0,6]
["03:30:00",0,1,1,0,0,0,0,2,1,2,5,3,0,0,0,0,0,8,0,8]
["03:45:00",1,0,0,0,0,0,0,1,0,1,1,1,1,0,1,0,0,3,1,4]
["04:00:00",1,1,0,0,0,0,0,2,0,2,5,2,1,0,0,0,0,8,1,8]
["04:15:00",1,2,0,0,0,0,0,3,0,3,6,2,0,0,0,1,0,8,0,9]
["04:30:00",1,1,0,0,0,0,0,2,0,2,5,5,2,1,0,0,0,13,3,13]
["04:45:00",3,4,1,0,0,0,0,8,1,8,8,9,1,1,0,0,0,19,2,19]
["05:00:00",7,2,1,0,0,0,2,10,1,12,9,13,2,0,2,0,0,24,2,26]
["05:15:00",6,8,1,0,0,0,0,15,1,15,12,19,2,0,0,3,0,33,2,36]
["05:30:00",8,12,1,0,0,0,0,21,1,21,17,17,2,2,0,1,0,38,4,39]
["05:45:00",18,6,3,1,0,0,0,28,4,28,18,24,3,1,0,1,0,46,4,47]
["06:00:00",10,10,2,0,0,0,1,22,2,23,30,35,4,1,0,1,0,70,5,71]
["06:15:00",35,26,2,2,0,0,0,65,4,65,37,41,4,1,0,0,0,83,5,83]
["06:30:00",25,20,3,2,0,1,0,50,5,51,42,42,4,0,0,1,0,88,4,89]
["06:45:00",36,36,7,0,0,0,0,79,7,79,42,43,5,0,0,5,1,90,5,96]
["07:00:00",59,40,4,2,0,0,0,105,6,105,75,47,5,2,0,4,0,129,7,133]
["07:15:00",92,45,6,1,1,0,0,144,7,145,73,50,6,1,0,0,0,130,7,130]
["07:30:00",109,62,3,1,2,0,0,175,4,177,89,54,6,0,0,0,0,149,6,149]
["07:45:00",110,49,3,0,0,0,0,162,3,162,90,66,7,1,0,1,0,164,8,165]
["08:00:00",80,50,2,2,0,0,0,134,4,134,94,54,6,3,0,0,0,157,9,157]
["08:15:00",98,49,2,1,0,0,1,150,3,151,102,40,3,0,0,1,0,145,3,146]
["08:30:00",111,51,5,3,1,0,0,170,8,171,82,48,2,1,0,0,1,133,3,134]
["08:45:00",105,57,6,2,0,0,0,170,8,170,80,46,3,1,1,0,1,130,4,132]
["09:00:00",86,53,1,2,0,0,1,142,3,143,58,48,3,0,0,1,1,109,3,111]
["09:15:00",86,49,3,0,0,0,0,138,3,138,57,40,5,1,0,0,0,103,6,103]
["09:30:00",76,42,7,0,1,0,0,125,7,126,54,37,7,3,1,1,0,101,10,103]
["09:45:00",81,42,5,0,1,0,0,128,5,129,52,48,4,2,0,0,0,106,6,106]
["10:00:00",65,47,6,0,1,0,0,118,6,119,49,40,6,0,0,0,0,95,6,95]
["10:15:00",88,50,12,1,0,0,0,151,13,151,62,35,4,1,0,0,0,102,5,102]
["10:30:00",64,47,3,2,1,0,0,116,5,117,75,32,8,1,0,0,0,116,9,116]
["10:45:00",73,42,7,3,0,0,0,125,10,125,73,32,5,1,1,0,0,111,6,112]
["11:00:00",65,39,10,2,1,0,0,116,12,117,57,37,4,2,0,0,0,100,6,100]
["11:15:00",74,46,10,1,1,0,0,131,11,132,89,54,6,2,1,0,0,151,8,152]
["11:30:00",69,46,8,0,1,0,0,123,8,124,71,42,2,0,0,0,0,115,2,115]
["11:45:00",56,47,8,2,2,0,1,113,10,116,66,45,6,1,0,0,0,118,7,118]
["12:00:00",69,41,6,1,1,0,0,117,7,118,67,35,5,0,0,0,0,107,5,107]
["12:15:00",71,39,8,3,1,1,0,121,11,123,60,42,3,0,0,0,0,105,3,105]
["12:30:00",73,37,5,0,0,0,0,115,5,115,91,39,2,1,0,1,0,133,3,134]
["12:45:00",70,35,4,2,0,1,1,111,6,113,65,47,7,1,0,0,0,120,8,120]
["13:00:00",78,47,2,3,0,1,1,130,5,132,84,48,10,1,1,0,0,143,11,144]
["13:15:00",70,49,5,0,1,0,1,124,5,126,70,43,1,2,0,0,0,116,3,116]
["13:30:00",71,45,5,4,1,0,0,125,9,126,78,38,9,2,0,1,1,127,11,129]
["13:45:00",71,46,14,2,1,0,0,133,16,134,66,42,7,3,1,0,0,118,10,119]
["14:00:00",72,40,4,1,1,0,0,117,5,118,79,47,7,2,0,1,1,135,9,137]
["14:15:00",81,43,8,1,1,1,0,133,9,135,71,45,4,0,1,0,1,120,4,122]
["14:30:00",70,53,7,3,0,0,0,133,10,133,70,48,6,0,0,0,0,124,6,124]
["14:45:00",65,47,5,0,0,1,1,117,5,119,85,39,4,2,0,0,0,130,6,130]
["15:00:00",87,44,2,2,0,0,0,135,4,135,78,41,6,1,0,0,1,126,7,127]
["15:15:00",78,37,10,1,0,0,0,126,11,126,80,49,9,1,1,2,0,139,10,142]
["15:30:00",91,46,3,2,0,1,0,142,5,143,95,50,9,2,0,0,0,156,11,156]
["15:45:00",108,51,5,0,0,2,0,164,5,166,90,42,1,0,0,1,0,133,1,134]
["16:00:00",88,48,6,0,0,1,0,142,6,143,86,51,3,2,0,0,0,142,5,142]
["16:15:00",88,48,10,3,0,0,0,{"$f":"SUM(B71:E71)","v":149},{"$f":"SUM(D71:E71)","v":13},{"$f":"SUM(B71:H71)","v":149},86,65,2,4,0,0,0,{"$f":"SUM(L71:O71)","v":157},{"$f":"SUM(N71:O71)","v":6},{"$f":"SUM(L71:R71)","v":157}]
["16:30:00",96,66,1,4,0,0,2,167,5,169,99,46,4,2,0,0,0,151,6,151]
["16:45:00",112,53,4,4,0,1,0,173,8,174,103,60,5,0,0,0,0,168,5,168]
["17:00:00",133,55,5,1,0,1,2,194,6,197,98,53,3,1,0,1,0,155,4,156]
["17:15:00",113,56,5,2,0,1,0,176,7,177,116,40,2,3,0,1,1,161,5,163]
["17:30:00",92,62,2,1,0,0,0,157,3,157,117,49,1,1,0,1,1,168,2,170]
["17:45:00",87,58,2,1,0,1,0,148,3,149,98,51,0,1,0,1,0,150,1,151]
["18:00:00",83,50,4,1,0,0,1,138,5,139,87,43,2,0,0,0,0,132,2,132]
["18:15:00",68,28,2,3,0,1,0,101,5,102,89,32,2,0,0,0,2,123,2,125]
["18:30:00",70,40,1,1,0,1,0,112,2,113,69,38,1,1,0,0,0,109,2,109]
["18:45:00",50,42,1,0,0,2,1,93,1,96,53,44,0,1,0,0,0,98,1,98]
["19:00:00",67,31,1,0,0,1,1,99,1,101,57,36,1,1,0,1,0,95,2,96]
["19:15:00",59,33,2,2,0,2,0,96,4,98,49,20,2,1,0,2,0,72,3,74]
["19:30:00",38,21,2,1,0,0,1,62,3,63,39,36,1,0,0,0,0,76,1,76]
["19:45:00",37,25,1,1,0,1,1,64,2,66,38,21,0,1,0,0,1,60,1,61]
["20:00:00",34,27,1,0,0,1,2,62,1,65,38,28,0,0,0,0,1,66,0,67]
["20:15:00",23,19,1,0,0,0,0,43,1,43,26,19,0,0,0,2,0,45,0,47]
["20:30:00",20,11,2,1,0,0,0,34,3,34,17,10,0,0,0,1,0,27,0,28]
["20:45:00",12,17,0,0,0,0,2,29,0,31,13,9,0,0,0,1,0,22,0,23]
["21:00:00",15,8,0,0,0,0,0,23,0,23,24,14,2,0,0,1,0,40,2,41]
["21:15:00",18,12,1,0,0,0,0,31,1,31,23,17,0,0,0,0,2,40,0,42]
["21:30:00",20,12,0,1,0,1,0,33,1,34,27,11,0,0,0,0,0,38,0,38]
["21:45:00",32,22,1,0,0,0,1,55,1,56,15,5,0,0,0,0,0,20,0,20]
["22:00:00",39,11,0,0,0,0,0,50,0,50,29,11,0,0,0,0,0,40,0,40]
["22:15:00",29,18,0,1,0,0,0,48,1,48,20,13,1,1,0,0,0,35,2,35]
["22:30:00",11,13,0,0,0,0,0,24,0,24,11,8,0,0,0,0,0,19,0,19]
["22:45:00",16,6,0,0,0,0,0,22,0,22,14,11,0,0,0,0,0,25,0,25]
["23:00:00",10,6,0,0,0,0,0,16,0,16,8,8,0,0,0,0,0,16,0,16]
["23:15:00",5,6,0,0,0,0,0,11,0,11,7,1,0,0,0,0,0,8,0,8]
["23:30:00",6,4,1,0,0,0,0,11,1,11,6,3,0,0,0,0,0,9,0,9]
["23:45:00",5,4,0,0,0,0,0,9,0,9,4,1,0,1,0,0,0,6,1,6]
["TOTAL",{"$f":"SUM(B6:B101)","v":4623},{"$f":"SUM(C6:C101)","v":2715},286,86,20,24,24,7710,372,7778,{"$f":"SUM(L6:L101)","v":4497},{"$f":"SUM(M6:M101)","v":2721},254,69,11,39,17,7541,323,7608]

{"sheet":"13 04 2016","index":9,"n_rows":102,"n_cols":21,"rows_kept":102,"cut":false,"hidden":false,"merged":[[3,1,3,7],[3,8,3,10],[3,11,3,17],[3,18,3,20]]}
["* Fill the table with data"]
["DO NOT CHANGE THE STRUCTURE OF THE SPREADSHEET (i.e. ADD OR DELETE ROWS/COLUMNS, ETC.)"]
[]
[null,{"$f":"'Site Plan'!$A$19&\" - \"&'Site Plan'!$C$19","v":"Direction 1 - Eastbound"},null,null,null,null,null,null,"TOTAL",null,null,{"$f":"'Site Plan'!$A$20&\" - \"&'Site Plan'!$C$20","v":"Direction 2 - Westbound"},null,null,null,null,null,null,"TOTAL"]
["TIME","CAR","LGV","OGV1","OGV2","PSV","MCL","PCL","CAR + LGV + HGV","HGV","ALL modes","CAR","LGV","OGV1","OGV2","PSV","MCL","PCL","CAR + LGV + HGV","HGV","ALL modes"]
["00:00:00",2,4,0,0,0,0,0,{"$f":"SUM(B6:E6)","v":6},{"$f":"SUM(D6:E6)","v":0},{"$f":"SUM(B6:H6)","v":6},3,0,1,0,0,0,0,{"$f":"SUM(L6:O6)","v":4},{"$f":"SUM(N6:O6)","v":1},{"$f":"SUM(L6:R6)","v":4}]
["00:15:00",3,2,0,0,0,0,0,{"$f":"SUM(B7:E7)","v":5},{"$f":"SUM(D7:E7)","v":0},{"$f":"SUM(B7:H7)","v":5},5,1,0,0,0,0,0,{"$f":"SUM(L7:O7)","v":6},{"$f":"SUM(N7:O7)","v":0},{"$f":"SUM(L7:R7)","v":6}]
["00:30:00",4,1,0,0,0,0,0,5,0,5,0,0,0,0,0,0,0,0,0,0]
["00:45:00",4,2,1,0,0,0,0,7,1,7,2,4,0,0,0,0,0,6,0,6]
["01:00:00",0,3,0,0,0,0,0,3,0,3,0,0,0,0,0,0,0,0,0,0]
["01:15:00",1,0,1,0,0,0,0,2,1,2,2,1,0,0,0,0,0,3,0,3]
["01:30:00",2,1,1,0,0,0,0,4,1,4,0,0,0,0,1,0,0,0,0,1]
["01:45:00",0,1,0,0,0,0,0,1,0,1,0,4,0,0,0,0,0,4,0,4]
["02:00:00",1,0,0,0,0,0,0,1,0,1,3,0,0,0,0,0,0,3,0,3]
["02:15:00",7,1,0,1,0,0,0,9,1,9,0,2,0,0,0,0,0,2,0,2]
["02:30:00",0,1,0,0,1,0,0,1,0,2,1,0,0,0,0,0,0,1,0,1]
["02:45:00",1,1,0,0,0,0,0,2,0,2,2,0,0,0,0,0,0,2,0,2]
["03:00:00",2,1,0,0,0,0,0,3,0,3,0,1,0,0,0,0,0,1,0,1]
["03:15:00",0,2,0,0,0,0,0,2,0,2,4,4,0,0,0,0,0,8,0,8]
["03:30:00",0,1,1,0,0,0,0,2,1,2,4,1,1,0,0,0,0,6,1,6]
["03:45:00",2,0,0,0,0,0,0,2,0,2,1,3,0,0,0,0,0,4,0,4]
["04:00:00",0,1,0,1,0,0,0,2,1,2,4,1,0,0,0,0,0,5,0,5]
["04:15:00",1,2,1,0,0,0,0,4,1,4,4,5,1,1,0,0,0,11,2,11]
["04:30:00",1,1,0,0,1,0,0,2,0,3,4,5,0,0,0,0,0,9,0,9]
["04:45:00",4,7,0,0,0,0,0,11,0,11,2,13,2,1,0,0,0,18,3,18]
["05:00:00",6,3,1,2,0,0,1,12,3,13,10,12,2,0,0,0,0,24,2,24]
["05:15:00",2,8,3,0,0,0,0,13,3,13,16,14,3,0,0,1,0,33,3,34]
["05:30:00",14,8,0,0,0,0,0,22,0,22,19,19,2,0,0,1,0,40,2,41]
["05:45:00",23,7,2,0,0,0,0,32,2,32,28,32,3,0,0,1,0,63,3,64]
["06:00:00",17,10,1,0,0,0,0,28,1,28,28,38,5,0,0,1,1,71,5,73]
["06:15:00",34,22,4,0,0,0,0,60,4,60,21,33,2,0,0,2,1,56,2,59]
["06:30:00",39,17,0,1,0,0,0,57,1,57,57,34,4,1,0,4,0,96,5,100]
["06:45:00",61,30,3,1,0,0,0,95,4,95,57,29,5,1,0,3,0,92,6,95]
["07:00:00",77,33,4,0,0,0,2,114,4,116,60,48,1,2,1,4,0,111,3,116]
["07:15:00",80,40,4,2,0,0,0,126,6,126,80,57,5,0,0,0,0,142,5,142]
["07:30:00",108,50,4,1,0,0,0,163,5,163,98,40,8,1,0,1,1,147,9,149]
["07:45:00",132,51,4,2,0,0,0,189,6,189,97,42,4,2,0,1,0,145,6,146]
["08:00:00",102,43,5,2,0,2,0,152,7,154,103,47,3,1,0,0,0,154,4,154]
["08:15:00",91,57,3,2,1,1,0,153,5,155,99,51,8,3,0,1,1,161,11,163]
["08:30:00",87,50,4,3,0,1,0,144,7,145,82,39,6,0,0,1,0,127,6,128]
["08:45:00",99,48,10,1,1,1,1,158,11,161,91,37,7,1,0,0,1,136,8,137]
["09:00:00",63,42,6,0,0,0,0,111,6,111,77,47,4,0,0,0,0,128,4,128]
["09:15:00",74,47,3,3,0,0,0,127,6,127,56,39,6,1,0,1,0,102,7,103]
["09:30:00",84,43,7,4,1,0,2,138,11,141,61,33,4,1,0,0,0,99,5,99]
["09:45:00",73,49,4,3,0,0,0,129,7,129,73,37,7,0,0,0,0,117,7,117]
["10:00:00",68,45,7,1,1,1,1,121,8,124,43,29,7,1,0,0,0,80,8,80]
["10:15:00",82,46,5,2,1,0,0,135,7,136,70,47,8,1,2,0,0,126,9,128]
["10:30:00",72,43,3,3,0,0,0,121,6,121,70,42,3,4,0,1,0,119,7,120]
["10:45:00",83,43,3,3,5,1,0,132,6,138,58,35,3,3,0,1,1,99,6,101]
["11:00:00",66,41,5,2,0,0,0,114,7,114,66,37,7,4,0,1,1,114,11,116]
["11:15:00",68,41,9,0,0,0,3,118,9,121,78,38,3,1,0,1,0,120,4,121]
["11:30:00",79,39,3,0,2,0,0,121,3,123,58,37,4,2,0,0,0,101,6,101]
["11:45:00",77,59,5,2,0,1,2,143,7,146,77,46,4,1,0,0,0,128,5,128]
["12:00:00",88,48,6,3,3,1,0,145,9,149,72,43,4,1,1,2,0,120,5,123]
["12:15:00",61,42,8,3,0,0,1,114,11,115,71,46,4,2,0,1,0,123,6,124]
["12:30:00",93,39,8,0,0,2,0,140,8,142,56,41,7,2,2,2,1,106,9,111]
["12:45:00",71,54,7,1,1,3,0,133,8,137,91,51,7,1,0,0,0,150,8,150]
["13:00:00",80,34,5,1,0,4,3,120,6,127,65,35,10,1,0,2,0,111,11,113]
["13:15:00",82,34,8,3,1,2,1,127,11,131,82,39,5,0,0,2,0,126,5,128]
["13:30:00",77,46,3,2,1,0,1,128,5,130,70,41,5,1,1,0,0,117,6,118]
["13:45:00",88,35,6,2,2,2,1,131,8,136,60,38,6,0,0,1,1,104,6,106]
["14:00:00",69,40,7,5,0,0,1,121,12,122,73,46,4,2,0,1,0,125,6,126]
["14:15:00",90,45,8,2,2,1,2,145,10,150,57,38,8,0,0,1,0,103,8,104]
["14:30:00",74,52,4,3,0,1,0,133,7,134,82,45,6,1,2,1,1,134,7,138]
["14:45:00",81,42,9,1,0,1,0,133,10,134,76,40,5,1,0,0,0,122,6,122]
["15:00:00",72,40,7,1,0,0,2,120,8,122,94,40,4,4,0,0,0,142,8,142]
["15:15:00",77,44,8,0,0,1,0,129,8,130,69,47,3,2,0,0,0,121,5,121]
["15:30:00",72,43,5,3,1,1,2,123,8,127,96,50,4,2,0,1,0,152,6,153]
["15:45:00",109,49,5,0,0,0,1,163,5,164,91,46,1,1,0,1,1,139,2,141]
["16:00:00",93,50,1,1,0,1,0,145,2,146,104,61,4,1,0,1,1,170,5,172]
["16:15:00",87,59,4,0,0,1,0,{"$f":"SUM(B71:E71)","v":150},{"$f":"SUM(D71:E71)","v":4},{"$f":"SUM(B71:H71)","v":151},90,57,5,1,0,0,2,{"$f":"SUM(L71:O71)","v":153},{"$f":"SUM(N71:O71)","v":6},{"$f":"SUM(L71:R71)","v":155}]
["16:30:00",101,55,6,0,0,1,1,162,6,164,111,64,8,0,0,0,0,183,8,183]
["16:45:00",113,58,1,0,0,2,1,172,1,175,116,64,2,0,1,0,0,182,2,183]
["17:00:00",139,73,1,2,0,2,2,215,3,219,99,63,2,2,0,1,0,166,4,167]
["17:15:00",134,60,4,2,0,3,1,200,6,204,96,51,3,2,0,4,0,152,5,156]
["17:30:00",117,54,2,3,0,2,0,176,5,178,108,49,2,0,0,0,3,159,2,162]
["17:45:00",87,55,4,0,1,0,1,146,4,148,110,54,0,0,0,1,2,164,0,167]
["18:00:00",108,57,3,1,0,0,1,169,4,170,87,48,4,4,0,2,0,143,8,145]
["18:15:00",95,64,2,0,0,3,0,161,2,164,81,44,2,0,0,0,0,127,2,127]
["18:30:00",70,49,4,1,0,1,0,124,5,125,62,41,1,0,0,0,3,104,1,107]
["18:45:00",73,44,0,0,0,0,1,117,0,118,77,51,1,0,0,0,2,129,1,131]
["19:00:00",79,40,3,0,0,1,2,122,3,125,59,30,1,1,0,1,1,91,2,93]
["19:15:00",50,35,1,1,0,1,0,87,2,88,43,34,0,1,0,0,0,78,1,78]
["19:30:00",34,24,0,1,0,0,3,59,1,62,51,28,0,0,0,0,1,79,0,80]
["19:45:00",37,20,0,0,0,1,1,57,0,59,36,23,0,0,0,0,0,59,0,59]
["20:00:00",32,19,0,0,0,0,1,51,0,52,32,21,0,0,0,0,0,53,0,53]
["20:15:00",35,21,0,0,0,0,0,56,0,56,41,21,0,0,0,0,0,62,0,62]
["20:30:00",21,17,1,0,0,1,0,39,1,40,26,22,0,0,0,0,0,48,0,48]
["20:45:00",18,10,0,0,0,0,0,28,0,28,29,26,2,0,0,2,0,57,2,59]
["21:00:00",33,20,0,0,0,0,1,53,0,54,24,20,0,0,0,0,0,44,0,44]
["21:15:00",24,22,0,1,0,1,0,47,1,48,29,23,0,0,0,0,0,52,0,52]
["21:30:00",13,14,0,0,0,1,0,27,0,28,23,14,0,0,0,0,0,37,0,37]
["21:45:00",19,6,1,0,0,0,0,26,1,26,26,17,0,0,0,4,0,43,0,47]
["22:00:00",25,7,0,0,0,0,0,32,0,32,30,8,0,0,0,0,0,38,0,38]
["22:15:00",16,9,1,0,0,0,0,26,1,26,18,14,0,1,0,1,0,33,1,34]
["22:30:00",13,7,0,0,0,0,0,20,0,20,12,9,0,0,0,0,0,21,0,21]
["22:45:00",13,7,0,0,1,0,0,20,0,21,7,9,0,0,0,1,0,16,0,17]
["23:00:00",8,8,0,0,0,0,0,16,0,16,9,3,0,0,0,0,0,12,0,12]
["23:15:00",10,5,0,0,0,0,0,15,0,15,13,3,0,0,0,1,0,16,0,17]
["23:30:00",8,8,0,0,0,0,0,16,0,16,6,3,0,0,0,0,0,9,0,9]
["23:45:00",8,4,0,0,0,0,0,12,0,12,5,2,0,0,0,0,0,7,0,7]
["TOTAL",{"$f":"SUM(B6:B101)","v":4893},{"$f":"SUM(C6:C101)","v":2715},260,85,27,49,43,7953,345,8072,{"$f":"SUM(L6:L101)","v":4639},{"$f":"SUM(M6:M101)","v":2747},253,67,11,60,26,7706,320,7803]

{"sheet":"14 04 2016","index":10,"n_rows":102,"n_cols":21,"rows_kept":102,"cut":false,"hidden":false,"merged":[[3,1,3,7],[3,8,3,10],[3,11,3,17],[3,18,3,20]]}
["* Fill the table with data"]
["DO NOT CHANGE THE STRUCTURE OF THE SPREADSHEET (i.e. ADD OR DELETE ROWS/COLUMNS, ETC.)"]
[]
[null,{"$f":"'Site Plan'!$A$19&\" - \"&'Site Plan'!$C$19","v":"Direction 1 - Eastbound"},null,null,null,null,null,null,"TOTAL",null,null,{"$f":"'Site Plan'!$A$20&\" - \"&'Site Plan'!$C$20","v":"Direction 2 - Westbound"},null,null,null,null,null,null,"TOTAL"]
["TIME","CAR","LGV","OGV1","OGV2","PSV","MCL","PCL","CAR + LGV + HGV","HGV","ALL modes","CAR","LGV","OGV1","OGV2","PSV","MCL","PCL","CAR + LGV + HGV","HGV","ALL modes"]
["00:00:00",2,2,0,0,0,0,0,{"$f":"SUM(B6:E6)","v":4},{"$f":"SUM(D6:E6)","v":0},{"$f":"SUM(B6:H6)","v":4},5,2,0,0,0,0,0,{"$f":"SUM(L6:O6)","v":7},{"$f":"SUM(N6:O6)","v":0},{"$f":"SUM(L6:R6)","v":7}]
["00:15:00",4,6,0,0,0,0,0,{"$f":"SUM(B7:E7)","v":10},{"$f":"SUM(D7:E7)","v":0},{"$f":"SUM(B7:H7)","v":10},1,1,0,0,0,0,0,{"$f":"SUM(L7:O7)","v":2},{"$f":"SUM(N7:O7)","v":0},{"$f":"SUM(L7:R7)","v":2}]
["00:30:00",3,1,0,0,0,0,0,4,0,4,0,1,0,0,0,0,0,1,0,1]
["00:45:00",3,1,0,0,0,0,0,4,0,4,2,0,0,0,0,0,0,2,0,2]
["01:00:00",1,3,1,0,0,0,0,5,1,5,1,2,0,0,0,0,0,3,0,3]
["01:15:00",1,1,0,0,0,0,0,2,0,2,0,2,1,0,0,0,0,3,1,3]
["01:30:00",1,1,0,0,0,0,0,2,0,2,1,0,0,0,0,0,0,1,0,1]
["01:45:00",1,2,0,1,0,0,0,4,1,4,0,1,0,0,0,0,0,1,0,1]
["02:00:00",1,1,1,1,0,0,0,4,2,4,1,1,1,0,0,0,0,3,1,3]
["02:15:00",1,0,0,1,0,0,0,2,1,2,0,3,0,0,0,0,0,3,0,3]
["02:30:00",0,1,1,0,0,0,0,2,1,2,0,1,0,0,0,0,0,1,0,1]
["02:45:00",1,0,0,0,0,0,0,1,0,1,1,2,0,0,0,0,0,3,0,3]
["03:00:00",0,1,0,0,0,0,0,1,0,1,0,2,0,1,0,0,0,3,1,3]
["03:15:00",2,0,1,0,0,0,0,3,1,3,2,2,0,0,0,0,0,4,0,4]
["03:30:00",3,0,0,1,0,0,0,4,1,4,0,2,0,0,0,0,0,2,0,2]
["03:45:00",0,3,0,0,0,0,0,3,0,3,2,4,0,0,0,0,0,6,0,6]
["04:00:00",1,2,1,0,0,0,0,4,1,4,4,1,1,1,0,0,0,7,2,7]
["04:15:00",4,2,0,0,0,0,0,6,0,6,4,4,0,0,0,0,0,8,0,8]
["04:30:00",2,2,1,0,0,0,0,5,1,5,4,10,1,1,0,0,0,16,2,16]
["04:45:00",5,3,0,0,0,0,0,8,0,8,5,6,1,1,0,0,0,13,2,13]
["05:00:00",5,1,0,0,0,0,2,6,0,8,4,10,3,0,0,0,0,17,3,17]
["05:15:00",5,8,1,1,0,0,0,15,2,15,13,23,3,0,0,1,0,39,3,40]
["05:30:00",10,7,1,0,0,0,0,18,1,18,23,21,1,2,0,1,0,47,3,48]
["05:45:00",18,8,4,0,0,1,0,30,4,31,23,22,3,1,0,2,0,49,4,51]
["06:00:00",21,7,1,0,0,0,0,29,1,29,26,36,8,0,0,0,0,70,8,70]
["06:15:00",27,14,3,0,0,0,0,44,3,44,43,24,1,0,0,2,0,68,1,70]
["06:30:00",43,22,2,0,0,0,0,67,2,67,34,37,3,1,0,2,0,75,4,77]
["06:45:00",45,33,4,2,0,0,0,84,6,84,56,38,5,3,2,4,0,102,8,108]
["07:00:00",58,49,2,1,0,3,1,110,3,114,66,44,3,2,0,2,0,115,5,117]
["07:15:00",74,55,5,0,1,1,0,134,5,136,96,51,9,2,0,2,0,158,11,160]
["07:30:00",98,52,6,4,2,0,0,160,10,162,94,67,10,0,0,0,1,171,10,172]
["07:45:00",111,43,4,0,0,0,1,158,4,159,102,56,9,2,0,0,0,169,11,169]
["08:00:00",103,49,2,1,0,1,0,155,3,156,96,65,6,1,0,0,1,168,7,169]
["08:15:00",105,49,4,2,0,2,0,160,6,162,83,58,7,2,0,0,0,150,9,150]
["08:30:00",106,44,2,1,0,1,0,153,3,154,89,52,6,0,0,0,0,147,6,147]
["08:45:00",127,44,8,0,1,0,1,179,8,181,86,42,12,0,0,0,0,140,12,140]
["09:00:00",106,34,6,2,0,0,0,148,8,148,71,38,8,3,0,1,0,120,11,121]
["09:15:00",98,47,9,2,0,0,1,156,11,157,53,46,4,1,1,1,0,104,5,106]
["09:30:00",89,46,5,1,1,1,0,141,6,143,55,42,7,4,2,1,0,108,11,111]
["09:45:00",84,50,4,0,0,1,1,138,4,140,69,29,5,3,0,0,0,106,8,106]
["10:00:00",72,54,5,1,1,1,0,132,6,134,63,40,6,1,1,0,0,110,7,111]
["10:15:00",96,51,6,0,0,1,0,153,6,154,62,37,5,1,0,1,0,105,6,106]
["10:30:00",74,30,9,3,0,0,1,116,12,117,66,48,7,2,0,1,2,123,9,126]
["10:45:00",79,53,3,3,1,2,1,138,6,142,72,43,4,0,0,0,0,119,4,119]
["11:00:00",86,26,8,1,0,1,0,121,9,122,66,44,8,2,1,0,1,120,10,122]
["11:15:00",73,47,8,2,0,0,1,130,10,131,73,37,3,0,0,1,0,113,3,114]
["11:30:00",82,43,5,1,2,1,0,131,6,134,69,42,6,2,1,1,0,119,8,121]
["11:45:00",85,44,7,4,0,1,1,140,11,142,62,50,9,0,1,1,1,121,9,124]
["12:00:00",72,48,4,2,0,1,0,126,6,127,86,54,6,3,0,0,0,149,9,149]
["12:15:00",65,44,7,0,0,1,1,116,7,118,60,39,5,3,0,0,1,107,8,108]
["12:30:00",64,45,4,2,0,1,0,115,6,116,92,35,3,1,0,0,1,131,4,132]
["12:45:00",69,23,8,3,0,3,1,103,11,107,82,37,9,0,0,1,0,128,9,129]
["13:00:00",81,38,8,0,1,3,1,127,8,132,77,33,6,1,0,1,0,117,7,118]
["13:15:00",88,29,2,1,1,1,1,120,3,123,93,49,5,2,2,1,0,149,7,152]
["13:30:00",89,37,5,2,1,1,1,133,7,136,74,41,5,2,1,3,0,122,7,126]
["13:45:00",76,36,3,2,0,0,0,117,5,117,65,48,6,3,1,1,1,122,9,125]
["14:00:00",54,61,8,0,0,0,0,123,8,123,79,43,4,1,1,2,1,127,5,131]
["14:15:00",79,47,3,6,1,1,1,135,9,138,74,39,4,1,0,0,0,118,5,118]
["14:30:00",82,41,4,3,0,1,0,130,7,131,75,51,5,0,1,0,0,131,5,132]
["14:45:00",85,46,13,3,1,3,0,147,16,151,61,47,5,0,0,1,0,113,5,114]
["15:00:00",65,39,2,1,0,0,0,107,3,107,77,43,7,1,0,1,1,128,8,130]
["15:15:00",71,51,5,0,0,0,0,127,5,127,84,49,5,0,1,0,0,138,5,139]
["15:30:00",85,66,7,5,0,1,0,163,12,164,81,45,4,1,0,3,0,131,5,134]
["15:45:00",75,50,4,1,0,1,0,130,5,131,114,53,3,0,0,1,0,170,3,171]
["16:00:00",94,53,3,1,0,2,0,151,4,153,86,64,7,0,1,1,0,157,7,159]
["16:15:00",119,62,6,3,0,2,0,{"$f":"SUM(B71:E71)","v":190},{"$f":"SUM(D71:E71)","v":9},{"$f":"SUM(B71:H71)","v":192},85,51,6,1,1,0,1,{"$f":"SUM(L71:O71)","v":143},{"$f":"SUM(N71:O71)","v":7},{"$f":"SUM(L71:R71)","v":145}]
["16:30:00",108,57,5,2,0,0,0,172,7,172,97,63,3,3,0,0,0,166,6,166]
["16:45:00",114,49,6,1,0,1,0,170,7,171,113,71,3,0,0,2,0,187,3,189]
["17:00:00",145,59,3,4,0,6,3,211,7,220,115,37,3,0,0,1,1,155,3,157]
["17:15:00",123,58,4,2,0,0,0,187,6,187,105,53,0,1,0,1,0,159,1,160]
["17:30:00",100,51,3,0,0,2,0,154,3,156,104,60,0,3,0,1,2,167,3,170]
["17:45:00",77,52,2,3,0,0,0,134,5,134,120,45,2,0,0,0,0,167,2,167]
["18:00:00",123,53,4,0,0,0,1,180,4,181,74,44,1,0,0,3,0,119,1,122]
["18:15:00",77,50,2,3,0,0,0,132,5,132,80,38,3,0,0,0,0,121,3,121]
["18:30:00",71,40,1,1,0,0,0,113,2,113,60,37,1,0,0,0,0,98,1,98]
["18:45:00",67,53,2,2,0,0,0,124,4,124,68,34,1,0,0,0,0,103,1,103]
["19:00:00",87,33,0,1,0,0,0,121,1,121,62,30,0,0,0,0,0,92,0,92]
["19:15:00",69,36,0,0,0,0,0,105,0,105,49,34,1,0,0,0,0,84,1,84]
["19:30:00",44,32,0,2,0,0,1,78,2,79,48,25,0,0,0,0,1,73,0,74]
["19:45:00",38,33,2,0,0,0,0,73,2,73,38,27,3,2,0,1,0,70,5,71]
["20:00:00",30,22,0,0,0,0,0,52,0,52,26,16,0,1,0,0,0,43,1,43]
["20:15:00",24,20,0,0,0,0,2,44,0,46,24,19,1,0,0,1,0,44,1,45]
["20:30:00",22,13,1,1,0,0,0,37,2,37,28,22,1,0,0,0,0,51,1,51]
["20:45:00",21,14,0,0,0,0,1,35,0,36,22,16,0,0,0,0,0,38,0,38]
["21:00:00",32,17,0,0,0,1,0,49,0,50,26,13,0,0,0,0,0,39,0,39]
["21:15:00",20,15,1,2,0,0,0,38,3,38,27,16,0,0,0,0,0,43,0,43]
["21:30:00",26,13,1,0,0,0,0,40,1,40,40,10,0,0,0,0,0,50,0,50]
["21:45:00",27,11,0,1,0,0,0,39,1,39,19,16,0,0,0,0,0,35,0,35]
["22:00:00",32,13,0,0,0,0,0,45,0,45,26,21,0,0,0,0,0,47,0,47]
["22:15:00",14,9,2,0,0,0,0,25,2,25,29,12,0,0,0,0,0,41,0,41]
["22:30:00",19,12,0,0,0,0,0,31,0,31,11,14,0,0,0,0,0,25,0,25]
["22:45:00",8,5,0,0,0,0,0,13,0,13,11,9,0,1,0,1,0,21,1,22]
["23:00:00",13,2,0,0,0,0,0,15,0,15,13,3,0,0,0,0,1,16,0,17]
["23:15:00",6,9,0,0,0,0,0,15,0,15,10,5,0,0,0,0,0,15,0,15]
["23:30:00",5,6,0,0,0,0,0,11,0,11,5,3,0,0,0,1,0,8,0,9]
["23:45:00",5,1,0,0,0,0,0,6,0,6,1,1,0,0,0,0,1,2,0,3]
["TOTAL",{"$f":"SUM(B6:B101)","v":4976},{"$f":"SUM(C6:C101)","v":2696},265,96,14,50,25,8033,361,8122,{"$f":"SUM(L6:L101)","v":4644},{"$f":"SUM(M6:M101)","v":2804},284,70,18,52,18,7802,354,7890]

{"sheet":"15 04 2016","index":11,"n_rows":102,"n_cols":21,"rows_kept":102,"cut":false,"hidden":false,"merged":[[3,1,3,7],[3,8,3,10],[3,11,3,17],[3,18,3,20]]}
["* Fill the table with data"]
["DO NOT CHANGE THE STRUCTURE OF THE SPREADSHEET (i.e. ADD OR DELETE ROWS/COLUMNS, ETC.)"]
[]
[null,{"$f":"'Site Plan'!$A$19&\" - \"&'Site Plan'!$C$19","v":"Direction 1 - Eastbound"},null,null,null,null,null,null,"TOTAL",null,null,{"$f":"'Site Plan'!$A$20&\" - \"&'Site Plan'!$C$20","v":"Direction 2 - Westbound"},null,null,null,null,null,null,"TOTAL"]
["TIME","CAR","LGV","OGV1","OGV2","PSV","MCL","PCL","CAR + LGV + HGV","HGV","ALL modes","CAR","LGV","OGV1","OGV2","PSV","MCL","PCL","CAR + LGV + HGV","HGV","ALL modes"]
["00:00:00",2,6,0,0,0,0,0,{"$f":"SUM(B6:E6)","v":8},{"$f":"SUM(D6:E6)","v":0},{"$f":"SUM(B6:H6)","v":8},3,3,0,0,0,0,0,{"$f":"SUM(L6:O6)","v":6},{"$f":"SUM(N6:O6)","v":0},{"$f":"SUM(L6:R6)","v":6}]
["00:15:00",3,2,0,0,1,0,0,{"$f":"SUM(B7:E7)","v":5},{"$f":"SUM(D7:E7)","v":0},{"$f":"SUM(B7:H7)","v":6},3,2,0,0,0,0,0,{"$f":"SUM(L7:O7)","v":5},{"$f":"SUM(N7:O7)","v":0},{"$f":"SUM(L7:R7)","v":5}]
["00:30:00",3,2,1,0,0,0,0,6,1,6,0,2,0,0,0,0,0,2,0,2]
["00:45:00",5,3,0,0,0,0,0,8,0,8,2,5,0,0,0,0,0,7,0,7]
["01:00:00",3,5,0,0,0,0,0,8,0,8,0,2,1,0,0,0,0,3,1,3]
["01:15:00",4,5,0,0,0,0,0,9,0,9,1,0,0,0,0,0,0,1,0,1]
["01:30:00",2,0,0,0,0,0,0,2,0,2,0,1,0,0,1,0,0,1,0,2]
["01:45:00",1,3,0,0,0,0,0,4,0,4,0,0,0,0,0,0,0,0,0,0]
["02:00:00",0,0,0,0,0,0,0,0,0,0,0,1,0,0,0,0,0,1,0,1]
["02:15:00",1,1,2,1,0,0,0,5,3,5,3,0,0,0,0,0,0,3,0,3]
["02:30:00",0,0,0,0,0,0,0,0,0,0,1,2,0,0,0,0,0,3,0,3]
["02:45:00",0,1,0,1,0,0,0,2,1,2,2,0,0,0,0,0,0,2,0,2]
["03:00:00",0,3,0,0,0,0,0,3,0,3,2,1,0,0,0,0,0,3,0,3]
["03:15:00",1,0,1,0,0,0,0,2,1,2,2,1,1,1,0,0,0,5,2,5]
["03:30:00",0,2,0,0,0,0,0,2,0,2,3,2,0,0,0,0,0,5,0,5]
["03:45:00",0,0,0,0,0,0,0,0,0,0,1,1,0,1,0,0,0,3,1,3]
["04:00:00",0,4,1,0,0,0,0,5,1,5,4,6,0,0,1,0,0,10,0,11]
["04:15:00",1,3,1,0,0,0,0,5,1,5,4,7,0,0,0,0,0,11,0,11]
["04:30:00",4,3,0,0,0,0,0,7,0,7,5,8,1,0,0,0,0,14,1,14]
["04:45:00",4,3,0,0,0,0,0,7,0,7,3,7,1,0,0,0,0,11,1,11]
["05:00:00",5,2,2,1,0,0,2,10,3,12,5,10,2,0,0,0,0,17,2,17]
["05:15:00",3,9,1,1,0,0,0,14,2,14,18,22,5,0,0,0,0,45,5,45]
["05:30:00",10,10,3,0,0,0,0,23,3,23,14,22,2,2,0,1,0,40,4,41]
["05:45:00",19,9,1,0,1,0,0,29,1,30,24,23,1,1,0,1,0,49,2,50]
["06:00:00",21,15,1,1,0,0,0,38,2,38,23,28,6,0,0,0,0,57,6,57]
["06:15:00",26,19,4,1,0,0,1,50,5,51,19,42,2,0,0,2,0,63,2,65]
["06:30:00",35,22,2,0,0,0,0,59,2,59,46,36,4,1,0,1,0,87,5,88]
["06:45:00",46,28,4,0,0,0,0,78,4,78,45,32,6,1,0,1,0,84,7,85]
["07:00:00",73,51,5,0,0,0,0,129,5,129,71,46,4,1,0,1,0,122,5,123]
["07:15:00",81,38,4,0,2,1,0,123,4,126,91,46,2,0,0,0,0,139,2,139]
["07:30:00",104,48,8,1,0,1,0,161,9,162,74,52,3,1,0,1,1,130,4,132]
["07:45:00",87,50,1,1,0,1,0,139,2,140,113,36,6,0,0,1,0,155,6,156]
["08:00:00",83,66,5,1,0,1,0,155,6,156,95,54,4,0,1,0,0,153,4,154]
["08:15:00",130,48,5,1,0,0,0,184,6,184,81,34,4,2,1,0,0,121,6,122]
["08:30:00",110,63,4,0,0,0,0,177,4,177,75,46,1,1,0,0,1,123,2,124]
["08:45:00",90,52,4,0,1,0,0,146,4,147,83,53,3,2,1,0,1,141,5,143]
["09:00:00",67,56,4,1,0,0,0,128,5,128,63,44,6,2,0,0,1,115,8,116]
["09:15:00",90,47,6,0,0,0,0,143,6,143,70,38,6,0,1,0,0,114,6,115]
["09:30:00",79,49,7,2,1,0,0,137,9,138,57,45,5,2,0,0,0,109,7,109]
["09:45:00",85,41,4,1,0,0,0,131,5,131,70,49,7,1,0,0,0,127,8,127]
["10:00:00",88,47,2,0,1,1,0,137,2,139,56,41,4,0,0,0,0,101,4,101]
["10:15:00",71,49,4,1,0,0,0,125,5,125,56,57,7,1,0,0,0,121,8,121]
["10:30:00",93,48,8,3,0,0,0,152,11,152,57,37,4,1,0,1,0,99,5,100]
["10:45:00",91,58,6,0,1,0,1,155,6,157,55,47,5,1,0,0,0,108,6,108]
["11:00:00",75,38,8,1,0,0,0,122,9,122,95,48,4,1,1,0,0,148,5,149]
["11:15:00",86,35,3,1,2,1,0,125,4,128,90,37,6,0,0,0,0,133,6,133]
["11:30:00",93,51,10,1,1,0,0,155,11,156,91,46,7,3,2,0,0,147,10,149]
["11:45:00",81,51,3,2,1,0,0,137,5,138,70,38,8,2,0,0,0,118,10,118]
["12:00:00",80,56,5,1,0,0,0,142,6,142,84,42,2,1,0,0,1,129,3,130]
["12:15:00",80,50,10,4,1,0,0,144,14,145,77,45,4,2,1,0,0,128,6,129]
["12:30:00",93,42,3,1,0,0,0,139,4,139,84,37,4,1,0,1,0,126,5,127]
["12:45:00",88,59,7,2,0,1,0,156,9,157,93,51,11,0,0,0,0,155,11,155]
["13:00:00",100,50,5,3,0,1,0,158,8,159,91,43,6,0,0,1,0,140,6,141]
["13:15:00",72,40,8,1,1,0,1,121,9,123,80,31,4,1,0,1,0,116,5,117]
["13:30:00",101,41,8,2,2,0,0,152,10,154,69,42,7,0,0,0,0,118,7,118]
["13:45:00",77,51,7,2,0,0,0,137,9,137,81,30,7,1,0,0,1,119,8,120]
["14:00:00",97,51,7,0,1,0,0,155,7,156,90,45,4,0,0,1,1,139,4,141]
["14:15:00",72,50,11,2,0,2,0,135,13,137,102,64,6,2,0,0,0,174,8,174]
["14:30:00",93,40,8,2,0,2,0,143,10,145,85,66,3,0,0,0,0,154,3,154]
["14:45:00",104,47,9,3,1,0,0,163,12,164,89,53,7,0,2,0,0,149,7,151]
["15:00:00",103,65,5,1,0,0,0,174,6,174,97,46,4,1,0,0,0,148,5,148]
["15:15:00",85,52,4,2,0,1,0,143,6,144,102,42,4,2,0,0,0,150,6,150]
["15:30:00",89,42,8,0,1,0,0,139,8,140,75,54,5,0,0,0,1,134,5,135]
["15:45:00",97,65,3,0,0,1,0,165,3,166,103,53,2,0,1,0,0,158,2,159]
["16:00:00",106,60,3,0,0,0,0,169,3,169,93,58,6,1,0,0,0,158,7,158]
["16:15:00",124,54,5,2,0,0,0,{"$f":"SUM(B71:E71)","v":185},{"$f":"SUM(D71:E71)","v":7},{"$f":"SUM(B71:H71)","v":185},110,44,6,0,0,0,0,{"$f":"SUM(L71:O71)","v":160},{"$f":"SUM(N71:O71)","v":6},{"$f":"SUM(L71:R71)","v":160}]
["16:30:00",137,52,7,3,1,1,1,199,10,202,104,43,1,0,0,1,0,148,1,149]
["16:45:00",92,50,2,1,0,1,0,145,3,146,101,75,3,1,0,0,0,180,4,180]
["17:00:00",130,64,5,4,0,1,0,203,9,204,111,55,0,0,0,0,0,166,0,166]
["17:15:00",125,59,1,2,0,0,1,187,3,188,107,51,0,1,0,1,1,159,1,161]
["17:30:00",143,45,6,1,1,1,0,195,7,197,96,51,1,0,0,0,1,148,1,149]
["17:45:00",84,48,2,0,0,0,0,134,2,134,107,47,3,0,0,0,0,157,3,157]
["18:00:00",91,41,2,1,0,0,0,135,3,135,101,47,4,0,0,1,0,152,4,153]
["18:15:00",115,53,4,1,0,0,1,173,5,174,75,42,1,0,0,0,1,118,1,119]
["18:30:00",64,50,4,1,0,0,0,119,5,119,70,37,1,0,0,0,0,108,1,108]
["18:45:00",79,43,3,0,0,1,1,125,3,127,77,36,1,1,0,0,0,115,2,115]
["19:00:00",85,36,0,3,0,0,0,124,3,124,65,45,0,1,0,0,0,111,1,111]
["19:15:00",66,40,4,0,1,0,0,110,4,111,55,25,1,0,0,1,1,81,1,83]
["19:30:00",52,37,1,0,0,1,0,90,1,91,58,35,0,0,0,0,0,93,0,93]
["19:45:00",48,36,4,0,0,0,0,88,4,88,38,26,2,0,0,0,0,66,2,66]
["20:00:00",40,26,0,1,0,0,1,67,1,68,34,26,1,0,0,0,0,61,1,61]
["20:15:00",40,28,2,0,0,0,0,70,2,70,42,17,1,0,0,0,0,60,1,60]
["20:30:00",33,12,0,0,0,0,0,45,0,45,32,10,1,0,0,0,0,43,1,43]
["20:45:00",30,15,0,0,0,0,0,45,0,45,18,19,1,0,0,0,0,38,1,38]
["21:00:00",22,17,0,0,0,0,0,39,0,39,19,16,0,0,0,0,0,35,0,35]
["21:15:00",37,18,1,0,0,0,0,56,1,56,15,10,0,0,0,0,0,25,0,25]
["21:30:00",20,16,0,0,0,1,0,36,0,37,24,18,0,0,0,0,0,42,0,42]
["21:45:00",23,10,1,0,0,0,0,34,1,34,19,11,0,0,0,0,0,30,0,30]
["22:00:00",30,13,1,1,0,0,0,45,2,45,19,12,0,0,0,0,1,31,0,32]
["22:15:00",26,21,2,0,0,0,0,49,2,49,23,12,0,0,0,0,0,35,0,35]
["22:30:00",25,19,0,0,0,0,0,44,0,44,24,18,0,0,0,0,0,42,0,42]
["22:45:00",12,16,0,0,0,0,0,28,0,28,12,11,1,0,0,0,0,24,1,24]
["23:00:00",13,11,1,0,0,0,0,25,1,25,12,7,0,0,0,0,1,19,0,20]
["23:15:00",24,3,1,0,0,0,0,28,1,28,13,9,0,1,0,0,0,23,1,23]
["23:30:00",7,8,1,0,0,0,0,16,1,16,9,7,0,0,0,0,0,16,0,16]
["23:45:00",12,10,0,0,0,0,0,22,0,22,8,3,1,0,0,0,0,12,1,12]
["TOTAL",{"$f":"SUM(B6:B101)","v":5322},{"$f":"SUM(C6:C101)","v":2958},296,70,22,21,10,8646,366,8699,{"$f":"SUM(L6:L101)","v":4839},{"$f":"SUM(M6:M101)","v":2827},244,45,13,18,14,7955,289,8000]

{"sheet":"16 04 2016","index":12,"n_rows":102,"n_cols":21,"rows_kept":102,"cut":false,"hidden":false,"merged":[[3,1,3,7],[3,8,3,10],[3,11,3,17],[3,18,3,20]]}
["* Fill the table with data"]
["DO NOT CHANGE THE STRUCTURE OF THE SPREADSHEET (i.e. ADD OR DELETE ROWS/COLUMNS, ETC.)"]
[]
[null,{"$f":"'Site Plan'!$A$19&\" - \"&'Site Plan'!$C$19","v":"Direction 1 - Eastbound"},null,null,null,null,null,null,"TOTAL",null,null,{"$f":"'Site Plan'!$A$20&\" - \"&'Site Plan'!$C$20","v":"Direction 2 - Westbound"},null,null,null,null,null,null,"TOTAL"]
["TIME","CAR","LGV","OGV1","OGV2","PSV","MCL","PCL","CAR + LGV + HGV","HGV","ALL modes","CAR","LGV","OGV1","OGV2","PSV","MCL","PCL","CAR + LGV + HGV","HGV","ALL modes"]
["00:00:00",7,13,0,0,0,0,0,{"$f":"SUM(B6:E6)","v":20},{"$f":"SUM(D6:E6)","v":0},{"$f":"SUM(B6:H6)","v":20},1,3,0,0,0,0,0,{"$f":"SUM(L6:O6)","v":4},{"$f":"SUM(N6:O6)","v":0},{"$f":"SUM(L6:R6)","v":4}]
["00:15:00",9,3,1,0,0,0,0,{"$f":"SUM(B7:E7)","v":13},{"$f":"SUM(D7:E7)","v":1},{"$f":"SUM(B7:H7)","v":13},5,3,0,0,0,1,0,{"$f":"SUM(L7:O7)","v":8},{"$f":"SUM(N7:O7)","v":0},{"$f":"SUM(L7:R7)","v":9}]
["00:30:00",6,4,0,0,0,0,0,10,0,10,5,2,0,0,0,0,0,7,0,7]
["00:45:00",1,1,0,0,0,0,0,2,0,2,4,0,0,0,0,0,0,4,0,4]
["01:00:00",1,3,1,0,0,0,0,5,1,5,0,0,0,0,0,0,0,0,0,0]
["01:15:00",6,1,0,0,0,0,0,7,0,7,5,3,0,0,0,0,0,8,0,8]
["01:30:00",0,0,1,0,0,0,0,1,1,1,2,0,0,0,0,0,0,2,0,2]
["01:45:00",1,2,0,0,0,0,0,3,0,3,0,0,0,0,0,0,0,0,0,0]
["02:00:00",1,2,0,0,0,0,0,3,0,3,2,1,0,0,0,0,0,3,0,3]
["02:15:00",1,1,0,0,0,0,0,2,0,2,0,4,0,0,0,0,0,4,0,4]
["02:30:00",1,2,1,1,0,0,0,5,2,5,1,3,0,0,0,0,0,4,0,4]
["02:45:00",0,4,0,1,0,0,0,5,1,5,1,1,0,0,0,0,0,2,0,2]
["03:00:00",0,1,1,0,0,0,0,2,1,2,4,1,0,0,0,0,0,5,0,5]
["03:15:00",0,2,0,0,0,0,0,2,0,2,3,1,0,0,0,0,0,4,0,4]
["03:30:00",1,2,0,0,0,0,0,3,0,3,4,5,0,0,0,0,0,9,0,9]
["03:45:00",2,0,1,0,0,0,0,3,1,3,3,3,0,0,0,0,0,6,0,6]
["04:00:00",0,1,1,1,0,0,0,3,2,3,1,0,0,1,0,0,0,2,1,2]
["04:15:00",0,1,0,1,0,0,0,2,1,2,2,2,1,0,0,0,0,5,1,5]
["04:30:00",1,3,0,0,0,0,0,4,0,4,1,3,0,0,0,0,0,4,0,4]
["04:45:00",2,3,1,0,0,0,0,6,1,6,2,3,0,0,0,0,0,5,0,5]
["05:00:00",4,2,0,0,0,0,0,6,0,6,2,1,1,0,0,0,0,4,1,4]
["05:15:00",2,6,1,0,0,0,0,9,1,9,4,7,0,0,1,0,0,11,0,12]
["05:30:00",7,7,0,1,0,0,0,15,1,15,7,4,0,0,0,0,0,11,0,11]
["05:45:00",11,6,1,0,0,0,0,18,1,18,11,9,1,0,0,0,0,21,1,21]
["06:00:00",9,5,1,0,0,0,0,15,1,15,11,6,0,0,0,0,0,17,0,17]
["06:15:00",11,7,1,0,0,0,0,19,1,19,9,8,2,0,0,1,0,19,2,20]
["06:30:00",18,9,0,0,0,0,0,27,0,27,16,12,1,0,0,0,0,29,1,29]
["06:45:00",26,9,1,0,0,0,0,36,1,36,10,8,2,1,0,1,0,21,3,22]
["07:00:00",23,6,0,0,0,0,1,29,0,30,21,13,1,1,0,1,0,36,2,37]
["07:15:00",22,14,2,2,0,0,0,40,4,40,21,13,2,0,0,0,1,36,2,37]
["07:30:00",32,26,0,1,0,0,1,59,1,60,23,14,2,0,0,0,0,39,2,39]
["07:45:00",46,22,0,1,0,0,0,69,1,69,35,21,1,0,0,0,0,57,1,57]
["08:00:00",65,26,6,0,0,0,0,97,6,97,43,24,2,0,0,0,1,69,2,70]
["08:15:00",65,27,2,1,0,0,0,95,3,95,56,38,4,2,0,0,1,100,6,101]
["08:30:00",69,42,0,0,0,0,1,111,0,112,59,41,3,0,0,1,0,103,3,104]
["08:45:00",64,46,2,0,0,0,0,112,2,112,75,33,4,0,0,0,0,112,4,112]
["09:00:00",85,41,0,0,0,0,0,126,0,126,56,30,5,2,0,1,1,93,7,95]
["09:15:00",88,40,3,0,0,0,0,131,3,131,48,43,4,1,0,0,0,96,5,96]
["09:30:00",109,46,0,1,1,0,1,156,1,158,83,34,1,0,0,0,0,118,1,118]
["09:45:00",91,45,4,1,0,0,1,141,5,142,85,34,2,0,0,0,0,121,2,121]
["10:00:00",103,51,2,1,0,0,0,157,3,157,112,43,2,0,0,0,0,157,2,157]
["10:15:00",133,59,7,3,0,0,0,202,10,202,92,44,4,0,0,0,1,140,4,141]
["10:30:00",148,56,2,0,0,1,0,206,2,207,98,41,2,0,0,0,0,141,2,141]
["10:45:00",137,42,1,0,0,0,1,180,1,181,115,50,3,0,0,0,0,168,3,168]
["11:00:00",119,49,2,1,0,2,1,171,3,174,99,48,0,2,0,0,0,149,2,149]
["11:15:00",117,48,2,1,0,0,1,168,3,169,101,49,1,0,0,0,0,151,1,151]
["11:30:00",103,45,1,0,0,0,0,149,1,149,114,49,2,0,0,1,0,165,2,166]
["11:45:00",127,47,1,1,0,0,1,176,2,177,92,45,0,1,0,0,0,138,1,138]
["12:00:00",104,52,1,0,0,0,2,157,1,159,91,56,2,0,0,0,0,149,2,149]
["12:15:00",125,54,1,0,0,1,1,180,1,182,92,35,2,1,0,0,0,130,3,130]
["12:30:00",109,50,1,1,0,1,0,161,2,162,119,55,1,0,0,0,0,175,1,175]
["12:45:00",97,49,0,2,0,2,1,148,2,151,116,61,1,0,0,1,0,178,1,179]
["13:00:00",91,52,0,3,0,0,0,146,3,146,80,58,0,0,0,1,0,138,0,139]
["13:15:00",94,52,1,1,0,0,0,148,2,148,86,48,2,0,0,0,0,136,2,136]
["13:30:00",97,62,0,1,0,1,0,160,1,161,104,42,0,0,0,0,0,146,0,146]
["13:45:00",82,52,1,2,0,0,0,137,3,137,90,52,0,1,0,0,0,143,1,143]
["14:00:00",110,54,2,0,0,0,0,166,2,166,105,56,4,0,0,0,1,165,4,166]
["14:15:00",89,50,2,0,0,1,1,141,2,143,80,46,1,0,0,1,0,127,1,128]
["14:30:00",83,38,2,0,0,0,0,123,2,123,100,41,4,1,0,0,0,146,5,146]
["14:45:00",101,71,0,2,0,2,0,174,2,176,83,57,1,1,0,0,0,142,2,142]
["15:00:00",85,54,0,0,0,0,0,139,0,139,105,54,0,0,0,0,0,159,0,159]
["15:15:00",103,37,1,0,0,0,0,141,1,141,92,52,1,1,0,0,0,146,2,146]
["15:30:00",72,51,1,0,0,0,0,124,1,124,81,48,0,0,0,0,0,129,0,129]
["15:45:00",66,40,1,0,0,2,0,107,1,109,85,51,1,0,0,0,0,137,1,137]
["16:00:00",49,50,4,0,0,0,0,103,4,103,83,40,2,1,0,0,0,126,3,126]
["16:15:00",73,32,1,0,0,0,0,{"$f":"SUM(B71:E71)","v":106},{"$f":"SUM(D71:E71)","v":1},{"$f":"SUM(B71:H71)","v":106},97,55,1,1,0,0,1,{"$f":"SUM(L71:O71)","v":154},{"$f":"SUM(N71:O71)","v":2},{"$f":"SUM(L71:R71)","v":155}]
["16:30:00",54,31,1,0,0,0,2,86,1,88,74,50,2,0,0,0,0,126,2,126]
["16:45:00",73,44,2,0,0,0,2,119,2,121,80,45,3,1,0,0,1,129,4,130]
["17:00:00",71,25,1,0,0,1,1,97,1,99,91,48,2,0,0,0,0,141,2,141]
["17:15:00",61,29,2,1,0,0,0,93,3,93,67,42,1,0,0,0,1,110,1,111]
["17:30:00",53,39,1,0,0,1,0,93,1,94,90,47,1,2,0,1,0,140,3,141]
["17:45:00",47,39,3,2,0,2,0,91,5,93,64,46,2,0,0,1,1,112,2,114]
["18:00:00",46,45,3,0,0,0,0,94,3,94,57,49,0,0,0,0,0,106,0,106]
["18:15:00",54,36,3,0,0,0,0,93,3,93,61,37,0,0,0,1,1,98,0,100]
["18:30:00",65,38,0,0,0,0,1,103,0,104,65,28,1,1,0,1,1,95,2,97]
["18:45:00",56,28,0,0,0,1,0,84,0,85,50,25,1,0,0,0,0,76,1,76]
["19:00:00",70,31,0,0,1,0,0,101,0,102,63,32,1,0,0,0,0,96,1,96]
["19:15:00",43,31,0,1,0,0,0,75,1,75,48,26,1,0,0,0,1,75,1,76]
["19:30:00",34,28,0,0,1,0,0,62,0,63,43,17,2,0,0,0,0,62,2,62]
["19:45:00",31,22,0,0,0,0,0,53,0,53,36,26,0,1,0,0,0,63,1,63]
["20:00:00",37,24,0,0,0,0,1,61,0,62,36,13,0,0,0,0,0,49,0,49]
["20:15:00",30,16,0,0,0,0,0,46,0,46,38,16,0,0,0,0,0,54,0,54]
["20:30:00",26,19,1,0,0,0,0,46,1,46,27,15,2,0,0,0,0,44,2,44]
["20:45:00",30,18,0,0,0,0,1,48,0,49,28,19,1,0,0,0,0,48,1,48]
["21:00:00",28,17,0,0,0,0,0,45,0,45,26,21,0,0,0,1,0,47,0,48]
["21:15:00",27,13,1,0,0,0,0,41,1,41,27,6,0,0,0,0,0,33,0,33]
["21:30:00",23,9,1,0,0,0,0,33,1,33,23,11,0,0,0,0,0,34,0,34]
["21:45:00",21,7,0,0,0,1,0,28,0,29,25,9,0,0,0,0,0,34,0,34]
["22:00:00",19,11,0,0,0,0,0,30,0,30,24,10,0,0,0,0,0,34,0,34]
["22:15:00",34,14,0,0,0,0,0,48,0,48,14,12,0,1,0,0,0,27,1,27]
["22:30:00",24,19,1,0,0,0,0,44,1,44,20,12,0,0,0,1,0,32,0,33]
["22:45:00",13,7,0,0,0,1,0,20,0,21,20,7,0,0,0,0,0,27,0,27]
["23:00:00",17,6,0,0,0,0,0,23,0,23,20,17,0,0,0,0,0,37,0,37]
["23:15:00",24,11,0,0,0,0,0,35,0,35,15,5,0,0,1,0,0,20,0,21]
["23:30:00",22,10,0,0,0,0,0,32,0,32,8,5,0,0,0,0,0,13,0,13]
["23:45:00",16,6,0,0,0,0,0,22,0,22,10,9,0,0,0,0,0,19,0,19]
["TOTAL",{"$f":"SUM(B6:B101)","v":4653},{"$f":"SUM(C6:C101)","v":2451},89,35,3,20,22,7228,124,7273,{"$f":"SUM(L6:L101)","v":4483},{"$f":"SUM(M6:M101)","v":2412},96,24,2,16,13,7015,120,7046]

{"sheet":"17 04 2016","index":13,"n_rows":102,"n_cols":21,"rows_kept":102,"cut":false,"hidden":false,"merged":[[3,1,3,7],[3,8,3,10],[3,11,3,17],[3,18,3,20]]}
["* Fill the table with data"]
["DO NOT CHANGE THE STRUCTURE OF THE SPREADSHEET (i.e. ADD OR DELETE ROWS/COLUMNS, ETC.)"]
[]
[null,{"$f":"'Site Plan'!$A$19&\" - \"&'Site Plan'!$C$19","v":"Direction 1 - Eastbound"},null,null,null,null,null,null,"TOTAL",null,null,{"$f":"'Site Plan'!$A$20&\" - \"&'Site Plan'!$C$20","v":"Direction 2 - Westbound"},null,null,null,null,null,null,"TOTAL"]
["TIME","CAR","LGV","OGV1","OGV2","PSV","MCL","PCL","CAR + LGV + HGV","HGV","ALL modes","CAR","LGV","OGV1","OGV2","PSV","MCL","PCL","CAR + LGV + HGV","HGV","ALL modes"]
["00:00:00",16,5,0,1,0,0,0,{"$f":"SUM(B6:E6)","v":22},{"$f":"SUM(D6:E6)","v":1},{"$f":"SUM(B6:H6)","v":22},17,10,1,0,0,0,0,{"$f":"SUM(L6:O6)","v":28},{"$f":"SUM(N6:O6)","v":1},{"$f":"SUM(L6:R6)","v":28}]
["00:15:00",17,14,0,0,0,0,0,{"$f":"SUM(B7:E7)","v":31},{"$f":"SUM(D7:E7)","v":0},{"$f":"SUM(B7:H7)","v":31},16,13,2,0,0,0,0,{"$f":"SUM(L7:O7)","v":31},{"$f":"SUM(N7:O7)","v":2},{"$f":"SUM(L7:R7)","v":31}]
["00:30:00",18,9,0,0,0,0,0,27,0,27,14,3,0,0,0,1,0,17,0,18]
["00:45:00",3,3,0,0,0,0,0,6,0,6,6,3,0,0,0,0,0,9,0,9]
["01:00:00",12,8,0,0,0,0,0,20,0,20,8,4,0,0,0,0,0,12,0,12]
["01:15:00",9,4,0,0,0,0,0,13,0,13,5,2,0,0,0,0,0,7,0,7]
["01:30:00",4,3,0,0,0,0,0,7,0,7,1,1,1,0,0,0,0,3,1,3]
["01:45:00",3,1,0,1,0,0,0,5,1,5,1,1,0,0,0,0,0,2,0,2]
["02:00:00",3,2,0,1,0,0,0,6,1,6,0,3,0,0,0,0,0,3,0,3]
["02:15:00",4,0,0,0,0,0,0,4,0,4,2,2,0,0,0,0,0,4,0,4]
["02:30:00",1,4,0,0,0,0,0,5,0,5,3,0,0,0,0,0,0,3,0,3]
["02:45:00",1,0,0,0,0,0,0,1,0,1,4,3,0,0,0,0,0,7,0,7]
["03:00:00",1,1,0,0,0,0,0,2,0,2,4,0,0,0,0,0,0,4,0,4]
["03:15:00",0,4,0,0,0,0,0,4,0,4,3,4,0,0,0,0,0,7,0,7]
["03:30:00",0,4,0,0,0,0,0,4,0,4,2,2,0,0,0,0,0,4,0,4]
["03:45:00",1,4,0,0,0,0,0,5,0,5,0,4,0,0,0,0,0,4,0,4]
["04:00:00",1,1,0,0,0,0,0,2,0,2,3,6,0,0,0,0,0,9,0,9]
["04:15:00",3,3,1,0,0,0,0,7,1,7,7,0,0,0,0,0,0,7,0,7]
["04:30:00",1,0,0,0,0,0,0,1,0,1,0,1,0,0,0,0,0,1,0,1]
["04:45:00",1,2,0,0,0,0,0,3,0,3,4,2,0,0,0,0,0,6,0,6]
["05:00:00",5,2,0,0,0,0,0,7,0,7,3,2,0,0,0,0,0,5,0,5]
["05:15:00",4,4,0,0,0,0,0,8,0,8,2,2,0,0,0,0,0,4,0,4]
["05:30:00",2,4,0,0,0,0,0,6,0,6,8,2,0,0,0,0,0,10,0,10]
["05:45:00",4,2,0,0,0,0,0,6,0,6,2,1,0,0,0,0,0,3,0,3]
["06:00:00",5,1,0,0,0,0,0,6,0,6,6,4,0,0,0,0,0,10,0,10]
["06:15:00",5,2,0,0,0,0,0,7,0,7,6,7,0,0,0,0,0,13,0,13]
["06:30:00",8,4,0,0,0,0,0,12,0,12,11,2,0,0,0,0,0,13,0,13]
["06:45:00",11,2,0,0,0,0,0,13,0,13,15,6,1,0,0,0,0,22,1,22]
["07:00:00",10,5,0,0,0,0,1,15,0,16,18,5,0,1,0,0,0,24,1,24]
["07:15:00",8,5,0,0,0,0,0,13,0,13,8,6,1,0,0,0,0,15,1,15]
["07:30:00",14,6,0,0,0,0,2,20,0,22,19,7,0,0,0,0,1,26,0,27]
["07:45:00",23,16,1,0,0,0,0,40,1,40,18,15,0,0,0,0,1,33,0,34]
["08:00:00",23,6,1,0,0,0,0,30,1,30,19,16,0,0,0,1,1,35,0,37]
["08:15:00",34,15,1,0,0,1,0,50,1,51,34,16,0,1,0,0,1,51,1,52]
["08:30:00",26,24,0,1,0,2,3,51,1,56,26,18,0,1,0,0,0,45,1,45]
["08:45:00",32,25,1,0,0,3,2,58,1,63,28,18,1,0,0,0,0,47,1,47]
["09:00:00",31,20,2,0,0,0,2,53,2,55,44,18,1,1,0,1,0,64,2,65]
["09:15:00",41,36,1,2,0,1,1,80,3,82,33,27,3,0,0,3,0,63,3,66]
["09:30:00",73,27,1,2,0,3,2,103,3,108,58,22,3,1,0,3,0,84,4,87]
["09:45:00",70,48,1,0,0,2,1,119,1,122,38,29,1,0,0,2,0,68,1,70]
["10:00:00",90,51,0,3,0,3,1,144,3,148,55,31,1,2,0,2,1,89,3,92]
["10:15:00",96,50,1,0,0,0,2,147,1,149,75,47,3,2,0,1,2,127,5,130]
["10:30:00",99,42,0,1,0,6,1,142,1,149,87,47,1,1,0,2,0,136,2,138]
["10:45:00",92,43,2,4,0,8,2,141,6,151,90,43,1,1,0,1,0,135,2,136]
["11:00:00",90,49,0,2,0,0,5,141,2,146,103,45,0,0,0,1,0,148,0,149]
["11:15:00",109,46,1,0,0,4,2,156,1,162,94,45,4,1,0,1,1,144,5,146]
["11:30:00",123,45,2,0,0,3,2,170,2,175,77,45,1,2,0,1,0,125,3,126]
["11:45:00",128,49,0,1,0,3,1,178,1,182,81,41,1,0,0,3,0,123,1,126]
["12:00:00",109,59,0,1,0,0,2,169,1,171,92,51,0,0,0,1,2,143,0,146]
["12:15:00",117,42,0,1,0,2,1,160,1,163,110,41,1,1,0,0,0,153,2,153]
["12:30:00",66,44,0,1,1,5,0,111,1,117,89,55,0,0,0,3,0,144,0,147]
["12:45:00",92,42,0,0,2,1,2,134,0,139,98,50,2,0,0,1,2,150,2,153]
["13:00:00",106,30,0,1,0,1,0,137,1,138,85,48,0,2,0,5,0,135,2,140]
["13:15:00",93,39,2,3,0,0,0,137,5,137,81,42,0,0,0,2,1,123,0,126]
["13:30:00",95,40,0,1,0,2,0,136,1,138,72,39,1,2,0,3,1,114,3,118]
["13:45:00",97,36,3,3,0,1,1,139,6,141,92,42,0,1,0,5,0,135,1,140]
["14:00:00",95,31,1,3,0,1,0,130,4,131,86,47,2,2,0,3,0,137,4,140]
["14:15:00",67,31,2,0,0,1,0,100,2,101,88,45,0,0,0,1,0,133,0,134]
["14:30:00",92,41,1,0,0,1,1,134,1,136,96,39,2,1,0,3,0,138,3,141]
["14:45:00",77,31,1,0,0,2,1,109,1,112,69,40,1,1,0,0,1,111,2,112]
["15:00:00",59,31,1,2,0,2,1,93,3,96,78,50,1,2,0,4,0,131,3,135]
["15:15:00",61,34,0,1,0,2,0,96,1,98,77,47,2,3,0,5,0,129,5,134]
["15:30:00",59,34,0,0,0,1,0,93,0,94,62,33,1,1,0,2,2,97,2,101]
["15:45:00",67,36,0,1,0,2,1,104,1,107,83,36,0,0,0,1,2,119,0,122]
["16:00:00",61,28,0,0,0,4,0,89,0,93,87,37,0,1,0,1,0,125,1,126]
["16:15:00",67,16,0,0,0,4,0,{"$f":"SUM(B71:E71)","v":83},{"$f":"SUM(D71:E71)","v":0},{"$f":"SUM(B71:H71)","v":87},79,39,2,0,1,4,0,{"$f":"SUM(L71:O71)","v":120},{"$f":"SUM(N71:O71)","v":2},{"$f":"SUM(L71:R71)","v":125}]
["16:30:00",74,29,1,0,0,2,1,104,1,107,75,42,1,0,0,2,0,118,1,120]
["16:45:00",58,37,0,0,0,2,1,95,0,98,62,44,1,2,0,1,0,109,3,110]
["17:00:00",56,28,0,0,0,1,0,84,0,85,60,30,2,0,0,0,0,92,2,92]
["17:15:00",53,24,0,0,0,1,1,77,0,79,57,36,0,0,0,0,0,93,0,93]
["17:30:00",44,25,0,0,0,2,0,69,0,71,55,29,1,1,0,3,0,86,2,89]
["17:45:00",50,31,2,3,1,1,0,86,5,88,48,26,0,0,0,0,3,74,0,77]
["18:00:00",38,22,0,0,0,1,1,60,0,62,34,33,2,0,0,1,0,69,2,70]
["18:15:00",44,24,0,1,0,0,0,69,1,69,52,27,1,0,0,2,0,80,1,82]
["18:30:00",40,14,0,1,0,1,1,55,1,57,43,26,1,0,0,0,0,70,1,70]
["18:45:00",37,29,2,1,0,0,0,69,3,69,34,26,1,0,0,0,0,61,1,61]
["19:00:00",31,14,1,0,0,2,0,46,1,48,25,20,0,1,0,0,0,46,1,46]
["19:15:00",47,20,1,0,0,0,0,68,1,68,42,19,0,0,0,2,0,61,0,63]
["19:30:00",24,20,1,0,0,0,0,45,1,45,30,23,0,0,0,2,0,53,0,55]
["19:45:00",35,16,0,0,0,0,0,51,0,51,26,26,0,0,0,0,0,52,0,52]
["20:00:00",21,14,0,0,0,0,0,35,0,35,36,14,0,0,0,0,0,50,0,50]
["20:15:00",32,18,1,0,0,0,0,51,1,51,28,16,0,0,0,0,0,44,0,44]
["20:30:00",19,10,0,0,0,1,1,29,0,31,30,14,0,0,0,1,0,44,0,45]
["20:45:00",14,9,0,0,0,1,0,23,0,24,16,11,0,0,0,0,0,27,0,27]
["21:00:00",23,8,0,0,0,0,0,31,0,31,16,10,0,0,0,0,0,26,0,26]
["21:15:00",16,16,1,0,0,0,0,33,1,33,15,8,1,0,0,0,0,24,1,24]
["21:30:00",15,8,2,0,0,1,0,25,2,26,22,9,0,0,0,0,0,31,0,31]
["21:45:00",17,8,0,0,0,0,0,25,0,25,15,9,0,0,0,0,0,24,0,24]
["22:00:00",11,11,0,0,0,0,0,22,0,22,15,8,0,0,0,0,0,23,0,23]
["22:15:00",13,7,0,0,0,0,0,20,0,20,16,3,0,0,0,0,0,19,0,19]
["22:30:00",9,6,0,0,0,0,0,15,0,15,7,1,0,1,0,0,0,9,1,9]
["22:45:00",8,5,0,0,0,0,0,13,0,13,8,3,0,0,0,0,0,11,0,11]
["23:00:00",9,8,0,1,0,0,0,18,1,18,10,4,1,0,0,0,0,15,1,15]
["23:15:00",3,2,0,0,0,0,0,5,0,5,2,1,0,0,0,0,0,3,0,3]
["23:30:00",6,1,0,0,0,0,0,7,0,7,1,2,0,0,0,0,0,3,0,3]
["23:45:00",7,0,0,0,0,0,0,7,0,7,0,2,1,0,0,0,1,3,1,4]
["TOTAL",{"$f":"SUM(B6:B101)","v":3689},{"$f":"SUM(C6:C101)","v":1810},39,44,4,87,46,5582,83,5719,{"$f":"SUM(L6:L101)","v":3562},{"$f":"SUM(M6:M101)","v":1934},55,36,1,81,23,5587,91,5692]

{"sheet":"18 04 2016","index":14,"n_rows":102,"n_cols":21,"rows_kept":102,"cut":false,"hidden":false,"merged":[[3,1,3,7],[3,8,3,10],[3,11,3,17],[3,18,3,20]]}
["* Fill the table with data"]
["DO NOT CHANGE THE STRUCTURE OF THE SPREADSHEET (i.e. ADD OR DELETE ROWS/COLUMNS, ETC.)"]
[]
[null,{"$f":"'Site Plan'!$A$19&\" - \"&'Site Plan'!$C$19","v":"Direction 1 - Eastbound"},null,null,null,null,null,null,"TOTAL",null,null,{"$f":"'Site Plan'!$A$20&\" - \"&'Site Plan'!$C$20","v":"Direction 2 - Westbound"},null,null,null,null,null,null,"TOTAL"]
["TIME","CAR","LGV","OGV1","OGV2","PSV","MCL","PCL","CAR + LGV + HGV","HGV","ALL modes","CAR","LGV","OGV1","OGV2","PSV","MCL","PCL","CAR + LGV + HGV","HGV","ALL modes"]
["00:00:00",2,1,0,0,0,0,0,{"$f":"SUM(B6:E6)","v":3},{"$f":"SUM(D6:E6)","v":0},{"$f":"SUM(B6:H6)","v":3},0,2,0,0,0,0,0,{"$f":"SUM(L6:O6)","v":2},{"$f":"SUM(N6:O6)","v":0},{"$f":"SUM(L6:R6)","v":2}]
["00:15:00",6,0,0,0,0,0,0,{"$f":"SUM(B7:E7)","v":6},{"$f":"SUM(D7:E7)","v":0},{"$f":"SUM(B7:H7)","v":6},1,1,0,0,0,0,0,{"$f":"SUM(L7:O7)","v":2},{"$f":"SUM(N7:O7)","v":0},{"$f":"SUM(L7:R7)","v":2}]
["00:30:00",0,2,2,0,0,0,0,4,2,4,0,1,0,0,0,0,1,1,0,2]
["00:45:00",0,0,0,0,0,0,0,0,0,0,0,0,0,0,0,0,0,0,0,0]
["01:00:00",2,5,0,0,0,0,0,7,0,7,2,1,0,0,0,0,0,3,0,3]
["01:15:00",2,1,0,0,0,0,0,3,0,3,2,0,0,0,0,0,0,2,0,2]
["01:30:00",0,0,1,0,0,0,0,1,1,1,0,1,0,0,1,0,0,1,0,2]
["01:45:00",1,0,0,0,1,0,0,1,0,2,1,1,0,0,0,0,0,2,0,2]
["02:00:00",1,0,0,1,0,0,0,2,1,2,2,1,0,0,0,0,0,3,0,3]
["02:15:00",1,3,0,0,0,0,0,4,0,4,1,1,0,0,0,0,0,2,0,2]
["02:30:00",0,0,1,0,0,0,0,1,1,1,1,0,0,0,0,0,0,1,0,1]
["02:45:00",0,3,0,1,0,0,0,4,1,4,5,1,0,0,0,0,0,6,0,6]
["03:00:00",1,2,0,0,0,0,0,3,0,3,1,3,0,0,0,0,0,4,0,4]
["03:15:00",1,0,1,0,0,0,0,2,1,2,2,0,0,0,0,0,0,2,0,2]
["03:30:00",0,3,0,0,0,0,0,3,0,3,2,1,0,0,0,0,0,3,0,3]
["03:45:00",0,1,1,0,0,0,0,2,1,2,2,1,0,0,0,0,0,3,0,3]
["04:00:00",0,1,0,0,0,0,0,1,0,1,4,1,0,0,0,0,0,5,0,5]
["04:15:00",1,1,0,0,0,0,0,2,0,2,5,1,0,0,0,0,0,6,0,6]
["04:30:00",0,4,0,0,0,0,0,4,0,4,10,12,0,1,0,0,0,23,1,23]
["04:45:00",3,0,0,0,0,0,0,3,0,3,6,11,0,0,0,0,0,17,0,17]
["05:00:00",4,2,2,1,0,2,1,9,3,12,15,14,0,0,0,0,0,29,0,29]
["05:15:00",12,8,1,0,0,0,0,21,1,21,17,19,4,0,0,0,0,40,4,40]
["05:30:00",12,9,3,0,0,0,1,24,3,25,16,18,3,0,0,1,1,37,3,39]
["05:45:00",23,8,0,1,0,0,0,32,1,32,19,29,2,3,0,2,0,53,5,55]
["06:00:00",18,4,2,0,0,0,0,24,2,24,39,32,4,0,0,0,0,75,4,75]
["06:15:00",28,21,2,0,0,0,0,51,2,51,24,37,1,1,0,2,0,63,2,65]
["06:30:00",40,24,4,0,0,0,0,68,4,68,52,33,3,0,0,4,0,88,3,92]
["06:45:00",54,24,3,3,0,0,0,84,6,84,45,32,6,1,1,0,2,84,7,87]
["07:00:00",44,38,7,2,0,0,1,91,9,92,69,29,3,2,0,2,0,103,5,105]
["07:15:00",90,24,5,0,0,1,0,119,5,120,68,33,3,3,0,1,1,107,6,109]
["07:30:00",114,42,2,2,0,1,0,160,4,161,72,52,3,0,0,3,0,127,3,130]
["07:45:00",102,44,6,4,3,1,0,156,10,160,104,54,5,1,0,3,0,164,6,167]
["08:00:00",80,54,7,1,0,0,0,142,8,142,107,49,5,3,2,2,1,164,8,169]
["08:15:00",104,55,4,2,0,0,0,165,6,165,80,49,10,2,0,0,0,141,12,141]
["08:30:00",114,45,2,0,0,3,0,161,2,164,93,52,10,4,0,0,1,159,14,160]
["08:45:00",102,43,2,0,2,0,0,147,2,149,70,44,6,0,0,0,0,120,6,120]
["09:00:00",73,45,7,3,3,0,1,128,10,132,51,46,1,0,0,0,0,98,1,98]
["09:15:00",104,37,6,2,1,0,0,149,8,150,57,48,6,1,0,0,0,112,7,112]
["09:30:00",63,53,4,4,1,0,3,124,8,128,61,46,7,1,1,0,0,115,8,116]
["09:45:00",72,36,5,1,2,0,0,114,6,116,67,38,7,1,0,1,0,113,8,114]
["10:00:00",82,41,5,2,0,0,1,130,7,131,67,47,6,3,0,1,1,123,9,125]
["10:15:00",72,49,6,2,0,2,1,129,8,132,67,32,5,2,0,0,0,106,7,106]
["10:30:00",63,46,6,2,0,1,0,117,8,118,46,37,6,2,0,0,1,91,8,92]
["10:45:00",61,33,4,2,0,2,0,100,6,102,68,40,7,1,0,0,0,116,8,116]
["11:00:00",85,38,7,1,0,0,0,131,8,131,72,40,3,2,0,0,1,117,5,118]
["11:15:00",84,35,7,4,0,0,1,130,11,131,73,40,7,0,0,1,0,120,7,121]
["11:30:00",76,33,2,4,2,0,0,115,6,117,69,44,4,1,2,1,0,118,5,121]
["11:45:00",71,43,10,3,1,1,1,127,13,130,74,62,10,2,0,0,0,148,12,148]
["12:00:00",67,52,3,0,1,0,0,122,3,123,65,43,10,0,0,0,0,118,10,118]
["12:15:00",62,26,7,3,1,2,1,98,10,102,79,43,2,1,0,0,0,125,3,125]
["12:30:00",81,43,8,2,1,0,0,134,10,135,72,54,9,0,1,1,0,135,9,137]
["12:45:00",83,49,8,1,0,1,1,141,9,143,69,33,4,0,0,1,0,106,4,107]
["13:00:00",73,37,7,6,0,1,1,123,13,125,54,32,4,1,0,2,0,91,5,93]
["13:15:00",106,51,7,4,0,1,2,168,11,171,66,41,3,4,0,1,0,114,7,115]
["13:30:00",82,32,5,0,1,0,0,119,5,120,76,40,3,3,1,2,0,122,6,125]
["13:45:00",87,42,5,1,1,0,0,135,6,136,71,25,9,1,0,1,0,106,10,107]
["14:00:00",76,37,3,1,0,0,0,117,4,117,96,50,5,3,1,1,1,154,8,157]
["14:15:00",80,37,6,1,1,0,0,124,7,125,84,43,7,3,0,1,0,137,10,138]
["14:30:00",92,43,3,4,3,1,0,142,7,146,64,47,9,2,0,0,0,122,11,122]
["14:45:00",57,38,5,0,0,0,0,100,5,100,73,43,4,2,0,1,0,122,6,123]
["15:00:00",107,52,7,5,2,0,0,171,12,173,89,39,2,0,0,0,1,130,2,131]
["15:15:00",83,50,8,3,0,2,0,144,11,146,78,39,4,0,0,0,1,121,4,122]
["15:30:00",95,48,5,1,0,0,0,149,6,149,92,54,2,5,0,2,0,153,7,155]
["15:45:00",81,75,5,2,0,0,0,163,7,163,74,51,5,0,0,1,0,130,5,131]
["16:00:00",82,49,4,1,0,0,0,136,5,136,89,53,7,1,1,2,0,150,8,153]
["16:15:00",93,46,8,2,0,3,0,{"$f":"SUM(B71:E71)","v":149},{"$f":"SUM(D71:E71)","v":10},{"$f":"SUM(B71:H71)","v":152},103,47,5,1,1,2,1,{"$f":"SUM(L71:O71)","v":156},{"$f":"SUM(N71:O71)","v":6},{"$f":"SUM(L71:R71)","v":160}]
["16:30:00",119,62,4,1,0,2,1,186,5,189,104,51,1,3,0,2,0,159,4,161]
["16:45:00",117,52,4,5,0,1,2,178,9,181,100,58,4,0,0,0,0,162,4,162]
["17:00:00",151,51,3,0,0,3,2,205,3,210,116,54,3,0,0,0,0,173,3,173]
["17:15:00",146,60,3,3,0,3,0,212,6,215,101,47,1,0,0,1,0,149,1,150]
["17:30:00",103,61,1,0,0,2,0,165,1,167,95,50,1,0,0,0,1,146,1,147]
["17:45:00",109,46,5,1,0,0,0,161,6,161,117,46,4,0,0,0,1,167,4,168]
["18:00:00",87,54,1,0,0,2,0,142,1,144,94,58,1,2,0,1,0,155,3,156]
["18:15:00",75,43,2,1,0,0,0,121,3,121,80,54,3,1,0,0,0,138,4,138]
["18:30:00",66,29,1,0,0,2,0,96,1,98,72,42,3,0,0,2,0,117,3,119]
["18:45:00",47,36,1,1,0,0,2,85,2,87,61,28,1,0,0,0,0,90,1,90]
["19:00:00",64,28,3,0,0,0,1,95,3,96,63,35,2,0,0,0,2,100,2,102]
["19:15:00",45,36,0,2,0,1,0,83,2,84,49,24,0,0,0,0,0,73,0,73]
["19:30:00",25,26,2,1,0,1,0,54,3,55,39,25,1,0,0,1,1,65,1,67]
["19:45:00",36,21,0,0,0,0,0,57,0,57,33,25,1,2,0,0,0,61,3,61]
["20:00:00",33,21,0,0,0,1,0,54,0,55,26,22,1,0,0,0,0,49,1,49]
["20:15:00",39,20,2,0,0,0,0,61,2,61,37,15,0,0,0,0,0,52,0,52]
["20:30:00",22,15,0,0,0,0,0,37,0,37,36,15,0,0,0,0,0,51,0,51]
["20:45:00",32,11,1,0,0,0,0,44,1,44,19,19,1,0,0,0,0,39,1,39]
["21:00:00",36,14,1,0,0,0,0,51,1,51,21,7,0,1,0,0,0,29,1,29]
["21:15:00",17,6,1,0,0,1,0,24,1,25,27,10,0,1,0,0,0,38,1,38]
["21:30:00",31,15,0,1,0,0,0,47,1,47,29,7,0,0,0,0,0,36,0,36]
["21:45:00",26,12,0,0,0,0,0,38,0,38,26,8,0,1,0,0,0,35,1,35]
["22:00:00",19,3,1,0,0,1,0,23,1,24,15,6,2,0,0,0,0,23,2,23]
["22:15:00",16,10,0,0,0,0,0,26,0,26,9,6,0,1,0,0,0,16,1,16]
["22:30:00",6,3,3,1,0,0,0,13,4,13,7,9,0,0,0,0,0,16,0,16]
["22:45:00",4,2,0,0,0,0,0,6,0,6,5,3,0,0,0,0,0,8,0,8]
["23:00:00",7,5,0,0,0,0,0,12,0,12,6,6,0,0,0,0,1,12,0,13]
["23:15:00",2,2,0,0,0,1,1,4,0,6,6,2,0,0,0,0,0,8,0,8]
["23:30:00",5,6,0,0,0,0,0,11,0,11,1,3,1,0,0,0,0,5,1,5]
["23:45:00",5,2,0,0,0,0,0,7,0,7,1,2,0,0,0,0,0,3,0,3]
["TOTAL",{"$f":"SUM(B6:B101)","v":4845},{"$f":"SUM(C6:C101)","v":2520},270,102,27,46,25,7737,372,7835,{"$f":"SUM(L6:L101)","v":4498},{"$f":"SUM(M6:M101)","v":2650},262,76,12,49,20,7486,338,7567]

{"sheet":"19 04 2016","index":15,"n_rows":102,"n_cols":21,"rows_kept":102,"cut":false,"hidden":false,"merged":[[3,1,3,7],[3,8,3,10],[3,11,3,17],[3,18,3,20]]}
["* Fill the table with data"]
["DO NOT CHANGE THE STRUCTURE OF THE SPREADSHEET (i.e. ADD OR DELETE ROWS/COLUMNS, ETC.)"]
[]
[null,{"$f":"'Site Plan'!$A$19&\" - \"&'Site Plan'!$C$19","v":"Direction 1 - Eastbound"},null,null,null,null,null,null,"TOTAL",null,null,{"$f":"'Site Plan'!$A$20&\" - \"&'Site Plan'!$C$20","v":"Direction 2 - Westbound"},null,null,null,null,null,null,"TOTAL"]
["TIME","CAR","LGV","OGV1","OGV2","PSV","MCL","PCL","CAR + LGV + HGV","HGV","ALL modes","CAR","LGV","OGV1","OGV2","PSV","MCL","PCL","CAR + LGV + HGV","HGV","ALL modes"]
["00:00:00",6,2,0,0,0,0,0,{"$f":"SUM(B6:E6)","v":8},{"$f":"SUM(D6:E6)","v":0},{"$f":"SUM(B6:H6)","v":8},3,1,0,0,0,0,0,{"$f":"SUM(L6:O6)","v":4},{"$f":"SUM(N6:O6)","v":0},{"$f":"SUM(L6:R6)","v":4}]
["00:15:00",3,2,1,0,0,0,0,{"$f":"SUM(B7:E7)","v":6},{"$f":"SUM(D7:E7)","v":1},{"$f":"SUM(B7:H7)","v":6},2,0,0,0,0,0,0,{"$f":"SUM(L7:O7)","v":2},{"$f":"SUM(N7:O7)","v":0},{"$f":"SUM(L7:R7)","v":2}]
["00:30:00",3,0,0,0,0,0,0,3,0,3,0,1,0,0,0,0,0,1,0,1]
["00:45:00",3,4,1,0,0,0,0,8,1,8,2,1,1,0,0,0,0,4,1,4]
["01:00:00",0,2,0,0,0,0,0,2,0,2,0,0,0,0,0,0,0,0,0,0]
["01:15:00",1,2,0,0,0,0,0,3,0,3,2,1,0,0,0,0,0,3,0,3]
["01:30:00",0,2,0,0,0,0,0,2,0,2,0,0,0,0,0,0,0,0,0,0]
["01:45:00",2,0,0,1,0,0,0,3,1,3,0,1,0,0,0,0,0,1,0,1]
["02:00:00",1,1,2,0,0,0,0,4,2,4,0,2,0,0,0,0,1,2,0,3]
["02:15:00",1,1,0,1,0,0,0,3,1,3,1,2,0,0,0,0,0,3,0,3]
["02:30:00",1,1,0,0,0,0,0,2,0,2,0,2,0,0,1,0,0,2,0,3]
["02:45:00",0,0,0,0,0,0,0,0,0,0,1,2,0,1,0,0,0,4,1,4]
["03:00:00",0,2,0,1,0,0,0,3,1,3,0,1,1,0,0,0,0,2,1,2]
["03:15:00",0,0,2,0,0,0,0,2,2,2,3,2,0,0,0,0,0,5,0,5]
["03:30:00",0,2,0,0,0,0,0,2,0,2,1,0,0,0,0,0,0,1,0,1]
["03:45:00",0,1,0,0,0,0,0,1,0,1,3,1,0,0,0,0,0,4,0,4]
["04:00:00",1,1,0,0,0,0,0,2,0,2,6,3,0,0,0,0,0,9,0,9]
["04:15:00",1,2,0,0,0,0,0,3,0,3,3,6,1,0,0,1,0,10,1,11]
["04:30:00",0,2,0,0,0,0,0,2,0,2,3,10,1,0,0,0,0,14,1,14]
["04:45:00",4,3,0,0,1,0,0,7,0,8,3,6,4,0,0,0,0,13,4,13]
["05:00:00",5,4,4,0,0,1,1,13,4,15,14,9,1,0,0,0,0,24,1,24]
["05:15:00",9,6,2,0,0,0,1,17,2,18,9,17,3,0,0,0,0,29,3,29]
["05:30:00",10,9,1,0,0,0,0,20,1,20,19,23,2,3,0,0,0,47,5,47]
["05:45:00",24,7,1,1,0,0,0,33,2,33,22,24,2,1,0,1,1,49,3,51]
["06:00:00",16,9,3,0,0,0,1,28,3,29,38,29,7,1,0,1,1,75,8,77]
["06:15:00",30,18,2,0,0,0,0,50,2,50,31,41,3,0,0,2,0,75,3,77]
["06:30:00",34,24,2,1,0,0,0,61,3,61,39,30,4,1,1,2,0,74,5,77]
["06:45:00",45,44,6,1,0,1,0,96,7,97,60,51,9,2,0,3,0,122,11,125]
["07:00:00",59,50,6,1,0,2,1,116,7,119,75,62,4,2,0,4,1,143,6,148]
["07:15:00",84,59,5,0,0,0,0,148,5,148,60,67,10,2,0,3,1,139,12,143]
["07:30:00",87,49,4,1,2,1,0,141,5,144,96,68,4,0,0,2,0,168,4,170]
["07:45:00",110,49,6,1,1,2,1,166,7,170,111,51,5,0,0,0,0,167,5,167]
["08:00:00",86,45,1,1,0,0,0,133,2,133,99,58,4,1,0,0,1,162,5,163]
["08:15:00",94,37,5,2,1,0,0,138,7,139,101,39,4,1,0,1,0,145,5,146]
["08:30:00",111,29,6,0,2,1,0,146,6,149,79,45,5,2,0,2,1,131,7,134]
["08:45:00",108,40,6,1,0,1,0,155,7,156,68,46,7,2,1,0,2,123,9,126]
["09:00:00",99,51,4,3,2,1,2,157,7,162,44,49,7,1,0,1,0,101,8,102]
["09:15:00",95,40,7,1,0,1,2,143,8,146,56,44,4,1,0,0,1,105,5,106]
["09:30:00",63,53,9,1,1,0,0,126,10,127,55,48,7,1,0,0,0,111,8,111]
["09:45:00",93,55,5,1,1,0,0,154,6,155,48,37,4,2,0,2,0,91,6,93]
["10:00:00",77,31,8,3,0,0,0,119,11,119,69,33,6,1,0,2,0,109,7,111]
["10:15:00",82,38,5,0,0,2,0,125,5,127,82,43,8,2,1,0,0,135,10,136]
["10:30:00",74,43,6,0,0,0,0,123,6,123,71,35,4,1,1,0,0,111,5,112]
["10:45:00",69,53,4,2,1,0,0,128,6,129,56,32,8,0,0,3,0,96,8,99]
["11:00:00",61,39,6,3,1,4,1,109,9,115,54,38,3,4,2,0,1,99,7,102]
["11:15:00",81,49,7,3,0,1,0,140,10,141,77,52,10,0,1,2,1,139,10,143]
["11:30:00",52,41,7,2,1,1,0,102,9,104,68,31,4,1,0,1,0,104,5,105]
["11:45:00",83,38,12,3,2,0,1,136,15,139,70,38,6,1,0,1,0,115,7,116]
["12:00:00",73,45,6,4,2,1,1,128,10,132,71,44,7,3,0,0,0,125,10,125]
["12:15:00",78,55,6,2,0,0,1,141,8,142,99,44,4,0,1,2,0,147,4,150]
["12:30:00",55,48,2,5,1,1,0,110,7,112,67,56,1,0,0,1,0,124,1,125]
["12:45:00",69,43,2,2,1,2,0,116,4,119,82,36,4,1,0,0,0,123,5,123]
["13:00:00",85,49,2,1,1,0,1,137,3,139,75,39,8,1,1,1,0,123,9,125]
["13:15:00",62,35,2,4,1,0,0,103,6,104,64,52,7,0,1,3,0,123,7,127]
["13:30:00",8,6,2,0,0,0,0,16,2,16,4,3,1,0,1,0,0,8,1,9]
["13:45:00","*","*","*","*","*","*","*",{"$f":"SUM(B61:H61)","v":0},0,0,"*","*","*","*","*","*","*",{"$f":"SUM(L61:R61)","v":0},0,0]
["14:00:00","*","*","*","*","*","*","*",0,0,0,"*","*","*","*","*","*","*",0,0,0]
["14:15:00","*","*","*","*","*","*","*",0,0,0,"*","*","*","*","*","*","*",0,0,0]
["14:30:00","*","*","*","*","*","*","*",0,0,0,"*","*","*","*","*","*","*",0,0,0]
["14:45:00","*","*","*","*","*","*","*",0,0,0,"*","*","*","*","*","*","*",0,0,0]
["15:00:00","*","*","*","*","*","*","*",0,0,0,"*","*","*","*","*","*","*",0,0,0]
["15:15:00","*","*","*","*","*","*","*",0,0,0,"*","*","*","*","*","*","*",0,0,0]
["15:30:00","*","*","*","*","*","*","*",0,0,0,"*","*","*","*","*","*","*",0,0,0]
["15:45:00","*","*","*","*","*","*","*",0,0,0,"*","*","*","*","*","*","*",0,0,0]
["16:00:00","*","*","*","*","*","*","*",0,0,0,"*","*","*","*","*","*","*",0,0,0]
["16:15:00","*","*","*","*","*","*","*",0,{"$f":"SUM(D71:E71)","v":0},{"$f":"SUM(B71:H71)","v":0},"*","*","*","*","*","*","*",0,{"$f":"SUM(N71:O71)","v":0},{"$f":"SUM(L71:R71)","v":0}]
["16:30:00","*","*","*","*","*","*","*",0,0,0,"*","*","*","*","*","*","*",0,0,0]
["16:45:00","*","*","*","*","*","*","*",0,0,0,"*","*","*","*","*","*","*",0,0,0]
["17:00:00","*","*","*","*","*","*","*",0,0,0,"*","*","*","*","*","*","*",0,0,0]
["17:15:00","*","*","*","*","*","*","*",0,0,0,"*","*","*","*","*","*","*",0,0,0]
["17:30:00","*","*","*","*","*","*","*",0,0,0,"*","*","*","*","*","*","*",0,0,0]
["17:45:00","*","*","*","*","*","*","*",0,0,0,"*","*","*","*","*","*","*",0,0,0]
["18:00:00","*","*","*","*","*","*","*",0,0,0,"*","*","*","*","*","*","*",0,0,0]
["18:15:00","*","*","*","*","*","*","*",0,0,0,"*","*","*","*","*","*","*",0,0,0]
["18:30:00","*","*","*","*","*","*","*",0,0,0,"*","*","*","*","*","*","*",0,0,0]
["18:45:00","*","*","*","*","*","*","*",0,0,0,"*","*","*","*","*","*","*",0,0,0]
["19:00:00","*","*","*","*","*","*","*",0,0,0,"*","*","*","*","*","*","*",0,0,0]
["19:15:00","*","*","*","*","*","*","*",0,0,0,"*","*","*","*","*","*","*",0,0,0]
["19:30:00","*","*","*","*","*","*","*",0,0,0,"*","*","*","*","*","*","*",0,0,0]
["19:45:00","*","*","*","*","*","*","*",0,0,0,"*","*","*","*","*","*","*",0,0,0]
["20:00:00","*","*","*","*","*","*","*",0,0,0,"*","*","*","*","*","*","*",0,0,0]
["20:15:00","*","*","*","*","*","*","*",0,0,0,"*","*","*","*","*","*","*",0,0,0]
["20:30:00","*","*","*","*","*","*","*",0,0,0,"*","*","*","*","*","*","*",0,0,0]
["20:45:00","*","*","*","*","*","*","*",0,0,0,"*","*","*","*","*","*","*",0,0,0]
["21:00:00","*","*","*","*","*","*","*",0,0,0,"*","*","*","*","*","*","*",0,0,0]
["21:15:00","*","*","*","*","*","*","*",0,0,0,"*","*","*","*","*","*","*",0,0,0]
["21:30:00","*","*","*","*","*","*","*",0,0,0,"*","*","*","*","*","*","*",0,0,0]
["21:45:00","*","*","*","*","*","*","*",0,0,0,"*","*","*","*","*","*","*",0,0,0]
["22:00:00","*","*","*","*","*","*","*",0,0,0,"*","*","*","*","*","*","*",0,0,0]
["22:15:00","*","*","*","*","*","*","*",0,0,0,"*","*","*","*","*","*","*",0,0,0]
["22:30:00","*","*","*","*","*","*","*",0,0,0,"*","*","*","*","*","*","*",0,0,0]
["22:45:00","*","*","*","*","*","*","*",0,0,0,"*","*","*","*","*","*","*",0,0,0]
["23:00:00","*","*","*","*","*","*","*",0,0,0,"*","*","*","*","*","*","*",0,0,0]
["23:15:00","*","*","*","*","*","*","*",0,0,0,"*","*","*","*","*","*","*",0,0,0]
["23:30:00","*","*","*","*","*","*","*",0,0,0,"*","*","*","*","*","*","*",0,0,0]
["23:45:00","*","*","*","*","*","*","*",0,0,0,"*","*","*","*","*","*","*",0,0,0]
["TOTAL",{"$f":"SUM(B6:B101)","v":2298},{"$f":"SUM(C6:C101)","v":1321},168,53,22,23,14,3840,221,3899,{"$f":"SUM(L6:L101)","v":2166},{"$f":"SUM(M6:M101)","v":1456},185,39,12,41,12,3846,224,3911]

{"sheet":"rolling hour totals_dir 1","index":16,"n_rows":117,"n_cols":75,"rows_kept":117,"cut":false,"hidden":false,"merged":[]}
["* The table is calculated automatically based on sheet 'Form'"]
["!!! it is at that stage the user should manually remove all the values, which are outliers, incomplete, etc."]
[]
["AUTOMATIC TRAFFIC COUNT, 1HR SUMMARY"]
[{"$f":"'Site Plan'!A19","v":"Direction 1"},{"$f":"'Site Plan'!C19","v":"Eastbound"}]
[]
["CAR + LGV + HGV",null,null,null,null,null,null,null,null,null,null,null,null,null,null,null,null,null,null,null,null,null,null,null,null,null,null,null,null,null,null,null,null,null,null,null,null,null,null,null,null,null,null,null,null,null,null,null,null,null,null,null,null,null,null,null,null,null,null,null,null,null,null,null,null,null,null,"Mean, can be used to identify the busiest hour"]
[null,{"$f":"'Site Plan'!$Q$3","v":"2016-04-07"},{"$f":"IF($B$8+COLUMN(B8)-1<='Site Plan'!$Q$4,$B$8+COLUMN(B8)-1,\"\")","v":"2016-04-08"},{"$f":"IF($B$8+COLUMN(C8)-1<='Site Plan'!$Q$4,$B$8+COLUMN(C8)-1,\"\")","v":"2016-04-09"},{"$f":"IF($B$8+COLUMN(D8)-1<='Site Plan'!$Q$4,$B$8+COLUMN(D8)-1,\"\")","v":"2016-04-10"},{"$f":"IF($B$8+COLUMN(E8)-1<='Site Plan'!$Q$4,$B$8+COLUMN(E8)-1,\"\")","v":"2016-04-11"},{"$f":"IF($B$8+COLUMN(F8)-1<='Site Plan'!$Q$4,$B$8+COLUMN(F8)-1,\"\")","v":"2016-04-12"},{"$f":"IF($B$8+COLUMN(G8)-1<='Site Plan'!$Q$4,$B$8+COLUMN(G8)-1,\"\")","v":"2016-04-13"},{"$f":"IF($B$8+COLUMN(H8)-1<='Site Plan'!$Q$4,$B$8+COLUMN(H8)-1,\"\")","v":"2016-04-14"},{"$f":"IF($B$8+COLUMN(I8)-1<='Site Plan'!$Q$4,$B$8+COLUMN(I8)-1,\"\")","v":"2016-04-15"},{"$f":"IF($B$8+COLUMN(J8)-1<='Site Plan'!$Q$4,$B$8+COLUMN(J8)-1,\"\")","v":"2016-04-16"},{"$f":"IF($B$8+COLUMN(K8)-1<='Site Plan'!$Q$4,$B$8+COLUMN(K8)-1,\"\")","v":"2016-04-17"},{"$f":"IF($B$8+COLUMN(L8)-1<='Site Plan'!$Q$4,$B$8+COLUMN(L8)-1,\"\")","v":"2016-04-18"},{"$f":"IF($B$8+COLUMN(M8)-1<='Site Plan'!$Q$4,$B$8+COLUMN(M8)-1,\"\")","v":"2016-04-19"},{"$f":"IF($B$8+COLUMN(N8)-1<='Site Plan'!$Q$4,$B$8+COLUMN(N8)-1,\"\")","v":""},{"$f":"IF($B$8+COLUMN(O8)-1<='Site Plan'!$Q$4,$B$8+COLUMN(O8)-1,\"\")","v":""},{"$f":"IF($B$8+COLUMN(P8)-1<='Site Plan'!$Q$4,$B$8+COLUMN(P8)-1,\"\")","v":""},{"$f":"IF($B$8+COLUMN(Q8)-1<='Site Plan'!$Q$4,$B$8+COLUMN(Q8)-1,\"\")","v":""},{"$f":"IF($B$8+COLUMN(R8)-1<='Site Plan'!$Q$4,$B$8+COLUMN(R8)-1,\"\")","v":""},{"$f":"IF($B$8+COLUMN(S8)-1<='Site Plan'!$Q$4,$B$8+COLUMN(S8)-1,\"\")","v":""},{"$f":"IF($B$8+COLUMN(T8)-1<='Site Plan'!$Q$4,$B$8+COLUMN(T8)-1,\"\")","v":""},{"$f":"IF($B$8+COLUMN(U8)-1<='Site Plan'!$Q$4,$B$8+COLUMN(U8)-1,\"\")","v":""},{"$f":"IF($B$8+COLUMN(V8)-1<='Site Plan'!$Q$4,$B$8+COLUMN(V8)-1,\"\")","v":""},{"$f":"IF($B$8+COLUMN(W8)-1<='Site Plan'!$Q$4,$B$8+COLUMN(W8)-1,\"\")","v":""},{"$f":"IF($B$8+COLUMN(X8)-1<='Site Plan'!$Q$4,$B$8+COLUMN(X8)-1,\"\")","v":""},{"$f":"IF($B$8+COLUMN(Y8)-1<='Site Plan'!$Q$4,$B$8+COLUMN(Y8)-1,\"\")","v":""},{"$f":"IF($B$8+COLUMN(Z8)-1<='Site Plan'!$Q$4,$B$8+COLUMN(Z8)-1,\"\")","v":""},{"$f":"IF($B$8+COLUMN(AA8)-1<='Site Plan'!$Q$4,$B$8+COLUMN(AA8)-1,\"\")","v":""},{"$f":"IF($B$8+COLUMN(AB8)-1<='Site Plan'!$Q$4,$B$8+COLUMN(AB8)-1,\"\")","v":""},{"$f":"IF($B$8+COLUMN(AC8)-1<='Site Plan'!$Q$4,$B$8+COLUMN(AC8)-1,\"\")","v":""},{"$f":"IF($B$8+COLUMN(AD8)-1<='Site Plan'!$Q$4,$B$8+COLUMN(AD8)-1,\"\")","v":""},{"$f":"IF($B$8+COLUMN(AE8)-1<='Site Plan'!$Q$4,$B$8+COLUMN(AE8)-1,\"\")","v":""},{"$f":"IF($B$8+COLUMN(AF8)-1<='Site Plan'!$Q$4,$B$8+COLUMN(AF8)-1,\"\")","v":""},{"$f":"IF($B$8+COLUMN(AG8)-1<='Site Plan'!$Q$4,$B$8+COLUMN(AG8)-1,\"\")","v":""},{"$f":"IF($B$8+COLUMN(AH8)-1<='Site Plan'!$Q$4,$B$8+COLUMN(AH8)-1,\"\")","v":""},{"$f":"IF($B$8+COLUMN(AI8)-1<='Site Plan'!$Q$4,$B$8+COLUMN(AI8)-1,\"\")","v":""},{"$f":"IF($B$8+COLUMN(AJ8)-1<='Site Plan'!$Q$4,$B$8+COLUMN(AJ8)-1,\"\")","v":""},{"$f":"IF($B$8+COLUMN(AK8)-1<='Site Plan'!$Q$4,$B$8+COLUMN(AK8)-1,\"\")","v":""},{"$f":"IF($B$8+COLUMN(AL8)-1<='Site Plan'!$Q$4,$B$8+COLUMN(AL8)-1,\"\")","v":""},{"$f":"IF($B$8+COLUMN(AM8)-1<='Site Plan'!$Q$4,$B$8+COLUMN(AM8)-1,\"\")","v":""},{"$f":"IF($B$8+COLUMN(AN8)-1<='Site Plan'!$Q$4,$B$8+COLUMN(AN8)-1,\"\")","v":""},{"$f":"IF($B$8+COLUMN(AO8)-1<='Site Plan'!$Q$4,$B$8+COLUMN(AO8)-1,\"\")","v":""},{"$f":"IF($B$8+COLUMN(AP8)-1<='Site Plan'!$Q$4,$B$8+COLUMN(AP8)-1,\"\")","v":""},{"$f":"IF($B$8+COLUMN(AQ8)-1<='Site Plan'!$Q$4,$B$8+COLUMN(AQ8)-1,\"\")","v":""},{"$f":"IF($B$8+COLUMN(AR8)-1<='Site Plan'!$Q$4,$B$8+COLUMN(AR8)-1,\"\")","v":""},{"$f":"IF($B$8+COLUMN(AS8)-1<='Site Plan'!$Q$4,$B$8+COLUMN(AS8)-1,\"\")","v":""},{"$f":"IF($B$8+COLUMN(AT8)-1<='Site Plan'!$Q$4,$B$8+COLUMN(AT8)-1,\"\")","v":""},{"$f":"IF($B$8+COLUMN(AU8)-1<='Site Plan'!$Q$4,$B$8+COLUMN(AU8)-1,\"\")","v":""},{"$f":"IF($B$8+COLUMN(AV8)-1<='Site Plan'!$Q$4,$B$8+COLUMN(AV8)-1,\"\")","v":""},{"$f":"IF($B$8+COLUMN(AW8)-1<='Site Plan'!$Q$4,$B$8+COLUMN(AW8)-1,\"\")","v":""},{"$f":"IF($B$8+COLUMN(AX8)-1<='Site Plan'!$Q$4,$B$8+COLUMN(AX8)-1,\"\")","v":""},{"$f":"IF($B$8+COLUMN(AY8)-1<='Site Plan'!$Q$4,$B$8+COLUMN(AY8)-1,\"\")","v":""},{"$f":"IF($B$8+COLUMN(AZ8)-1<='Site Plan'!$Q$4,$B$8+COLUMN(AZ8)-1,\"\")","v":""},{"$f":"IF($B$8+COLUMN(BA8)-1<='Site Plan'!$Q$4,$B$8+COLUMN(BA8)-1,\"\")","v":""},{"$f":"IF($B$8+COLUMN(BB8)-1<='Site Plan'!$Q$4,$B$8+COLUMN(BB8)-1,\"\")","v":""},{"$f":"IF($B$8+COLUMN(BC8)-1<='Site Plan'!$Q$4,$B$8+COLUMN(BC8)-1,\"\")","v":""},{"$f":"IF($B$8+COLUMN(BD8)-1<='Site Plan'!$Q$4,$B$8+COLUMN(BD8)-1,\"\")","v":""},{"$f":"IF($B$8+COLUMN(BE8)-1<='Site Plan'!$Q$4,$B$8+COLUMN(BE8)-1,\"\")","v":""},{"$f":"IF($B$8+COLUMN(BF8)-1<='Site Plan'!$Q$4,$B$8+COLUMN(BF8)-1,\"\")","v":""},{"$f":"IF($B$8+COLUMN(BG8)-1<='Site Plan'!$Q$4,$B$8+COLUMN(BG8)-1,\"\")","v":""},{"$f":"IF($B$8+COLUMN(BH8)-1<='Site Plan'!$Q$4,$B$8+COLUMN(BH8)-1,\"\")","v":""},{"$f":"IF($B$8+COLUMN(BI8)-1<='Site Plan'!$Q$4,$B$8+COLUMN(BI8)-1,\"\")","v":""},{"$f":"IF($B$8+COLUMN(BJ8)-1<='Site Plan'!$Q$4,$B$8+COLUMN(BJ8)-1,\"\")","v":""},{"$f":"IF($B$8+COLUMN(BK8)-1<='Site Plan'!$Q$4,$B$8+COLUMN(BK8)-1,\"\")","v":""},{"$f":"IF($B$8+COLUMN(BL8)-1<='Site Plan'!$Q$4,$B$8+COLUMN(BL8)-1,\"\")","v":""},null,null,"Mon","Tue","Wed","Thu","Fri","Sat","Sun"]
["TIME",{"$f":"IF(B8=\"\",\"\",CHOOSE(WEEKDAY(B8),\"Sun\",\"Mon\",\"Tue\",\"Wed\",\"Thu\",\"Fri\",\"Sat\"))","v":"Thu"},{"$f":"IF(C8=\"\",\"\",CHOOSE(WEEKDAY(C8),\"Sun\",\"Mon\",\"Tue\",\"Wed\",\"Thu\",\"Fri\",\"Sat\"))","v":"Fri"},"Sat","Sun","Mon","Tue","Wed","Thu","Fri","Sat","Sun","Mon","Tue","","","","","","","","","","","","","","","","","","","","","","","","","","","","","","","","","","","","","","","","","","","","","","","","","","","",null,null,"Mean","Mean","Mean","Mean","Mean","Mean","Mean"]
["00:00:00",{"$f":"IF(B$8=\"\",\"\",SUMIFS(INDIRECT(\"'\"&TEXT(B$8,\"DD_MMM_YYYY\")&\"'!I$6:I$101\"),INDIRECT(\"'\"&TEXT(B$8,\"DD_MMM_YYYY\")&\"'!a$6:a$101\"),\">=\"&$A10,INDIRECT(\"'\"&TEXT(B$8,\"DD_MMM_YYYY\")&\"'!a$6:a$101\"),\"<=\"&$A13))","v":25},{"$f":"IF(C$8=\"\",\"\",SUMIFS(INDIRECT(\"'\"&TEXT(C$8,\"DD_MMM_YYYY\")&\"'!I$6:I$101\"),INDIRECT(\"'\"&TEXT(C$8,\"DD_MMM_YYYY\")&\"'!a$6:a$101\"),\">=\"&$A10,INDIRECT(\"'\"&TEXT(C$8,\"DD_MMM_YYYY\")&\"'!a$6:a$101\"),\"<=\"&$A13))","v":32},49,73,17,24,23,22,27,45,86,13,25,"","","","","","","","","","","","","","","","","","","","","","","","","","","","","","","","","","","","","","","","","","","","","","","","","","","",null,null,{"$f":"IF(COUNTIFS($B$9:$BM$9,BP$8,$B10:$BM10,\">0\")=0,\"\",SUMIFS($B10:$BM10,$B$9:$BM$9,BP$8)/COUNTIFS($B$9:$BM$9,BP$8,$B10:$BM10,\">0\"))","v":15},{"$f":"IF(COUNTIFS($B$9:$BM$9,BQ$8,$B10:$BM10,\">0\")=0,\"\",SUMIFS($B10:$BM10,$B$9:$BM$9,BQ$8)/COUNTIFS($B$9:$BM$9,BQ$8,$B10:$BM10,\">0\"))","v":24.5},{"$f":"IF(COUNTIFS($B$9:$BM$9,BR$8,$B10:$BM10,\">0\")=0,\"\",SUMIFS($B10:$BM10,$B$9:$BM$9,BR$8)/COUNTIFS($B$9:$BM$9,BR$8,$B10:$BM10,\">0\"))","v":23},23.5,29.5,47,79.5]
["00:15:00",{"$f":"IF(B$8=\"\",\"\",SUMIFS(INDIRECT(\"'\"&TEXT(B$8,\"DD_MMM_YYYY\")&\"'!I$6:I$101\"),INDIRECT(\"'\"&TEXT(B$8,\"DD_MMM_YYYY\")&\"'!a$6:a$101\"),\">=\"&$A11,INDIRECT(\"'\"&TEXT(B$8,\"DD_MMM_YYYY\")&\"'!a$6:a$101\"),\"<=\"&$A14))","v":18},24,44,55,17,22,20,23,27,30,84,17,19,"","","","","","","","","","","","","","","","","","","","","","","","","","","","","","","","","","","","","","","","","","","","","","","","","","","",null,null,{"$f":"IF(COUNTIFS($B$9:$BM$9,BP$8,$B11:$BM11,\">0\")=0,\"\",SUMIFS($B11:$BM11,$B$9:$BM$9,BP$8)/COUNTIFS($B$9:$BM$9,BP$8,$B11:$BM11,\">0\"))","v":17},20.5,20,20.5,25.5,37,69.5]
["00:30:00",14,20,29,43,16,19,17,15,31,24,66,14,16,"","","","","","","","","","","","","","","","","","","","","","","","","","","","","","","","","","","","","","","","","","","","","","","","","","","",null,null,15,17.5,17,14.5,25.5,26.5,54.5]
["00:45:00",11,13,24,32,13,15,16,13,27,15,46,11,15,"","","","","","","","","","","","","","","","","","","","","","","","","","","","","","","","","","","","","","","","","","","","","","","","","","","",null,null,12,15,16,12,20,19.5,39]
["01:00:00",8,11,19,34,10,11,10,13,23,16,45,12,10,"","","","","","",{"$f":"IF(U$8=\"\",\"\",SUMIFS(INDIRECT(\"'\"&TEXT(U$8,\"DD_MMM_YYYY\")&\"'!I$6:I$101\"),INDIRECT(\"'\"&TEXT(U$8,\"DD_MMM_YYYY\")&\"'!a$6:a$101\"),\">=\"&$A14,INDIRECT(\"'\"&TEXT(U$8,\"DD_MMM_YYYY\")&\"'!a$6:a$101\"),\"<=\"&$A17))","v":""},"","","","","","","","","","","","","","","","","","","","","","","","","","","","","","","","","","","","","","","","","","","","",null,null,11,10.5,10,10.5,17,17.5,39.5]
["01:15:00",7,15,13,35,9,8,8,12,15,14,31,7,12,"","","","","","","","","","","","","","","","","","","","","","","","","","","","","","","","","","","","","","","","","","","","","","","","","","","",null,null,8,10,8,9.5,15,13.5,33]
["01:30:00",9,14,13,30,8,9,15,12,11,9,22,8,12,"","","","","","","","","","","","","","","","","","","","","","","","","","","","","","","","","","","","","","","","","","","","","","","","","","","",null,null,8,10.5,15,10.5,12.5,11,26]
["01:45:00",9,12,8,29,9,12,12,12,9,13,20,8,12,"","","","","","","","","","","","","","","","","","","","","","","","","","","","","","","","","","","","","","","","","","","","","","","","","","","",null,null,8.5,12,12,10.5,10.5,10.5,24.5]
["02:00:00",10,13,4,24,11,12,13,9,7,15,16,11,9,"","","","","","","","","",{"$f":"IF(X$8=\"\",\"\",SUMIFS(INDIRECT(\"'\"&TEXT(X$8,\"DD_MMM_YYYY\")&\"'!I$6:I$101\"),INDIRECT(\"'\"&TEXT(X$8,\"DD_MMM_YYYY\")&\"'!a$6:a$101\"),\">=\"&$A18,INDIRECT(\"'\"&TEXT(X$8,\"DD_MMM_YYYY\")&\"'!a$6:a$101\"),\"<=\"&$A21))","v":""},"","","","","","","","","","","","","","","","","","","","","","","","","","","","","","","","","","","","","","","","","",null,null,11,10.5,13,9.5,10,9.5,20]
["02:15:00",11,12,5,22,12,14,15,6,10,14,12,12,8,"","","","","","","","","","","","","","","","","","","","","","","","","","","","","","","","","","","","","","","","","","","","","","","","","","","",null,null,12,11,15,8.5,11,9.5,17]
["02:30:00",8,11,4,22,11,12,8,7,7,14,12,10,7,"","","","","","","","","","","","","","","","","","","","","","","","","","","","","","","","","","","","","","","","","","","","","","","","","","","",null,null,10.5,9.5,8,7.5,9,9,17]
["02:45:00",8,14,8,15,13,8,9,9,9,12,11,12,7,"","","","","","","","","","","","","","","","","","","","","","","","","","","","","","","","","","","","","","","","","","","","","","","","","","","",null,null,12.5,7.5,9,8.5,11.5,10,13]
["03:00:00",6,11,10,14,13,7,9,11,7,10,15,10,8,"","","","","","","","","","","","",{"$f":"IF(AA$8=\"\",\"\",SUMIFS(INDIRECT(\"'\"&TEXT(AA$8,\"DD_MMM_YYYY\")&\"'!I$6:I$101\"),INDIRECT(\"'\"&TEXT(AA$8,\"DD_MMM_YYYY\")&\"'!a$6:a$101\"),\">=\"&$A22,INDIRECT(\"'\"&TEXT(AA$8,\"DD_MMM_YYYY\")&\"'!a$6:a$101\"),\"<=\"&$A25))","v":""},"","","","","","","","","","","","","","","","","","","","","","","","","","","","","","","","","","","","","","",null,null,11.5,7.5,9,8.5,9,10,14.5]
["03:15:00",10,11,12,10,10,7,8,14,9,11,15,8,7,"","","","","","","","","","","","","","","","","","","","","","","","","","","","","","","","","","","","","","","","","","","","","","","","","","","",null,null,9,7,8,12,10,11.5,12.5]
["03:30:00",12,10,11,10,12,8,10,17,12,11,18,8,8,"","","","","","","","","","","","","","","","","","","","","","","","","","","","","","","","","","","","","","","","","","","","","","","","","","","",null,null,10,8,10,14.5,11,11,14]
["03:45:00",17,16,10,11,13,8,10,18,17,12,15,9,8,"","","","","","","","","","","","","","","","","","","","","","","","","","","","","","","","","","","","","","","","","","","","","","","","","","","",null,null,11,8,10,17.5,16.5,11,13]
["04:00:00",24,19,13,11,22,15,19,23,24,15,13,10,14,"","","","","","","","","","","","","","","",{"$f":"IF(AD$8=\"\",\"\",SUMIFS(INDIRECT(\"'\"&TEXT(AD$8,\"DD_MMM_YYYY\")&\"'!I$6:I$101\"),INDIRECT(\"'\"&TEXT(AD$8,\"DD_MMM_YYYY\")&\"'!a$6:a$101\"),\">=\"&$A26,INDIRECT(\"'\"&TEXT(AD$8,\"DD_MMM_YYYY\")&\"'!a$6:a$101\"),\"<=\"&$A29))","v":""},"","","","","","","","","","","","","","","","","","","","","","","","","","","","","","","","","","","",null,null,16,14.5,19,23.5,21.5,14,12]
["04:15:00",30,31,18,18,33,23,29,25,29,18,18,18,25,"","","","","","","","","","","","","","","","","","","","","","","","","","","","","","","","","","","","","","","","","","","","","","","","","","","",null,null,25.5,24,29,27.5,30,18,18]
["04:30:00",38,39,23,20,45,35,38,34,38,25,19,37,39,"","","","","","","","","","","","","","","","","","","","","","","","","","","","","","","","","","","","","","","","","","","","","","","","","","","",null,null,41,37,38,36,38.5,24,19.5]
["04:45:00",52,52,35,25,57,54,58,47,54,36,24,57,57,"","","","","","","","","","","","","","","","","","","","","","","","","","","","","","","","","","","","","","","","","","","","","","","","","","","",null,null,57,55.5,58,49.5,53,35.5,24.5]
["05:00:00",76,70,44,32,69,74,79,69,76,48,27,86,83,"","","","","","","","","","","","","","","","","","",{"$f":"IF(AG$8=\"\",\"\",SUMIFS(INDIRECT(\"'\"&TEXT(AG$8,\"DD_MMM_YYYY\")&\"'!I$6:I$101\"),INDIRECT(\"'\"&TEXT(AG$8,\"DD_MMM_YYYY\")&\"'!a$6:a$101\"),\">=\"&$A30,INDIRECT(\"'\"&TEXT(AG$8,\"DD_MMM_YYYY\")&\"'!a$6:a$101\"),\"<=\"&$A33))","v":""},"","","","","","","","","","","","","","","","","","","","","","","","","","","","","","","","",null,null,77.5,78.5,79,72.5,73,46,29.5]
["05:15:00",94,89,49,30,85,86,95,92,104,57,26,101,98,"","","","","","","","","","","","","","","","","","","","","","","","","","","","","","","","","","","","","","","","","","","","","","","","","","","",null,null,93,92,95,93,96.5,53,28]
["05:30:00",131,119,53,45,122,136,142,121,140,67,25,131,131,"","","","","","","","","","","","","","","","","","","","","","","","","","","","","","","","","","","","","","","","","","","","","","","","","","","",null,null,126.5,133.5,142,126,129.5,60,35]
["05:45:00",183,140,61,49,167,165,177,170,176,79,31,175,172,"","","","","","","","","","","","","","","","","","","","","","","","","","","","","","","","","","","","","","","","","","","","","","","","","","","",null,null,171,168.5,177,176.5,158,70,40]
["06:00:00",217,188,81,54,218,216,240,224,225,97,38,227,235,"","","","","","","","","","","","","","","","","","","","","",{"$f":"IF(AJ$8=\"\",\"\",SUMIFS(INDIRECT(\"'\"&TEXT(AJ$8,\"DD_MMM_YYYY\")&\"'!I$6:I$101\"),INDIRECT(\"'\"&TEXT(AJ$8,\"DD_MMM_YYYY\")&\"'!a$6:a$101\"),\">=\"&$A34,INDIRECT(\"'\"&TEXT(AJ$8,\"DD_MMM_YYYY\")&\"'!a$6:a$101\"),\"<=\"&$A37))","v":""},"","","","","","","","","","","","","","","","","","","","","","","","","","","","","",null,null,222.5,225.5,240,220.5,206.5,89,46]
["06:15:00",273,246,98,56,305,299,326,305,316,111,47,294,323,"","","","","","","","","","","","","","","","","","","","","","","","","","","","","","","","","","","","","","","","","","","","","","","","","","","",null,null,299.5,311,326,289,281,104.5,51.5]
["06:30:00",345,313,138,58,372,378,392,395,389,132,53,362,421,"","","","","","","","","","","","","","","","","","","","","","","","","","","","","","","","","","","","","","","","","","","","","","","","","","","",null,null,367,399.5,392,370,351,135,55.5]
["06:45:00",419,388,187,78,485,503,498,488,491,164,61,454,501,"","","","","","","","","","","","","","","","","","","","","","","","","","","","","","","","","","","","","","","","","","","","","","","","","","","",null,null,469.5,502,498,453.5,439.5,175.5,69.5]
["07:00:00",491,463,222,88,559,586,592,562,552,197,88,526,571,"","","","","","","","","","","","","","","","","","","","","","","","",{"$f":"IF(AM$8=\"\",\"\",SUMIFS(INDIRECT(\"'\"&TEXT(AM$8,\"DD_MMM_YYYY\")&\"'!I$6:I$101\"),INDIRECT(\"'\"&TEXT(AM$8,\"DD_MMM_YYYY\")&\"'!a$6:a$101\"),\">=\"&$A38,INDIRECT(\"'\"&TEXT(AM$8,\"DD_MMM_YYYY\")&\"'!a$6:a$101\"),\"<=\"&$A41))","v":""},"","","","","","","","","","","","","","","","","","","","","","","","","","",null,null,542.5,578.5,592,526.5,507.5,209.5,88]
["07:15:00",529,502,275,120,582,615,630,607,578,265,103,577,588,"","","","","","","","","","","","","","","","","","","","","","","","","","","","","","","","","","","","","","","","","","","","","","","","","","","",null,null,579.5,601.5,630,568,540,270,111.5]
["07:30:00",569,526,341,145,616,621,657,633,639,320,140,623,578,"","","","","","","","","","","","","","","","","","","","","","","","","","","","","","","","","","","","","","","","","","","","","","","","","","","",null,null,619.5,599.5,657,601,582.5,330.5,142.5]
["07:45:00",549,570,397,163,578,616,638,626,655,372,171,624,583,"","","","","","","","","","","","","","","","","","","","","","","","","","","","","","","","","","","","","","","","","","","","","","","","","","","",null,null,601,599.5,638,587.5,612.5,384.5,167]
["08:00:00",559,553,482,212,562,624,607,647,662,415,189,615,572,"","","","","","","","","","","","","","","","","","","","","","","","","","","",{"$f":"IF(AP$8=\"\",\"\",SUMIFS(INDIRECT(\"'\"&TEXT(AP$8,\"DD_MMM_YYYY\")&\"'!I$6:I$101\"),INDIRECT(\"'\"&TEXT(AP$8,\"DD_MMM_YYYY\")&\"'!a$6:a$101\"),\">=\"&$A42,INDIRECT(\"'\"&TEXT(AP$8,\"DD_MMM_YYYY\")&\"'!a$6:a$101\"),\"<=\"&$A45))","v":""},"","","","","","","","","","","","","","","","","","","","","","","",null,null,588.5,598,607,603,607.5,448.5,200.5]
["08:15:00",567,572,533,253,553,632,566,640,635,444,212,601,596,"","","","","","","","","","","","","","","","","","","","","","","","","","","","","","","","","","","","","","","","","","","","","","","","","","","",null,null,577,614,566,603.5,603.5,488.5,232.5]
["08:30:00",554,582,551,310,542,620,540,636,594,480,242,585,601,"","","","","","","","","","","","","","","","","","","","","","","","","","","","","","","","","","","","","","","","","","","","","","","","","","","",null,null,563.5,610.5,540,595,588,515.5,276]
["08:45:00",552,556,566,380,532,575,534,624,554,525,294,548,581,"","","","","","","","","","","","","","","","","","","","","","","","","","","","","","","","","","","","","","","","","","","","","","","","","","","",null,null,540,578,534,588,555,545.5,337]
["09:00:00",555,574,576,461,524,533,505,583,539,554,355,515,580,"","","","","","","","","","","","","","","","","","","","","","","","","","","","","","",{"$f":"IF(AS$8=\"\",\"\",SUMIFS(INDIRECT(\"'\"&TEXT(AS$8,\"DD_MMM_YYYY\")&\"'!I$6:I$101\"),INDIRECT(\"'\"&TEXT(AS$8,\"DD_MMM_YYYY\")&\"'!a$6:a$101\"),\">=\"&$A46,INDIRECT(\"'\"&TEXT(AS$8,\"DD_MMM_YYYY\")&\"'!a$6:a$101\"),\"<=\"&$A49))","v":""},"","","","","","","","","","","","","","","","","","","","",null,null,519.5,556.5,505,569,556.5,565,408]
["09:15:00",559,588,594,544,529,509,515,567,548,585,446,517,542,"","","","","","","","","","","","","","","","","","","","","","","","","","","","","","","","","","","","","","","","","","","","","","","","","","","",null,null,523,525.5,515,563,568,589.5,495]
["09:30:00",557,599,650,591,499,522,523,564,530,656,513,497,524,"","","","","","","","","","","","","","","","","","","","","","","","","","","","","","","","","","","","","","","","","","","","","","","","","","","",null,null,498,523,523,560.5,564.5,653,552]
["09:45:00",576,622,671,592,501,513,506,539,545,706,552,490,521,"","","","","","","","","","","","","","","","","","","","","","","","","","","","","","","","","","","","","","","","","","","","","","","","","","","",null,null,495.5,517,506,557.5,583.5,688.5,572]
["10:00:00",588,607,668,612,502,510,509,539,569,745,574,476,495,"","","","","","","","","","","","","","","","","","","","","","","","","","","","","","","","","",{"$f":"IF(AV$8=\"\",\"\",SUMIFS(INDIRECT(\"'\"&TEXT(AV$8,\"DD_MMM_YYYY\")&\"'!I$6:I$101\"),INDIRECT(\"'\"&TEXT(AV$8,\"DD_MMM_YYYY\")&\"'!a$6:a$101\"),\">=\"&$A50,INDIRECT(\"'\"&TEXT(AV$8,\"DD_MMM_YYYY\")&\"'!a$6:a$101\"),\"<=\"&$A53))","v":""},"","","","","","","","","","","","","","","","","",null,null,489,502.5,509,563.5,588,706.5,593]
["10:15:00",618,604,687,598,483,508,502,528,554,759,571,477,485,"","","","","","","","","","","","","","","","","","","","","","","","","","","","","","","","","","","","","","","","","","","","","","","","","","","",null,null,480,496.5,502,573,{"$f":"IF(COUNTIFS($B$9:$BM$9,BT$8,$B51:$BM51,\">0\")=0,\"\",SUMIFS($B51:$BM51,$B$9:$BM$9,BT$8)/COUNTIFS($B$9:$BM$9,BT$8,$B51:$BM51,\">0\"))","v":579},723,584.5]
["10:30:00",621,578,646,589,494,488,485,505,554,725,580,478,500,"","","","","","","","","","","","","","","","","","","","","","","","","","","","","","","","","","","","","","","","","","","","","","","","","","","",null,null,486,494,485,563,566,685.5,584.5]
["10:45:00",607,552,673,607,490,495,485,520,557,668,608,476,479,"","","","","","","","","","","","","","","","","","","","","","","","","","","","","","","","","","","","","","","","","","","","","","","","","","","",null,null,483,487,485,563.5,554.5,670.5,607.5]
["11:00:00",575,580,671,598,474,483,496,522,539,664,645,503,487,"","","","","","","","","","","","","","","","","","","","","","","","","","","","","","","","","","","","",{"$f":"IF(AY$8=\"\",\"\",SUMIFS(INDIRECT(\"'\"&TEXT(AY$8,\"DD_MMM_YYYY\")&\"'!I$6:I$101\"),INDIRECT(\"'\"&TEXT(AY$8,\"DD_MMM_YYYY\")&\"'!a$6:a$101\"),\">=\"&$A54,INDIRECT(\"'\"&TEXT(AY$8,\"DD_MMM_YYYY\")&\"'!a$6:a$101\"),\"<=\"&$A57))","v":""},"","","","","","","","","","","","","","",null,null,488.5,485,496,548.5,559.5,667.5,621.5]
["11:15:00",554,575,673,590,494,484,527,527,559,650,673,494,506,"","","","","","","","","","","","","","","","","","","","","","","","","","","","","","","","","","","","","","","","","","","","","","","","","","","",null,null,494,495,527,540.5,567,661.5,631.5]
["11:30:00",548,599,715,579,509,474,523,513,578,662,677,462,507,"","","","","","","","","","","","","","","","","","","","","","","","","","","","","","","","","","","","","","","","","","","","","","","","","","","",null,null,485.5,490.5,523,530.5,588.5,688.5,628]
["11:45:00",576,597,708,574,511,466,542,497,562,674,618,481,515,"","","","","","","","","","","","","","","","","","","","","","","","","","","","","","","","","","","","","","","","","","","","","","","","","","","",null,null,496,490.5,542,536.5,579.5,691,596]
["12:00:00",591,589,724,556,531,464,532,460,581,646,574,495,495,"","","","","","","","","","","","","","","","","","","","","","","","","","","","","","","","","","","","","","","",{"$f":"IF(BB$8=\"\",\"\",SUMIFS(INDIRECT(\"'\"&TEXT(BB$8,\"DD_MMM_YYYY\")&\"'!I$6:I$101\"),INDIRECT(\"'\"&TEXT(BB$8,\"DD_MMM_YYYY\")&\"'!a$6:a$101\"),\">=\"&$A58,INDIRECT(\"'\"&TEXT(BB$8,\"DD_MMM_YYYY\")&\"'!a$6:a$101\"),\"<=\"&$A61))","v":""},"","","","","","","","","","","",null,null,513,479.5,532,525.5,585,685,565]
["12:15:00",596,593,697,543,523,477,507,461,597,635,542,496,504,"","","","","","","","","","","","","","","","","","","","","","","","","","","","","","","","","","","","","","","","","","","","","","","","","","","",null,null,509.5,490.5,507,528.5,595,666,542.5]
["12:30:00",596,595,668,544,510,480,520,465,574,603,519,566,466,"","","","","","","","","","","","","","","","","","","","","","","","","","","","","","","","","","","","","","","","","","","","","","","","","","","",null,null,538,473,520,530.5,584.5,635.5,531.5]
["12:45:00",592,602,645,553,524,490,508,483,587,602,544,551,372,"","","","","","","","","","","","","","","","","","","","","","","","","","","","","","","","","","","","","","","","","","","","","","","","","","","",null,null,537.5,431,508,537.5,594.5,623.5,548.5]
["13:00:00",595,614,626,544,533,512,506,497,568,591,549,545,256,"","","","","","","","","","","","","","","","","","","","","","","","","","","","","","","","","","","","","","","","","","",{"$f":"IF(BE$8=\"\",\"\",SUMIFS(INDIRECT(\"'\"&TEXT(BE$8,\"DD_MMM_YYYY\")&\"'!I$6:I$101\"),INDIRECT(\"'\"&TEXT(BE$8,\"DD_MMM_YYYY\")&\"'!a$6:a$101\"),\">=\"&$A62,INDIRECT(\"'\"&TEXT(BE$8,\"DD_MMM_YYYY\")&\"'!a$6:a$101\"),\"<=\"&$A65))","v":""},"","","","","","","","",null,null,539,384,506,546,591,608.5,546.5]
["13:15:00",565,623,608,520,548,499,507,493,565,611,542,539,119,"","","","","","","","","","","","","","","","","","","","","","","","","","","","","","","","","","","","","","","","","","","","","","","","","","","",null,null,543.5,309,507,529,594,609.5,531]
["13:30:00",556,629,600,531,569,508,525,508,579,604,505,495,16,"","","","","","","","","","","","","","","","","","","","","","","","","","","","","","","","","","","","","","","","","","","","","","","","","","","",null,null,532,262,525,532,604,602,518]
["13:45:00",535,673,573,527,569,516,530,505,570,567,503,518,0,"","","","","","","","","","","","","","","","","","","","","","","","","","","","","","","","","","","","","","","","","","","","","","","","","","","",null,null,543.5,516,530,520,621.5,570,515]
["14:00:00",485,646,558,502,558,500,532,535,596,604,473,483,0,"","","","","","","","","","","","","","","","","","","","","","","","","","","","","","","","","","","","","","","","","","","","","",{"$f":"IF(BH$8=\"\",\"\",SUMIFS(INDIRECT(\"'\"&TEXT(BH$8,\"DD_MMM_YYYY\")&\"'!I$6:I$101\"),INDIRECT(\"'\"&TEXT(BH$8,\"DD_MMM_YYYY\")&\"'!a$6:a$101\"),\">=\"&$A66,INDIRECT(\"'\"&TEXT(BH$8,\"DD_MMM_YYYY\")&\"'!a$6:a$101\"),\"<=\"&$A69))","v":""},"","","","","",null,null,520.5,500,532,510,621,581,487.5]
["14:15:00",508,627,538,497,557,518,531,519,615,577,436,537,0,"","","","","","","","","","","","","","","","","","","","","","","","","","","","","","","","","","","","","","","","","","","","","","","","","","","",null,null,547,518,531,513.5,621,557.5,466.5]
["14:30:00",511,617,484,442,530,511,515,511,623,577,432,557,0,"","","","","","","","","","","","","","","","","","","","","","","","","","","","","","","","","","","","","","","","","","","","","","","","","","","",null,null,543.5,511,515,511,620,530.5,437]
["14:45:00",532,607,453,423,539,520,505,544,619,578,391,564,0,"","","","","","","","","","","","","","","","","","","","","","","","","","","","","","","","","","","","","","","","","","","","","","","","","","","",null,null,551.5,520,505,538,613,515.5,407]
["15:00:00",571,644,416,425,568,567,535,527,621,511,386,627,0,"","","","","","","","","","","","","","","","","","","","","","","","","","","","","","","","","","","","","","","","","","","","","","","","",{"$f":"IF(BK$8=\"\",\"\",SUMIFS(INDIRECT(\"'\"&TEXT(BK$8,\"DD_MMM_YYYY\")&\"'!I$6:I$101\"),INDIRECT(\"'\"&TEXT(BK$8,\"DD_MMM_YYYY\")&\"'!a$6:a$101\"),\">=\"&$A70,INDIRECT(\"'\"&TEXT(BK$8,\"DD_MMM_YYYY\")&\"'!a$6:a$101\"),\"<=\"&$A73))","v":""},"","",null,null,597.5,567,535,549,632.5,463.5,405.5]
["15:15:00",586,651,439,390,579,574,560,571,616,475,382,592,0,"","","","","","","","","","","","","","","","","","","","","","","","","","","","","","","","","","","","","","","","","","","","","","","","","","","",null,null,585.5,574,560,578.5,633.5,457,386]
["15:30:00",586,652,445,385,610,597,581,634,658,440,369,597,0,"","","","","","","","","","","","","","","","","","","","","","","","","","","","","","","","","","","","","","","","","","","","","","","","","","","",null,null,603.5,597,581,610,655,442.5,377]
["15:45:00",613,687,456,368,608,622,620,643,718,402,380,634,0,"","","","","","","","","","","","","","","","","","","","","","","","","","","","","","","","","","","","","","","","","","","","","","","","","","","",null,null,621,622,620,628,702.5,429,374]
["16:00:00",628,704,457,324,619,631,629,683,698,414,371,649,0,"","","","","","","","","","","","","","","","","","","","","","","","","","","","","","","","","","","","","","","","","","","","","","","","","","","",null,null,634,631,629,655.5,701,435.5,347.5]
["16:15:00",{"$f":"IF(B$8=\"\",\"\",SUMIFS(INDIRECT(\"'\"&TEXT(B$8,\"DD_MMM_YYYY\")&\"'!I$6:I$101\"),INDIRECT(\"'\"&TEXT(B$8,\"DD_MMM_YYYY\")&\"'!a$6:a$101\"),\">=\"&$A75,INDIRECT(\"'\"&TEXT(B$8,\"DD_MMM_YYYY\")&\"'!a$6:a$101\"),\"<=\"&$A78))","v":656},750,427,340,690,683,699,743,732,408,366,718,0,"","","",{"$f":"IF(R$8=\"\",\"\",SUMIFS(INDIRECT(\"'\"&TEXT(R$8,\"DD_MMM_YYYY\")&\"'!I$6:I$101\"),INDIRECT(\"'\"&TEXT(R$8,\"DD_MMM_YYYY\")&\"'!a$6:a$101\"),\">=\"&$A75,INDIRECT(\"'\"&TEXT(R$8,\"DD_MMM_YYYY\")&\"'!a$6:a$101\"),\"<=\"&$A78))","v":""},"","","","","","","","","","","","","","","","","","","","","","","","","","","","","","","","","","","","","","","","","","","","","","","",null,null,{"$f":"IF(COUNTIFS($B$9:$BM$9,BP$8,$B75:$BM75,\">0\")=0,\"\",SUMIFS($B75:$BM75,$B$9:$BM$9,BP$8)/COUNTIFS($B$9:$BM$9,BP$8,$B75:$BM75,\">0\"))","v":704},683,699,699.5,741,417.5,353]
["16:30:00",715,796,417,319,730,710,749,740,734,395,360,781,0,"","","","","","","","","","","","","","","","","","","","","","","","","","","","","","","","","","","","","","","","","","","","","","","","","","","",null,null,755.5,710,749,727.5,765,406,339.5]
["16:45:00",711,751,425,284,775,700,763,722,730,402,325,760,0,"","","","","","","","","","","","","","","","","","","","","","","","","","","","","","","","","","","","","","","","","","","","","","","","","","","",null,null,767.5,700,763,716.5,740.5,413.5,304.5]
["17:00:00",704,693,435,276,759,675,737,686,719,374,316,743,0,"","","","","","","","","","","","","","","","","","","","","","","","","","","","","","","","","","","","","","","","","","","","","","","","","","","",null,null,751,675,737,695,706,404.5,296]
["17:15:00",673,648,443,259,662,619,691,655,651,371,292,680,0,"","","","","","",{"$f":"IF(U$8=\"\",\"\",SUMIFS(INDIRECT(\"'\"&TEXT(U$8,\"DD_MMM_YYYY\")&\"'!I$6:I$101\"),INDIRECT(\"'\"&TEXT(U$8,\"DD_MMM_YYYY\")&\"'!a$6:a$101\"),\">=\"&$A79,INDIRECT(\"'\"&TEXT(U$8,\"DD_MMM_YYYY\")&\"'!a$6:a$101\"),\"<=\"&$A82))","v":""},"","","","","","","","","","","","","","","","","","","","","","","","","","","","","","","","","","","","","","","","","","","","",null,null,671,619,691,664,649.5,407,275.5]
["17:30:00",614,587,427,271,616,544,652,600,637,371,284,589,0,"","","","","","","","","","","","","","","","","","","","","","","","","","","","","","","","","","","","","","","","","","","","","","","","","","","",null,null,602.5,544,652,607,612,399,277.5]
["17:45:00",547,527,392,258,508,499,600,559,561,381,270,520,0,"","","","","","","","","","","","","","","","","","","","","","","","","","","","","","","","","","","","","","","","","","","","","","","","","","","",null,null,514,499,600,553,544,386.5,264]
["18:00:00",531,507,364,253,449,444,571,549,552,374,253,444,0,"","","","","","","","","","","","","","","","","","","","","","","","","","","","","","","","","","","","","","","","","","","","","","","","","","","",null,null,446.5,444,571,540,529.5,369,253]
["18:15:00",482,442,327,252,419,405,524,490,541,381,239,397,0,"","","","","","","","","",{"$f":"IF(X$8=\"\",\"\",SUMIFS(INDIRECT(\"'\"&TEXT(X$8,\"DD_MMM_YYYY\")&\"'!I$6:I$101\"),INDIRECT(\"'\"&TEXT(X$8,\"DD_MMM_YYYY\")&\"'!a$6:a$101\"),\">=\"&$A83,INDIRECT(\"'\"&TEXT(X$8,\"DD_MMM_YYYY\")&\"'!a$6:a$101\"),\"<=\"&$A86))","v":""},"","","","","","","","","","","","","","","","","","","","","","","","","","","","","","","","","","","","","","","","","",null,null,408,405,524,486,491.5,354,245.5]
["18:30:00",438,385,336,230,342,400,450,463,478,363,238,359,0,"","","","","","","","","","","","","","","","","","","","","","","","","","","","","","","","","","","","","","","","","","","","","","","","","","","",null,null,350.5,400,450,450.5,431.5,349.5,234]
["18:45:00",425,345,316,244,332,350,385,428,449,322,228,317,0,"","","","","","","","","","","","","","","","","","","","","","","","","","","","","","","","","","","","","","","","","","","","","","","","","","","",null,null,324.5,350,385,426.5,397,319,236]
["19:00:00",366,307,290,221,294,321,325,377,412,291,210,289,0,"","","","","","","","","","","","","","","","","","","","","","","","","","","","","","","","","","","","","","","","","","","","","","","","","","","",null,null,291.5,321,325,371.5,359.5,290.5,215.5]
["19:15:00",316,278,269,206,250,284,254,308,355,251,199,248,0,"","","","","","","","","","","","",{"$f":"IF(AA$8=\"\",\"\",SUMIFS(INDIRECT(\"'\"&TEXT(AA$8,\"DD_MMM_YYYY\")&\"'!I$6:I$101\"),INDIRECT(\"'\"&TEXT(AA$8,\"DD_MMM_YYYY\")&\"'!a$6:a$101\"),\">=\"&$A87,INDIRECT(\"'\"&TEXT(AA$8,\"DD_MMM_YYYY\")&\"'!a$6:a$101\"),\"<=\"&$A90))","v":""},"","","","","","","","","","","","","","","","","","","","","","","","","","","","","","","","","","","","","","",null,null,249,284,254,312,316.5,260,202.5]
["19:30:00",269,252,220,204,225,231,223,247,315,222,182,226,0,"","","","","","","","","","","","","","","","","","","","","","","","","","","","","","","","","","","","","","","","","","","","","","","","","","","",null,null,225.5,231,223,258,283.5,221,193]
["19:45:00",217,237,208,171,189,203,203,206,270,206,166,209,0,"","","","","","","","","","","","","","","","","","","","","","","","","","","","","","","","","","","","","","","","","","","","","","","","","","","",null,null,199,203,203,211.5,253.5,207,168.5]
["20:00:00",195,194,202,169,170,168,174,168,227,201,138,196,0,"","","","","","","","","","","","","","","","","","","","","","","","","","","","","","","","","","","","","","","","","","","","","","","","","","","",null,null,183,168,174,181.5,210.5,201.5,153.5]
["20:15:00",174,181,193,153,156,129,176,165,199,185,134,193,0,"","","","","","","","","","","","","","","",{"$f":"IF(AD$8=\"\",\"\",SUMIFS(INDIRECT(\"'\"&TEXT(AD$8,\"DD_MMM_YYYY\")&\"'!I$6:I$101\"),INDIRECT(\"'\"&TEXT(AD$8,\"DD_MMM_YYYY\")&\"'!a$6:a$101\"),\">=\"&$A91,INDIRECT(\"'\"&TEXT(AD$8,\"DD_MMM_YYYY\")&\"'!a$6:a$101\"),\"<=\"&$A94))","v":""},"","","","","","","","","","","","","","","","","","","","","","","","","","","","","","","","","","","",null,null,174.5,129,176,169.5,190,189,143.5]
["20:30:00",154,172,206,143,139,117,167,159,185,180,116,156,0,"","","","","","","","","","","","","","","","","","","","","","","","","","","","","","","","","","","","","","","","","","","","","","","","","","","",null,null,147.5,117,167,156.5,178.5,193,129.5]
["20:45:00",150,171,178,135,127,116,155,162,176,167,112,166,0,"","","","","","","","","","","","","","","","","","","","","","","","","","","","","","","","","","","","","","","","","","","","","","","","","","","",null,null,146.5,116,155,156,173.5,172.5,123.5]
["21:00:00",131,182,166,115,126,142,153,166,165,147,114,160,0,"","","","","","","","","","","","","","","","","","","","","","","","","","","","","","","","","","","","","","","","","","","","","","","","","","","",null,null,143,142,153,148.5,173.5,156.5,114.5]
["21:15:00",133,173,162,104,112,169,132,162,171,132,105,132,0,"","","","","","","","","","","","","","","","","","",{"$f":"IF(AG$8=\"\",\"\",SUMIFS(INDIRECT(\"'\"&TEXT(AG$8,\"DD_MMM_YYYY\")&\"'!I$6:I$101\"),INDIRECT(\"'\"&TEXT(AG$8,\"DD_MMM_YYYY\")&\"'!a$6:a$101\"),\">=\"&$A95,INDIRECT(\"'\"&TEXT(AG$8,\"DD_MMM_YYYY\")&\"'!a$6:a$101\"),\"<=\"&$A98))","v":""},"","","","","","","","","","","","","","","","","","","","","","","","","","","","","","","","",null,null,122,169,132,147.5,172,147,104.5]
["21:30:00",130,165,151,88,116,186,111,149,164,139,92,134,0,"","","","","","","","","","","","","","","","","","","","","","","","","","","","","","","","","","","","","","","","","","","","","","","","","","","",null,null,125,186,111,139.5,164.5,145,90]
["21:45:00",121,148,150,78,111,177,104,140,172,150,82,100,0,"","","","","","","","","","","","","","","","","","","","","","","","","","","","","","","","","","","","","","","","","","","","","","","","","","","",null,null,105.5,177,104,130.5,160,150,80]
["22:00:00",108,135,138,72,84,144,98,114,166,142,70,68,0,"","","","","","","","","","","","","","","","","","","","","","","","","","","","","","","","","","","","","","","","","","","","","","","","","","","",null,null,76,144,98,111,150.5,140,71]
["22:15:00",87,109,121,56,76,110,82,84,146,135,66,57,0,"","","","","","","","","","","","","","","","","","","","","",{"$f":"IF(AJ$8=\"\",\"\",SUMIFS(INDIRECT(\"'\"&TEXT(AJ$8,\"DD_MMM_YYYY\")&\"'!I$6:I$101\"),INDIRECT(\"'\"&TEXT(AJ$8,\"DD_MMM_YYYY\")&\"'!a$6:a$101\"),\">=\"&$A99,INDIRECT(\"'\"&TEXT(AJ$8,\"DD_MMM_YYYY\")&\"'!a$6:a$101\"),\"<=\"&$A102))","v":""},"","","","","","","","","","","","","","","","","","","","","","","","","","","","","",null,null,66.5,110,82,85.5,127.5,128,61]
["22:30:00",73,94,109,47,58,73,71,74,125,122,51,35,0,"","","","","","","","","","","","","","","","","","","","","","","","","","","","","","","","","","","","","","","","","","","","","","","","","","","",null,null,46.5,73,71,73.5,109.5,115.5,49]
["22:45:00",54,87,101,34,43,60,67,54,97,110,43,33,0,"","","","","","","","","","","","","","","","","","","","","","","","","","","","","","","","","","","","","","","","","","","","","","","","","","","",null,null,38,60,67,54,92,105.5,38.5]
["23:00:00",50,79,96,35,47,47,59,47,91,112,37,34,0,"","","","","","","","","","","","","","","","","","","","","","","","","","","","","","","","","","","","","","","","","","","","","","","","","","","",null,null,40.5,47,59,48.5,{"$f":"IF(COUNTIFS($B$9:$BM$9,BT$8,$B102:$BM102,\">0\")=0,\"\",SUMIFS($B102:$BM102,$B$9:$BM$9,BT$8)/COUNTIFS($B$9:$BM$9,BT$8,$B102:$BM102,\">0\"))","v":85},104,36]
["23:15:00"]
["23:30:00"]
["23:45:00"]
[]
["TOP 10 hours with highest flow",null,null,null,null,null,null,null,null,null,null,null,null,null,null,null,null,null,null,null,null,null,null,null,null,null,null,null,null,null,null,null,null,null,null,null,null,null,null,null,null,null,null,null,null,null,null,null,null,null,null,null,null,null,null,null,null,null,null,null,null,null,null,null,null,null,null,"TOP 10 busiest hours"]
[1,{"$f":"IF(B8=\"\",\"\",INDEX($A$10:$A$102,MATCH(LARGE(B$10:B$102,$A108),B$10:B$102,0)))","v":"16:30:00"},{"$f":"IF(C8=\"\",\"\",INDEX($A$10:$A$102,MATCH(LARGE(C$10:C$102,$A108),C$10:C$102,0)))","v":"16:30:00"},{"$f":"IF(D8=\"\",\"\",INDEX($A$10:$A$102,MATCH(LARGE(D$10:D$102,$A108),D$10:D$102,0)))","v":"12:00:00"},"10:00:00",{"$f":"IF(F8=\"\",\"\",INDEX($A$10:$A$102,MATCH(LARGE(F$10:F$102,$A108),F$10:F$102,0)))","v":"16:45:00"},"16:30:00","16:45:00","16:15:00","16:30:00","10:15:00","11:30:00","16:30:00","08:30:00","","","","","","","","","","","","","","","","","","","","","","","","","","","","","","","","","","","","","","","","","","","","","","","","","","","",null,null,{"$f":"IFERROR(INDEX($A$10:$A$102,MATCH(LARGE(BP$10:BP$102,$A108),BP$10:BP$102,0)),\"\")","v":"16:45:00"},{"$f":"IFERROR(INDEX($A$10:$A$102,MATCH(LARGE(BQ$10:BQ$102,$A108),BQ$10:BQ$102,0)),\"\")","v":"16:30:00"},"16:45:00","16:30:00","16:30:00","10:15:00","11:15:00",{"$f":"IF(BW8=\"\",\"\",INDEX($A$10:$A$102,MATCH(LARGE(BW$10:BW$102,$A108),BW$10:BW$102,0)))","v":""}]
[2,{"$f":"IF(B9=\"\",\"\",INDEX($A$10:$A$102,MATCH(LARGE(B$10:B$102,$A109),B$10:B$102,0)))","v":"16:45:00"},"16:45:00","11:30:00","10:45:00",{"$f":"IF(F9=\"\",\"\",INDEX($A$10:$A$102,MATCH(LARGE(F$10:F$102,$A109),F$10:F$102,0)))","v":"17:00:00"},"16:45:00","16:30:00","16:30:00","16:15:00","10:00:00","11:15:00","16:45:00","08:15:00","","","","","","","","","","","","","","","","","","","","","","","","","","","","","","","","","","","","","","","","","","","","","","","","","","","",null,null,{"$f":"IFERROR(INDEX($A$10:$A$102,MATCH(LARGE(BP$10:BP$102,$A109),BP$10:BP$102,0)),\"\")","v":"16:30:00"},"16:45:00","16:30:00","16:45:00","16:15:00","10:00:00","11:30:00",{"$f":"IF(BW9=\"\",\"\",INDEX($A$10:$A$102,MATCH(LARGE(BW$10:BW$102,$A109),BW$10:BW$102,0)))","v":""}]
[3,"17:00:00",{"$f":"IF(C10=\"\",\"\",INDEX($A$10:$A$102,MATCH(LARGE(C$10:C$102,$A110),C$10:C$102,0)))","v":"16:15:00"},"11:45:00","10:15:00",{"$f":"IF(F10=\"\",\"\",INDEX($A$10:$A$102,MATCH(LARGE(F$10:F$102,$A110),F$10:F$102,0)))","v":"16:30:00"},"16:15:00","17:00:00","16:45:00","16:45:00","10:30:00","11:00:00","17:00:00","07:15:00","","","","","","","","","","","","","","","","","","","","","","","","","","","","","","","","","","","","","","","","","","","","","","","","","","","",null,null,"17:00:00","16:15:00","17:00:00","16:15:00","16:45:00","11:45:00","11:00:00",""]
[4,"17:15:00",{"$f":"IF(C11=\"\",\"\",INDEX($A$10:$A$102,MATCH(LARGE(C$10:C$102,$A111),C$10:C$102,0)))","v":"16:00:00"},"12:15:00","10:15:00",{"$f":"IF(F11=\"\",\"\",INDEX($A$10:$A$102,MATCH(LARGE(F$10:F$102,$A111),F$10:F$102,0)))","v":"16:15:00"},"17:00:00","16:15:00","17:00:00","17:00:00","09:45:00","11:45:00","16:15:00","07:45:00","","","","","","","","","","","","","","","","","","","","","","","","","","","","","","","","","","","","","","","","","","","","","","","","","","","",null,null,"16:15:00","17:00:00","16:15:00","17:00:00","17:00:00","09:45:00","10:45:00",""]
[5,{"$f":"IF(B12=\"\",\"\",INDEX($A$10:$A$102,MATCH(LARGE(B$10:B$102,$A112),B$10:B$102,0)))","v":"16:15:00"},"17:00:00","10:15:00","09:45:00",{"$f":"IF(F12=\"\",\"\",INDEX($A$10:$A$102,MATCH(LARGE(F$10:F$102,$A112),F$10:F$102,0)))","v":"17:15:00"},"08:15:00","17:15:00","16:00:00","15:45:00","11:45:00","10:45:00","17:15:00","08:45:00","","","","","","","","","","","","","","","","","","","","","","","","","","","","","","","","","","","","","","","","","","","","","","","","","","","",null,null,"17:15:00","16:00:00","17:15:00","17:15:00","15:45:00","09:45:00","11:45:00"]
[6,{"$f":"IF(B13=\"\",\"\",INDEX($A$10:$A$102,MATCH(LARGE(B$10:B$102,$A113),B$10:B$102,0)))","v":"16:00:00"},"15:45:00","10:45:00","09:30:00",{"$f":"IF(F13=\"\",\"\",INDEX($A$10:$A$102,MATCH(LARGE(F$10:F$102,$A113),F$10:F$102,0)))","v":"16:00:00"},"16:00:00","07:30:00","17:15:00","16:00:00","10:45:00","10:30:00","16:00:00","09:00:00","","","","","","","","","","","","","","","","","","","","","","","","","","","","","","","","","","","","","","","","","","","","","","","","","","","",null,null,"16:00:00","15:45:00","07:30:00","16:00:00","16:00:00","10:30:00","10:00:00"]
[7,{"$f":"IF(B14=\"\",\"\",INDEX($A$10:$A$102,MATCH(LARGE(B$10:B$102,$A114),B$10:B$102,0)))","v":"10:30:00"},"13:45:00","10:45:00","11:15:00",{"$f":"IF(F14=\"\",\"\",INDEX($A$10:$A$102,MATCH(LARGE(F$10:F$102,$A114),F$10:F$102,0)))","v":"07:30:00"},"08:00:00","17:30:00","08:00:00","08:00:00","11:00:00","10:00:00","15:45:00","07:30:00","","","","","","","","","","","","","","","","","","","","","","","","","","","","","","","","","","","","","","","","","","","","","","","","","","","",null,null,"15:45:00","17:15:00","17:30:00","15:45:00","15:30:00","12:00:00","10:15:00"]
[8,{"$f":"IF(B15=\"\",\"\",INDEX($A$10:$A$102,MATCH(LARGE(B$10:B$102,$A115),B$10:B$102,0)))","v":"10:15:00"},"15:30:00","09:45:00","10:30:00",{"$f":"IF(F15=\"\",\"\",INDEX($A$10:$A$102,MATCH(LARGE(F$10:F$102,$A115),F$10:F$102,0)))","v":"07:30:00"},"15:45:00","07:45:00","15:45:00","15:30:00","11:30:00","10:00:00","15:00:00","08:00:00","","","","","","","","","","","","","","","","","","","","","","","","","","","","","","","","","","","","","","","","","","","","","","","","","","","",null,null,"07:30:00","08:15:00","07:45:00","15:30:00","17:15:00","10:45:00","10:15:00"]
[9,{"$f":"IF(B16=\"\",\"\",INDEX($A$10:$A$102,MATCH(LARGE(B$10:B$102,$A116),B$10:B$102,0)))","v":"17:30:00"},"15:15:00","09:45:00","11:30:00",{"$f":"IF(F16=\"\",\"\",INDEX($A$10:$A$102,MATCH(LARGE(F$10:F$102,$A116),F$10:F$102,0)))","v":"15:30:00"},"07:30:00","07:15:00","08:15:00","07:45:00","09:30:00","10:15:00","07:45:00","07:00:00","","","","","","","","","","","","","","","","","","","","","","","","","","","","","","","","","","","","","","","","","","","","","","","","","","","",null,null,"15:30:00","08:30:00","07:15:00","17:30:00","15:15:00","11:00:00","09:45:00"]
[10,{"$f":"IF(B12=\"\",\"\",INDEX($A$10:$A$102,MATCH(LARGE(B$10:B$102,$A117),B$10:B$102,0)))","v":"15:45:00"},"17:15:00","10:00:00","11:45:00","15:45:00","08:30:00","16:00:00","08:30:00","17:15:00","11:15:00","09:45:00","07:30:00","09:15:00","","","","","","","","","","","","","","","","","","","",{"$f":"IF(AH12=\"\",\"\",INDEX($A$10:$A$102,MATCH(LARGE(AH$10:AH$102,$A117),AH$10:AH$102,0)))","v":""},"","","","","","","","","","","","","","","","","","","","","","","","","","","","","","","",null,null,"17:30:00","07:15:00","16:00:00","08:15:00","15:00:00","12:15:00","12:00:00",{"$f":"IF(BW12=\"\",\"\",INDEX($A$10:$A$102,MATCH(LARGE(BW$10:BW$102,$A117),BW$10:BW$102,0)))","v":""}]

{"sheet":"rolling hour totals_dir 2","index":17,"n_rows":117,"n_cols":75,"rows_kept":117,"cut":false,"hidden":false,"merged":[]}
["* The table is calculated automatically based on sheet 'Form'"]
["!!! it is at that stage the user should manually remove all the values, which are outliers, incomplete, etc."]
[]
["AUTOMATIC TRAFFIC COUNT, 1HR SUMMARY"]
[{"$f":"'Site Plan'!A20","v":"Direction 2"},{"$f":"'Site Plan'!C20","v":"Westbound"}]
[]
["CAR + LGV + HGV",null,null,null,null,null,null,null,null,null,null,null,null,null,null,null,null,null,null,null,null,null,null,null,null,null,null,null,null,null,null,null,null,null,null,null,null,null,null,null,null,null,null,null,null,null,null,null,null,null,null,null,null,null,null,null,null,null,null,null,null,null,null,null,null,null,null,"Mean, can be used to identify the busiest hour"]
[null,{"$f":"'Site Plan'!$Q$3","v":"2016-04-07"},{"$f":"IF($B$8+COLUMN(B8)-1<='Site Plan'!$Q$4,$B$8+COLUMN(B8)-1,\"\")","v":"2016-04-08"},{"$f":"IF($B$8+COLUMN(C8)-1<='Site Plan'!$Q$4,$B$8+COLUMN(C8)-1,\"\")","v":"2016-04-09"},{"$f":"IF($B$8+COLUMN(D8)-1<='Site Plan'!$Q$4,$B$8+COLUMN(D8)-1,\"\")","v":"2016-04-10"},{"$f":"IF($B$8+COLUMN(E8)-1<='Site Plan'!$Q$4,$B$8+COLUMN(E8)-1,\"\")","v":"2016-04-11"},{"$f":"IF($B$8+COLUMN(F8)-1<='Site Plan'!$Q$4,$B$8+COLUMN(F8)-1,\"\")","v":"2016-04-12"},{"$f":"IF($B$8+COLUMN(G8)-1<='Site Plan'!$Q$4,$B$8+COLUMN(G8)-1,\"\")","v":"2016-04-13"},{"$f":"IF($B$8+COLUMN(H8)-1<='Site Plan'!$Q$4,$B$8+COLUMN(H8)-1,\"\")","v":"2016-04-14"},{"$f":"IF($B$8+COLUMN(I8)-1<='Site Plan'!$Q$4,$B$8+COLUMN(I8)-1,\"\")","v":"2016-04-15"},{"$f":"IF($B$8+COLUMN(J8)-1<='Site Plan'!$Q$4,$B$8+COLUMN(J8)-1,\"\")","v":"2016-04-16"},{"$f":"IF($B$8+COLUMN(K8)-1<='Site Plan'!$Q$4,$B$8+COLUMN(K8)-1,\"\")","v":"2016-04-17"},{"$f":"IF($B$8+COLUMN(L8)-1<='Site Plan'!$Q$4,$B$8+COLUMN(L8)-1,\"\")","v":"2016-04-18"},{"$f":"IF($B$8+COLUMN(M8)-1<='Site Plan'!$Q$4,$B$8+COLUMN(M8)-1,\"\")","v":"2016-04-19"},{"$f":"IF($B$8+COLUMN(N8)-1<='Site Plan'!$Q$4,$B$8+COLUMN(N8)-1,\"\")","v":""},{"$f":"IF($B$8+COLUMN(O8)-1<='Site Plan'!$Q$4,$B$8+COLUMN(O8)-1,\"\")","v":""},{"$f":"IF($B$8+COLUMN(P8)-1<='Site Plan'!$Q$4,$B$8+COLUMN(P8)-1,\"\")","v":""},{"$f":"IF($B$8+COLUMN(Q8)-1<='Site Plan'!$Q$4,$B$8+COLUMN(Q8)-1,\"\")","v":""},{"$f":"IF($B$8+COLUMN(R8)-1<='Site Plan'!$Q$4,$B$8+COLUMN(R8)-1,\"\")","v":""},{"$f":"IF($B$8+COLUMN(S8)-1<='Site Plan'!$Q$4,$B$8+COLUMN(S8)-1,\"\")","v":""},{"$f":"IF($B$8+COLUMN(T8)-1<='Site Plan'!$Q$4,$B$8+COLUMN(T8)-1,\"\")","v":""},{"$f":"IF($B$8+COLUMN(U8)-1<='Site Plan'!$Q$4,$B$8+COLUMN(U8)-1,\"\")","v":""},{"$f":"IF($B$8+COLUMN(V8)-1<='Site Plan'!$Q$4,$B$8+COLUMN(V8)-1,\"\")","v":""},{"$f":"IF($B$8+COLUMN(W8)-1<='Site Plan'!$Q$4,$B$8+COLUMN(W8)-1,\"\")","v":""},{"$f":"IF($B$8+COLUMN(X8)-1<='Site Plan'!$Q$4,$B$8+COLUMN(X8)-1,\"\")","v":""},{"$f":"IF($B$8+COLUMN(Y8)-1<='Site Plan'!$Q$4,$B$8+COLUMN(Y8)-1,\"\")","v":""},{"$f":"IF($B$8+COLUMN(Z8)-1<='Site Plan'!$Q$4,$B$8+COLUMN(Z8)-1,\"\")","v":""},{"$f":"IF($B$8+COLUMN(AA8)-1<='Site Plan'!$Q$4,$B$8+COLUMN(AA8)-1,\"\")","v":""},{"$f":"IF($B$8+COLUMN(AB8)-1<='Site Plan'!$Q$4,$B$8+COLUMN(AB8)-1,\"\")","v":""},{"$f":"IF($B$8+COLUMN(AC8)-1<='Site Plan'!$Q$4,$B$8+COLUMN(AC8)-1,\"\")","v":""},{"$f":"IF($B$8+COLUMN(AD8)-1<='Site Plan'!$Q$4,$B$8+COLUMN(AD8)-1,\"\")","v":""},{"$f":"IF($B$8+COLUMN(AE8)-1<='Site Plan'!$Q$4,$B$8+COLUMN(AE8)-1,\"\")","v":""},{"$f":"IF($B$8+COLUMN(AF8)-1<='Site Plan'!$Q$4,$B$8+COLUMN(AF8)-1,\"\")","v":""},{"$f":"IF($B$8+COLUMN(AG8)-1<='Site Plan'!$Q$4,$B$8+COLUMN(AG8)-1,\"\")","v":""},{"$f":"IF($B$8+COLUMN(AH8)-1<='Site Plan'!$Q$4,$B$8+COLUMN(AH8)-1,\"\")","v":""},{"$f":"IF($B$8+COLUMN(AI8)-1<='Site Plan'!$Q$4,$B$8+COLUMN(AI8)-1,\"\")","v":""},{"$f":"IF($B$8+COLUMN(AJ8)-1<='Site Plan'!$Q$4,$B$8+COLUMN(AJ8)-1,\"\")","v":""},{"$f":"IF($B$8+COLUMN(AK8)-1<='Site Plan'!$Q$4,$B$8+COLUMN(AK8)-1,\"\")","v":""},{"$f":"IF($B$8+COLUMN(AL8)-1<='Site Plan'!$Q$4,$B$8+COLUMN(AL8)-1,\"\")","v":""},{"$f":"IF($B$8+COLUMN(AM8)-1<='Site Plan'!$Q$4,$B$8+COLUMN(AM8)-1,\"\")","v":""},{"$f":"IF($B$8+COLUMN(AN8)-1<='Site Plan'!$Q$4,$B$8+COLUMN(AN8)-1,\"\")","v":""},{"$f":"IF($B$8+COLUMN(AO8)-1<='Site Plan'!$Q$4,$B$8+COLUMN(AO8)-1,\"\")","v":""},{"$f":"IF($B$8+COLUMN(AP8)-1<='Site Plan'!$Q$4,$B$8+COLUMN(AP8)-1,\"\")","v":""},{"$f":"IF($B$8+COLUMN(AQ8)-1<='Site Plan'!$Q$4,$B$8+COLUMN(AQ8)-1,\"\")","v":""},{"$f":"IF($B$8+COLUMN(AR8)-1<='Site Plan'!$Q$4,$B$8+COLUMN(AR8)-1,\"\")","v":""},{"$f":"IF($B$8+COLUMN(AS8)-1<='Site Plan'!$Q$4,$B$8+COLUMN(AS8)-1,\"\")","v":""},{"$f":"IF($B$8+COLUMN(AT8)-1<='Site Plan'!$Q$4,$B$8+COLUMN(AT8)-1,\"\")","v":""},{"$f":"IF($B$8+COLUMN(AU8)-1<='Site Plan'!$Q$4,$B$8+COLUMN(AU8)-1,\"\")","v":""},{"$f":"IF($B$8+COLUMN(AV8)-1<='Site Plan'!$Q$4,$B$8+COLUMN(AV8)-1,\"\")","v":""},{"$f":"IF($B$8+COLUMN(AW8)-1<='Site Plan'!$Q$4,$B$8+COLUMN(AW8)-1,\"\")","v":""},{"$f":"IF($B$8+COLUMN(AX8)-1<='Site Plan'!$Q$4,$B$8+COLUMN(AX8)-1,\"\")","v":""},{"$f":"IF($B$8+COLUMN(AY8)-1<='Site Plan'!$Q$4,$B$8+COLUMN(AY8)-1,\"\")","v":""},{"$f":"IF($B$8+COLUMN(AZ8)-1<='Site Plan'!$Q$4,$B$8+COLUMN(AZ8)-1,\"\")","v":""},{"$f":"IF($B$8+COLUMN(BA8)-1<='Site Plan'!$Q$4,$B$8+COLUMN(BA8)-1,\"\")","v":""},{"$f":"IF($B$8+COLUMN(BB8)-1<='Site Plan'!$Q$4,$B$8+COLUMN(BB8)-1,\"\")","v":""},{"$f":"IF($B$8+COLUMN(BC8)-1<='Site Plan'!$Q$4,$B$8+COLUMN(BC8)-1,\"\")","v":""},{"$f":"IF($B$8+COLUMN(BD8)-1<='Site Plan'!$Q$4,$B$8+COLUMN(BD8)-1,\"\")","v":""},{"$f":"IF($B$8+COLUMN(BE8)-1<='Site Plan'!$Q$4,$B$8+COLUMN(BE8)-1,\"\")","v":""},{"$f":"IF($B$8+COLUMN(BF8)-1<='Site Plan'!$Q$4,$B$8+COLUMN(BF8)-1,\"\")","v":""},{"$f":"IF($B$8+COLUMN(BG8)-1<='Site Plan'!$Q$4,$B$8+COLUMN(BG8)-1,\"\")","v":""},{"$f":"IF($B$8+COLUMN(BH8)-1<='Site Plan'!$Q$4,$B$8+COLUMN(BH8)-1,\"\")","v":""},{"$f":"IF($B$8+COLUMN(BI8)-1<='Site Plan'!$Q$4,$B$8+COLUMN(BI8)-1,\"\")","v":""},{"$f":"IF($B$8+COLUMN(BJ8)-1<='Site Plan'!$Q$4,$B$8+COLUMN(BJ8)-1,\"\")","v":""},{"$f":"IF($B$8+COLUMN(BK8)-1<='Site Plan'!$Q$4,$B$8+COLUMN(BK8)-1,\"\")","v":""},{"$f":"IF($B$8+COLUMN(BL8)-1<='Site Plan'!$Q$4,$B$8+COLUMN(BL8)-1,\"\")","v":""},null,null,"Mon","Tue","Wed","Thu","Fri","Sat","Sun"]
["TIME",{"$f":"IF(B8=\"\",\"\",CHOOSE(WEEKDAY(B8),\"Sun\",\"Mon\",\"Tue\",\"Wed\",\"Thu\",\"Fri\",\"Sat\"))","v":"Thu"},{"$f":"IF(C8=\"\",\"\",CHOOSE(WEEKDAY(C8),\"Sun\",\"Mon\",\"Tue\",\"Wed\",\"Thu\",\"Fri\",\"Sat\"))","v":"Fri"},"Sat","Sun","Mon","Tue","Wed","Thu","Fri","Sat","Sun","Mon","Tue","","","","","","","","","","","","","","","","","","","","","","","","","","","","","","","","","","","","","","","","","","","","","","","","","","","",null,null,"Mean","Mean","Mean","Mean","Mean","Mean","Mean"]
["00:00:00",{"$f":"IF(B$8=\"\",\"\",SUMIFS(INDIRECT(\"'\"&TEXT(B$8,\"DD_MMM_YYYY\")&\"'!S$6:S$101\"),INDIRECT(\"'\"&TEXT(B$8,\"DD_MMM_YYYY\")&\"'!a$6:a$101\"),\">=\"&$A10,INDIRECT(\"'\"&TEXT(B$8,\"DD_MMM_YYYY\")&\"'!a$6:a$101\"),\"<=\"&$A13))","v":15},{"$f":"IF(C$8=\"\",\"\",SUMIFS(INDIRECT(\"'\"&TEXT(C$8,\"DD_MMM_YYYY\")&\"'!S$6:S$101\"),INDIRECT(\"'\"&TEXT(C$8,\"DD_MMM_YYYY\")&\"'!a$6:a$101\"),\">=\"&$A10,INDIRECT(\"'\"&TEXT(C$8,\"DD_MMM_YYYY\")&\"'!a$6:a$101\"),\"<=\"&$A13))","v":13},45,61,13,12,16,12,20,23,85,5,11,"","","","","","","","","","","","","","","","","","","","","","","","","","","","","","","","","","","","","","","","","","","","","","","","","","","",null,null,{"$f":"IF(COUNTIFS($B$9:$BM$9,BP$8,$B10:$BM10,\">0\")=0,\"\",SUMIFS($B10:$BM10,$B$9:$BM$9,BP$8)/COUNTIFS($B$9:$BM$9,BP$8,$B10:$BM10,\">0\"))","v":9},{"$f":"IF(COUNTIFS($B$9:$BM$9,BQ$8,$B10:$BM10,\">0\")=0,\"\",SUMIFS($B10:$BM10,$B$9:$BM$9,BQ$8)/COUNTIFS($B$9:$BM$9,BQ$8,$B10:$BM10,\">0\"))","v":11.5},{"$f":"IF(COUNTIFS($B$9:$BM$9,BR$8,$B10:$BM10,\">0\")=0,\"\",SUMIFS($B10:$BM10,$B$9:$BM$9,BR$8)/COUNTIFS($B$9:$BM$9,BR$8,$B10:$BM10,\">0\"))","v":16},13.5,16.5,34,73]
["00:15:00",{"$f":"IF(B$8=\"\",\"\",SUMIFS(INDIRECT(\"'\"&TEXT(B$8,\"DD_MMM_YYYY\")&\"'!S$6:S$101\"),INDIRECT(\"'\"&TEXT(B$8,\"DD_MMM_YYYY\")&\"'!a$6:a$101\"),\">=\"&$A11,INDIRECT(\"'\"&TEXT(B$8,\"DD_MMM_YYYY\")&\"'!a$6:a$101\"),\"<=\"&$A14))","v":12},11,28,42,10,8,12,8,17,19,69,6,7,"","","","","","","","","","","","","","","","","","","","","","","","","","","","","","","","","","","","","","","","","","","","","","","","","","","",null,null,{"$f":"IF(COUNTIFS($B$9:$BM$9,BP$8,$B11:$BM11,\">0\")=0,\"\",SUMIFS($B11:$BM11,$B$9:$BM$9,BP$8)/COUNTIFS($B$9:$BM$9,BP$8,$B11:$BM11,\">0\"))","v":8},7.5,12,10,14,23.5,55.5]
["00:30:00",{"$f":"IF(B$8=\"\",\"\",SUMIFS(INDIRECT(\"'\"&TEXT(B$8,\"DD_MMM_YYYY\")&\"'!S$6:S$101\"),INDIRECT(\"'\"&TEXT(B$8,\"DD_MMM_YYYY\")&\"'!a$6:a$101\"),\">=\"&$A12,INDIRECT(\"'\"&TEXT(B$8,\"DD_MMM_YYYY\")&\"'!a$6:a$101\"),\"<=\"&$A15))","v":11},10,25,34,8,11,9,9,13,19,45,6,8,"","","","","","","","","","","","","","","","","","","","","","","","","","","","","","","","","","","","","","","","","","","","","","","","","","","",null,null,7,9.5,9,10,11.5,22,39.5]
["00:45:00",{"$f":"IF(B$8=\"\",\"\",SUMIFS(INDIRECT(\"'\"&TEXT(B$8,\"DD_MMM_YYYY\")&\"'!S$6:S$101\"),INDIRECT(\"'\"&TEXT(B$8,\"DD_MMM_YYYY\")&\"'!a$6:a$101\"),\">=\"&$A13,INDIRECT(\"'\"&TEXT(B$8,\"DD_MMM_YYYY\")&\"'!a$6:a$101\"),\"<=\"&$A16))","v":7},8,26,24,7,12,9,9,12,14,31,6,7,"","","","","","","","","","","","","","","","","","","","","","","","","","","","","","","","","","","","","","","","","","","","","","","","","","","",null,null,6.5,9.5,9,8,10,20,27.5]
["01:00:00",{"$f":"IF(B$8=\"\",\"\",SUMIFS(INDIRECT(\"'\"&TEXT(B$8,\"DD_MMM_YYYY\")&\"'!S$6:S$101\"),INDIRECT(\"'\"&TEXT(B$8,\"DD_MMM_YYYY\")&\"'!a$6:a$101\"),\">=\"&$A14,INDIRECT(\"'\"&TEXT(B$8,\"DD_MMM_YYYY\")&\"'!a$6:a$101\"),\"<=\"&$A17))","v":6},7,21,24,6,9,7,8,5,10,24,8,4,"","","","","","","","","","","","","","","","","","","","","","","","","","","","","","","","","","","","","","","","","","","","","","","","","","","",null,null,7,6.5,7,7,6,15.5,24]
["01:15:00",{"$f":"IF(B$8=\"\",\"\",SUMIFS(INDIRECT(\"'\"&TEXT(B$8,\"DD_MMM_YYYY\")&\"'!S$6:S$101\"),INDIRECT(\"'\"&TEXT(B$8,\"DD_MMM_YYYY\")&\"'!a$6:a$101\"),\">=\"&$A15,INDIRECT(\"'\"&TEXT(B$8,\"DD_MMM_YYYY\")&\"'!a$6:a$101\"),\"<=\"&$A18))","v":6},5,18,27,7,14,10,8,3,13,15,8,6,"","","","","","","","","","","","","","","","","","","","","","","","","","","","","","","","","","","","","","","","","","","","","","","","","","","",null,null,7.5,10,10,7,4,15.5,21]
["01:30:00",{"$f":"IF(B$8=\"\",\"\",SUMIFS(INDIRECT(\"'\"&TEXT(B$8,\"DD_MMM_YYYY\")&\"'!S$6:S$101\"),INDIRECT(\"'\"&TEXT(B$8,\"DD_MMM_YYYY\")&\"'!a$6:a$101\"),\">=\"&$A16,INDIRECT(\"'\"&TEXT(B$8,\"DD_MMM_YYYY\")&\"'!a$6:a$101\"),\"<=\"&$A19))","v":6},7,13,22,9,12,9,8,5,9,12,8,6,"","","","","","","","","","","","","","","","","","","","","","","","","","","","","","","","","","","","","","","","","","","","","","","","","","","",null,null,8.5,9,9,7,6,11,17]
["01:45:00",{"$f":"IF(B$8=\"\",\"\",SUMIFS(INDIRECT(\"'\"&TEXT(B$8,\"DD_MMM_YYYY\")&\"'!S$6:S$101\"),INDIRECT(\"'\"&TEXT(B$8,\"DD_MMM_YYYY\")&\"'!a$6:a$101\"),\">=\"&$A17,INDIRECT(\"'\"&TEXT(B$8,\"DD_MMM_YYYY\")&\"'!a$6:a$101\"),\"<=\"&$A20))","v":9},8,7,26,8,11,10,8,7,11,12,8,8,"","","","","","","","","","","","","","","","","","","","","","","","","","","","","","","","","","","","","","","","","","","","","","","","","","","",null,null,8,9.5,10,8.5,7.5,9,19]
["02:00:00",{"$f":"IF(B$8=\"\",\"\",SUMIFS(INDIRECT(\"'\"&TEXT(B$8,\"DD_MMM_YYYY\")&\"'!S$6:S$101\"),INDIRECT(\"'\"&TEXT(B$8,\"DD_MMM_YYYY\")&\"'!a$6:a$101\"),\">=\"&$A18,INDIRECT(\"'\"&TEXT(B$8,\"DD_MMM_YYYY\")&\"'!a$6:a$101\"),\"<=\"&$A21))","v":9},10,3,23,9,14,8,10,9,13,17,12,11,"","","","","","","","","","","","","","","","","","","","","","","","","","","","","","","","","","","","","","","","","","","","","","","","","","","",null,null,10.5,12.5,8,9.5,9.5,8,20]
["02:15:00",{"$f":"IF(B$8=\"\",\"\",SUMIFS(INDIRECT(\"'\"&TEXT(B$8,\"DD_MMM_YYYY\")&\"'!S$6:S$101\"),INDIRECT(\"'\"&TEXT(B$8,\"DD_MMM_YYYY\")&\"'!a$6:a$101\"),\">=\"&$A19,INDIRECT(\"'\"&TEXT(B$8,\"DD_MMM_YYYY\")&\"'!a$6:a$101\"),\"<=\"&$A22))","v":10},13,3,20,7,9,6,10,11,15,18,13,11,"","","","","","","","","","","","","","","","","","","","","","","","","","","","","","","","","","","","","","","","","","","","","","","","","","","",null,null,10,10,6,10,12,9,19]
["02:30:00",{"$f":"IF(B$8=\"\",\"\",SUMIFS(INDIRECT(\"'\"&TEXT(B$8,\"DD_MMM_YYYY\")&\"'!S$6:S$101\"),INDIRECT(\"'\"&TEXT(B$8,\"DD_MMM_YYYY\")&\"'!a$6:a$101\"),\">=\"&$A20,INDIRECT(\"'\"&TEXT(B$8,\"DD_MMM_YYYY\")&\"'!a$6:a$101\"),\"<=\"&$A23))","v":12},15,7,20,7,12,12,11,13,15,21,13,13,"","","","","","","","","","","","","","","","","","","","","","","","","","","","","","","","","","","","","","","","","","","","","","","","","","","",null,null,10,12.5,12,11.5,14,11,20.5]
["02:45:00",{"$f":"IF(B$8=\"\",\"\",SUMIFS(INDIRECT(\"'\"&TEXT(B$8,\"DD_MMM_YYYY\")&\"'!S$6:S$101\"),INDIRECT(\"'\"&TEXT(B$8,\"DD_MMM_YYYY\")&\"'!a$6:a$101\"),\">=\"&$A21,INDIRECT(\"'\"&TEXT(B$8,\"DD_MMM_YYYY\")&\"'!a$6:a$101\"),\"<=\"&$A24))","v":10},14,12,15,14,18,17,12,15,20,22,15,12,"","","","","","","","","","","","","","","","","","","","","","","","","","","","","","","","","","","","","","","","","","","","","","","","","","","",null,null,14.5,15,17,11,14.5,16,18.5]
["03:00:00",{"$f":"IF(B$8=\"\",\"\",SUMIFS(INDIRECT(\"'\"&TEXT(B$8,\"DD_MMM_YYYY\")&\"'!S$6:S$101\"),INDIRECT(\"'\"&TEXT(B$8,\"DD_MMM_YYYY\")&\"'!a$6:a$101\"),\">=\"&$A22,INDIRECT(\"'\"&TEXT(B$8,\"DD_MMM_YYYY\")&\"'!a$6:a$101\"),\"<=\"&$A25))","v":11},14,15,15,18,17,19,15,16,24,19,12,12,"","","","","","","","","","","","","","","","","","","","","","","","","","","","","","","","","","","","","","","","","","","","","","","","","","","",null,null,15,14.5,19,13,15,19.5,17]
["03:15:00",{"$f":"IF(B$8=\"\",\"\",SUMIFS(INDIRECT(\"'\"&TEXT(B$8,\"DD_MMM_YYYY\")&\"'!S$6:S$101\"),INDIRECT(\"'\"&TEXT(B$8,\"DD_MMM_YYYY\")&\"'!a$6:a$101\"),\">=\"&$A23,INDIRECT(\"'\"&TEXT(B$8,\"DD_MMM_YYYY\")&\"'!a$6:a$101\"),\"<=\"&$A26))","v":12},19,22,18,24,25,23,19,23,21,24,13,19,"","","","","","","","","","","","","","","","","","","","","","","","","","","","","","","","","","","","","","","","","","","","","","","","","","","",null,null,18.5,22,23,15.5,21,21.5,21]
["03:30:00",{"$f":"IF(B$8=\"\",\"\",SUMIFS(INDIRECT(\"'\"&TEXT(B$8,\"DD_MMM_YYYY\")&\"'!S$6:S$101\"),INDIRECT(\"'\"&TEXT(B$8,\"DD_MMM_YYYY\")&\"'!a$6:a$101\"),\">=\"&$A24,INDIRECT(\"'\"&TEXT(B$8,\"DD_MMM_YYYY\")&\"'!a$6:a$101\"),\"<=\"&$A27))","v":22},23,20,23,40,27,26,23,29,22,24,17,24,"","","","","","","","","","","","","","","","","","","","","","","","","","","","","","","","","","","","","","","","","","","","","","","","","","","",null,null,28.5,25.5,26,22.5,26,21,23.5]
["03:45:00",{"$f":"IF(B$8=\"\",\"\",SUMIFS(INDIRECT(\"'\"&TEXT(B$8,\"DD_MMM_YYYY\")&\"'!S$6:S$101\"),INDIRECT(\"'\"&TEXT(B$8,\"DD_MMM_YYYY\")&\"'!a$6:a$101\"),\">=\"&$A25,INDIRECT(\"'\"&TEXT(B$8,\"DD_MMM_YYYY\")&\"'!a$6:a$101\"),\"<=\"&$A28))","v":32},34,21,26,52,32,29,37,38,17,21,37,37,"","","","","","","","","","","","","","","","","","","","","","","","","","","","","","","","","","","","","","","","","","","","","","","","","","","",null,null,44.5,34.5,29,34.5,36,19,23.5]
["04:00:00",{"$f":"IF(B$8=\"\",\"\",SUMIFS(INDIRECT(\"'\"&TEXT(B$8,\"DD_MMM_YYYY\")&\"'!S$6:S$101\"),INDIRECT(\"'\"&TEXT(B$8,\"DD_MMM_YYYY\")&\"'!a$6:a$101\"),\">=\"&$A26,INDIRECT(\"'\"&TEXT(B$8,\"DD_MMM_YYYY\")&\"'!a$6:a$101\"),\"<=\"&$A29))","v":45},47,23,27,60,48,43,44,46,16,23,51,46,"","","","","","","","","","","","","","","","","","","","","","","","","","","","","","","","","","","","","","","","","","","","","","","","","","","",null,null,55.5,47,43,44.5,46.5,19.5,25]
["04:15:00",{"$f":"IF(B$8=\"\",\"\",SUMIFS(INDIRECT(\"'\"&TEXT(B$8,\"DD_MMM_YYYY\")&\"'!S$6:S$101\"),INDIRECT(\"'\"&TEXT(B$8,\"DD_MMM_YYYY\")&\"'!a$6:a$101\"),\">=\"&$A27,INDIRECT(\"'\"&TEXT(B$8,\"DD_MMM_YYYY\")&\"'!a$6:a$101\"),\"<=\"&$A30))","v":66},54,21,29,74,64,62,54,53,18,19,75,61,"","","","","","","","","","","","","","","","","","","","","","","","","","","","","","","","","","","","","","","","","","","","","","","","","","","",null,null,74.5,62.5,62,60,53.5,19.5,24]
["04:30:00",{"$f":"IF(B$8=\"\",\"\",SUMIFS(INDIRECT(\"'\"&TEXT(B$8,\"DD_MMM_YYYY\")&\"'!S$6:S$101\"),INDIRECT(\"'\"&TEXT(B$8,\"DD_MMM_YYYY\")&\"'!a$6:a$101\"),\">=\"&$A28,INDIRECT(\"'\"&TEXT(B$8,\"DD_MMM_YYYY\")&\"'!a$6:a$101\"),\"<=\"&$A31))","v":88},79,27,28,98,89,84,85,87,24,16,109,80,"","","","","","","","","","","","","","","","","","","","","","","","","","","","","","","","","","","","","","","","","","","","","","","","","","","",null,null,103.5,84.5,84,86.5,83,25.5,22]
["04:45:00",{"$f":"IF(B$8=\"\",\"\",SUMIFS(INDIRECT(\"'\"&TEXT(B$8,\"DD_MMM_YYYY\")&\"'!S$6:S$101\"),INDIRECT(\"'\"&TEXT(B$8,\"DD_MMM_YYYY\")&\"'!a$6:a$101\"),\">=\"&$A29,INDIRECT(\"'\"&TEXT(B$8,\"DD_MMM_YYYY\")&\"'!a$6:a$101\"),\"<=\"&$A32))","v":113},104,39,28,118,114,115,116,113,31,25,123,113,"","","","","","","","","","","","","","","","","","","","","","","","","","","","","","","","","","","","","","","","","","","","","","","","","","","",null,null,120.5,113.5,115,114.5,108.5,35,26.5]
["05:00:00",{"$f":"IF(B$8=\"\",\"\",SUMIFS(INDIRECT(\"'\"&TEXT(B$8,\"DD_MMM_YYYY\")&\"'!S$6:S$101\"),INDIRECT(\"'\"&TEXT(B$8,\"DD_MMM_YYYY\")&\"'!a$6:a$101\"),\">=\"&$A30,INDIRECT(\"'\"&TEXT(B$8,\"DD_MMM_YYYY\")&\"'!a$6:a$101\"),\"<=\"&$A33))","v":143},134,53,34,152,141,160,152,151,47,22,159,149,"","","","","","","","","","","","","","","","","","","","","","","","","","","","","","","","","","","","","","","","","","","","","","","","","","","",null,null,155.5,145,160,147.5,142.5,50,28]
["05:15:00",{"$f":"IF(B$8=\"\",\"\",SUMIFS(INDIRECT(\"'\"&TEXT(B$8,\"DD_MMM_YYYY\")&\"'!S$6:S$101\"),INDIRECT(\"'\"&TEXT(B$8,\"DD_MMM_YYYY\")&\"'!a$6:a$101\"),\">=\"&$A31,INDIRECT(\"'\"&TEXT(B$8,\"DD_MMM_YYYY\")&\"'!a$6:a$101\"),\"<=\"&$A34))","v":181},183,61,36,204,187,207,205,191,60,27,205,200,"","","","","","","","","","","","","","","","","","","","","","","","","","","","","","","","","","","","","","","","","","","","","","","","","","","",null,null,204.5,193.5,207,193,187,60.5,31.5]
["05:30:00",{"$f":"IF(B$8=\"\",\"\",SUMIFS(INDIRECT(\"'\"&TEXT(B$8,\"DD_MMM_YYYY\")&\"'!S$6:S$101\"),INDIRECT(\"'\"&TEXT(B$8,\"DD_MMM_YYYY\")&\"'!a$6:a$101\"),\">=\"&$A32,INDIRECT(\"'\"&TEXT(B$8,\"DD_MMM_YYYY\")&\"'!a$6:a$101\"),\"<=\"&$A35))","v":197},213,78,39,230,237,230,234,209,68,36,228,246,"","","","","","","","","","","","","","","","","","","","","","","","","","","","","","","","","","","","","","","","","","","","","","","","","","","",null,null,229,241.5,230,215.5,211,73,37.5]
["05:45:00",{"$f":"IF(B$8=\"\",\"\",SUMIFS(INDIRECT(\"'\"&TEXT(B$8,\"DD_MMM_YYYY\")&\"'!S$6:S$101\"),INDIRECT(\"'\"&TEXT(B$8,\"DD_MMM_YYYY\")&\"'!a$6:a$101\"),\">=\"&$A33,INDIRECT(\"'\"&TEXT(B$8,\"DD_MMM_YYYY\")&\"'!a$6:a$101\"),\"<=\"&$A36))","v":235},261,80,45,267,287,286,262,256,86,39,279,273,"","","","","","","","","","","","","","","","","","","","","","","","","","","","","","","","","","","","","","","","","","","","","","","","","","","",null,null,273,280,286,248.5,258.5,83,42]
["06:00:00",{"$f":"IF(B$8=\"\",\"\",SUMIFS(INDIRECT(\"'\"&TEXT(B$8,\"DD_MMM_YYYY\")&\"'!S$6:S$101\"),INDIRECT(\"'\"&TEXT(B$8,\"DD_MMM_YYYY\")&\"'!a$6:a$101\"),\">=\"&$A34,INDIRECT(\"'\"&TEXT(B$8,\"DD_MMM_YYYY\")&\"'!a$6:a$101\"),\"<=\"&$A37))","v":289},309,83,48,328,331,315,315,291,86,58,310,346,"","","","","","","","","","","","","","","","","","","","","","","","","","","","","","","","","","","","","","","","","","","","","","","","","","","",null,null,319,338.5,315,302,300,84.5,53]
["06:15:00",{"$f":"IF(B$8=\"\",\"\",SUMIFS(INDIRECT(\"'\"&TEXT(B$8,\"DD_MMM_YYYY\")&\"'!S$6:S$101\"),INDIRECT(\"'\"&TEXT(B$8,\"DD_MMM_YYYY\")&\"'!a$6:a$101\"),\">=\"&$A35,INDIRECT(\"'\"&TEXT(B$8,\"DD_MMM_YYYY\")&\"'!a$6:a$101\"),\"<=\"&$A38))","v":348},358,110,59,385,390,355,360,356,105,72,338,414,"","","","","","","","","","","","","","","","","","","","","","","","","","","","","","","","","","","","","","","","","","","","","","","","","","","",null,null,361.5,402,355,354,357,107.5,65.5]
["06:30:00",{"$f":"IF(B$8=\"\",\"\",SUMIFS(INDIRECT(\"'\"&TEXT(B$8,\"DD_MMM_YYYY\")&\"'!S$6:S$101\"),INDIRECT(\"'\"&TEXT(B$8,\"DD_MMM_YYYY\")&\"'!a$6:a$101\"),\">=\"&$A36,INDIRECT(\"'\"&TEXT(B$8,\"DD_MMM_YYYY\")&\"'!a$6:a$101\"),\"<=\"&$A39))","v":425},418,119,77,467,437,441,450,432,122,74,382,478,"","","","","","","","","","","","","","","","","","","","","","","","","","","","","","","","","","","","","","","","","","","","","","","","","","","",null,null,424.5,457.5,441,437.5,425,120.5,75.5]
["06:45:00",{"$f":"IF(B$8=\"\",\"\",SUMIFS(INDIRECT(\"'\"&TEXT(B$8,\"DD_MMM_YYYY\")&\"'!S$6:S$101\"),INDIRECT(\"'\"&TEXT(B$8,\"DD_MMM_YYYY\")&\"'!a$6:a$101\"),\">=\"&$A37,INDIRECT(\"'\"&TEXT(B$8,\"DD_MMM_YYYY\")&\"'!a$6:a$101\"),\"<=\"&$A40))","v":479},473,146,91,521,498,492,546,475,132,87,421,572,"","","","","","","","","","","","","","","","","","","","","","","","","","","","","","","","","","","","","","","","","","","","","","","","","","","",null,null,471,535,492,512.5,474,139,89]
["07:00:00",{"$f":"IF(B$8=\"\",\"\",SUMIFS(INDIRECT(\"'\"&TEXT(B$8,\"DD_MMM_YYYY\")&\"'!S$6:S$101\"),INDIRECT(\"'\"&TEXT(B$8,\"DD_MMM_YYYY\")&\"'!a$6:a$101\"),\">=\"&$A38,INDIRECT(\"'\"&TEXT(B$8,\"DD_MMM_YYYY\")&\"'!a$6:a$101\"),\"<=\"&$A41))","v":517},564,178,115,576,572,545,613,546,168,98,501,617,"","","","","","","","","","","","","","","","","","","","","","","","","","","","","","","","","","","","","","","","","","","","","","","","","","","",null,null,538.5,594.5,545,565,555,173,106.5]
["07:15:00",{"$f":"IF(B$8=\"\",\"\",SUMIFS(INDIRECT(\"'\"&TEXT(B$8,\"DD_MMM_YYYY\")&\"'!S$6:S$101\"),INDIRECT(\"'\"&TEXT(B$8,\"DD_MMM_YYYY\")&\"'!a$6:a$101\"),\">=\"&$A39,INDIRECT(\"'\"&TEXT(B$8,\"DD_MMM_YYYY\")&\"'!a$6:a$101\"),\"<=\"&$A42))","v":532},599,205,133,588,600,588,666,577,201,109,562,636,"","","","","","","","","","","","","","","","","","","","","","","","","","","","","","","","","","","","","","","","","","","","","","","","","","","",null,null,575,618,588,599,588,203,121]
["07:30:00",{"$f":"IF(B$8=\"\",\"\",SUMIFS(INDIRECT(\"'\"&TEXT(B$8,\"DD_MMM_YYYY\")&\"'!S$6:S$101\"),INDIRECT(\"'\"&TEXT(B$8,\"DD_MMM_YYYY\")&\"'!a$6:a$101\"),\">=\"&$A40,INDIRECT(\"'\"&TEXT(B$8,\"DD_MMM_YYYY\")&\"'!a$6:a$101\"),\"<=\"&$A43))","v":529},593,254,148,582,615,607,658,559,265,145,596,642,"","","","","","","","","","","","","","","","","","","","","","","","","","","","","","","","","","","","","","","","","","","","","","","","","","","",null,null,589,628.5,607,593.5,576,259.5,146.5]
["07:45:00",{"$f":"IF(B$8=\"\",\"\",SUMIFS(INDIRECT(\"'\"&TEXT(B$8,\"DD_MMM_YYYY\")&\"'!S$6:S$101\"),INDIRECT(\"'\"&TEXT(B$8,\"DD_MMM_YYYY\")&\"'!a$6:a$101\"),\">=\"&$A41,INDIRECT(\"'\"&TEXT(B$8,\"DD_MMM_YYYY\")&\"'!a$6:a$101\"),\"<=\"&$A44))","v":543},564,283,176,580,599,587,634,552,329,164,628,605,"","","","","","","","","","","","","","","","","","","","","","","","","","","","","","","","","","","","","","","","","","","","","","","","","","","",null,null,604,602,587,588.5,558,306,170]
["08:00:00",{"$f":"IF(B$8=\"\",\"\",SUMIFS(INDIRECT(\"'\"&TEXT(B$8,\"DD_MMM_YYYY\")&\"'!S$6:S$101\"),INDIRECT(\"'\"&TEXT(B$8,\"DD_MMM_YYYY\")&\"'!a$6:a$101\"),\">=\"&$A42,INDIRECT(\"'\"&TEXT(B$8,\"DD_MMM_YYYY\")&\"'!a$6:a$101\"),\"<=\"&$A45))","v":541},492,317,187,559,565,578,605,538,384,178,584,561,"","","","","","","","","","","","","","","","","","","","","","","","","","","","","","","","","","","","","","","","","","","","","","","","","","","",null,null,571.5,563,578,573,515,350.5,182.5]
["08:15:00",{"$f":"IF(B$8=\"\",\"\",SUMIFS(INDIRECT(\"'\"&TEXT(B$8,\"DD_MMM_YYYY\")&\"'!S$6:S$101\"),INDIRECT(\"'\"&TEXT(B$8,\"DD_MMM_YYYY\")&\"'!a$6:a$101\"),\">=\"&$A43,INDIRECT(\"'\"&TEXT(B$8,\"DD_MMM_YYYY\")&\"'!a$6:a$101\"),\"<=\"&$A46))","v":524},449,341,215,527,517,552,557,500,408,207,518,500,"","","","","","","","","","","","","","","","","","","","","","","","","","","","","","","","","","","","","","","","","","","","","","","","","","","",null,null,522.5,508.5,552,540.5,474.5,374.5,211]
["08:30:00",{"$f":"IF(B$8=\"\",\"\",SUMIFS(INDIRECT(\"'\"&TEXT(B$8,\"DD_MMM_YYYY\")&\"'!S$6:S$101\"),INDIRECT(\"'\"&TEXT(B$8,\"DD_MMM_YYYY\")&\"'!a$6:a$101\"),\">=\"&$A44,INDIRECT(\"'\"&TEXT(B$8,\"DD_MMM_YYYY\")&\"'!a$6:a$101\"),\"<=\"&$A47))","v":498},445,345,233,499,475,493,511,493,404,219,489,460,"","","","","","","","","","","","","","","","","","","","","","","","","","","","","","","","","","","","","","","","","","","","","","","","","","","",null,null,494,467.5,493,504.5,469,374.5,226]
["08:45:00",{"$f":"IF(B$8=\"\",\"\",SUMIFS(INDIRECT(\"'\"&TEXT(B$8,\"DD_MMM_YYYY\")&\"'!S$6:S$101\"),INDIRECT(\"'\"&TEXT(B$8,\"DD_MMM_YYYY\")&\"'!a$6:a$101\"),\">=\"&$A45,INDIRECT(\"'\"&TEXT(B$8,\"DD_MMM_YYYY\")&\"'!a$6:a$101\"),\"<=\"&$A48))","v":482},457,382,268,481,443,465,472,479,419,258,445,440,"","","","","","","","","","","","","","","","","","","","","","","","","","","","","","","","","","","","","","","","","","","","","","","","","","","",null,null,463,441.5,465,477,468,400.5,263]
["09:00:00",{"$f":"IF(B$8=\"\",\"\",SUMIFS(INDIRECT(\"'\"&TEXT(B$8,\"DD_MMM_YYYY\")&\"'!S$6:S$101\"),INDIRECT(\"'\"&TEXT(B$8,\"DD_MMM_YYYY\")&\"'!a$6:a$101\"),\">=\"&$A46,INDIRECT(\"'\"&TEXT(B$8,\"DD_MMM_YYYY\")&\"'!a$6:a$101\"),\"<=\"&$A49))","v":440},464,420,300,469,419,446,438,465,428,279,438,408,"","","","","","","","","","","","","","","","","","","","","","","","","","","","","","","","","","","","","","","","","","","","","","","","","","","",null,null,453.5,413.5,446,439,464.5,424,289.5]
["09:15:00",{"$f":"IF(B$8=\"\",\"\",SUMIFS(INDIRECT(\"'\"&TEXT(B$8,\"DD_MMM_YYYY\")&\"'!S$6:S$101\"),INDIRECT(\"'\"&TEXT(B$8,\"DD_MMM_YYYY\")&\"'!a$6:a$101\"),\">=\"&$A47,INDIRECT(\"'\"&TEXT(B$8,\"DD_MMM_YYYY\")&\"'!a$6:a$101\"),\"<=\"&$A50))","v":440},467,464,341,465,405,398,428,451,492,304,463,416,"","","","","","","","","","","","","","","","","","","","","","","","","","","","","","","","","","","","","","","","","","","","","","","","","","","",null,null,464,410.5,398,434,459,478,322.5]
["09:30:00",{"$f":"IF(B$8=\"\",\"\",SUMIFS(INDIRECT(\"'\"&TEXT(B$8,\"DD_MMM_YYYY\")&\"'!S$6:S$101\"),INDIRECT(\"'\"&TEXT(B$8,\"DD_MMM_YYYY\")&\"'!a$6:a$101\"),\">=\"&$A48,INDIRECT(\"'\"&TEXT(B$8,\"DD_MMM_YYYY\")&\"'!a$6:a$101\"),\"<=\"&$A51))","v":457},480,519,412,467,404,422,429,458,536,368,457,446,"","","","","","","","","","","","","","","","","","","","","","","","","","","","","","","","","","","","","","","","","","","","","","","","","","","",null,null,462,425,422,443,469,527.5,390]
["09:45:00",{"$f":"IF(B$8=\"\",\"\",SUMIFS(INDIRECT(\"'\"&TEXT(B$8,\"DD_MMM_YYYY\")&\"'!S$6:S$101\"),INDIRECT(\"'\"&TEXT(B$8,\"DD_MMM_YYYY\")&\"'!a$6:a$101\"),\">=\"&$A49,INDIRECT(\"'\"&TEXT(B$8,\"DD_MMM_YYYY\")&\"'!a$6:a$101\"),\"<=\"&$A52))","v":448},478,534,433,463,419,442,444,448,559,420,433,446,"","","","","","","","","","","","","","","","","","","","","","","","","","","","","","","","","","","","","","","","","","","","","","","","","","","",null,null,448,432.5,442,446,463,546.5,426.5]
["10:00:00",{"$f":"IF(B$8=\"\",\"\",SUMIFS(INDIRECT(\"'\"&TEXT(B$8,\"DD_MMM_YYYY\")&\"'!S$6:S$101\"),INDIRECT(\"'\"&TEXT(B$8,\"DD_MMM_YYYY\")&\"'!a$6:a$101\"),\">=\"&$A50,INDIRECT(\"'\"&TEXT(B$8,\"DD_MMM_YYYY\")&\"'!a$6:a$101\"),\"<=\"&$A53))","v":465},486,549,471,451,424,424,457,429,606,487,436,451,"","","","","","","","","","","","","","","","","","","","","","","","","","","","","","","","","","","","","","","","","","","","","","","","","","","",null,null,443.5,437.5,424,461,457.5,577.5,479]
["10:15:00",{"$f":"IF(B$8=\"\",\"\",SUMIFS(INDIRECT(\"'\"&TEXT(B$8,\"DD_MMM_YYYY\")&\"'!S$6:S$101\"),INDIRECT(\"'\"&TEXT(B$8,\"DD_MMM_YYYY\")&\"'!a$6:a$101\"),\">=\"&$A51,INDIRECT(\"'\"&TEXT(B$8,\"DD_MMM_YYYY\")&\"'!a$6:a$101\"),\"<=\"&$A54))","v":465},487,568,481,448,429,458,467,476,598,546,430,441,"","","","","","","","","","","","","","","","","","","","","","","","","","","","","","","","","","","","","","","","","","","","","","","","","","","",null,null,439,435,458,466,481.5,583,513.5]
["10:30:00",{"$f":"IF(B$8=\"\",\"\",SUMIFS(INDIRECT(\"'\"&TEXT(B$8,\"DD_MMM_YYYY\")&\"'!S$6:S$101\"),INDIRECT(\"'\"&TEXT(B$8,\"DD_MMM_YYYY\")&\"'!a$6:a$101\"),\">=\"&$A52,INDIRECT(\"'\"&TEXT(B$8,\"DD_MMM_YYYY\")&\"'!a$6:a$101\"),\"<=\"&$A55))","v":492},495,588,499,483,478,452,475,488,609,563,444,445,"","","","","","","","","","","","","","","","","","","","","","","","","","","","","","","","","","","","","","","","","","","","","","","","","","","",null,null,463.5,461.5,452,483.5,491.5,598.5,531]
["10:45:00",{"$f":"IF(B$8=\"\",\"\",SUMIFS(INDIRECT(\"'\"&TEXT(B$8,\"DD_MMM_YYYY\")&\"'!S$6:S$101\"),INDIRECT(\"'\"&TEXT(B$8,\"DD_MMM_YYYY\")&\"'!a$6:a$101\"),\">=\"&$A53,INDIRECT(\"'\"&TEXT(B$8,\"DD_MMM_YYYY\")&\"'!a$6:a$101\"),\"<=\"&$A56))","v":505},497,607,521,523,477,434,471,536,633,552,471,438,"","","","","","","","","","","","","","","","","","","","","","","","","","","","","","","","","","","","","","","","","","","","","","","","","","","",null,null,497,457.5,434,488,516.5,620,536.5]
["11:00:00",{"$f":"IF(B$8=\"\",\"\",SUMIFS(INDIRECT(\"'\"&TEXT(B$8,\"DD_MMM_YYYY\")&\"'!S$6:S$101\"),INDIRECT(\"'\"&TEXT(B$8,\"DD_MMM_YYYY\")&\"'!a$6:a$101\"),\">=\"&$A54,INDIRECT(\"'\"&TEXT(B$8,\"DD_MMM_YYYY\")&\"'!a$6:a$101\"),\"<=\"&$A57))","v":504},496,623,571,543,484,463,473,546,603,540,503,457,"","","","","","","","","","","","","","","","","","","","","","","","","","","","","","","","","","","","","","","","","","","","","","","","","","","",null,null,523,470.5,463,488.5,521,613,555.5]
["11:15:00",{"$f":"IF(B$8=\"\",\"\",SUMIFS(INDIRECT(\"'\"&TEXT(B$8,\"DD_MMM_YYYY\")&\"'!S$6:S$101\"),INDIRECT(\"'\"&TEXT(B$8,\"DD_MMM_YYYY\")&\"'!a$6:a$101\"),\">=\"&$A55,INDIRECT(\"'\"&TEXT(B$8,\"DD_MMM_YYYY\")&\"'!a$6:a$101\"),\"<=\"&$A58))","v":539},518,631,576,562,491,469,502,527,603,535,504,483,"","","","","","","","","","","","","","","","","","","","","","","","","","","","","","","","","","","","","","","","","","","","","","","","","","","",null,null,533,487,469,520.5,522.5,617,555.5]
["11:30:00",{"$f":"IF(B$8=\"\",\"\",SUMIFS(INDIRECT(\"'\"&TEXT(B$8,\"DD_MMM_YYYY\")&\"'!S$6:S$101\"),INDIRECT(\"'\"&TEXT(B$8,\"DD_MMM_YYYY\")&\"'!a$6:a$101\"),\">=\"&$A56,INDIRECT(\"'\"&TEXT(B$8,\"DD_MMM_YYYY\")&\"'!a$6:a$101\"),\"<=\"&$A59))","v":540},505,618,577,526,445,472,496,522,582,544,509,491,"","","","","","","","","","","","","","","","","","","","","","","","","","","","","","","","","","","","","","","","","","","","","","","","","","","",null,null,517.5,468,472,518,513.5,600,560.5]
["11:45:00",{"$f":"IF(B$8=\"\",\"\",SUMIFS(INDIRECT(\"'\"&TEXT(B$8,\"DD_MMM_YYYY\")&\"'!S$6:S$101\"),INDIRECT(\"'\"&TEXT(B$8,\"DD_MMM_YYYY\")&\"'!a$6:a$101\"),\">=\"&$A57,INDIRECT(\"'\"&TEXT(B$8,\"DD_MMM_YYYY\")&\"'!a$6:a$101\"),\"<=\"&$A60))","v":549},527,644,588,497,463,477,508,501,592,563,526,511,"","","","","","","","","","","","","","","","","","","","","","","","","","","","","","","","","","","","","","","","","","","","","","","","","","","",null,null,511.5,487,477,528.5,514,618,575.5]
["12:00:00",{"$f":"IF(B$8=\"\",\"\",SUMIFS(INDIRECT(\"'\"&TEXT(B$8,\"DD_MMM_YYYY\")&\"'!S$6:S$101\"),INDIRECT(\"'\"&TEXT(B$8,\"DD_MMM_YYYY\")&\"'!a$6:a$101\"),\">=\"&$A58,INDIRECT(\"'\"&TEXT(B$8,\"DD_MMM_YYYY\")&\"'!a$6:a$101\"),\"<=\"&$A61))","v":565},537,645,564,484,465,499,515,538,632,590,484,519,"","","","","","","","","","","","","","","","","","","","","","","","","","","","","","","","","","","","","","","","","","","","","","","","","","","",null,null,484,{"$f":"IF(COUNTIFS($B$9:$BM$9,BQ$8,$B58:$BM58,\">0\")=0,\"\",SUMIFS($B58:$BM58,$B$9:$BM$9,BQ$8)/COUNTIFS($B$9:$BM$9,BQ$8,$B58:$BM58,\">0\"))","v":492},499,540,537.5,638.5,577]
["12:15:00",{"$f":"IF(B$8=\"\",\"\",SUMIFS(INDIRECT(\"'\"&TEXT(B$8,\"DD_MMM_YYYY\")&\"'!S$6:S$101\"),INDIRECT(\"'\"&TEXT(B$8,\"DD_MMM_YYYY\")&\"'!a$6:a$101\"),\">=\"&$A59,INDIRECT(\"'\"&TEXT(B$8,\"DD_MMM_YYYY\")&\"'!a$6:a$101\"),\"<=\"&$A62))","v":536},552,619,579,486,501,490,483,549,621,582,457,517,"","","","","","","","","","","","","","","","","","","","","","","","","","","","","","","","","","","","","","","","","","","","","","","","","","","",null,null,471.5,509,490,509.5,550.5,620,580.5]
["12:30:00",{"$f":"IF(B$8=\"\",\"\",SUMIFS(INDIRECT(\"'\"&TEXT(B$8,\"DD_MMM_YYYY\")&\"'!S$6:S$101\"),INDIRECT(\"'\"&TEXT(B$8,\"DD_MMM_YYYY\")&\"'!a$6:a$101\"),\">=\"&$A60,INDIRECT(\"'\"&TEXT(B$8,\"DD_MMM_YYYY\")&\"'!a$6:a$101\"),\"<=\"&$A63))","v":521},541,620,562,491,512,493,525,537,627,552,446,493,"","","","","","","","","","","","","","","","","","","","","","","","","","","","","","","","","","","","","","","","","","","","","","","","","","","",null,null,468.5,502.5,493,523,539,623.5,557]
["12:45:00",{"$f":"IF(B$8=\"\",\"\",SUMIFS(INDIRECT(\"'\"&TEXT(B$8,\"DD_MMM_YYYY\")&\"'!S$6:S$101\"),INDIRECT(\"'\"&TEXT(B$8,\"DD_MMM_YYYY\")&\"'!a$6:a$101\"),\">=\"&$A61,INDIRECT(\"'\"&TEXT(B$8,\"DD_MMM_YYYY\")&\"'!a$6:a$101\"),\"<=\"&$A64))","v":520},547,585,553,512,506,504,516,529,598,522,433,377,"","","","","","","","","","","","","","","","","","","","","","","","","","","","","","","","","","","","","","","","","","","","","","","","","","","",null,null,472.5,441.5,504,518,538,591.5,537.5]
["13:00:00",{"$f":"IF(B$8=\"\",\"\",SUMIFS(INDIRECT(\"'\"&TEXT(B$8,\"DD_MMM_YYYY\")&\"'!S$6:S$101\"),INDIRECT(\"'\"&TEXT(B$8,\"DD_MMM_YYYY\")&\"'!a$6:a$101\"),\">=\"&$A62,INDIRECT(\"'\"&TEXT(B$8,\"DD_MMM_YYYY\")&\"'!a$6:a$101\"),\"<=\"&$A65))","v":516},548,565,557,511,504,458,510,493,563,507,433,254,"","","","","","","","","","","","","","","","","","","","","","","","","","","","","","","","","","","","","","","","","","","","","","","","","","","",null,null,472,379,458,513,520.5,564,532]
["13:15:00",{"$f":"IF(B$8=\"\",\"\",SUMIFS(INDIRECT(\"'\"&TEXT(B$8,\"DD_MMM_YYYY\")&\"'!S$6:S$101\"),INDIRECT(\"'\"&TEXT(B$8,\"DD_MMM_YYYY\")&\"'!a$6:a$101\"),\">=\"&$A63,INDIRECT(\"'\"&TEXT(B$8,\"DD_MMM_YYYY\")&\"'!a$6:a$101\"),\"<=\"&$A66))","v":540},543,591,581,519,496,472,520,492,590,509,496,131,"","","","","","","","","","","","","","","","","","","","","","","","","","","","","","","","","","","","","","","","","","","","","","","","","","","",null,null,507.5,313.5,472,530,517.5,590.5,545]
["13:30:00",{"$f":"IF(B$8=\"\",\"\",SUMIFS(INDIRECT(\"'\"&TEXT(B$8,\"DD_MMM_YYYY\")&\"'!S$6:S$101\"),INDIRECT(\"'\"&TEXT(B$8,\"DD_MMM_YYYY\")&\"'!a$6:a$101\"),\">=\"&$A64,INDIRECT(\"'\"&TEXT(B$8,\"DD_MMM_YYYY\")&\"'!a$6:a$101\"),\"<=\"&$A67))","v":539},581,564,610,532,500,449,489,550,581,519,519,8,"","","","","","","","","","","","","","","","","","","","","","","","","","","","","","","","","","","","","","","","","","","","","","","","","","","",null,null,525.5,254,449,514,565.5,572.5,564.5]
["13:45:00",{"$f":"IF(B$8=\"\",\"\",SUMIFS(INDIRECT(\"'\"&TEXT(B$8,\"DD_MMM_YYYY\")&\"'!S$6:S$101\"),INDIRECT(\"'\"&TEXT(B$8,\"DD_MMM_YYYY\")&\"'!a$6:a$101\"),\">=\"&$A65,INDIRECT(\"'\"&TEXT(B$8,\"DD_MMM_YYYY\")&\"'!a$6:a$101\"),\"<=\"&$A68))","v":544},554,556,611,500,497,466,498,586,581,543,519,0,"","","","","","","","","","","","","","","","","","","","","","","","","","","","","","","","","","","","","","","","","","","","","","","","","","","",null,null,509.5,497,466,521,570,568.5,577]
["14:00:00",{"$f":"IF(B$8=\"\",\"\",SUMIFS(INDIRECT(\"'\"&TEXT(B$8,\"DD_MMM_YYYY\")&\"'!S$6:S$101\"),INDIRECT(\"'\"&TEXT(B$8,\"DD_MMM_YYYY\")&\"'!a$6:a$101\"),\">=\"&$A66,INDIRECT(\"'\"&TEXT(B$8,\"DD_MMM_YYYY\")&\"'!a$6:a$101\"),\"<=\"&$A69))","v":552},569,562,592,503,509,484,489,616,580,519,535,0,"","","","","","","","","","","","","","","","","","","","","","","","","","","","","","","","","","","","","","","","","","","","","","","","","","","",null,null,519,509,484,520.5,592.5,571,555.5]
["14:15:00",{"$f":"IF(B$8=\"\",\"\",SUMIFS(INDIRECT(\"'\"&TEXT(B$8,\"DD_MMM_YYYY\")&\"'!S$6:S$101\"),INDIRECT(\"'\"&TEXT(B$8,\"DD_MMM_YYYY\")&\"'!a$6:a$101\"),\">=\"&$A67,INDIRECT(\"'\"&TEXT(B$8,\"DD_MMM_YYYY\")&\"'!a$6:a$101\"),\"<=\"&$A70))","v":515},590,555,540,504,500,501,490,625,574,513,511,0,"","","","","","","","","","","","","","","","","","","","","","","","","","","","","","","","","","","","","","","","","","","","","","","","","","","",null,null,507.5,500,501,502.5,607.5,564.5,526.5]
["14:30:00",{"$f":"IF(B$8=\"\",\"\",SUMIFS(INDIRECT(\"'\"&TEXT(B$8,\"DD_MMM_YYYY\")&\"'!S$6:S$101\"),INDIRECT(\"'\"&TEXT(B$8,\"DD_MMM_YYYY\")&\"'!a$6:a$101\"),\">=\"&$A68,INDIRECT(\"'\"&TEXT(B$8,\"DD_MMM_YYYY\")&\"'!a$6:a$101\"),\"<=\"&$A71))","v":550},579,569,506,514,519,519,510,601,593,509,495,0,"","","","","","","","","","","","","","","","","","","","","","","","","","","","","","","","","","","","","","","","","","","","","","","","","","","",null,null,504.5,519,519,530,590,581,507.5]
["14:45:00",{"$f":"IF(B$8=\"\",\"\",SUMIFS(INDIRECT(\"'\"&TEXT(B$8,\"DD_MMM_YYYY\")&\"'!S$6:S$101\"),INDIRECT(\"'\"&TEXT(B$8,\"DD_MMM_YYYY\")&\"'!a$6:a$101\"),\">=\"&$A69,INDIRECT(\"'\"&TEXT(B$8,\"DD_MMM_YYYY\")&\"'!a$6:a$101\"),\"<=\"&$A72))","v":551},627,579,493,541,551,537,510,581,576,468,526,0,"","","","","","","","","","","","","","","","","","","","","","","","","","","","","","","","","","","","","","","","","","","","","","","","","","","",null,null,533.5,551,537,530.5,604,577.5,480.5]
["15:00:00",{"$f":"IF(B$8=\"\",\"\",SUMIFS(INDIRECT(\"'\"&TEXT(B$8,\"DD_MMM_YYYY\")&\"'!S$6:S$101\"),INDIRECT(\"'\"&TEXT(B$8,\"DD_MMM_YYYY\")&\"'!a$6:a$101\"),\">=\"&$A70,INDIRECT(\"'\"&TEXT(B$8,\"DD_MMM_YYYY\")&\"'!a$6:a$101\"),\"<=\"&$A73))","v":582},651,569,506,554,554,554,567,590,571,476,534,0,"","","","","","","","","","","","","","","","","","","","","","","","","","","","","","","","","","","","","","","","","","","","","","","","","","","",null,null,544,554,554,574.5,620.5,570,491]
["15:15:00",{"$f":"IF(B$8=\"\",\"\",SUMIFS(INDIRECT(\"'\"&TEXT(B$8,\"DD_MMM_YYYY\")&\"'!S$6:S$101\"),INDIRECT(\"'\"&TEXT(B$8,\"DD_MMM_YYYY\")&\"'!a$6:a$101\"),\">=\"&$A71,INDIRECT(\"'\"&TEXT(B$8,\"DD_MMM_YYYY\")&\"'!a$6:a$101\"),\"<=\"&$A74))","v":621},656,537,539,566,570,582,596,600,538,470,554,0,"","","","","","","","","","","","","","","","","","","","","","","","","","","","","","","","","","","","","","","","","","","","","","","","","","","",null,null,560,570,582,608.5,628,537.5,504.5]
["15:30:00",{"$f":"IF(B$8=\"\",\"\",SUMIFS(INDIRECT(\"'\"&TEXT(B$8,\"DD_MMM_YYYY\")&\"'!S$6:S$101\"),INDIRECT(\"'\"&TEXT(B$8,\"DD_MMM_YYYY\")&\"'!a$6:a$101\"),\">=\"&$A72,INDIRECT(\"'\"&TEXT(B$8,\"DD_MMM_YYYY\")&\"'!a$6:a$101\"),\"<=\"&$A75))","v":621},703,554,525,569,588,614,601,610,546,461,589,0,"","","","","","","","","","","","","","","","","","","","","","","","","","","","","","","","","","","","","","","","","","","","","","","","","","","",null,null,579,588,614,611,656.5,550,493]
["15:45:00",{"$f":"IF(B$8=\"\",\"\",SUMIFS(INDIRECT(\"'\"&TEXT(B$8,\"DD_MMM_YYYY\")&\"'!S$6:S$101\"),INDIRECT(\"'\"&TEXT(B$8,\"DD_MMM_YYYY\")&\"'!a$6:a$101\"),\">=\"&$A73,INDIRECT(\"'\"&TEXT(B$8,\"DD_MMM_YYYY\")&\"'!a$6:a$101\"),\"<=\"&$A76))","v":622},699,557,516,607,583,645,636,624,543,482,595,0,"","","","","","","","","","","","","","","","","","","","","","","","","","","","","","","","","","","","","","","","","","","","","","","","","","","",null,null,601,583,645,629,661.5,550,499]
["16:00:00",{"$f":"IF(B$8=\"\",\"\",SUMIFS(INDIRECT(\"'\"&TEXT(B$8,\"DD_MMM_YYYY\")&\"'!S$6:S$101\"),INDIRECT(\"'\"&TEXT(B$8,\"DD_MMM_YYYY\")&\"'!a$6:a$101\"),\">=\"&$A74,INDIRECT(\"'\"&TEXT(B$8,\"DD_MMM_YYYY\")&\"'!a$6:a$101\"),\"<=\"&$A77))","v":631},696,574,476,615,618,688,653,646,535,472,627,0,"","","","","","","","","","","","","","","","","","","","","","","","","","","","","","","","","","","","","","","","","","","","","","","","","","","",null,null,621,618,688,642,671,554.5,474]
["16:15:00",{"$f":"IF(B$8=\"\",\"\",SUMIFS(INDIRECT(\"'\"&TEXT(B$8,\"DD_MMM_YYYY\")&\"'!S$6:S$101\"),INDIRECT(\"'\"&TEXT(B$8,\"DD_MMM_YYYY\")&\"'!a$6:a$101\"),\">=\"&$A75,INDIRECT(\"'\"&TEXT(B$8,\"DD_MMM_YYYY\")&\"'!a$6:a$101\"),\"<=\"&$A78))","v":667},672,564,418,609,631,684,651,654,550,439,650,0,"","","","","","","","","","","","","","","","","","","","","","","","","","","","","","","","","","","","","","","","","","","","","","","","","","","",null,null,629.5,631,684,659,663,557,428.5]
["16:30:00",{"$f":"IF(B$8=\"\",\"\",SUMIFS(INDIRECT(\"'\"&TEXT(B$8,\"DD_MMM_YYYY\")&\"'!S$6:S$101\"),INDIRECT(\"'\"&TEXT(B$8,\"DD_MMM_YYYY\")&\"'!a$6:a$101\"),\">=\"&$A76,INDIRECT(\"'\"&TEXT(B$8,\"DD_MMM_YYYY\")&\"'!a$6:a$101\"),\"<=\"&$A79))","v":651},642,524,406,631,635,683,667,653,506,412,643,0,"","","","","","","","","","","","","","","","","","","","","","","","","","","","","","","","","","","","","","","","","","","","","","","","","","","",null,null,637,635,683,659,647.5,515,409]
["16:45:00",{"$f":"IF(B$8=\"\",\"\",SUMIFS(INDIRECT(\"'\"&TEXT(B$8,\"DD_MMM_YYYY\")&\"'!S$6:S$101\"),INDIRECT(\"'\"&TEXT(B$8,\"DD_MMM_YYYY\")&\"'!a$6:a$101\"),\">=\"&$A77,INDIRECT(\"'\"&TEXT(B$8,\"DD_MMM_YYYY\")&\"'!a$6:a$101\"),\"<=\"&$A80))","v":680},635,506,392,628,652,659,668,653,520,380,630,0,"","","","","","","","","","","","","","","","","","","","","","","","","","","","","","","","","","","","","","","","","","","","","","","","","","","",null,null,629,652,659,674,644,513,386]
["17:00:00",{"$f":"IF(B$8=\"\",\"\",SUMIFS(INDIRECT(\"'\"&TEXT(B$8,\"DD_MMM_YYYY\")&\"'!S$6:S$101\"),INDIRECT(\"'\"&TEXT(B$8,\"DD_MMM_YYYY\")&\"'!a$6:a$101\"),\">=\"&$A78,INDIRECT(\"'\"&TEXT(B$8,\"DD_MMM_YYYY\")&\"'!a$6:a$101\"),\"<=\"&$A81))","v":646},594,481,378,625,634,641,648,630,503,345,635,0,"","","","","","","","","","","","","","","","","","","","","","","","","","","","","","","","","","","","","","","","","","","","","","","","","","","",null,null,630,634,641,647,612,492,361.5]
["17:15:00",{"$f":"IF(B$8=\"\",\"\",SUMIFS(INDIRECT(\"'\"&TEXT(B$8,\"DD_MMM_YYYY\")&\"'!S$6:S$101\"),INDIRECT(\"'\"&TEXT(B$8,\"DD_MMM_YYYY\")&\"'!a$6:a$101\"),\">=\"&$A79,INDIRECT(\"'\"&TEXT(B$8,\"DD_MMM_YYYY\")&\"'!a$6:a$101\"),\"<=\"&$A82))","v":572},576,481,378,623,611,618,612,616,468,322,617,0,"","","","","","","","","","","","","","","","","","","","","","","","","","","","","","","","","","","","","","","","","","","","","","","","","","","",null,null,620,611,618,592,596,474.5,350]
["17:30:00",{"$f":"IF(B$8=\"\",\"\",SUMIFS(INDIRECT(\"'\"&TEXT(B$8,\"DD_MMM_YYYY\")&\"'!S$6:S$101\"),INDIRECT(\"'\"&TEXT(B$8,\"DD_MMM_YYYY\")&\"'!a$6:a$101\"),\">=\"&$A80,INDIRECT(\"'\"&TEXT(B$8,\"DD_MMM_YYYY\")&\"'!a$6:a$101\"),\"<=\"&$A83))","v":540},549,472,336,564,573,593,574,575,456,309,606,0,"","","","","","","","","","","","","","","","","","","","","","","","","","","","","","","","","","","","","","","","","","","","","","","","","","","",null,null,585,573,593,557,562,464,322.5]
["17:45:00",{"$f":"IF(B$8=\"\",\"\",SUMIFS(INDIRECT(\"'\"&TEXT(B$8,\"DD_MMM_YYYY\")&\"'!S$6:S$101\"),INDIRECT(\"'\"&TEXT(B$8,\"DD_MMM_YYYY\")&\"'!a$6:a$101\"),\">=\"&$A81,INDIRECT(\"'\"&TEXT(B$8,\"DD_MMM_YYYY\")&\"'!a$6:a$101\"),\"<=\"&$A84))","v":494},503,425,293,521,514,538,505,535,411,293,577,0,"","","","","","","","","","","","","","","","","","","","","","","","","","","","","","","","","","","","","","","","","","","","","","","","","","","",null,null,549,514,538,499.5,519,418,293]
["18:00:00",{"$f":"IF(B$8=\"\",\"\",SUMIFS(INDIRECT(\"'\"&TEXT(B$8,\"DD_MMM_YYYY\")&\"'!S$6:S$101\"),INDIRECT(\"'\"&TEXT(B$8,\"DD_MMM_YYYY\")&\"'!a$6:a$101\"),\">=\"&$A82,INDIRECT(\"'\"&TEXT(B$8,\"DD_MMM_YYYY\")&\"'!a$6:a$101\"),\"<=\"&$A85))","v":433},478,391,277,469,462,503,441,493,375,280,500,0,"","","","","","","","","","","","","","","","","","","","","","","","","","","","","","","","","","","","","","","","","","","","","","","","","","","",null,null,484.5,462,503,437,485.5,383,278.5]
["18:15:00",{"$f":"IF(B$8=\"\",\"\",SUMIFS(INDIRECT(\"'\"&TEXT(B$8,\"DD_MMM_YYYY\")&\"'!S$6:S$101\"),INDIRECT(\"'\"&TEXT(B$8,\"DD_MMM_YYYY\")&\"'!a$6:a$101\"),\">=\"&$A83,INDIRECT(\"'\"&TEXT(B$8,\"DD_MMM_YYYY\")&\"'!a$6:a$101\"),\"<=\"&$A86))","v":400},437,360,241,419,425,451,414,452,365,257,445,0,"","","","","","","","","","","","","","","","","","","","","","","","","","","","","","","","","","","","","","","","","","","","","","","","","","","",null,null,432,425,451,407,444.5,362.5,249]
["18:30:00",{"$f":"IF(B$8=\"\",\"\",SUMIFS(INDIRECT(\"'\"&TEXT(B$8,\"DD_MMM_YYYY\")&\"'!S$6:S$101\"),INDIRECT(\"'\"&TEXT(B$8,\"DD_MMM_YYYY\")&\"'!a$6:a$101\"),\">=\"&$A84,INDIRECT(\"'\"&TEXT(B$8,\"DD_MMM_YYYY\")&\"'!a$6:a$101\"),\"<=\"&$A87))","v":373},381,326,238,386,374,402,377,415,342,238,380,0,"","","","","","","","","","","","","","","","","","","","","","","","","","","","","","","","","","","","","","","","","","","","","","","","","","","",null,null,383,374,402,375,398,334,238]
["18:45:00",{"$f":"IF(B$8=\"\",\"\",SUMIFS(INDIRECT(\"'\"&TEXT(B$8,\"DD_MMM_YYYY\")&\"'!S$6:S$101\"),INDIRECT(\"'\"&TEXT(B$8,\"DD_MMM_YYYY\")&\"'!a$6:a$101\"),\">=\"&$A85,INDIRECT(\"'\"&TEXT(B$8,\"DD_MMM_YYYY\")&\"'!a$6:a$101\"),\"<=\"&$A88))","v":321},330,314,239,317,341,377,352,400,309,221,328,0,"","","","","","","","","","","","","","","","","","","","","","","","","","","","","","","","","","","","","","","","","","","","","","","","","","","",null,null,322.5,341,377,336.5,365,311.5,230]
["19:00:00",{"$f":"IF(B$8=\"\",\"\",SUMIFS(INDIRECT(\"'\"&TEXT(B$8,\"DD_MMM_YYYY\")&\"'!S$6:S$101\"),INDIRECT(\"'\"&TEXT(B$8,\"DD_MMM_YYYY\")&\"'!a$6:a$101\"),\">=\"&$A86,INDIRECT(\"'\"&TEXT(B$8,\"DD_MMM_YYYY\")&\"'!a$6:a$101\"),\"<=\"&$A89))","v":309},282,276,212,301,303,307,319,351,296,212,299,0,"","","","","","","","","","","","","","","","","","","","","","","","","","","","","","","","","","","","","","","","","","","","","","","","","","","",null,null,300,303,307,314,316.5,286,212]
["19:15:00",{"$f":"IF(B$8=\"\",\"\",SUMIFS(INDIRECT(\"'\"&TEXT(B$8,\"DD_MMM_YYYY\")&\"'!S$6:S$101\"),INDIRECT(\"'\"&TEXT(B$8,\"DD_MMM_YYYY\")&\"'!a$6:a$101\"),\">=\"&$A87,INDIRECT(\"'\"&TEXT(B$8,\"DD_MMM_YYYY\")&\"'!a$6:a$101\"),\"<=\"&$A90))","v":289},255,258,207,264,274,269,270,301,249,216,248,0,"","","","","","","","","","","","","","","","","","","","","","","","","","","","","","","","","","","","","","","","","","","","","","","","","","","",null,null,256,274,269,279.5,278,253.5,211.5]
["19:30:00",{"$f":"IF(B$8=\"\",\"\",SUMIFS(INDIRECT(\"'\"&TEXT(B$8,\"DD_MMM_YYYY\")&\"'!S$6:S$101\"),INDIRECT(\"'\"&TEXT(B$8,\"DD_MMM_YYYY\")&\"'!a$6:a$101\"),\">=\"&$A88,INDIRECT(\"'\"&TEXT(B$8,\"DD_MMM_YYYY\")&\"'!a$6:a$101\"),\"<=\"&$A91))","v":252},243,231,191,234,247,253,230,280,228,199,227,0,"","","","","","","","","","","","","","","","","","","","","","","","","","","","","","","","","","","","","","","","","","","","","","","","","","","",null,null,230.5,247,253,241,261.5,229.5,195]
["19:45:00",{"$f":"IF(B$8=\"\",\"\",SUMIFS(INDIRECT(\"'\"&TEXT(B$8,\"DD_MMM_YYYY\")&\"'!S$6:S$101\"),INDIRECT(\"'\"&TEXT(B$8,\"DD_MMM_YYYY\")&\"'!a$6:a$101\"),\">=\"&$A89,INDIRECT(\"'\"&TEXT(B$8,\"DD_MMM_YYYY\")&\"'!a$6:a$101\"),\"<=\"&$A92))","v":207},222,207,169,217,198,222,208,230,210,190,213,0,"","","","","","","","","","","","","","","","","","","","","","","","","","","","","","","","","","","","","","","","","","","","","","","","","","","",null,null,215,198,222,207.5,226,208.5,179.5]
["20:00:00",{"$f":"IF(B$8=\"\",\"\",SUMIFS(INDIRECT(\"'\"&TEXT(B$8,\"DD_MMM_YYYY\")&\"'!S$6:S$101\"),INDIRECT(\"'\"&TEXT(B$8,\"DD_MMM_YYYY\")&\"'!a$6:a$101\"),\">=\"&$A90,INDIRECT(\"'\"&TEXT(B$8,\"DD_MMM_YYYY\")&\"'!a$6:a$101\"),\"<=\"&$A93))","v":184},203,190,152,170,160,220,176,202,195,165,191,0,"","","","","","","","","","","","","","","","","","","","","","","","","","","","","","","","","","","","","","","","","","","","","","","","","","","",null,null,180.5,160,220,180,202.5,192.5,158.5]
["20:15:00",{"$f":"IF(B$8=\"\",\"\",SUMIFS(INDIRECT(\"'\"&TEXT(B$8,\"DD_MMM_YYYY\")&\"'!S$6:S$101\"),INDIRECT(\"'\"&TEXT(B$8,\"DD_MMM_YYYY\")&\"'!a$6:a$101\"),\">=\"&$A91,INDIRECT(\"'\"&TEXT(B$8,\"DD_MMM_YYYY\")&\"'!a$6:a$101\"),\"<=\"&$A94))","v":155},186,156,145,157,134,211,172,176,193,141,171,0,"","","","","","","","","","","","","","","","","","","","","","","","","","","","","","","","","","","","","","","","","","","","","","","","","","","",null,null,164,134,211,163.5,181,174.5,143]
["20:30:00",{"$f":"IF(B$8=\"\",\"\",SUMIFS(INDIRECT(\"'\"&TEXT(B$8,\"DD_MMM_YYYY\")&\"'!S$6:S$101\"),INDIRECT(\"'\"&TEXT(B$8,\"DD_MMM_YYYY\")&\"'!a$6:a$101\"),\">=\"&$A92,INDIRECT(\"'\"&TEXT(B$8,\"DD_MMM_YYYY\")&\"'!a$6:a$101\"),\"<=\"&$A95))","v":132},158,151,131,137,129,201,171,141,172,121,157,0,"","","","","","","","","","","","","","","","","","","","","","","","","","","","","","","","","","","","","","","","","","","","","","","","","","","",null,null,147,129,201,151.5,149.5,161.5,126]
["20:45:00",{"$f":"IF(B$8=\"\",\"\",SUMIFS(INDIRECT(\"'\"&TEXT(B$8,\"DD_MMM_YYYY\")&\"'!S$6:S$101\"),INDIRECT(\"'\"&TEXT(B$8,\"DD_MMM_YYYY\")&\"'!a$6:a$101\"),\">=\"&$A93,INDIRECT(\"'\"&TEXT(B$8,\"DD_MMM_YYYY\")&\"'!a$6:a$101\"),\"<=\"&$A96))","v":155},160,140,116,129,140,190,170,140,162,108,142,0,"","","","","","","","","","","","","","","","","","","","","","","","","","","","","","","","","","","","","","","","","","","","","","","","","","","",null,null,135.5,140,190,162.5,150,151,112]
["21:00:00",{"$f":"IF(B$8=\"\",\"\",SUMIFS(INDIRECT(\"'\"&TEXT(B$8,\"DD_MMM_YYYY\")&\"'!S$6:S$101\"),INDIRECT(\"'\"&TEXT(B$8,\"DD_MMM_YYYY\")&\"'!a$6:a$101\"),\">=\"&$A94,INDIRECT(\"'\"&TEXT(B$8,\"DD_MMM_YYYY\")&\"'!a$6:a$101\"),\"<=\"&$A97))","v":146},154,125,111,117,138,176,167,132,148,105,138,0,"","","","","","","","","","","","","","","","","","","","","","","","","","","","","","","","","","","","","","","","","","","","","","","","","","","",null,null,127.5,138,176,156.5,{"$f":"IF(COUNTIFS($B$9:$BM$9,BT$8,$B94:$BM94,\">0\")=0,\"\",SUMIFS($B94:$BM94,$B$9:$BM$9,BT$8)/COUNTIFS($B$9:$BM$9,BT$8,$B94:$BM94,\">0\"))","v":143},136.5,108]
["21:15:00",{"$f":"IF(B$8=\"\",\"\",SUMIFS(INDIRECT(\"'\"&TEXT(B$8,\"DD_MMM_YYYY\")&\"'!S$6:S$101\"),INDIRECT(\"'\"&TEXT(B$8,\"DD_MMM_YYYY\")&\"'!a$6:a$101\"),\">=\"&$A95,INDIRECT(\"'\"&TEXT(B$8,\"DD_MMM_YYYY\")&\"'!a$6:a$101\"),\"<=\"&$A98))","v":141},145,135,91,111,138,170,175,128,135,102,132,0,"","","","","","","","","","","","","","","","","","","","","","","","","","","","","","","","","","","","","","","","","","","","","","","","","","","",null,null,{"$f":"IF(COUNTIFS($B$9:$BM$9,BP$8,$B95:$BM95,\">0\")=0,\"\",SUMIFS($B95:$BM95,$B$9:$BM$9,BP$8)/COUNTIFS($B$9:$BM$9,BP$8,$B95:$BM95,\">0\"))","v":121.5},138,170,158,136.5,135,96.5]
["21:30:00",{"$f":"IF(B$8=\"\",\"\",SUMIFS(INDIRECT(\"'\"&TEXT(B$8,\"DD_MMM_YYYY\")&\"'!S$6:S$101\"),INDIRECT(\"'\"&TEXT(B$8,\"DD_MMM_YYYY\")&\"'!a$6:a$101\"),\">=\"&$A96,INDIRECT(\"'\"&TEXT(B$8,\"DD_MMM_YYYY\")&\"'!a$6:a$101\"),\"<=\"&$A99))","v":146},151,133,78,98,133,151,173,138,129,97,110,0,"","","","","","","","","","","","","","","","","","","","","","","","","","","","","","","","","","","","","","","","","","","","","","","","","","","",null,null,104,133,151,159.5,144.5,131,87.5]
["21:45:00",{"$f":"IF(B$8=\"\",\"\",SUMIFS(INDIRECT(\"'\"&TEXT(B$8,\"DD_MMM_YYYY\")&\"'!S$6:S$101\"),INDIRECT(\"'\"&TEXT(B$8,\"DD_MMM_YYYY\")&\"'!a$6:a$101\"),\">=\"&$A97,INDIRECT(\"'\"&TEXT(B$8,\"DD_MMM_YYYY\")&\"'!a$6:a$101\"),\"<=\"&$A100))","v":124},127,134,68,81,114,135,148,138,127,75,90,0,"","","","","","","","","","","","","","","","","","","","","","","","","","","","","","","","","","","","","","","","","","","","","","","","","","","",null,null,85.5,114,135,136,132.5,130.5,71.5]
["22:00:00",{"$f":"IF(B$8=\"\",\"\",SUMIFS(INDIRECT(\"'\"&TEXT(B$8,\"DD_MMM_YYYY\")&\"'!S$6:S$101\"),INDIRECT(\"'\"&TEXT(B$8,\"DD_MMM_YYYY\")&\"'!a$6:a$101\"),\">=\"&$A98,INDIRECT(\"'\"&TEXT(B$8,\"DD_MMM_YYYY\")&\"'!a$6:a$101\"),\"<=\"&$A101))","v":109},113,138,53,73,119,108,134,132,120,62,63,0,"","","","","","","","","","","","","","","","","","","","","","","","","","","","","","","","","","","","","","","","","","","","","","","","","","","",null,null,68,119,108,121.5,122.5,129,57.5]
["22:15:00",{"$f":"IF(B$8=\"\",\"\",SUMIFS(INDIRECT(\"'\"&TEXT(B$8,\"DD_MMM_YYYY\")&\"'!S$6:S$101\"),INDIRECT(\"'\"&TEXT(B$8,\"DD_MMM_YYYY\")&\"'!a$6:a$101\"),\">=\"&$A99,INDIRECT(\"'\"&TEXT(B$8,\"DD_MMM_YYYY\")&\"'!a$6:a$101\"),\"<=\"&$A102))","v":103},107,116,45,51,95,82,103,120,123,54,52,0,"","","","","","","","","","","","","","","","","","","","","","","","","","","","","","","","","","","","","","","","","","","","","","","","","","","",null,null,51.5,95,82,103,113.5,119.5,49.5]
["22:30:00",{"$f":"IF(B$8=\"\",\"\",SUMIFS(INDIRECT(\"'\"&TEXT(B$8,\"DD_MMM_YYYY\")&\"'!S$6:S$101\"),INDIRECT(\"'\"&TEXT(B$8,\"DD_MMM_YYYY\")&\"'!a$6:a$101\"),\">=\"&$A100,INDIRECT(\"'\"&TEXT(B$8,\"DD_MMM_YYYY\")&\"'!a$6:a$101\"),\"<=\"&$A103))","v":85},85,105,41,41,68,65,77,108,116,38,44,0,"","","","","","","","","","","","","","","","","","","","","","","","","","","","","","","","","","","","","","","","","","","","","","","","","","","",null,null,42.5,68,65,81,96.5,110.5,39.5]
["22:45:00",{"$f":"IF(B$8=\"\",\"\",SUMIFS(INDIRECT(\"'\"&TEXT(B$8,\"DD_MMM_YYYY\")&\"'!S$6:S$101\"),INDIRECT(\"'\"&TEXT(B$8,\"DD_MMM_YYYY\")&\"'!a$6:a$101\"),\">=\"&$A101,INDIRECT(\"'\"&TEXT(B$8,\"DD_MMM_YYYY\")&\"'!a$6:a$101\"),\"<=\"&$A104))","v":59},80,104,35,35,58,53,60,82,97,32,33,0,"","","","","","","","","","","","","","","","","","","","","","","","","","","","","","","","","","","","","","","","","","","","","","","","","","","",null,null,34,58,53,59.5,81,100.5,33.5]
["23:00:00",{"$f":"IF(B$8=\"\",\"\",SUMIFS(INDIRECT(\"'\"&TEXT(B$8,\"DD_MMM_YYYY\")&\"'!S$6:S$101\"),INDIRECT(\"'\"&TEXT(B$8,\"DD_MMM_YYYY\")&\"'!a$6:a$101\"),\">=\"&$A102,INDIRECT(\"'\"&TEXT(B$8,\"DD_MMM_YYYY\")&\"'!a$6:a$101\"),\"<=\"&$A105))","v":48},72,106,30,26,39,44,41,70,89,24,28,0,"","","","","","","","","","","","","","","","","","","","","","","","","","","","","","","","","","","","","","","","","","","","","","","","","","","",null,null,27,39,44,44.5,71,97.5,27]
["23:15:00"]
["23:30:00"]
["23:45:00"]
[]
["TOP 10 hours with highest flow",null,null,null,null,null,null,null,null,null,null,null,null,null,null,null,null,null,null,null,null,null,null,null,null,null,null,null,null,null,null,null,null,null,null,null,null,null,null,null,null,null,null,null,null,null,null,null,null,null,null,null,null,null,null,null,null,null,null,null,null,null,null,null,null,null,null,"TOP 10 busiest hours"]
[1,{"$f":"IF(B8=\"\",\"\",INDEX($A$10:$A$102,MATCH(LARGE(B$10:B$102,$A108),B$10:B$102,0)))","v":"16:45:00"},{"$f":"IF(C8=\"\",\"\",INDEX($A$10:$A$102,MATCH(LARGE(C$10:C$102,$A108),C$10:C$102,0)))","v":"15:30:00"},"12:00:00","13:45:00","16:30:00","16:45:00","16:00:00","16:45:00","16:15:00","10:45:00","12:00:00","16:15:00","07:30:00","","","","","","","","","","","","","","","","","","","","","","","","","","","","","","","","","","","","","","","","","","","","","","","","","","","",null,null,{"$f":"IFERROR(INDEX($A$10:$A$102,MATCH(LARGE(BP$10:BP$102,$A108),BP$10:BP$102,0)),\"\")","v":"16:30:00"},{"$f":"IFERROR(INDEX($A$10:$A$102,MATCH(LARGE(BQ$10:BQ$102,$A108),BQ$10:BQ$102,0)),\"\")","v":"16:45:00"},"16:00:00","16:45:00","16:00:00","12:00:00","12:15:00",{"$f":"IF(BW8=\"\",\"\",INDEX($A$10:$A$102,MATCH(LARGE(BW$10:BW$102,$A108),BW$10:BW$102,0)))","v":""}]
[2,{"$f":"IF(B9=\"\",\"\",INDEX($A$10:$A$102,MATCH(LARGE(B$10:B$102,$A109),B$10:B$102,0)))","v":"16:15:00"},"15:45:00","11:45:00","13:30:00","16:45:00","16:30:00","16:15:00","16:30:00","16:30:00","12:00:00","12:15:00","16:30:00","07:15:00","","","","","","","","","","","","","","","","","","","","","","","","","","","","","","","","","","","","","","","","","","","","","","","","","","","",null,null,{"$f":"IFERROR(INDEX($A$10:$A$102,MATCH(LARGE(BP$10:BP$102,$A109),BP$10:BP$102,0)),\"\")","v":"17:00:00"},"16:30:00","16:15:00","16:15:00","16:15:00","12:30:00","12:00:00",""]
[3,"16:30:00","16:00:00","11:15:00","14:00:00","17:00:00","17:00:00","16:30:00","07:15:00","16:30:00","12:30:00","10:30:00","17:00:00","07:00:00","","","","","","","","","","","","","","","","","","","","","","","","","","","","","","","","","","","","","","","","","","","","","","","","","","","",null,null,"16:15:00","17:00:00","16:30:00","16:15:00","15:45:00","10:45:00","12:00:00",""]
[4,"17:00:00","16:15:00","11:00:00","11:45:00","17:15:00","16:15:00","16:45:00","07:30:00","16:00:00","12:15:00","10:30:00","16:45:00","07:45:00","","","","","","","","","","","","","","","","","","","","","","","","","","","","","","","","","","","","","","","","","","","","","","","","","","","",null,null,"16:45:00","16:15:00","16:45:00","17:00:00","15:30:00","10:45:00","11:45:00",""]
[5,"16:00:00","15:15:00","12:30:00","13:15:00","16:00:00","16:00:00","15:45:00",{"$f":"IF(I12=\"\",\"\",INDEX($A$10:$A$102,MATCH(LARGE(I$10:I$102,$A112),I$10:I$102,0)))","v":"16:00:00"},"17:00:00","10:30:00","10:45:00","07:45:00","06:45:00","","","","","","","","","","","","","","","","","","","","","","","","","","","","","","","","","","","","","","","","","","","","","","","","","","","",null,null,"16:00:00","07:30:00","15:45:00","16:00:00","16:30:00","11:45:00","13:30:00"]
[6,"15:45:00","15:00:00","12:15:00","12:15:00","16:15:00","07:30:00","17:00:00","16:15:00","14:15:00","10:00:00","10:45:00","16:00:00","08:00:00","","","","","","","","","","","","","","","","","","","","","","","","","","","","","","","","","","","","","","","","","","","","","","","","","","","",null,null,"17:15:00","07:15:00","17:00:00","15:45:00","16:45:00","11:15:00","11:30:00"]
[7,"15:15:00","16:30:00","11:30:00","11:30:00","15:45:00","17:15:00","17:15:00","17:00:00","15:45:00","11:00:00","10:15:00","17:15:00","12:00:00","","","","","","","","","","","","","","","","","","","","","","","","","","","","","","","","","","","","","","","","","","","","","","","","","","","",null,null,"07:45:00","07:15:00","17:15:00","15:30:00","15:15:00","11:00:00","12:30:00"]
[8,"15:15:00","16:45:00","10:45:00","11:15:00","07:15:00","07:15:00","15:30:00","15:45:00","14:00:00","11:00:00","11:30:00","17:30:00","12:15:00","","","","","","","","","","","","","","","","","","","","","","","","","","","","","","","","","","","","","","","","","","","","","","","","","","","",null,null,"15:45:00","17:15:00","15:30:00","15:15:00","15:00:00","11:30:00","11:00:00"]
[9,"15:00:00","14:45:00","13:15:00","11:00:00","07:30:00","07:45:00","07:30:00","07:45:00","14:00:00","10:15:00","13:45:00","07:30:00","11:45:00","","","","","","","","","","","","","","","","","","","","","","","","","","","","","","","","","","","","","","","","","","","","","","","","","","","",null,null,"07:30:00","07:45:00","07:30:00","07:15:00","17:00:00","10:30:00","11:00:00"]
[10,{"$f":"IF(B12=\"\",\"\",INDEX($A$10:$A$102,MATCH(LARGE(B$10:B$102,$A117),B$10:B$102,0)))","v":"17:15:00"},"07:15:00","10:30:00","12:00:00","07:45:00","15:30:00","17:30:00","07:00:00","15:30:00","10:15:00","11:00:00","15:45:00","08:15:00","","","","","","","","","","","","","","","","","","","",{"$f":"IF(AH12=\"\",\"\",INDEX($A$10:$A$102,MATCH(LARGE(AH$10:AH$102,$A117),AH$10:AH$102,0)))","v":""},"","","","","","","","","","","","","","","","","","","","","","","","","","","","","","","",null,null,"17:30:00","07:00:00","17:30:00","07:30:00","14:15:00","12:45:00","11:00:00",{"$f":"IF(BW12=\"\",\"\",INDEX($A$10:$A$102,MATCH(LARGE(BW$10:BW$102,$A117),BW$10:BW$102,0)))","v":""}]

{"sheet":"1hr_summary_dir 1","index":18,"n_rows":124,"n_cols":102,"rows_kept":124,"cut":false,"hidden":false,"merged":[]}
["* The table is calculated automatically based on sheet 'Form'"]
["!!! it is at that stage the user should manually remove all the values, which are outliers, incomplete, etc."]
[]
["AUTOMATIC TRAFFIC COUNT, 1HR SUMMARY"]
[{"$f":"'Site Plan'!A19","v":"Direction 1"},{"$f":"'Site Plan'!C19","v":"Eastbound"}]
[]
["CAR + LGV + HGV",null,null,null,null,null,null,null,null,null,null,null,null,null,null,null,null,null,null,null,null,null,null,null,null,null,null,null,null,null,null,null,null,null,null,null,null,null,null,null,null,null,null,null,null,null,null,null,null,null,null,null,null,null,null,null,null,null,null,null,null,null,null,null,null,null,null,"STATISTICS"]
[null,{"$f":"'Site Plan'!$Q$3","v":"2016-04-07"},{"$f":"IF($B$8+COLUMN(B8)-1<='Site Plan'!$Q$4,$B$8+COLUMN(B8)-1,\"\")","v":"2016-04-08"},{"$f":"IF($B$8+COLUMN(C8)-1<='Site Plan'!$Q$4,$B$8+COLUMN(C8)-1,\"\")","v":"2016-04-09"},{"$f":"IF($B$8+COLUMN(D8)-1<='Site Plan'!$Q$4,$B$8+COLUMN(D8)-1,\"\")","v":"2016-04-10"},{"$f":"IF($B$8+COLUMN(E8)-1<='Site Plan'!$Q$4,$B$8+COLUMN(E8)-1,\"\")","v":"2016-04-11"},{"$f":"IF($B$8+COLUMN(F8)-1<='Site Plan'!$Q$4,$B$8+COLUMN(F8)-1,\"\")","v":"2016-04-12"},{"$f":"IF($B$8+COLUMN(G8)-1<='Site Plan'!$Q$4,$B$8+COLUMN(G8)-1,\"\")","v":"2016-04-13"},{"$f":"IF($B$8+COLUMN(H8)-1<='Site Plan'!$Q$4,$B$8+COLUMN(H8)-1,\"\")","v":"2016-04-14"},{"$f":"IF($B$8+COLUMN(I8)-1<='Site Plan'!$Q$4,$B$8+COLUMN(I8)-1,\"\")","v":"2016-04-15"},{"$f":"IF($B$8+COLUMN(J8)-1<='Site Plan'!$Q$4,$B$8+COLUMN(J8)-1,\"\")","v":"2016-04-16"},{"$f":"IF($B$8+COLUMN(K8)-1<='Site Plan'!$Q$4,$B$8+COLUMN(K8)-1,\"\")","v":"2016-04-17"},{"$f":"IF($B$8+COLUMN(L8)-1<='Site Plan'!$Q$4,$B$8+COLUMN(L8)-1,\"\")","v":"2016-04-18"},{"$f":"IF($B$8+COLUMN(M8)-1<='Site Plan'!$Q$4,$B$8+COLUMN(M8)-1,\"\")","v":"2016-04-19"},{"$f":"IF($B$8+COLUMN(N8)-1<='Site Plan'!$Q$4,$B$8+COLUMN(N8)-1,\"\")","v":""},{"$f":"IF($B$8+COLUMN(O8)-1<='Site Plan'!$Q$4,$B$8+COLUMN(O8)-1,\"\")","v":""},{"$f":"IF($B$8+COLUMN(P8)-1<='Site Plan'!$Q$4,$B$8+COLUMN(P8)-1,\"\")","v":""},{"$f":"IF($B$8+COLUMN(Q8)-1<='Site Plan'!$Q$4,$B$8+COLUMN(Q8)-1,\"\")","v":""},{"$f":"IF($B$8+COLUMN(R8)-1<='Site Plan'!$Q$4,$B$8+COLUMN(R8)-1,\"\")","v":""},{"$f":"IF($B$8+COLUMN(S8)-1<='Site Plan'!$Q$4,$B$8+COLUMN(S8)-1,\"\")","v":""},{"$f":"IF($B$8+COLUMN(T8)-1<='Site Plan'!$Q$4,$B$8+COLUMN(T8)-1,\"\")","v":""},{"$f":"IF($B$8+COLUMN(U8)-1<='Site Plan'!$Q$4,$B$8+COLUMN(U8)-1,\"\")","v":""},{"$f":"IF($B$8+COLUMN(V8)-1<='Site Plan'!$Q$4,$B$8+COLUMN(V8)-1,\"\")","v":""},{"$f":"IF($B$8+COLUMN(W8)-1<='Site Plan'!$Q$4,$B$8+COLUMN(W8)-1,\"\")","v":""},{"$f":"IF($B$8+COLUMN(X8)-1<='Site Plan'!$Q$4,$B$8+COLUMN(X8)-1,\"\")","v":""},{"$f":"IF($B$8+COLUMN(Y8)-1<='Site Plan'!$Q$4,$B$8+COLUMN(Y8)-1,\"\")","v":""},{"$f":"IF($B$8+COLUMN(Z8)-1<='Site Plan'!$Q$4,$B$8+COLUMN(Z8)-1,\"\")","v":""},{"$f":"IF($B$8+COLUMN(AA8)-1<='Site Plan'!$Q$4,$B$8+COLUMN(AA8)-1,\"\")","v":""},{"$f":"IF($B$8+COLUMN(AB8)-1<='Site Plan'!$Q$4,$B$8+COLUMN(AB8)-1,\"\")","v":""},{"$f":"IF($B$8+COLUMN(AC8)-1<='Site Plan'!$Q$4,$B$8+COLUMN(AC8)-1,\"\")","v":""},{"$f":"IF($B$8+COLUMN(AD8)-1<='Site Plan'!$Q$4,$B$8+COLUMN(AD8)-1,\"\")","v":""},{"$f":"IF($B$8+COLUMN(AE8)-1<='Site Plan'!$Q$4,$B$8+COLUMN(AE8)-1,\"\")","v":""},{"$f":"IF($B$8+COLUMN(AF8)-1<='Site Plan'!$Q$4,$B$8+COLUMN(AF8)-1,\"\")","v":""},{"$f":"IF($B$8+COLUMN(AG8)-1<='Site Plan'!$Q$4,$B$8+COLUMN(AG8)-1,\"\")","v":""},{"$f":"IF($B$8+COLUMN(AH8)-1<='Site Plan'!$Q$4,$B$8+COLUMN(AH8)-1,\"\")","v":""},{"$f":"IF($B$8+COLUMN(AI8)-1<='Site Plan'!$Q$4,$B$8+COLUMN(AI8)-1,\"\")","v":""},{"$f":"IF($B$8+COLUMN(AJ8)-1<='Site Plan'!$Q$4,$B$8+COLUMN(AJ8)-1,\"\")","v":""},{"$f":"IF($B$8+COLUMN(AK8)-1<='Site Plan'!$Q$4,$B$8+COLUMN(AK8)-1,\"\")","v":""},{"$f":"IF($B$8+COLUMN(AL8)-1<='Site Plan'!$Q$4,$B$8+COLUMN(AL8)-1,\"\")","v":""},{"$f":"IF($B$8+COLUMN(AM8)-1<='Site Plan'!$Q$4,$B$8+COLUMN(AM8)-1,\"\")","v":""},{"$f":"IF($B$8+COLUMN(AN8)-1<='Site Plan'!$Q$4,$B$8+COLUMN(AN8)-1,\"\")","v":""},{"$f":"IF($B$8+COLUMN(AO8)-1<='Site Plan'!$Q$4,$B$8+COLUMN(AO8)-1,\"\")","v":""},{"$f":"IF($B$8+COLUMN(AP8)-1<='Site Plan'!$Q$4,$B$8+COLUMN(AP8)-1,\"\")","v":""},{"$f":"IF($B$8+COLUMN(AQ8)-1<='Site Plan'!$Q$4,$B$8+COLUMN(AQ8)-1,\"\")","v":""},{"$f":"IF($B$8+COLUMN(AR8)-1<='Site Plan'!$Q$4,$B$8+COLUMN(AR8)-1,\"\")","v":""},{"$f":"IF($B$8+COLUMN(AS8)-1<='Site Plan'!$Q$4,$B$8+COLUMN(AS8)-1,\"\")","v":""},{"$f":"IF($B$8+COLUMN(AT8)-1<='Site Plan'!$Q$4,$B$8+COLUMN(AT8)-1,\"\")","v":""},{"$f":"IF($B$8+COLUMN(AU8)-1<='Site Plan'!$Q$4,$B$8+COLUMN(AU8)-1,\"\")","v":""},{"$f":"IF($B$8+COLUMN(AV8)-1<='Site Plan'!$Q$4,$B$8+COLUMN(AV8)-1,\"\")","v":""},{"$f":"IF($B$8+COLUMN(AW8)-1<='Site Plan'!$Q$4,$B$8+COLUMN(AW8)-1,\"\")","v":""},{"$f":"IF($B$8+COLUMN(AX8)-1<='Site Plan'!$Q$4,$B$8+COLUMN(AX8)-1,\"\")","v":""},{"$f":"IF($B$8+COLUMN(AY8)-1<='Site Plan'!$Q$4,$B$8+COLUMN(AY8)-1,\"\")","v":""},{"$f":"IF($B$8+COLUMN(AZ8)-1<='Site Plan'!$Q$4,$B$8+COLUMN(AZ8)-1,\"\")","v":""},{"$f":"IF($B$8+COLUMN(BA8)-1<='Site Plan'!$Q$4,$B$8+COLUMN(BA8)-1,\"\")","v":""},{"$f":"IF($B$8+COLUMN(BB8)-1<='Site Plan'!$Q$4,$B$8+COLUMN(BB8)-1,\"\")","v":""},{"$f":"IF($B$8+COLUMN(BC8)-1<='Site Plan'!$Q$4,$B$8+COLUMN(BC8)-1,\"\")","v":""},{"$f":"IF($B$8+COLUMN(BD8)-1<='Site Plan'!$Q$4,$B$8+COLUMN(BD8)-1,\"\")","v":""},{"$f":"IF($B$8+COLUMN(BE8)-1<='Site Plan'!$Q$4,$B$8+COLUMN(BE8)-1,\"\")","v":""},{"$f":"IF($B$8+COLUMN(BF8)-1<='Site Plan'!$Q$4,$B$8+COLUMN(BF8)-1,\"\")","v":""},{"$f":"IF($B$8+COLUMN(BG8)-1<='Site Plan'!$Q$4,$B$8+COLUMN(BG8)-1,\"\")","v":""},{"$f":"IF($B$8+COLUMN(BH8)-1<='Site Plan'!$Q$4,$B$8+COLUMN(BH8)-1,\"\")","v":""},{"$f":"IF($B$8+COLUMN(BI8)-1<='Site Plan'!$Q$4,$B$8+COLUMN(BI8)-1,\"\")","v":""},{"$f":"IF($B$8+COLUMN(BJ8)-1<='Site Plan'!$Q$4,$B$8+COLUMN(BJ8)-1,\"\")","v":""},{"$f":"IF($B$8+COLUMN(BK8)-1<='Site Plan'!$Q$4,$B$8+COLUMN(BK8)-1,\"\")","v":""},{"$f":"IF($B$8+COLUMN(BL8)-1<='Site Plan'!$Q$4,$B$8+COLUMN(BL8)-1,\"\")","v":""},null,null,"Mon","Tue","Wed","Thu","Fri","Sat","Sun",null,"Mon-Thu",null,null,null,null,null,null,"Mon-Fri",null,null,null,null,null,null,"Tue-Thu",null,null,null,null,null,null,"Sat-Sun"]
["TIME",{"$f":"IF(B8=\"\",\"\",CHOOSE(WEEKDAY(B8),\"Sun\",\"Mon\",\"Tue\",\"Wed\",\"Thu\",\"Fri\",\"Sat\"))","v":"Thu"},{"$f":"IF(C8=\"\",\"\",CHOOSE(WEEKDAY(C8),\"Sun\",\"Mon\",\"Tue\",\"Wed\",\"Thu\",\"Fri\",\"Sat\"))","v":"Fri"},"Sat","Sun","Mon","Tue","Wed","Thu","Fri","Sat","Sun","Mon","Tue","","","","","","","","","","","","","","","","","","","","","","","","","","","","","","","","","","","","","","","","","","","","","","","","","","","",null,null,"Mean","Mean","Mean","Mean","Mean","Mean","Mean",null,"Mean","Number of observations","Standard Deviation"," ± 5% interval of the mean","95% confidence interval","Meet WebTAG criteria?",null,"Mean","Number of observations","Standard Deviation"," ± 5% interval of the mean","95% confidence interval","Meet WebTAG criteria?",null,"Mean","Number of observations","Standard Deviation"," ± 5% interval of the mean","95% confidence interval","Meet WebTAG criteria?",null,"Mean","Number of observations","Standard Deviation"," ± 5% interval of the mean","95% confidence interval","Meet WebTAG criteria?"]
["00:00:00",{"$f":"IF(B$8=\"\",\"\",SUMIFS(INDIRECT(\"'\"&TEXT(B$8,\"DD_MMM_YYYY\")&\"'!I$6:I$101\"),INDIRECT(\"'\"&TEXT(B$8,\"DD_MMM_YYYY\")&\"'!a$6:a$101\"),\">=\"&$A10,INDIRECT(\"'\"&TEXT(B$8,\"DD_MMM_YYYY\")&\"'!a$6:a$101\"),\"<\"&$A11))","v":25},{"$f":"IF(C$8=\"\",\"\",SUMIFS(INDIRECT(\"'\"&TEXT(C$8,\"DD_MMM_YYYY\")&\"'!I$6:I$101\"),INDIRECT(\"'\"&TEXT(C$8,\"DD_MMM_YYYY\")&\"'!a$6:a$101\"),\">=\"&$A10,INDIRECT(\"'\"&TEXT(C$8,\"DD_MMM_YYYY\")&\"'!a$6:a$101\"),\"<\"&$A11))","v":32},49,73,17,24,23,22,27,45,86,13,25,"","","","","","","","","","","","","","","","","","","","","","","","","","","","","","","","","","","","","","","","","","","","","","","","","","","",null,null,{"$f":"IF(COUNTIFS($B$9:$BM$9,BP$8,$B10:$BM10,\">=0\")=0,0,SUMIFS($B10:$BM10,$B$9:$BM$9,BP$8)/COUNTIFS($B$9:$BM$9,BP$8,$B10:$BM10,\">=0\"))","v":15},{"$f":"IF(COUNTIFS($B$9:$BM$9,BQ$8,$B10:$BM10,\">=0\")=0,\"\",SUMIFS($B10:$BM10,$B$9:$BM$9,BQ$8)/COUNTIFS($B$9:$BM$9,BQ$8,$B10:$BM10,\">=0\"))","v":24.5},23,23.5,29.5,47,79.5,null,{"$f":"IFERROR(AVERAGE(BP10:BS10),\"\")","v":21.5},{"$f":"IFERROR(COUNTIFS($B$9:$BM$9,BQ$8,$B10:$BM10,\">0\")+COUNTIFS($B$9:$BM$9,BR$8,$B10:$BM10,\">0\")+COUNTIFS($B$9:$BM$9,BS$8,$B10:$BM10,\">0\")+COUNTIFS($B$9:$BM$9,BP$8,$B10:$BM10,\">0\"),\"\")","v":7},{"$f":"IFERROR(_xlfn.STDEV.S(IF((($B$9:$BM$9=\"Mon\")+($B$9:$BM$9=\"Tue\")+($B$9:$BM$9=\"Wed\")+($B$9:$BM$9=\"Thu\"))*($B10:$BM10<>\"\"),$B10:$BM10,\"\")),\"\")","v":4.5721725585067245},{"$f":"IFERROR(BX10*0.05,\"\")","v":1.075},{"$f":"IFERROR(_xlfn.CONFIDENCE.NORM(0.05,BZ10,BY10),\"\")","v":3.3870505925100374},{"$f":"IF(BX10=\"\",\"\",IF(OR(BZ10=0,CB10<=CA10),\"P\",\"O\"))","v":"O"},null,{"$f":"IFERROR(AVERAGE(BP10:BT10),\"\")","v":23.1},{"$f":"IFERROR(COUNTIFS($B$9:$BM$9,BQ$8,$B10:$BM10,\">0\")+COUNTIFS($B$9:$BM$9,BR$8,$B10:$BM10,\">0\")+COUNTIFS($B$9:$BM$9,BS$8,$B10:$BM10,\">0\")+COUNTIFS($B$9:$BM$9,BP$8,$B10:$BM10,\">0\")+COUNTIFS($B$9:$BM$9,BT$8,$B10:$BM10,\">0\"),\"\")","v":9},{"$f":"IFERROR(_xlfn.STDEV.S(IF((($B$9:$BM$9=\"Mon\")+($B$9:$BM$9=\"Tue\")+($B$9:$BM$9=\"Wed\")+($B$9:$BM$9=\"Thu\")+($B$9:$BM$9=\"Fri\"))*($B10:$BM10<>\"\"),$B10:$BM10,\"\")),\"\")","v":5.5100917516055103},{"$f":"IFERROR(CE10*0.05,\"\")","v":1.155},{"$f":"IFERROR(_xlfn.CONFIDENCE.NORM(0.05,CG10,CF10),\"\")","v":3.5998604615526735},{"$f":"IF(CE10=\"\",\"\",IF(OR(CG10=0,CI10<=CH10),\"P\",\"O\"))","v":"O"},null,{"$f":"IFERROR(AVERAGE(BQ10:BS10),\"\")","v":23.666666666666668},{"$f":"IFERROR(COUNTIFS($B$9:$BM$9,BQ$8,$B10:$BM10,\">0\")+COUNTIFS($B$9:$BM$9,BR$8,$B10:$BM10,\">0\")+COUNTIFS($B$9:$BM$9,BS$8,$B10:$BM10,\">0\"),\"\")","v":5},{"$f":"IFERROR(_xlfn.STDEV.S(IF((($B$9:$BM$9=\"Tue\")+($B$9:$BM$9=\"Wed\")+($B$9:$BM$9=\"Thu\"))*($B10:$BM10<>\"\"),$B10:$BM10,\"\")),\"\")","v":1.3038404810405297},{"$f":"IFERROR(CL10*0.05,\"\")","v":1.1833333333333333},{"$f":"IFERROR(_xlfn.CONFIDENCE.NORM(0.05,CN10,CM10),\"\")","v":1.142845570948237},{"$f":"IF(CL10=\"\",\"\",IF(OR(CN10=0,CP10<=CO10),\"P\",\"O\"))","v":"P"},null,{"$f":"IFERROR(AVERAGE(BU10:BV10),\"\")","v":63.25},{"$f":"IFERROR(COUNTIFS($B$9:$BM$9,BU$8,$B10:$BM10,\">0\")+COUNTIFS($B$9:$BM$9,BV$8,$B10:$BM10,\">0\"),\"\")","v":4},{"$f":"IFERROR(_xlfn.STDEV.S(IF((($B$9:$BM$9=\"Sat\")+($B$9:$BM$9=\"Sun\"))*($B10:$BM10<>\"\"),$B10:$BM10,\"\")),\"\")","v":19.568256607747831},{"$f":"IFERROR(CS10*0.05,\"\")","v":3.1625000000000001},{"$f":"IFERROR(_xlfn.CONFIDENCE.NORM(0.05,CU10,CT10),\"\")","v":19.176539095711835},{"$f":"IF(CS10=\"\",\"\",IF(OR(CU10=0,CW10<=CV10),\"P\",\"O\"))","v":"O"}]
["01:00:00",{"$f":"IF(B$8=\"\",\"\",SUMIFS(INDIRECT(\"'\"&TEXT(B$8,\"DD_MMM_YYYY\")&\"'!I$6:I$101\"),INDIRECT(\"'\"&TEXT(B$8,\"DD_MMM_YYYY\")&\"'!a$6:a$101\"),\">=\"&$A11,INDIRECT(\"'\"&TEXT(B$8,\"DD_MMM_YYYY\")&\"'!a$6:a$101\"),\"<\"&$A12))","v":8},11,19,34,10,11,10,13,23,16,45,12,10,"","","","","","","","","","","","","","","","","","","","","","","","","","","","","","","","","","","","","","","","","","","","","","","","","","","",null,null,{"$f":"IF(COUNTIFS($B$9:$BM$9,BP$8,$B11:$BM11,\">=0\")=0,\"\",SUMIFS($B11:$BM11,$B$9:$BM$9,BP$8)/COUNTIFS($B$9:$BM$9,BP$8,$B11:$BM11,\">=0\"))","v":11},10.5,10,10.5,17,17.5,39.5,null,{"$f":"IFERROR(AVERAGE(BP11:BS11),\"\")","v":10.5},{"$f":"IFERROR(COUNTIFS($B$9:$BM$9,BQ$8,$B11:$BM11,\">0\")+COUNTIFS($B$9:$BM$9,BR$8,$B11:$BM11,\">0\")+COUNTIFS($B$9:$BM$9,BS$8,$B11:$BM11,\">0\")+COUNTIFS($B$9:$BM$9,BP$8,$B11:$BM11,\">0\"),\"\")","v":7},{"$f":"IFERROR(_xlfn.STDEV.S(IF((($B$9:$BM$9=\"Mon\")+($B$9:$BM$9=\"Tue\")+($B$9:$BM$9=\"Wed\")+($B$9:$BM$9=\"Thu\"))*($B11:$BM11<>\"\"),$B11:$BM11,\"\")),\"\")","v":1.6183471874253716},{"$f":"IFERROR(BX11*0.05,\"\")","v":0.52500000000000002},{"$f":"IFERROR(_xlfn.CONFIDENCE.NORM(0.05,BZ11,BY11),\"\")","v":1.1988663441535321},{"$f":"IF(BX11=\"\",\"\",IF(OR(BZ11=0,CB11<=CA11),\"P\",\"O\"))","v":"O"},null,{"$f":"IFERROR(AVERAGE(BP11:BT11),\"\")","v":11.8},{"$f":"IFERROR(COUNTIFS($B$9:$BM$9,BQ$8,$B11:$BM11,\">0\")+COUNTIFS($B$9:$BM$9,BR$8,$B11:$BM11,\">0\")+COUNTIFS($B$9:$BM$9,BS$8,$B11:$BM11,\">0\")+COUNTIFS($B$9:$BM$9,BP$8,$B11:$BM11,\">0\")+COUNTIFS($B$9:$BM$9,BT$8,$B11:$BM11,\">0\"),\"\")","v":9},{"$f":"IFERROR(_xlfn.STDEV.S(IF((($B$9:$BM$9=\"Mon\")+($B$9:$BM$9=\"Tue\")+($B$9:$BM$9=\"Wed\")+($B$9:$BM$9=\"Thu\")+($B$9:$BM$9=\"Fri\"))*($B11:$BM11<>\"\"),$B11:$BM11,\"\")),\"\")","v":4.358898943540674},{"$f":"IFERROR(CE11*0.05,\"\")","v":0.59000000000000008},{"$f":"IFERROR(_xlfn.CONFIDENCE.NORM(0.05,CG11,CF11),\"\")","v":2.84776164719647},{"$f":"IF(CE11=\"\",\"\",IF(OR(CG11=0,CI11<=CH11),\"P\",\"O\"))","v":"O"},null,{"$f":"IFERROR(AVERAGE(BQ11:BS11),\"\")","v":10.333333333333334},{"$f":"IFERROR(COUNTIFS($B$9:$BM$9,BQ$8,$B11:$BM11,\">0\")+COUNTIFS($B$9:$BM$9,BR$8,$B11:$BM11,\">0\")+COUNTIFS($B$9:$BM$9,BS$8,$B11:$BM11,\">0\"),\"\")","v":5},{"$f":"IFERROR(_xlfn.STDEV.S(IF((($B$9:$BM$9=\"Tue\")+($B$9:$BM$9=\"Wed\")+($B$9:$BM$9=\"Thu\"))*($B11:$BM11<>\"\"),$B11:$BM11,\"\")),\"\")","v":1.8165902124584981},{"$f":"IFERROR(CL11*0.05,\"\")","v":0.51666666666666672},{"$f":"IFERROR(_xlfn.CONFIDENCE.NORM(0.05,CN11,CM11),\"\")","v":1.5922822682106743},{"$f":"IF(CL11=\"\",\"\",IF(OR(CN11=0,CP11<=CO11),\"P\",\"O\"))","v":"O"},null,{"$f":"IFERROR(AVERAGE(BU11:BV11),\"\")","v":28.5},{"$f":"IFERROR(COUNTIFS($B$9:$BM$9,BU$8,$B11:$BM11,\">0\")+COUNTIFS($B$9:$BM$9,BV$8,$B11:$BM11,\">0\"),\"\")","v":4},{"$f":"IFERROR(_xlfn.STDEV.S(IF(($B$9:$BM$9=\"Sat\")+($B$9:$BM$9=\"Sun\"),$B11:$BM11,\"\")),\"\")","v":13.527749258468683},{"$f":"IFERROR(CS11*0.05,\"\")","v":1.425},{"$f":"IFERROR(_xlfn.CONFIDENCE.NORM(0.05,CU11,CT11),\"\")","v":13.256950669243517},{"$f":"IF(CS11=\"\",\"\",IF(OR(CU11=0,CW11<=CV11),\"P\",\"O\"))","v":"O"}]
["02:00:00",10,13,4,24,11,12,13,9,7,15,16,11,9,"","","","","","","","","","","","","","","","","","","","","","","","","","","","","","","","","","","","","","","","","","","","","","","","","","","",null,null,11,10.5,13,9.5,10,9.5,20,null,11,7,{"$f":"IFERROR(_xlfn.STDEV.S(IF((($B$9:$BM$9=\"Mon\")+($B$9:$BM$9=\"Tue\")+($B$9:$BM$9=\"Wed\")+($B$9:$BM$9=\"Thu\"))*($B12:$BM12<>\"\"),$B12:$BM12,\"\")),\"\")","v":1.4960264830861922},0.55000000000000004,1.108251563366786,"O",null,10.8,9,{"$f":"IFERROR(_xlfn.STDEV.S(IF((($B$9:$BM$9=\"Mon\")+($B$9:$BM$9=\"Tue\")+($B$9:$BM$9=\"Wed\")+($B$9:$BM$9=\"Thu\")+($B$9:$BM$9=\"Fri\"))*($B12:$BM12<>\"\"),$B12:$BM12,\"\")),\"\")","v":2.0069324297987143},0.54,1.3111717606036464,"O",null,11,5,{"$f":"IFERROR(_xlfn.STDEV.S(IF((($B$9:$BM$9=\"Tue\")+($B$9:$BM$9=\"Wed\")+($B$9:$BM$9=\"Thu\"))*($B12:$BM12<>\"\"),$B12:$BM12,\"\")),\"\")","v":1.8165902124584981},0.55000000000000004,1.5922822682106743,"O",null,14.75,4,{"$f":"IFERROR(_xlfn.STDEV.S(IF(($B$9:$BM$9=\"Sat\")+($B$9:$BM$9=\"Sun\"),$B12:$BM12,\"\")),\"\")","v":8.2209083034256825},0.73750000000000004,8.0563420974603055,"O"]
["03:00:00",6,11,10,14,13,7,9,11,7,10,15,10,8,"","","","","","","","","","","","","","","","","","","","","","","","","","","","","","","","","","","","","","","","","","","","","","","","","","","",null,null,11.5,7.5,9,8.5,9,10,14.5,null,9.125,7,{"$f":"IFERROR(_xlfn.STDEV.S(IF((($B$9:$BM$9=\"Mon\")+($B$9:$BM$9=\"Tue\")+($B$9:$BM$9=\"Wed\")+($B$9:$BM$9=\"Thu\"))*($B13:$BM13<>\"\"),$B13:$BM13,\"\")),\"\")","v":2.4102953780654799},0.45625000000000004,1.785538993538597,"O",null,9.1,9,{"$f":"IFERROR(_xlfn.STDEV.S(IF((($B$9:$BM$9=\"Mon\")+($B$9:$BM$9=\"Tue\")+($B$9:$BM$9=\"Wed\")+($B$9:$BM$9=\"Thu\")+($B$9:$BM$9=\"Fri\"))*($B13:$BM13<>\"\"),$B13:$BM13,\"\")),\"\")","v":2.3154073315749679},0.45500000000000002,1.5127049931423091,"O",null,8.3333333333333339,5,{"$f":"IFERROR(_xlfn.STDEV.S(IF((($B$9:$BM$9=\"Tue\")+($B$9:$BM$9=\"Wed\")+($B$9:$BM$9=\"Thu\"))*($B13:$BM13<>\"\"),$B13:$BM13,\"\")),\"\")","v":1.9235384061671352},0.41666666666666674,1.6860247706702454,"O",null,12.25,4,{"$f":"IFERROR(_xlfn.STDEV.S(IF(($B$9:$BM$9=\"Sat\")+($B$9:$BM$9=\"Sun\"),$B13:$BM13,\"\")),\"\")","v":2.6299556396765835},0.61250000000000004,2.577309167352051,"O"]
["04:00:00",24,19,13,11,{"$f":"IF(F$8=\"\",\"\",SUMIFS(INDIRECT(\"'\"&TEXT(F$8,\"DD_MMM_YYYY\")&\"'!I$6:I$101\"),INDIRECT(\"'\"&TEXT(F$8,\"DD_MMM_YYYY\")&\"'!a$6:a$101\"),\">=\"&$A14,INDIRECT(\"'\"&TEXT(F$8,\"DD_MMM_YYYY\")&\"'!a$6:a$101\"),\"<\"&$A15))","v":22},{"$f":"IF(G$8=\"\",\"\",SUMIFS(INDIRECT(\"'\"&TEXT(G$8,\"DD_MMM_YYYY\")&\"'!I$6:I$101\"),INDIRECT(\"'\"&TEXT(G$8,\"DD_MMM_YYYY\")&\"'!a$6:a$101\"),\">=\"&$A14,INDIRECT(\"'\"&TEXT(G$8,\"DD_MMM_YYYY\")&\"'!a$6:a$101\"),\"<\"&$A15))","v":15},{"$f":"IF(H$8=\"\",\"\",SUMIFS(INDIRECT(\"'\"&TEXT(H$8,\"DD_MMM_YYYY\")&\"'!I$6:I$101\"),INDIRECT(\"'\"&TEXT(H$8,\"DD_MMM_YYYY\")&\"'!a$6:a$101\"),\">=\"&$A14,INDIRECT(\"'\"&TEXT(H$8,\"DD_MMM_YYYY\")&\"'!a$6:a$101\"),\"<\"&$A15))","v":19},{"$f":"IF(I$8=\"\",\"\",SUMIFS(INDIRECT(\"'\"&TEXT(I$8,\"DD_MMM_YYYY\")&\"'!I$6:I$101\"),INDIRECT(\"'\"&TEXT(I$8,\"DD_MMM_YYYY\")&\"'!a$6:a$101\"),\">=\"&$A14,INDIRECT(\"'\"&TEXT(I$8,\"DD_MMM_YYYY\")&\"'!a$6:a$101\"),\"<\"&$A15))","v":23},{"$f":"IF(J$8=\"\",\"\",SUMIFS(INDIRECT(\"'\"&TEXT(J$8,\"DD_MMM_YYYY\")&\"'!I$6:I$101\"),INDIRECT(\"'\"&TEXT(J$8,\"DD_MMM_YYYY\")&\"'!a$6:a$101\"),\">=\"&$A14,INDIRECT(\"'\"&TEXT(J$8,\"DD_MMM_YYYY\")&\"'!a$6:a$101\"),\"<\"&$A15))","v":24},{"$f":"IF(K$8=\"\",\"\",SUMIFS(INDIRECT(\"'\"&TEXT(K$8,\"DD_MMM_YYYY\")&\"'!I$6:I$101\"),INDIRECT(\"'\"&TEXT(K$8,\"DD_MMM_YYYY\")&\"'!a$6:a$101\"),\">=\"&$A14,INDIRECT(\"'\"&TEXT(K$8,\"DD_MMM_YYYY\")&\"'!a$6:a$101\"),\"<\"&$A15))","v":15},{"$f":"IF(L$8=\"\",\"\",SUMIFS(INDIRECT(\"'\"&TEXT(L$8,\"DD_MMM_YYYY\")&\"'!I$6:I$101\"),INDIRECT(\"'\"&TEXT(L$8,\"DD_MMM_YYYY\")&\"'!a$6:a$101\"),\">=\"&$A14,INDIRECT(\"'\"&TEXT(L$8,\"DD_MMM_YYYY\")&\"'!a$6:a$101\"),\"<\"&$A15))","v":13},{"$f":"IF(M$8=\"\",\"\",SUMIFS(INDIRECT(\"'\"&TEXT(M$8,\"DD_MMM_YYYY\")&\"'!I$6:I$101\"),INDIRECT(\"'\"&TEXT(M$8,\"DD_MMM_YYYY\")&\"'!a$6:a$101\"),\">=\"&$A14,INDIRECT(\"'\"&TEXT(M$8,\"DD_MMM_YYYY\")&\"'!a$6:a$101\"),\"<\"&$A15))","v":10},{"$f":"IF(N$8=\"\",\"\",SUMIFS(INDIRECT(\"'\"&TEXT(N$8,\"DD_MMM_YYYY\")&\"'!I$6:I$101\"),INDIRECT(\"'\"&TEXT(N$8,\"DD_MMM_YYYY\")&\"'!a$6:a$101\"),\">=\"&$A14,INDIRECT(\"'\"&TEXT(N$8,\"DD_MMM_YYYY\")&\"'!a$6:a$101\"),\"<\"&$A15))","v":14},{"$f":"IF(O$8=\"\",\"\",SUMIFS(INDIRECT(\"'\"&TEXT(O$8,\"DD_MMM_YYYY\")&\"'!I$6:I$101\"),INDIRECT(\"'\"&TEXT(O$8,\"DD_MMM_YYYY\")&\"'!a$6:a$101\"),\">=\"&$A14,INDIRECT(\"'\"&TEXT(O$8,\"DD_MMM_YYYY\")&\"'!a$6:a$101\"),\"<\"&$A15))","v":""},{"$f":"IF(P$8=\"\",\"\",SUMIFS(INDIRECT(\"'\"&TEXT(P$8,\"DD_MMM_YYYY\")&\"'!I$6:I$101\"),INDIRECT(\"'\"&TEXT(P$8,\"DD_MMM_YYYY\")&\"'!a$6:a$101\"),\">=\"&$A14,INDIRECT(\"'\"&TEXT(P$8,\"DD_MMM_YYYY\")&\"'!a$6:a$101\"),\"<\"&$A15))","v":""},{"$f":"IF(Q$8=\"\",\"\",SUMIFS(INDIRECT(\"'\"&TEXT(Q$8,\"DD_MMM_YYYY\")&\"'!I$6:I$101\"),INDIRECT(\"'\"&TEXT(Q$8,\"DD_MMM_YYYY\")&\"'!a$6:a$101\"),\">=\"&$A14,INDIRECT(\"'\"&TEXT(Q$8,\"DD_MMM_YYYY\")&\"'!a$6:a$101\"),\"<\"&$A15))","v":""},{"$f":"IF(R$8=\"\",\"\",SUMIFS(INDIRECT(\"'\"&TEXT(R$8,\"DD_MMM_YYYY\")&\"'!I$6:I$101\"),INDIRECT(\"'\"&TEXT(R$8,\"DD_MMM_YYYY\")&\"'!a$6:a$101\"),\">=\"&$A14,INDIRECT(\"'\"&TEXT(R$8,\"DD_MMM_YYYY\")&\"'!a$6:a$101\"),\"<\"&$A15))","v":""},{"$f":"IF(S$8=\"\",\"\",SUMIFS(INDIRECT(\"'\"&TEXT(S$8,\"DD_MMM_YYYY\")&\"'!I$6:I$101\"),INDIRECT(\"'\"&TEXT(S$8,\"DD_MMM_YYYY\")&\"'!a$6:a$101\"),\">=\"&$A14,INDIRECT(\"'\"&TEXT(S$8,\"DD_MMM_YYYY\")&\"'!a$6:a$101\"),\"<\"&$A15))","v":""},{"$f":"IF(T$8=\"\",\"\",SUMIFS(INDIRECT(\"'\"&TEXT(T$8,\"DD_MMM_YYYY\")&\"'!I$6:I$101\"),INDIRECT(\"'\"&TEXT(T$8,\"DD_MMM_YYYY\")&\"'!a$6:a$101\"),\">=\"&$A14,INDIRECT(\"'\"&TEXT(T$8,\"DD_MMM_YYYY\")&\"'!a$6:a$101\"),\"<\"&$A15))","v":""},{"$f":"IF(U$8=\"\",\"\",SUMIFS(INDIRECT(\"'\"&TEXT(U$8,\"DD_MMM_YYYY\")&\"'!I$6:I$101\"),INDIRECT(\"'\"&TEXT(U$8,\"DD_MMM_YYYY\")&\"'!a$6:a$101\"),\">=\"&$A14,INDIRECT(\"'\"&TEXT(U$8,\"DD_MMM_YYYY\")&\"'!a$6:a$101\"),\"<\"&$A15))","v":""},{"$f":"IF(V$8=\"\",\"\",SUMIFS(INDIRECT(\"'\"&TEXT(V$8,\"DD_MMM_YYYY\")&\"'!I$6:I$101\"),INDIRECT(\"'\"&TEXT(V$8,\"DD_MMM_YYYY\")&\"'!a$6:a$101\"),\">=\"&$A14,INDIRECT(\"'\"&TEXT(V$8,\"DD_MMM_YYYY\")&\"'!a$6:a$101\"),\"<\"&$A15))","v":""},{"$f":"IF(W$8=\"\",\"\",SUMIFS(INDIRECT(\"'\"&TEXT(W$8,\"DD_MMM_YYYY\")&\"'!I$6:I$101\"),INDIRECT(\"'\"&TEXT(W$8,\"DD_MMM_YYYY\")&\"'!a$6:a$101\"),\">=\"&$A14,INDIRECT(\"'\"&TEXT(W$8,\"DD_MMM_YYYY\")&\"'!a$6:a$101\"),\"<\"&$A15))","v":""},{"$f":"IF(X$8=\"\",\"\",SUMIFS(INDIRECT(\"'\"&TEXT(X$8,\"DD_MMM_YYYY\")&\"'!I$6:I$101\"),INDIRECT(\"'\"&TEXT(X$8,\"DD_MMM_YYYY\")&\"'!a$6:a$101\"),\">=\"&$A14,INDIRECT(\"'\"&TEXT(X$8,\"DD_MMM_YYYY\")&\"'!a$6:a$101\"),\"<\"&$A15))","v":""},{"$f":"IF(Y$8=\"\",\"\",SUMIFS(INDIRECT(\"'\"&TEXT(Y$8,\"DD_MMM_YYYY\")&\"'!I$6:I$101\"),INDIRECT(\"'\"&TEXT(Y$8,\"DD_MMM_YYYY\")&\"'!a$6:a$101\"),\">=\"&$A14,INDIRECT(\"'\"&TEXT(Y$8,\"DD_MMM_YYYY\")&\"'!a$6:a$101\"),\"<\"&$A15))","v":""},{"$f":"IF(Z$8=\"\",\"\",SUMIFS(INDIRECT(\"'\"&TEXT(Z$8,\"DD_MMM_YYYY\")&\"'!I$6:I$101\"),INDIRECT(\"'\"&TEXT(Z$8,\"DD_MMM_YYYY\")&\"'!a$6:a$101\"),\">=\"&$A14,INDIRECT(\"'\"&TEXT(Z$8,\"DD_MMM_YYYY\")&\"'!a$6:a$101\"),\"<\"&$A15))","v":""},{"$f":"IF(AA$8=\"\",\"\",SUMIFS(INDIRECT(\"'\"&TEXT(AA$8,\"DD_MMM_YYYY\")&\"'!I$6:I$101\"),INDIRECT(\"'\"&TEXT(AA$8,\"DD_MMM_YYYY\")&\"'!a$6:a$101\"),\">=\"&$A14,INDIRECT(\"'\"&TEXT(AA$8,\"DD_MMM_YYYY\")&\"'!a$6:a$101\"),\"<\"&$A15))","v":""},{"$f":"IF(AB$8=\"\",\"\",SUMIFS(INDIRECT(\"'\"&TEXT(AB$8,\"DD_MMM_YYYY\")&\"'!I$6:I$101\"),INDIRECT(\"'\"&TEXT(AB$8,\"DD_MMM_YYYY\")&\"'!a$6:a$101\"),\">=\"&$A14,INDIRECT(\"'\"&TEXT(AB$8,\"DD_MMM_YYYY\")&\"'!a$6:a$101\"),\"<\"&$A15))","v":""},{"$f":"IF(AC$8=\"\",\"\",SUMIFS(INDIRECT(\"'\"&TEXT(AC$8,\"DD_MMM_YYYY\")&\"'!I$6:I$101\"),INDIRECT(\"'\"&TEXT(AC$8,\"DD_MMM_YYYY\")&\"'!a$6:a$101\"),\">=\"&$A14,INDIRECT(\"'\"&TEXT(AC$8,\"DD_MMM_YYYY\")&\"'!a$6:a$101\"),\"<\"&$A15))","v":""},{"$f":"IF(AD$8=\"\",\"\",SUMIFS(INDIRECT(\"'\"&TEXT(AD$8,\"DD_MMM_YYYY\")&\"'!I$6:I$101\"),INDIRECT(\"'\"&TEXT(AD$8,\"DD_MMM_YYYY\")&\"'!a$6:a$101\"),\">=\"&$A14,INDIRECT(\"'\"&TEXT(AD$8,\"DD_MMM_YYYY\")&\"'!a$6:a$101\"),\"<\"&$A15))","v":""},{"$f":"IF(AE$8=\"\",\"\",SUMIFS(INDIRECT(\"'\"&TEXT(AE$8,\"DD_MMM_YYYY\")&\"'!I$6:I$101\"),INDIRECT(\"'\"&TEXT(AE$8,\"DD_MMM_YYYY\")&\"'!a$6:a$101\"),\">=\"&$A14,INDIRECT(\"'\"&TEXT(AE$8,\"DD_MMM_YYYY\")&\"'!a$6:a$101\"),\"<\"&$A15))","v":""},{"$f":"IF(AF$8=\"\",\"\",SUMIFS(INDIRECT(\"'\"&TEXT(AF$8,\"DD_MMM_YYYY\")&\"'!I$6:I$101\"),INDIRECT(\"'\"&TEXT(AF$8,\"DD_MMM_YYYY\")&\"'!a$6:a$101\"),\">=\"&$A14,INDIRECT(\"'\"&TEXT(AF$8,\"DD_MMM_YYYY\")&\"'!a$6:a$101\"),\"<\"&$A15))","v":""},{"$f":"IF(AG$8=\"\",\"\",SUMIFS(INDIRECT(\"'\"&TEXT(AG$8,\"DD_MMM_YYYY\")&\"'!I$6:I$101\"),INDIRECT(\"'\"&TEXT(AG$8,\"DD_MMM_YYYY\")&\"'!a$6:a$101\"),\">=\"&$A14,INDIRECT(\"'\"&TEXT(AG$8,\"DD_MMM_YYYY\")&\"'!a$6:a$101\"),\"<\"&$A15))","v":""},{"$f":"IF(AH$8=\"\",\"\",SUMIFS(INDIRECT(\"'\"&TEXT(AH$8,\"DD_MMM_YYYY\")&\"'!I$6:I$101\"),INDIRECT(\"'\"&TEXT(AH$8,\"DD_MMM_YYYY\")&\"'!a$6:a$101\"),\">=\"&$A14,INDIRECT(\"'\"&TEXT(AH$8,\"DD_MMM_YYYY\")&\"'!a$6:a$101\"),\"<\"&$A15))","v":""},{"$f":"IF(AI$8=\"\",\"\",SUMIFS(INDIRECT(\"'\"&TEXT(AI$8,\"DD_MMM_YYYY\")&\"'!I$6:I$101\"),INDIRECT(\"'\"&TEXT(AI$8,\"DD_MMM_YYYY\")&\"'!a$6:a$101\"),\">=\"&$A14,INDIRECT(\"'\"&TEXT(AI$8,\"DD_MMM_YYYY\")&\"'!a$6:a$101\"),\"<\"&$A15))","v":""},{"$f":"IF(AJ$8=\"\",\"\",SUMIFS(INDIRECT(\"'\"&TEXT(AJ$8,\"DD_MMM_YYYY\")&\"'!I$6:I$101\"),INDIRECT(\"'\"&TEXT(AJ$8,\"DD_MMM_YYYY\")&\"'!a$6:a$101\"),\">=\"&$A14,INDIRECT(\"'\"&TEXT(AJ$8,\"DD_MMM_YYYY\")&\"'!a$6:a$101\"),\"<\"&$A15))","v":""},{"$f":"IF(AK$8=\"\",\"\",SUMIFS(INDIRECT(\"'\"&TEXT(AK$8,\"DD_MMM_YYYY\")&\"'!I$6:I$101\"),INDIRECT(\"'\"&TEXT(AK$8,\"DD_MMM_YYYY\")&\"'!a$6:a$101\"),\">=\"&$A14,INDIRECT(\"'\"&TEXT(AK$8,\"DD_MMM_YYYY\")&\"'!a$6:a$101\"),\"<\"&$A15))","v":""},{"$f":"IF(AL$8=\"\",\"\",SUMIFS(INDIRECT(\"'\"&TEXT(AL$8,\"DD_MMM_YYYY\")&\"'!I$6:I$101\"),INDIRECT(\"'\"&TEXT(AL$8,\"DD_MMM_YYYY\")&\"'!a$6:a$101\"),\">=\"&$A14,INDIRECT(\"'\"&TEXT(AL$8,\"DD_MMM_YYYY\")&\"'!a$6:a$101\"),\"<\"&$A15))","v":""},{"$f":"IF(AM$8=\"\",\"\",SUMIFS(INDIRECT(\"'\"&TEXT(AM$8,\"DD_MMM_YYYY\")&\"'!I$6:I$101\"),INDIRECT(\"'\"&TEXT(AM$8,\"DD_MMM_YYYY\")&\"'!a$6:a$101\"),\">=\"&$A14,INDIRECT(\"'\"&TEXT(AM$8,\"DD_MMM_YYYY\")&\"'!a$6:a$101\"),\"<\"&$A15))","v":""},{"$f":"IF(AN$8=\"\",\"\",SUMIFS(INDIRECT(\"'\"&TEXT(AN$8,\"DD_MMM_YYYY\")&\"'!I$6:I$101\"),INDIRECT(\"'\"&TEXT(AN$8,\"DD_MMM_YYYY\")&\"'!a$6:a$101\"),\">=\"&$A14,INDIRECT(\"'\"&TEXT(AN$8,\"DD_MMM_YYYY\")&\"'!a$6:a$101\"),\"<\"&$A15))","v":""},{"$f":"IF(AO$8=\"\",\"\",SUMIFS(INDIRECT(\"'\"&TEXT(AO$8,\"DD_MMM_YYYY\")&\"'!I$6:I$101\"),INDIRECT(\"'\"&TEXT(AO$8,\"DD_MMM_YYYY\")&\"'!a$6:a$101\"),\">=\"&$A14,INDIRECT(\"'\"&TEXT(AO$8,\"DD_MMM_YYYY\")&\"'!a$6:a$101\"),\"<\"&$A15))","v":""},{"$f":"IF(AP$8=\"\",\"\",SUMIFS(INDIRECT(\"'\"&TEXT(AP$8,\"DD_MMM_YYYY\")&\"'!I$6:I$101\"),INDIRECT(\"'\"&TEXT(AP$8,\"DD_MMM_YYYY\")&\"'!a$6:a$101\"),\">=\"&$A14,INDIRECT(\"'\"&TEXT(AP$8,\"DD_MMM_YYYY\")&\"'!a$6:a$101\"),\"<\"&$A15))","v":""},{"$f":"IF(AQ$8=\"\",\"\",SUMIFS(INDIRECT(\"'\"&TEXT(AQ$8,\"DD_MMM_YYYY\")&\"'!I$6:I$101\"),INDIRECT(\"'\"&TEXT(AQ$8,\"DD_MMM_YYYY\")&\"'!a$6:a$101\"),\">=\"&$A14,INDIRECT(\"'\"&TEXT(AQ$8,\"DD_MMM_YYYY\")&\"'!a$6:a$101\"),\"<\"&$A15))","v":""},{"$f":"IF(AR$8=\"\",\"\",SUMIFS(INDIRECT(\"'\"&TEXT(AR$8,\"DD_MMM_YYYY\")&\"'!I$6:I$101\"),INDIRECT(\"'\"&TEXT(AR$8,\"DD_MMM_YYYY\")&\"'!a$6:a$101\"),\">=\"&$A14,INDIRECT(\"'\"&TEXT(AR$8,\"DD_MMM_YYYY\")&\"'!a$6:a$101\"),\"<\"&$A15))","v":""},{"$f":"IF(AS$8=\"\",\"\",SUMIFS(INDIRECT(\"'\"&TEXT(AS$8,\"DD_MMM_YYYY\")&\"'!I$6:I$101\"),INDIRECT(\"'\"&TEXT(AS$8,\"DD_MMM_YYYY\")&\"'!a$6:a$101\"),\">=\"&$A14,INDIRECT(\"'\"&TEXT(AS$8,\"DD_MMM_YYYY\")&\"'!a$6:a$101\"),\"<\"&$A15))","v":""},{"$f":"IF(AT$8=\"\",\"\",SUMIFS(INDIRECT(\"'\"&TEXT(AT$8,\"DD_MMM_YYYY\")&\"'!I$6:I$101\"),INDIRECT(\"'\"&TEXT(AT$8,\"DD_MMM_YYYY\")&\"'!a$6:a$101\"),\">=\"&$A14,INDIRECT(\"'\"&TEXT(AT$8,\"DD_MMM_YYYY\")&\"'!a$6:a$101\"),\"<\"&$A15))","v":""},{"$f":"IF(AU$8=\"\",\"\",SUMIFS(INDIRECT(\"'\"&TEXT(AU$8,\"DD_MMM_YYYY\")&\"'!I$6:I$101\"),INDIRECT(\"'\"&TEXT(AU$8,\"DD_MMM_YYYY\")&\"'!a$6:a$101\"),\">=\"&$A14,INDIRECT(\"'\"&TEXT(AU$8,\"DD_MMM_YYYY\")&\"'!a$6:a$101\"),\"<\"&$A15))","v":""},{"$f":"IF(AV$8=\"\",\"\",SUMIFS(INDIRECT(\"'\"&TEXT(AV$8,\"DD_MMM_YYYY\")&\"'!I$6:I$101\"),INDIRECT(\"'\"&TEXT(AV$8,\"DD_MMM_YYYY\")&\"'!a$6:a$101\"),\">=\"&$A14,INDIRECT(\"'\"&TEXT(AV$8,\"DD_MMM_YYYY\")&\"'!a$6:a$101\"),\"<\"&$A15))","v":""},{"$f":"IF(AW$8=\"\",\"\",SUMIFS(INDIRECT(\"'\"&TEXT(AW$8,\"DD_MMM_YYYY\")&\"'!I$6:I$101\"),INDIRECT(\"'\"&TEXT(AW$8,\"DD_MMM_YYYY\")&\"'!a$6:a$101\"),\">=\"&$A14,INDIRECT(\"'\"&TEXT(AW$8,\"DD_MMM_YYYY\")&\"'!a$6:a$101\"),\"<\"&$A15))","v":""},{"$f":"IF(AX$8=\"\",\"\",SUMIFS(INDIRECT(\"'\"&TEXT(AX$8,\"DD_MMM_YYYY\")&\"'!I$6:I$101\"),INDIRECT(\"'\"&TEXT(AX$8,\"DD_MMM_YYYY\")&\"'!a$6:a$101\"),\">=\"&$A14,INDIRECT(\"'\"&TEXT(AX$8,\"DD_MMM_YYYY\")&\"'!a$6:a$101\"),\"<\"&$A15))","v":""},{"$f":"IF(AY$8=\"\",\"\",SUMIFS(INDIRECT(\"'\"&TEXT(AY$8,\"DD_MMM_YYYY\")&\"'!I$6:I$101\"),INDIRECT(\"'\"&TEXT(AY$8,\"DD_MMM_YYYY\")&\"'!a$6:a$101\"),\">=\"&$A14,INDIRECT(\"'\"&TEXT(AY$8,\"DD_MMM_YYYY\")&\"'!a$6:a$101\"),\"<\"&$A15))","v":""},{"$f":"IF(AZ$8=\"\",\"\",SUMIFS(INDIRECT(\"'\"&TEXT(AZ$8,\"DD_MMM_YYYY\")&\"'!I$6:I$101\"),INDIRECT(\"'\"&TEXT(AZ$8,\"DD_MMM_YYYY\")&\"'!a$6:a$101\"),\">=\"&$A14,INDIRECT(\"'\"&TEXT(AZ$8,\"DD_MMM_YYYY\")&\"'!a$6:a$101\"),\"<\"&$A15))","v":""},{"$f":"IF(BA$8=\"\",\"\",SUMIFS(INDIRECT(\"'\"&TEXT(BA$8,\"DD_MMM_YYYY\")&\"'!I$6:I$101\"),INDIRECT(\"'\"&TEXT(BA$8,\"DD_MMM_YYYY\")&\"'!a$6:a$101\"),\">=\"&$A14,INDIRECT(\"'\"&TEXT(BA$8,\"DD_MMM_YYYY\")&\"'!a$6:a$101\"),\"<\"&$A15))","v":""},{"$f":"IF(BB$8=\"\",\"\",SUMIFS(INDIRECT(\"'\"&TEXT(BB$8,\"DD_MMM_YYYY\")&\"'!I$6:I$101\"),INDIRECT(\"'\"&TEXT(BB$8,\"DD_MMM_YYYY\")&\"'!a$6:a$101\"),\">=\"&$A14,INDIRECT(\"'\"&TEXT(BB$8,\"DD_MMM_YYYY\")&\"'!a$6:a$101\"),\"<\"&$A15))","v":""},{"$f":"IF(BC$8=\"\",\"\",SUMIFS(INDIRECT(\"'\"&TEXT(BC$8,\"DD_MMM_YYYY\")&\"'!I$6:I$101\"),INDIRECT(\"'\"&TEXT(BC$8,\"DD_MMM_YYYY\")&\"'!a$6:a$101\"),\">=\"&$A14,INDIRECT(\"'\"&TEXT(BC$8,\"DD_MMM_YYYY\")&\"'!a$6:a$101\"),\"<\"&$A15))","v":""},{"$f":"IF(BD$8=\"\",\"\",SUMIFS(INDIRECT(\"'\"&TEXT(BD$8,\"DD_MMM_YYYY\")&\"'!I$6:I$101\"),INDIRECT(\"'\"&TEXT(BD$8,\"DD_MMM_YYYY\")&\"'!a$6:a$101\"),\">=\"&$A14,INDIRECT(\"'\"&TEXT(BD$8,\"DD_MMM_YYYY\")&\"'!a$6:a$101\"),\"<\"&$A15))","v":""},{"$f":"IF(BE$8=\"\",\"\",SUMIFS(INDIRECT(\"'\"&TEXT(BE$8,\"DD_MMM_YYYY\")&\"'!I$6:I$101\"),INDIRECT(\"'\"&TEXT(BE$8,\"DD_MMM_YYYY\")&\"'!a$6:a$101\"),\">=\"&$A14,INDIRECT(\"'\"&TEXT(BE$8,\"DD_MMM_YYYY\")&\"'!a$6:a$101\"),\"<\"&$A15))","v":""},{"$f":"IF(BF$8=\"\",\"\",SUMIFS(INDIRECT(\"'\"&TEXT(BF$8,\"DD_MMM_YYYY\")&\"'!I$6:I$101\"),INDIRECT(\"'\"&TEXT(BF$8,\"DD_MMM_YYYY\")&\"'!a$6:a$101\"),\">=\"&$A14,INDIRECT(\"'\"&TEXT(BF$8,\"DD_MMM_YYYY\")&\"'!a$6:a$101\"),\"<\"&$A15))","v":""},{"$f":"IF(BG$8=\"\",\"\",SUMIFS(INDIRECT(\"'\"&TEXT(BG$8,\"DD_MMM_YYYY\")&\"'!I$6:I$101\"),INDIRECT(\"'\"&TEXT(BG$8,\"DD_MMM_YYYY\")&\"'!a$6:a$101\"),\">=\"&$A14,INDIRECT(\"'\"&TEXT(BG$8,\"DD_MMM_YYYY\")&\"'!a$6:a$101\"),\"<\"&$A15))","v":""},{"$f":"IF(BH$8=\"\",\"\",SUMIFS(INDIRECT(\"'\"&TEXT(BH$8,\"DD_MMM_YYYY\")&\"'!I$6:I$101\"),INDIRECT(\"'\"&TEXT(BH$8,\"DD_MMM_YYYY\")&\"'!a$6:a$101\"),\">=\"&$A14,INDIRECT(\"'\"&TEXT(BH$8,\"DD_MMM_YYYY\")&\"'!a$6:a$101\"),\"<\"&$A15))","v":""},{"$f":"IF(BI$8=\"\",\"\",SUMIFS(INDIRECT(\"'\"&TEXT(BI$8,\"DD_MMM_YYYY\")&\"'!I$6:I$101\"),INDIRECT(\"'\"&TEXT(BI$8,\"DD_MMM_YYYY\")&\"'!a$6:a$101\"),\">=\"&$A14,INDIRECT(\"'\"&TEXT(BI$8,\"DD_MMM_YYYY\")&\"'!a$6:a$101\"),\"<\"&$A15))","v":""},{"$f":"IF(BJ$8=\"\",\"\",SUMIFS(INDIRECT(\"'\"&TEXT(BJ$8,\"DD_MMM_YYYY\")&\"'!I$6:I$101\"),INDIRECT(\"'\"&TEXT(BJ$8,\"DD_MMM_YYYY\")&\"'!a$6:a$101\"),\">=\"&$A14,INDIRECT(\"'\"&TEXT(BJ$8,\"DD_MMM_YYYY\")&\"'!a$6:a$101\"),\"<\"&$A15))","v":""},{"$f":"IF(BK$8=\"\",\"\",SUMIFS(INDIRECT(\"'\"&TEXT(BK$8,\"DD_MMM_YYYY\")&\"'!I$6:I$101\"),INDIRECT(\"'\"&TEXT(BK$8,\"DD_MMM_YYYY\")&\"'!a$6:a$101\"),\">=\"&$A14,INDIRECT(\"'\"&TEXT(BK$8,\"DD_MMM_YYYY\")&\"'!a$6:a$101\"),\"<\"&$A15))","v":""},{"$f":"IF(BL$8=\"\",\"\",SUMIFS(INDIRECT(\"'\"&TEXT(BL$8,\"DD_MMM_YYYY\")&\"'!I$6:I$101\"),INDIRECT(\"'\"&TEXT(BL$8,\"DD_MMM_YYYY\")&\"'!a$6:a$101\"),\">=\"&$A14,INDIRECT(\"'\"&TEXT(BL$8,\"DD_MMM_YYYY\")&\"'!a$6:a$101\"),\"<\"&$A15))","v":""},{"$f":"IF(BM$8=\"\",\"\",SUMIFS(INDIRECT(\"'\"&TEXT(BM$8,\"DD_MMM_YYYY\")&\"'!I$6:I$101\"),INDIRECT(\"'\"&TEXT(BM$8,\"DD_MMM_YYYY\")&\"'!a$6:a$101\"),\">=\"&$A14,INDIRECT(\"'\"&TEXT(BM$8,\"DD_MMM_YYYY\")&\"'!a$6:a$101\"),\"<\"&$A15))","v":""},null,null,16,14.5,19,23.5,21.5,14,12,null,18.25,7,{"$f":"IFERROR(_xlfn.STDEV.S(IF((($B$9:$BM$9=\"Mon\")+($B$9:$BM$9=\"Tue\")+($B$9:$BM$9=\"Wed\")+($B$9:$BM$9=\"Thu\"))*($B14:$BM14<>\"\"),$B14:$BM14,\"\")),\"\")","v":5.2734735999646167},0.91250000000000009,3.9065721279731807,"O",null,18.899999999999999,9,{"$f":"IFERROR(_xlfn.STDEV.S(IF((($B$9:$BM$9=\"Mon\")+($B$9:$BM$9=\"Tue\")+($B$9:$BM$9=\"Wed\")+($B$9:$BM$9=\"Thu\")+($B$9:$BM$9=\"Fri\"))*($B14:$BM14<>\"\"),$B14:$BM14,\"\")),\"\")","v":4.9609586887124033},0.94499999999999995,3.2411001195557869,"O",null,19,5,{"$f":"IFERROR(_xlfn.STDEV.S(IF((($B$9:$BM$9=\"Tue\")+($B$9:$BM$9=\"Wed\")+($B$9:$BM$9=\"Thu\"))*($B14:$BM14<>\"\"),$B14:$BM14,\"\")),\"\")","v":4.5276925690687087},0.95000000000000007,3.968624593589813,"O",null,13,4,{"$f":"IFERROR(_xlfn.STDEV.S(IF(($B$9:$BM$9=\"Sat\")+($B$9:$BM$9=\"Sun\"),$B14:$BM14,\"\")),\"\")","v":1.6329931618554521},0.65,1.6003038921184363,"O"]
["05:00:00",76,{"$f":"IF(C$8=\"\",\"\",SUMIFS(INDIRECT(\"'\"&TEXT(C$8,\"DD_MMM_YYYY\")&\"'!I$6:I$101\"),INDIRECT(\"'\"&TEXT(C$8,\"DD_MMM_YYYY\")&\"'!a$6:a$101\"),\">=\"&$A15,INDIRECT(\"'\"&TEXT(C$8,\"DD_MMM_YYYY\")&\"'!a$6:a$101\"),\"<\"&$A16))","v":70},{"$f":"IF(D$8=\"\",\"\",SUMIFS(INDIRECT(\"'\"&TEXT(D$8,\"DD_MMM_YYYY\")&\"'!I$6:I$101\"),INDIRECT(\"'\"&TEXT(D$8,\"DD_MMM_YYYY\")&\"'!a$6:a$101\"),\">=\"&$A15,INDIRECT(\"'\"&TEXT(D$8,\"DD_MMM_YYYY\")&\"'!a$6:a$101\"),\"<\"&$A16))","v":44},{"$f":"IF(E$8=\"\",\"\",SUMIFS(INDIRECT(\"'\"&TEXT(E$8,\"DD_MMM_YYYY\")&\"'!I$6:I$101\"),INDIRECT(\"'\"&TEXT(E$8,\"DD_MMM_YYYY\")&\"'!a$6:a$101\"),\">=\"&$A15,INDIRECT(\"'\"&TEXT(E$8,\"DD_MMM_YYYY\")&\"'!a$6:a$101\"),\"<\"&$A16))","v":32},69,74,79,69,76,48,27,86,83,"","","","","","","","","","","","","","","","","","","","","","","","","","","","","","","","","","","","","","","","","","","","","","","","","","","",null,null,77.5,78.5,79,72.5,73,46,29.5,null,76.875,7,{"$f":"IFERROR(_xlfn.STDEV.S(IF((($B$9:$BM$9=\"Mon\")+($B$9:$BM$9=\"Tue\")+($B$9:$BM$9=\"Wed\")+($B$9:$BM$9=\"Thu\"))*($B15:$BM15<>\"\"),$B15:$BM15,\"\")),\"\")","v":6.5538066001661166},3.84375,4.8550386592449062,"O",null,76.099999999999994,9,{"$f":"IFERROR(_xlfn.STDEV.S(IF((($B$9:$BM$9=\"Mon\")+($B$9:$BM$9=\"Tue\")+($B$9:$BM$9=\"Wed\")+($B$9:$BM$9=\"Thu\")+($B$9:$BM$9=\"Fri\"))*($B15:$BM15<>\"\"),$B15:$BM15,\"\")),\"\")","v":6.0781941762701566},3.8049999999999997,3.9710138921768685,"O",null,76.666666666666671,5,{"$f":"IFERROR(_xlfn.STDEV.S(IF((($B$9:$BM$9=\"Tue\")+($B$9:$BM$9=\"Wed\")+($B$9:$BM$9=\"Thu\"))*($B15:$BM15<>\"\"),$B15:$BM15,\"\")),\"\")","v":5.2630789467763064},3.8333333333333339,4.6132073296834859,"O",null,37.75,4,{"$f":"IFERROR(_xlfn.STDEV.S(IF(($B$9:$BM$9=\"Sat\")+($B$9:$BM$9=\"Sun\"),$B15:$BM15,\"\")),\"\")","v":9.8784276751582958},1.8875000000000002,9.6806812335969958,"O"]
["06:00:00",217,188,81,54,218,216,240,224,225,97,38,227,235,"","","","","","","","","","","","","","","","","","","","","","","","","","","","","","","","","","","","","","","","","","","","","","","","","","","",null,null,222.5,225.5,240,220.5,206.5,89,46,null,227.125,7,{"$f":"IFERROR(_xlfn.STDEV.S(IF((($B$9:$BM$9=\"Mon\")+($B$9:$BM$9=\"Tue\")+($B$9:$BM$9=\"Wed\")+($B$9:$BM$9=\"Thu\"))*($B16:$BM16<>\"\"),$B16:$BM16,\"\")),\"\")","v":9.340133577101307},11.356250000000001,6.9191406408283207,"P",null,223,9,{"$f":"IFERROR(_xlfn.STDEV.S(IF((($B$9:$BM$9=\"Mon\")+($B$9:$BM$9=\"Tue\")+($B$9:$BM$9=\"Wed\")+($B$9:$BM$9=\"Thu\")+($B$9:$BM$9=\"Fri\"))*($B16:$BM16<>\"\"),$B16:$BM16,\"\")),\"\")","v":14.819281733981276},11.15,9.6817528251185241,"P",null,228.66666666666666,5,{"$f":"IFERROR(_xlfn.STDEV.S(IF((($B$9:$BM$9=\"Tue\")+($B$9:$BM$9=\"Wed\")+($B$9:$BM$9=\"Thu\"))*($B16:$BM16<>\"\"),$B16:$BM16,\"\")),\"\")","v":10.737783756436894},11.433333333333334,9.4119094983540137,"P",null,67.5,4,{"$f":"IFERROR(_xlfn.STDEV.S(IF(($B$9:$BM$9=\"Sat\")+($B$9:$BM$9=\"Sun\"),$B16:$BM16,\"\")),\"\")","v":26.488991424111767},3.375,25.958734589024704,"O"]
["07:00:00",491,463,222,88,559,586,592,562,552,197,88,526,571,"","","","","","","","","","","","","","","","","","","","","","","","","","","","","","","","","","","","","","","","","","","","","","","","","","","",null,null,542.5,578.5,592,526.5,507.5,209.5,88,null,559.875,7,{"$f":"IFERROR(_xlfn.STDEV.S(IF((($B$9:$BM$9=\"Mon\")+($B$9:$BM$9=\"Tue\")+($B$9:$BM$9=\"Wed\")+($B$9:$BM$9=\"Thu\"))*($B17:$BM17<>\"\"),$B17:$BM17,\"\")),\"\")","v":35.560813103350554},27.993750000000002,26.343334935543218,"P",null,549.4,9,{"$f":"IFERROR(_xlfn.STDEV.S(IF((($B$9:$BM$9=\"Mon\")+($B$9:$BM$9=\"Tue\")+($B$9:$BM$9=\"Wed\")+($B$9:$BM$9=\"Thu\")+($B$9:$BM$9=\"Fri\"))*($B17:$BM17<>\"\"),$B17:$BM17,\"\")),\"\")","v":43.445367992456923},27.47,28.383785520101593,"O",null,565.66666666666663,5,{"$f":"IFERROR(_xlfn.STDEV.S(IF((($B$9:$BM$9=\"Tue\")+($B$9:$BM$9=\"Wed\")+($B$9:$BM$9=\"Thu\"))*($B17:$BM17<>\"\"),$B17:$BM17,\"\")),\"\")","v":40.574622610691037},28.283333333333331,35.564571293658908,"O",null,148.75,4,{"$f":"IFERROR(_xlfn.STDEV.S(IF(($B$9:$BM$9=\"Sat\")+($B$9:$BM$9=\"Sun\"),$B17:$BM17,\"\")),\"\")","v":70.88664660333896},7.4375,69.467637163681445,"O"]
["08:00:00",559,553,482,212,562,624,607,647,662,415,189,615,572,"","","","","","","","","","","","","","","","","","","","","","","","","","","","","","","","","","","","","","","","","","","","","","","","","","","",null,null,588.5,598,607,603,607.5,448.5,200.5,null,599.125,7,{"$f":"IFERROR(_xlfn.STDEV.S(IF((($B$9:$BM$9=\"Mon\")+($B$9:$BM$9=\"Tue\")+($B$9:$BM$9=\"Wed\")+($B$9:$BM$9=\"Thu\"))*($B18:$BM18<>\"\"),$B18:$BM18,\"\")),\"\")","v":34.009802508492555},29.956250000000001,25.194351320624953,"P",null,600.79999999999995,9,{"$f":"IFERROR(_xlfn.STDEV.S(IF((($B$9:$BM$9=\"Mon\")+($B$9:$BM$9=\"Tue\")+($B$9:$BM$9=\"Wed\")+($B$9:$BM$9=\"Thu\")+($B$9:$BM$9=\"Fri\"))*($B18:$BM18<>\"\"),$B18:$BM18,\"\")),\"\")","v":40.343662589198701},30.04,26.357375226421794,"P",null,602.66666666666663,5,{"$f":"IFERROR(_xlfn.STDEV.S(IF((($B$9:$BM$9=\"Tue\")+($B$9:$BM$9=\"Wed\")+($B$9:$BM$9=\"Thu\"))*($B18:$BM18<>\"\"),$B18:$BM18,\"\")),\"\")","v":36.341436405293614},30.133333333333333,31.854088166170222,"O",null,324.5,4,{"$f":"IFERROR(_xlfn.STDEV.S(IF(($B$9:$BM$9=\"Sat\")+($B$9:$BM$9=\"Sun\"),$B18:$BM18,\"\")),\"\")","v":146.0741820674231},16.225000000000001,143.15006796164792,"O"]
["09:00:00",555,574,576,461,524,533,505,583,539,554,355,515,580,"","","","","","","","","","","","","","","","","","","","","","","","","","","","","","","","","","","","","","","","","","","","","","","","","","","",null,null,519.5,556.5,505,569,556.5,565,408,null,537.5,7,{"$f":"IFERROR(_xlfn.STDEV.S(IF((($B$9:$BM$9=\"Mon\")+($B$9:$BM$9=\"Tue\")+($B$9:$BM$9=\"Wed\")+($B$9:$BM$9=\"Thu\"))*($B19:$BM19<>\"\"),$B19:$BM19,\"\")),\"\")","v":31.08283862749439},26.875,23.026065976944015,"P",null,541.29999999999995,9,{"$f":"IFERROR(_xlfn.STDEV.S(IF((($B$9:$BM$9=\"Mon\")+($B$9:$BM$9=\"Tue\")+($B$9:$BM$9=\"Wed\")+($B$9:$BM$9=\"Thu\")+($B$9:$BM$9=\"Fri\"))*($B19:$BM19<>\"\"),$B19:$BM19,\"\")),\"\")","v":29.004310024546349},27.064999999999998,18.949134348181627,"P",null,543.5,5,{"$f":"IFERROR(_xlfn.STDEV.S(IF((($B$9:$BM$9=\"Tue\")+($B$9:$BM$9=\"Wed\")+($B$9:$BM$9=\"Thu\"))*($B19:$BM19<>\"\"),$B19:$BM19,\"\")),\"\")","v":32.866396212545112},27.175000000000001,28.80813710781657,"O",null,486.5,4,{"$f":"IFERROR(_xlfn.STDEV.S(IF(($B$9:$BM$9=\"Sat\")+($B$9:$BM$9=\"Sun\"),$B19:$BM19,\"\")),\"\")","v":100.8447651921837},24.325000000000003,98.826053903039238,"O"]
["10:00:00",588,607,668,612,502,510,509,539,569,745,574,476,495,"","","","","","","","","","","","","","","","","","","","","","","","","","","","","","","","","","","","","","","","","","","","","","","","","","","",null,null,489,{"$f":"IF(COUNTIFS($B$9:$BM$9,BQ$8,$B20:$BM20,\">=0\")=0,\"\",SUMIFS($B20:$BM20,$B$9:$BM$9,BQ$8)/COUNTIFS($B$9:$BM$9,BQ$8,$B20:$BM20,\">=0\"))","v":502.5},509,563.5,588,706.5,593,null,516,7,{"$f":"IFERROR(_xlfn.STDEV.S(IF((($B$9:$BM$9=\"Mon\")+($B$9:$BM$9=\"Tue\")+($B$9:$BM$9=\"Wed\")+($B$9:$BM$9=\"Thu\"))*($B20:$BM20<>\"\"),$B20:$BM20,\"\")),\"\")","v":36.578682316343766},25.8,27.097369145068406,"O",null,530.4,9,{"$f":"IFERROR(_xlfn.STDEV.S(IF((($B$9:$BM$9=\"Mon\")+($B$9:$BM$9=\"Tue\")+($B$9:$BM$9=\"Wed\")+($B$9:$BM$9=\"Thu\")+($B$9:$BM$9=\"Fri\"))*($B20:$BM20<>\"\"),$B20:$BM20,\"\")),\"\")","v":45.5405801944205},26.52,29.752632338707418,"O",null,525,5,{"$f":"IFERROR(_xlfn.STDEV.S(IF((($B$9:$BM$9=\"Tue\")+($B$9:$BM$9=\"Wed\")+($B$9:$BM$9=\"Thu\"))*($B20:$BM20<>\"\"),$B20:$BM20,\"\")),\"\")","v":37.06345909382987},26.25,32.486957327479956,"O",null,649.75,4,{"$f":"IFERROR(_xlfn.STDEV.S(IF(($B$9:$BM$9=\"Sat\")+($B$9:$BM$9=\"Sun\"),$B20:$BM20,\"\")),\"\")","v":74.316328398721822},32.487500000000004,72.828663562372981,"O"]
["11:00:00",575,580,671,598,474,483,496,522,539,664,645,503,487,"","","","","","","","","","","","","","","","","","","","","","","","","","","","","","","","","","","","","","","","","","","","","","","","","","","",null,null,488.5,485,496,548.5,559.5,667.5,621.5,null,504.5,7,{"$f":"IFERROR(_xlfn.STDEV.S(IF((($B$9:$BM$9=\"Mon\")+($B$9:$BM$9=\"Tue\")+($B$9:$BM$9=\"Wed\")+($B$9:$BM$9=\"Thu\"))*($B21:$BM21<>\"\"),$B21:$BM21,\"\")),\"\")","v":34.252563338210109},25.225000000000001,25.37418775540764,"O",null,515.5,9,{"$f":"IFERROR(_xlfn.STDEV.S(IF((($B$9:$BM$9=\"Mon\")+($B$9:$BM$9=\"Tue\")+($B$9:$BM$9=\"Wed\")+($B$9:$BM$9=\"Thu\")+($B$9:$BM$9=\"Fri\"))*($B21:$BM21<>\"\"),$B21:$BM21,\"\")),\"\")","v":39.338276525541886},25.775000000000002,25.700535067979843,"P",null,509.83333333333331,5,{"$f":"IFERROR(_xlfn.STDEV.S(IF((($B$9:$BM$9=\"Tue\")+($B$9:$BM$9=\"Wed\")+($B$9:$BM$9=\"Thu\"))*($B21:$BM21<>\"\"),$B21:$BM21,\"\")),\"\")","v":38.043396273203577},25.491666666666667,33.345894353550044,"O",null,644.5,4,{"$f":"IFERROR(_xlfn.STDEV.S(IF(($B$9:$BM$9=\"Sat\")+($B$9:$BM$9=\"Sun\"),$B21:$BM21,\"\")),\"\")","v":32.888701200665658},32.225000000000001,32.230334925801955,"O"]
["12:00:00",591,589,724,556,531,464,532,460,581,646,574,495,495,"","","","","","","","","","","","","","","","","","","","","","","","","","","","","","","","","","","","","","","","","","","","","","","","","","","",null,null,513,479.5,532,525.5,585,685,565,null,512.5,7,{"$f":"IFERROR(_xlfn.STDEV.S(IF((($B$9:$BM$9=\"Mon\")+($B$9:$BM$9=\"Tue\")+($B$9:$BM$9=\"Wed\")+($B$9:$BM$9=\"Thu\"))*($B22:$BM22<>\"\"),$B22:$BM22,\"\")),\"\")","v":45.737345374483226},25.625,33.882077014406235,"O",null,527,9,{"$f":"IFERROR(_xlfn.STDEV.S(IF((($B$9:$BM$9=\"Mon\")+($B$9:$BM$9=\"Tue\")+($B$9:$BM$9=\"Wed\")+($B$9:$BM$9=\"Thu\")+($B$9:$BM$9=\"Fri\"))*($B22:$BM22<>\"\"),$B22:$BM22,\"\")),\"\")","v":51.720670701159499},26.35,33.79021727684286,"O",null,512.33333333333337,5,{"$f":"IFERROR(_xlfn.STDEV.S(IF((($B$9:$BM$9=\"Tue\")+($B$9:$BM$9=\"Wed\")+($B$9:$BM$9=\"Thu\"))*($B22:$BM22<>\"\"),$B22:$BM22,\"\")),\"\")","v":54.482107154551208},25.616666666666671,47.754794979072763,"O",null,625,4,{"$f":"IFERROR(_xlfn.STDEV.S(IF(($B$9:$BM$9=\"Sat\")+($B$9:$BM$9=\"Sun\"),$B22:$BM22,\"\")),\"\")","v":76.602872008822231},31.25,75.069435124811477,"O"]
["13:00:00",595,614,626,544,533,512,506,497,568,591,549,545,256,"","","","","","","","","","","","","","","","","","","","","","","","","","","","","","","","","","","","","","","","","","","","","","","","","","","",null,null,539,384,506,546,591,608.5,546.5,null,493.75,7,{"$f":"IFERROR(_xlfn.STDEV.S(IF((($B$9:$BM$9=\"Mon\")+($B$9:$BM$9=\"Tue\")+($B$9:$BM$9=\"Wed\")+($B$9:$BM$9=\"Thu\"))*($B23:$BM23<>\"\"),$B23:$BM23,\"\")),\"\")","v":109.09934310831879},24.6875,80.820439296406221,"O",null,513.20000000000005,9,{"$f":"IFERROR(_xlfn.STDEV.S(IF((($B$9:$BM$9=\"Mon\")+($B$9:$BM$9=\"Tue\")+($B$9:$BM$9=\"Wed\")+($B$9:$BM$9=\"Thu\")+($B$9:$BM$9=\"Fri\"))*($B23:$BM23<>\"\"),$B23:$BM23,\"\")),\"\")","v":104.71389592599446},25.660000000000004,68.411821565274863,"O",null,478.66666666666669,5,{"$f":"IFERROR(_xlfn.STDEV.S(IF((($B$9:$BM$9=\"Tue\")+($B$9:$BM$9=\"Wed\")+($B$9:$BM$9=\"Thu\"))*($B23:$BM23<>\"\"),$B23:$BM23,\"\")),\"\")","v":127.63110906044815},23.933333333333337,111.87154397027074,"O",null,577.5,4,{"$f":"IFERROR(_xlfn.STDEV.S(IF(($B$9:$BM$9=\"Sat\")+($B$9:$BM$9=\"Sun\"),$B23:$BM23,\"\")),\"\")","v":38.596200158392108},28.875,37.823581125273819,"O"]
["14:00:00",485,646,558,502,558,500,532,535,596,604,473,483,0,"","","","","","","","","","","","","","","","","","","","","","","","","","","","","","","","","","","","","","","","","","","","","","","","","","","",null,null,520.5,250,532,510,621,581,487.5,null,453.125,6,{"$f":"IFERROR(_xlfn.STDEV.S(IF((($B$9:$BM$9=\"Mon\")+($B$9:$BM$9=\"Tue\")+($B$9:$BM$9=\"Wed\")+($B$9:$BM$9=\"Thu\"))*($B24:$BM24<>\"\"),$B24:$BM24,\"\")),\"\")","v":196.83447239701053},22.65625,157.49748614000745,"O",null,486.7,8,{"$f":"IFERROR(_xlfn.STDEV.S(IF((($B$9:$BM$9=\"Mon\")+($B$9:$BM$9=\"Tue\")+($B$9:$BM$9=\"Wed\")+($B$9:$BM$9=\"Thu\")+($B$9:$BM$9=\"Fri\"))*($B24:$BM24<>\"\"),$B24:$BM24,\"\")),\"\")","v":188.29298977922679},24.335000000000001,130.47798731663258,"O",null,430.66666666666669,4,{"$f":"IFERROR(_xlfn.STDEV.S(IF((($B$9:$BM$9=\"Tue\")+($B$9:$BM$9=\"Wed\")+($B$9:$BM$9=\"Thu\"))*($B24:$BM24<>\"\"),$B24:$BM24,\"\")),\"\")","v":230.39813367299655},21.533333333333335,225.7860220521591,"O",null,534.25,4,{"$f":"IFERROR(_xlfn.STDEV.S(IF(($B$9:$BM$9=\"Sat\")+($B$9:$BM$9=\"Sun\"),$B24:$BM24,\"\")),\"\")","v":58.368798742707277},26.712500000000002,57.200371678286515,"O"]
["15:00:00",571,644,416,425,568,567,535,527,621,511,386,627,0,"","","","","","","","","","","","","","","","","","","","","","","","","","","","","","","","","","","","","","","","","","","","","","","","","","","",null,null,597.5,283.5,535,549,632.5,463.5,405.5,null,491.25,6,{"$f":"IFERROR(_xlfn.STDEV.S(IF((($B$9:$BM$9=\"Mon\")+($B$9:$BM$9=\"Tue\")+($B$9:$BM$9=\"Wed\")+($B$9:$BM$9=\"Thu\"))*($B25:$BM25<>\"\"),$B25:$BM25,\"\")),\"\")","v":216.27991122617004},24.5625,173.05679186113491,"O",null,519.5,8,{"$f":"IFERROR(_xlfn.STDEV.S(IF((($B$9:$BM$9=\"Mon\")+($B$9:$BM$9=\"Tue\")+($B$9:$BM$9=\"Wed\")+($B$9:$BM$9=\"Thu\")+($B$9:$BM$9=\"Fri\"))*($B25:$BM25<>\"\"),$B25:$BM25,\"\")),\"\")","v":198.35875187257162},25.975000000000001,137.45307640671285,"O",null,455.83333333333331,4,{"$f":"IFERROR(_xlfn.STDEV.S(IF((($B$9:$BM$9=\"Tue\")+($B$9:$BM$9=\"Wed\")+($B$9:$BM$9=\"Thu\"))*($B25:$BM25<>\"\"),$B25:$BM25,\"\")),\"\")","v":246.72048962337928},22.791666666666668,241.7816369549557,"O",null,434.5,4,{"$f":"IFERROR(_xlfn.STDEV.S(IF(($B$9:$BM$9=\"Sat\")+($B$9:$BM$9=\"Sun\"),$B25:$BM25,\"\")),\"\")","v":53.656313701185248},21.725000000000001,52.582221198753054,"O"]
["16:00:00",628,704,457,324,619,631,629,683,698,414,371,649,0,"","","","","","","","","","","","","","","","","","","","","","","","","","","","","","","","","","","","","","","","","","","","","","","","","","","",null,null,634,315.5,629,655.5,701,435.5,347.5,null,558.5,6,{"$f":"IFERROR(_xlfn.STDEV.S(IF((($B$9:$BM$9=\"Mon\")+($B$9:$BM$9=\"Tue\")+($B$9:$BM$9=\"Wed\")+($B$9:$BM$9=\"Thu\"))*($B26:$BM26<>\"\"),$B26:$BM26,\"\")),\"\")","v":242.76865334638865},27.925000000000001,194.2518104172886,"O",null,587,8,{"$f":"IFERROR(_xlfn.STDEV.S(IF((($B$9:$BM$9=\"Mon\")+($B$9:$BM$9=\"Tue\")+($B$9:$BM$9=\"Wed\")+($B$9:$BM$9=\"Thu\")+($B$9:$BM$9=\"Fri\"))*($B26:$BM26<>\"\"),$B26:$BM26,\"\")),\"\")","v":220.75099093775322},29.35,152.96982128480659,"O",null,533.33333333333337,4,{"$f":"IFERROR(_xlfn.STDEV.S(IF((($B$9:$BM$9=\"Tue\")+($B$9:$BM$9=\"Wed\")+($B$9:$BM$9=\"Thu\"))*($B26:$BM26<>\"\"),$B26:$BM26,\"\")),\"\")","v":288.38637277097547},26.666666666666671,282.61345213162713,"O",null,391.5,4,{"$f":"IFERROR(_xlfn.STDEV.S(IF(($B$9:$BM$9=\"Sat\")+($B$9:$BM$9=\"Sun\"),$B26:$BM26,\"\")),\"\")","v":57.075972761457749},19.575000000000003,55.933425497523146,"O"]
["17:00:00",704,693,435,276,759,675,737,686,719,374,316,743,0,"","","","","","","","","","","","","","","","","","","","","","","","","","","","","","","","","","","","","","","","","","","","","","","","","","","",null,null,751,337.5,737,695,706,404.5,296,null,630.125,6,{"$f":"IFERROR(_xlfn.STDEV.S(IF((($B$9:$BM$9=\"Mon\")+($B$9:$BM$9=\"Tue\")+($B$9:$BM$9=\"Wed\")+($B$9:$BM$9=\"Thu\"))*($B27:$BM27<>\"\"),$B27:$BM27,\"\")),\"\")","v":272.88302046324333},31.506250000000001,218.3478798701816,"O",null,645.29999999999995,8,{"$f":"IFERROR(_xlfn.STDEV.S(IF((($B$9:$BM$9=\"Mon\")+($B$9:$BM$9=\"Tue\")+($B$9:$BM$9=\"Wed\")+($B$9:$BM$9=\"Thu\")+($B$9:$BM$9=\"Fri\"))*($B27:$BM27<>\"\"),$B27:$BM27,\"\")),\"\")","v":239.80483963237924},32.265000000000001,166.17322217203775,"O",null,589.83333333333337,4,{"$f":"IFERROR(_xlfn.STDEV.S(IF((($B$9:$BM$9=\"Tue\")+($B$9:$BM$9=\"Wed\")+($B$9:$BM$9=\"Thu\"))*($B27:$BM27<>\"\"),$B27:$BM27,\"\")),\"\")","v":314.15171494040897},29.491666666666671,307.8630234823475,"O",null,350.25,4,{"$f":"IFERROR(_xlfn.STDEV.S(IF(($B$9:$BM$9=\"Sat\")+($B$9:$BM$9=\"Sun\"),$B27:$BM27,\"\")),\"\")","v":69.360771814237097},17.512499999999999,67.972307347902799,"O"]
["18:00:00",531,507,364,253,449,444,571,549,552,374,253,444,0,"","","","","","","","","","","","","","","","","","","","","","","","","","","","","","","","","","","","","","","","","","","","","","","","","","","",null,null,446.5,222,571,540,529.5,369,253,null,444.875,6,{"$f":"IFERROR(_xlfn.STDEV.S(IF((($B$9:$BM$9=\"Mon\")+($B$9:$BM$9=\"Tue\")+($B$9:$BM$9=\"Wed\")+($B$9:$BM$9=\"Thu\"))*($B28:$BM28<>\"\"),$B28:$BM28,\"\")),\"\")","v":195.71529370612859},22.243750000000002,156.60197313251027,"O",null,461.8,8,{"$f":"IFERROR(_xlfn.STDEV.S(IF((($B$9:$BM$9=\"Mon\")+($B$9:$BM$9=\"Tue\")+($B$9:$BM$9=\"Wed\")+($B$9:$BM$9=\"Thu\")+($B$9:$BM$9=\"Fri\"))*($B28:$BM28<>\"\"),$B28:$BM28,\"\")),\"\")","v":175.79391343274659},23.090000000000003,121.81672846191981,"O",null,444.33333333333331,4,{"$f":"IFERROR(_xlfn.STDEV.S(IF((($B$9:$BM$9=\"Tue\")+($B$9:$BM$9=\"Wed\")+($B$9:$BM$9=\"Thu\"))*($B28:$BM28<>\"\"),$B28:$BM28,\"\")),\"\")","v":239.13071739113735},22.216666666666669,234.34379684192754,"O",null,311,4,{"$f":"IFERROR(_xlfn.STDEV.S(IF(($B$9:$BM$9=\"Sat\")+($B$9:$BM$9=\"Sun\"),$B28:$BM28,\"\")),\"\")","v":67.096944788865017},15.55,65.753797629423929,"O"]
["19:00:00",366,307,290,221,294,321,325,377,412,291,210,289,0,"","","","","","","","","","","","","","","","","","","","","","","","","","","","","","","","","","","","","","","","","","","","","","","","","","","",null,null,291.5,160.5,325,371.5,359.5,290.5,215.5,null,287.125,6,{"$f":"IFERROR(_xlfn.STDEV.S(IF((($B$9:$BM$9=\"Mon\")+($B$9:$BM$9=\"Tue\")+($B$9:$BM$9=\"Wed\")+($B$9:$BM$9=\"Thu\"))*($B29:$BM29<>\"\"),$B29:$BM29,\"\")),\"\")","v":128.5608990397343},14.356250000000001,102.86825355376607,"O",null,301.60000000000002,8,{"$f":"IFERROR(_xlfn.STDEV.S(IF((($B$9:$BM$9=\"Mon\")+($B$9:$BM$9=\"Tue\")+($B$9:$BM$9=\"Wed\")+($B$9:$BM$9=\"Thu\")+($B$9:$BM$9=\"Fri\"))*($B29:$BM29<>\"\"),$B29:$BM29,\"\")),\"\")","v":119.42152234836064},15.080000000000002,82.753372266126746,"O",null,285.66666666666669,4,{"$f":"IFERROR(_xlfn.STDEV.S(IF((($B$9:$BM$9=\"Tue\")+($B$9:$BM$9=\"Wed\")+($B$9:$BM$9=\"Thu\"))*($B29:$BM29<>\"\"),$B29:$BM29,\"\")),\"\")","v":157.23135819549483},14.283333333333335,154.08389965174322,"O",null,253,4,{"$f":"IFERROR(_xlfn.STDEV.S(IF(($B$9:$BM$9=\"Sat\")+($B$9:$BM$9=\"Sun\"),$B29:$BM29,\"\")),\"\")","v":43.53542618756974},12.65,42.663933689619292,"O"]
["20:00:00",195,194,202,169,170,168,174,168,227,201,138,196,0,"","","","","","","","","","","","","","","","","","","","","","","","","","","","","","","","","","","","","","","","","","","","","","","","","","","",null,null,183,84,174,181.5,210.5,201.5,153.5,null,155.625,6,{"$f":"IFERROR(_xlfn.STDEV.S(IF((($B$9:$BM$9=\"Mon\")+($B$9:$BM$9=\"Tue\")+($B$9:$BM$9=\"Wed\")+($B$9:$BM$9=\"Thu\"))*($B30:$BM30<>\"\"),$B30:$BM30,\"\")),\"\")","v":68.558977044099294},7.78125,54.857598901665312,"O",null,166.6,8,{"$f":"IFERROR(_xlfn.STDEV.S(IF((($B$9:$BM$9=\"Mon\")+($B$9:$BM$9=\"Tue\")+($B$9:$BM$9=\"Wed\")+($B$9:$BM$9=\"Thu\")+($B$9:$BM$9=\"Fri\"))*($B30:$BM30<>\"\"),$B30:$BM30,\"\")),\"\")","v":65.086054147140047},8.33,45.101505677175787,"O",null,146.5,4,{"$f":"IFERROR(_xlfn.STDEV.S(IF((($B$9:$BM$9=\"Tue\")+($B$9:$BM$9=\"Wed\")+($B$9:$BM$9=\"Thu\"))*($B30:$BM30<>\"\"),$B30:$BM30,\"\")),\"\")","v":79.598994968529595},7.3250000000000002,78.005581671951475,"O",null,177.5,4,{"$f":"IFERROR(_xlfn.STDEV.S(IF(($B$9:$BM$9=\"Sat\")+($B$9:$BM$9=\"Sun\"),$B30:$BM30,\"\")),\"\")","v":30.468563033614391},8.875,29.858643103286322,"O"]
["21:00:00",131,182,166,115,126,142,153,166,165,147,114,160,0,"","","","","","","","","","","","","","","","","","","","","","","","","","","","","","","","","","","","","","","","","","","","","","","","","","","",null,null,143,71,153,148.5,173.5,156.5,114.5,null,128.875,6,{"$f":"IFERROR(_xlfn.STDEV.S(IF((($B$9:$BM$9=\"Mon\")+($B$9:$BM$9=\"Tue\")+($B$9:$BM$9=\"Wed\")+($B$9:$BM$9=\"Thu\"))*($B31:$BM31<>\"\"),$B31:$BM31,\"\")),\"\")","v":57.212635966941036},6.4437500000000005,45.778802008125488,"O",null,137.80000000000001,8,{"$f":"IFERROR(_xlfn.STDEV.S(IF((($B$9:$BM$9=\"Mon\")+($B$9:$BM$9=\"Tue\")+($B$9:$BM$9=\"Wed\")+($B$9:$BM$9=\"Thu\")+($B$9:$BM$9=\"Fri\"))*($B31:$BM31<>\"\"),$B31:$BM31,\"\")),\"\")","v":54.058867090525581},6.8900000000000006,37.460195320385161,"O",null,124.16666666666667,4,{"$f":"IFERROR(_xlfn.STDEV.S(IF((($B$9:$BM$9=\"Tue\")+($B$9:$BM$9=\"Wed\")+($B$9:$BM$9=\"Thu\"))*($B31:$BM31<>\"\"),$B31:$BM31,\"\")),\"\")","v":67.448498871361096},6.2083333333333339,66.098314299579101,"O",null,135.5,4,{"$f":"IFERROR(_xlfn.STDEV.S(IF(($B$9:$BM$9=\"Sat\")+($B$9:$BM$9=\"Sun\"),$B31:$BM31,\"\")),\"\")","v":25.462390565956948},6.7750000000000004,24.952684234784027,"O"]
["22:00:00",108,135,138,72,84,144,98,114,166,142,70,68,0,"","","","","","","","","","","","","","","","","","","","","","","","","","","","","","","","","","","","","","","","","","","","","","","","","","","",null,null,76,72,98,111,150.5,140,71,null,89.25,6,{"$f":"IFERROR(_xlfn.STDEV.S(IF((($B$9:$BM$9=\"Mon\")+($B$9:$BM$9=\"Tue\")+($B$9:$BM$9=\"Wed\")+($B$9:$BM$9=\"Thu\"))*($B32:$BM32<>\"\"),$B32:$BM32,\"\")),\"\")","v":45.592397026989779},4.4625000000000004,36.480845206650386,"O",null,101.5,8,{"$f":"IFERROR(_xlfn.STDEV.S(IF((($B$9:$BM$9=\"Mon\")+($B$9:$BM$9=\"Tue\")+($B$9:$BM$9=\"Wed\")+($B$9:$BM$9=\"Thu\")+($B$9:$BM$9=\"Fri\"))*($B32:$BM32<>\"\"),$B32:$BM32,\"\")),\"\")","v":48.77100686997462},5.0750000000000002,33.795962469241111,"O",null,93.666666666666671,4,{"$f":"IFERROR(_xlfn.STDEV.S(IF((($B$9:$BM$9=\"Tue\")+($B$9:$BM$9=\"Wed\")+($B$9:$BM$9=\"Thu\"))*($B32:$BM32<>\"\"),$B32:$BM32,\"\")),\"\")","v":54.636983811334247},4.6833333333333336,53.543260247056537,"O",null,105.5,4,{"$f":"IFERROR(_xlfn.STDEV.S(IF(($B$9:$BM$9=\"Sat\")+($B$9:$BM$9=\"Sun\"),$B32:$BM32,\"\")),\"\")","v":39.878983604567118},5.2750000000000004,39.080685802507418,"O"]
["23:00:00",{"$f":"IF(B$8=\"\",\"\",SUMIFS(INDIRECT(\"'\"&TEXT(B$8,\"DD_MMM_YYYY\")&\"'!I$6:I$101\"),INDIRECT(\"'\"&TEXT(B$8,\"DD_MMM_YYYY\")&\"'!a$6:a$101\"),\">=\"&$A33))","v":50},{"$f":"IF(C$8=\"\",\"\",SUMIFS(INDIRECT(\"'\"&TEXT(C$8,\"DD_MMM_YYYY\")&\"'!I$6:I$101\"),INDIRECT(\"'\"&TEXT(C$8,\"DD_MMM_YYYY\")&\"'!a$6:a$101\"),\">=\"&$A33))","v":79},96,35,47,47,59,47,91,112,37,34,0,"","","","","","","","","","","","","","","","","","","","","","","","","","","","","","","","","","","","","","","","","","","","","","","","","","","",null,null,40.5,23.5,59,48.5,85,104,36,null,42.875,6,{"$f":"IFERROR(_xlfn.STDEV.S(IF((($B$9:$BM$9=\"Mon\")+($B$9:$BM$9=\"Tue\")+($B$9:$BM$9=\"Wed\")+($B$9:$BM$9=\"Thu\"))*($B33:$BM33<>\"\"),$B33:$BM33,\"\")),\"\")","v":19.329227807107237},2.1437500000000003,15.466319245678811,"O",null,51.3,8,{"$f":"IFERROR(_xlfn.STDEV.S(IF((($B$9:$BM$9=\"Mon\")+($B$9:$BM$9=\"Tue\")+($B$9:$BM$9=\"Wed\")+($B$9:$BM$9=\"Thu\")+($B$9:$BM$9=\"Fri\"))*($B33:$BM33<>\"\"),$B33:$BM33,\"\")),\"\")","v":25.942778913944007},2.5649999999999999,17.977098255546583,"O",null,43.666666666666664,4,{"$f":"IFERROR(_xlfn.STDEV.S(IF((($B$9:$BM$9=\"Tue\")+($B$9:$BM$9=\"Wed\")+($B$9:$BM$9=\"Thu\"))*($B33:$BM33<>\"\"),$B33:$BM33,\"\")),\"\")","v":23.222833591101672},2.1833333333333331,22.757958728763118,"O",null,70,4,{"$f":"IFERROR(_xlfn.STDEV.S(IF(($B$9:$BM$9=\"Sat\")+($B$9:$BM$9=\"Sun\"),$B33:$BM33,\"\")),\"\")","v":39.807871918336289},3.5,39.010997630561249,"O"]
["TOTAL",{"$f":"SUM(B10:B33)","v":8089},{"$f":"SUM(C10:C33)","v":8415},7311,5705,7719,7710,7953,8033,8646,7228,5582,7737,3840,0,0,0,0,0,0,0,0,0,0,0,0,0,0,0,0,0,0,0,0,0,0,0,0,0,0,0,0,0,0,0,0,0,0,0,0,0,0,0,0,0,0,0,0,0,0,0,0,0,0,0,null,null,{"$f":"SUM(BP10:BP33)","v":7728},{"$f":"SUM(BQ10:BQ33)","v":5775},7953,8061,8530.5,7269.5,5643.5]
[]
[]
["CAR",null,null,null,null,null,null,null,null,null,null,null,null,null,null,null,null,null,null,null,null,null,null,null,null,null,null,null,null,null,null,null,null,null,null,null,null,null,null,null,null,null,null,null,null,null,null,null,null,null,null,null,null,null,null,null,null,null,null,null,null,null,null,null,null,null,null,"STATISTICS"]
[null,{"$f":"'Site Plan'!$Q$3","v":"2016-04-07"},{"$f":"IF($B$8+COLUMN(B38)-1<='Site Plan'!$Q$4,$B$8+COLUMN(B38)-1,\"\")","v":"2016-04-08"},{"$f":"IF($B$8+COLUMN(C38)-1<='Site Plan'!$Q$4,$B$8+COLUMN(C38)-1,\"\")","v":"2016-04-09"},{"$f":"IF($B$8+COLUMN(D38)-1<='Site Plan'!$Q$4,$B$8+COLUMN(D38)-1,\"\")","v":"2016-04-10"},{"$f":"IF($B$8+COLUMN(E38)-1<='Site Plan'!$Q$4,$B$8+COLUMN(E38)-1,\"\")","v":"2016-04-11"},{"$f":"IF($B$8+COLUMN(F38)-1<='Site Plan'!$Q$4,$B$8+COLUMN(F38)-1,\"\")","v":"2016-04-12"},{"$f":"IF($B$8+COLUMN(G38)-1<='Site Plan'!$Q$4,$B$8+COLUMN(G38)-1,\"\")","v":"2016-04-13"},{"$f":"IF($B$8+COLUMN(H38)-1<='Site Plan'!$Q$4,$B$8+COLUMN(H38)-1,\"\")","v":"2016-04-14"},{"$f":"IF($B$8+COLUMN(I38)-1<='Site Plan'!$Q$4,$B$8+COLUMN(I38)-1,\"\")","v":"2016-04-15"},{"$f":"IF($B$8+COLUMN(J38)-1<='Site Plan'!$Q$4,$B$8+COLUMN(J38)-1,\"\")","v":"2016-04-16"},{"$f":"IF($B$8+COLUMN(K38)-1<='Site Plan'!$Q$4,$B$8+COLUMN(K38)-1,\"\")","v":"2016-04-17"},{"$f":"IF($B$8+COLUMN(L38)-1<='Site Plan'!$Q$4,$B$8+COLUMN(L38)-1,\"\")","v":"2016-04-18"},{"$f":"IF($B$8+COLUMN(M38)-1<='Site Plan'!$Q$4,$B$8+COLUMN(M38)-1,\"\")","v":"2016-04-19"},{"$f":"IF($B$8+COLUMN(N38)-1<='Site Plan'!$Q$4,$B$8+COLUMN(N38)-1,\"\")","v":""},{"$f":"IF($B$8+COLUMN(O38)-1<='Site Plan'!$Q$4,$B$8+COLUMN(O38)-1,\"\")","v":""},{"$f":"IF($B$8+COLUMN(P38)-1<='Site Plan'!$Q$4,$B$8+COLUMN(P38)-1,\"\")","v":""},{"$f":"IF($B$8+COLUMN(Q38)-1<='Site Plan'!$Q$4,$B$8+COLUMN(Q38)-1,\"\")","v":""},{"$f":"IF($B$8+COLUMN(R38)-1<='Site Plan'!$Q$4,$B$8+COLUMN(R38)-1,\"\")","v":""},{"$f":"IF($B$8+COLUMN(S38)-1<='Site Plan'!$Q$4,$B$8+COLUMN(S38)-1,\"\")","v":""},{"$f":"IF($B$8+COLUMN(T38)-1<='Site Plan'!$Q$4,$B$8+COLUMN(T38)-1,\"\")","v":""},{"$f":"IF($B$8+COLUMN(U38)-1<='Site Plan'!$Q$4,$B$8+COLUMN(U38)-1,\"\")","v":""},{"$f":"IF($B$8+COLUMN(V38)-1<='Site Plan'!$Q$4,$B$8+COLUMN(V38)-1,\"\")","v":""},{"$f":"IF($B$8+COLUMN(W38)-1<='Site Plan'!$Q$4,$B$8+COLUMN(W38)-1,\"\")","v":""},{"$f":"IF($B$8+COLUMN(X38)-1<='Site Plan'!$Q$4,$B$8+COLUMN(X38)-1,\"\")","v":""},{"$f":"IF($B$8+COLUMN(Y38)-1<='Site Plan'!$Q$4,$B$8+COLUMN(Y38)-1,\"\")","v":""},{"$f":"IF($B$8+COLUMN(Z38)-1<='Site Plan'!$Q$4,$B$8+COLUMN(Z38)-1,\"\")","v":""},{"$f":"IF($B$8+COLUMN(AA38)-1<='Site Plan'!$Q$4,$B$8+COLUMN(AA38)-1,\"\")","v":""},{"$f":"IF($B$8+COLUMN(AB38)-1<='Site Plan'!$Q$4,$B$8+COLUMN(AB38)-1,\"\")","v":""},{"$f":"IF($B$8+COLUMN(AC38)-1<='Site Plan'!$Q$4,$B$8+COLUMN(AC38)-1,\"\")","v":""},{"$f":"IF($B$8+COLUMN(AD38)-1<='Site Plan'!$Q$4,$B$8+COLUMN(AD38)-1,\"\")","v":""},{"$f":"IF($B$8+COLUMN(AE38)-1<='Site Plan'!$Q$4,$B$8+COLUMN(AE38)-1,\"\")","v":""},{"$f":"IF($B$8+COLUMN(AF38)-1<='Site Plan'!$Q$4,$B$8+COLUMN(AF38)-1,\"\")","v":""},{"$f":"IF($B$8+COLUMN(AG38)-1<='Site Plan'!$Q$4,$B$8+COLUMN(AG38)-1,\"\")","v":""},{"$f":"IF($B$8+COLUMN(AH38)-1<='Site Plan'!$Q$4,$B$8+COLUMN(AH38)-1,\"\")","v":""},{"$f":"IF($B$8+COLUMN(AI38)-1<='Site Plan'!$Q$4,$B$8+COLUMN(AI38)-1,\"\")","v":""},{"$f":"IF($B$8+COLUMN(AJ38)-1<='Site Plan'!$Q$4,$B$8+COLUMN(AJ38)-1,\"\")","v":""},{"$f":"IF($B$8+COLUMN(AK38)-1<='Site Plan'!$Q$4,$B$8+COLUMN(AK38)-1,\"\")","v":""},{"$f":"IF($B$8+COLUMN(AL38)-1<='Site Plan'!$Q$4,$B$8+COLUMN(AL38)-1,\"\")","v":""},{"$f":"IF($B$8+COLUMN(AM38)-1<='Site Plan'!$Q$4,$B$8+COLUMN(AM38)-1,\"\")","v":""},{"$f":"IF($B$8+COLUMN(AN38)-1<='Site Plan'!$Q$4,$B$8+COLUMN(AN38)-1,\"\")","v":""},{"$f":"IF($B$8+COLUMN(AO38)-1<='Site Plan'!$Q$4,$B$8+COLUMN(AO38)-1,\"\")","v":""},{"$f":"IF($B$8+COLUMN(AP38)-1<='Site Plan'!$Q$4,$B$8+COLUMN(AP38)-1,\"\")","v":""},{"$f":"IF($B$8+COLUMN(AQ38)-1<='Site Plan'!$Q$4,$B$8+COLUMN(AQ38)-1,\"\")","v":""},{"$f":"IF($B$8+COLUMN(AR38)-1<='Site Plan'!$Q$4,$B$8+COLUMN(AR38)-1,\"\")","v":""},{"$f":"IF($B$8+COLUMN(AS38)-1<='Site Plan'!$Q$4,$B$8+COLUMN(AS38)-1,\"\")","v":""},{"$f":"IF($B$8+COLUMN(AT38)-1<='Site Plan'!$Q$4,$B$8+COLUMN(AT38)-1,\"\")","v":""},{"$f":"IF($B$8+COLUMN(AU38)-1<='Site Plan'!$Q$4,$B$8+COLUMN(AU38)-1,\"\")","v":""},{"$f":"IF($B$8+COLUMN(AV38)-1<='Site Plan'!$Q$4,$B$8+COLUMN(AV38)-1,\"\")","v":""},{"$f":"IF($B$8+COLUMN(AW38)-1<='Site Plan'!$Q$4,$B$8+COLUMN(AW38)-1,\"\")","v":""},{"$f":"IF($B$8+COLUMN(AX38)-1<='Site Plan'!$Q$4,$B$8+COLUMN(AX38)-1,\"\")","v":""},{"$f":"IF($B$8+COLUMN(AY38)-1<='Site Plan'!$Q$4,$B$8+COLUMN(AY38)-1,\"\")","v":""},{"$f":"IF($B$8+COLUMN(AZ38)-1<='Site Plan'!$Q$4,$B$8+COLUMN(AZ38)-1,\"\")","v":""},{"$f":"IF($B$8+COLUMN(BA38)-1<='Site Plan'!$Q$4,$B$8+COLUMN(BA38)-1,\"\")","v":""},{"$f":"IF($B$8+COLUMN(BB38)-1<='Site Plan'!$Q$4,$B$8+COLUMN(BB38)-1,\"\")","v":""},{"$f":"IF($B$8+COLUMN(BC38)-1<='Site Plan'!$Q$4,$B$8+COLUMN(BC38)-1,\"\")","v":""},{"$f":"IF($B$8+COLUMN(BD38)-1<='Site Plan'!$Q$4,$B$8+COLUMN(BD38)-1,\"\")","v":""},{"$f":"IF($B$8+COLUMN(BE38)-1<='Site Plan'!$Q$4,$B$8+COLUMN(BE38)-1,\"\")","v":""},{"$f":"IF($B$8+COLUMN(BF38)-1<='Site Plan'!$Q$4,$B$8+COLUMN(BF38)-1,\"\")","v":""},{"$f":"IF($B$8+COLUMN(BG38)-1<='Site Plan'!$Q$4,$B$8+COLUMN(BG38)-1,\"\")","v":""},{"$f":"IF($B$8+COLUMN(BH38)-1<='Site Plan'!$Q$4,$B$8+COLUMN(BH38)-1,\"\")","v":""},{"$f":"IF($B$8+COLUMN(BI38)-1<='Site Plan'!$Q$4,$B$8+COLUMN(BI38)-1,\"\")","v":""},{"$f":"IF($B$8+COLUMN(BJ38)-1<='Site Plan'!$Q$4,$B$8+COLUMN(BJ38)-1,\"\")","v":""},{"$f":"IF($B$8+COLUMN(BK38)-1<='Site Plan'!$Q$4,$B$8+COLUMN(BK38)-1,\"\")","v":""},{"$f":"IF($B$8+COLUMN(BL38)-1<='Site Plan'!$Q$4,$B$8+COLUMN(BL38)-1,\"\")","v":""},null,null,"Mon","Tue","Wed","Thu","Fri","Sat","Sun",null,"Mon-Thu",null,null,null,null,null,null,"Mon-Fri",null,null,null,null,null,null,"Tue-Thu",null,null,null,null,null,null,"Sat-Sun"]
["TIME",{"$f":"IF(B38=\"\",\"\",CHOOSE(WEEKDAY(B38),\"Mon\",\"Tue\",\"Wed\",\"Thu\",\"Fri\",\"Sat\",\"Sun\"))","v":"Fri"},{"$f":"IF(C38=\"\",\"\",CHOOSE(WEEKDAY(C38),\"Mon\",\"Tue\",\"Wed\",\"Thu\",\"Fri\",\"Sat\",\"Sun\"))","v":"Sat"},"Sun","Mon","Tue","Wed","Thu","Fri",{"$f":"IF(J38=\"\",\"\",CHOOSE(WEEKDAY(J38),\"Mon\",\"Tue\",\"Wed\",\"Thu\",\"Fri\",\"Sat\",\"Sun\"))","v":"Sat"},"Sun","Mon","Tue","Wed","","","","","","","","","","","","","","","","","","","","","","","","","","","","","","","","","","","","","","","","","","","","","","","","","","","",null,null,"Mean","Mean","Mean","Mean","Mean","Mean","Mean",null,"Mean","Number of observations","Standard Deviation"," ± 5% interval of the mean","95% confidence interval","Meet WebTAG criteria?",null,"Mean","Number of observations","Standard Deviation"," ± 5% interval of the mean","95% confidence interval","Meet WebTAG criteria?",null,"Mean","Number of observations","Standard Deviation"," ± 5% interval of the mean","95% confidence interval","Meet WebTAG criteria?",null,"Mean","Number of observations","Standard Deviation"," ± 5% interval of the mean","95% confidence interval","Meet WebTAG criteria?"]
["00:00:00",{"$f":"IF(B$8=\"\",\"\",SUMIFS(INDIRECT(\"'\"&TEXT(B$8,\"DD_MMM_YYYY\")&\"'!B$6:B$101\"),INDIRECT(\"'\"&TEXT(B$8,\"DD_MMM_YYYY\")&\"'!a$6:a$101\"),\">=\"&$A40,INDIRECT(\"'\"&TEXT(B$8,\"DD_MMM_YYYY\")&\"'!a$6:a$101\"),\"<\"&$A41))","v":11},{"$f":"IF(C$8=\"\",\"\",SUMIFS(INDIRECT(\"'\"&TEXT(C$8,\"DD_MMM_YYYY\")&\"'!B$6:B$101\"),INDIRECT(\"'\"&TEXT(C$8,\"DD_MMM_YYYY\")&\"'!a$6:a$101\"),\">=\"&$A40,INDIRECT(\"'\"&TEXT(C$8,\"DD_MMM_YYYY\")&\"'!a$6:a$101\"),\"<\"&$A41))","v":21},20,44,null,null,13,12,13,23,54,8,15,"","","","","","","","","","","","","","","","","","","","","","","","","","","","","","","","","","","","","","","","","","","","","","","","","","","",null,null,{"$f":"IF(COUNTIFS($B$9:$BM$9,BP$8,$B40:$BM40,\">=0\")=0,\"\",SUMIFS($B40:$BM40,$B$9:$BM$9,BP$8)/COUNTIFS($B$9:$BM$9,BP$8,$B40:$BM40,\">=0\"))","v":8},15,13,11.5,17,21.5,49,null,{"$f":"IFERROR(AVERAGE(BP40:BS40),\"\")","v":11.875},{"$f":"IFERROR(COUNTIFS($B$9:$BM$9,BQ$8,$B40:$BM40,\">0\")+COUNTIFS($B$9:$BM$9,BR$8,$B40:$BM40,\">0\")+COUNTIFS($B$9:$BM$9,BS$8,$B40:$BM40,\">0\")+COUNTIFS($B$9:$BM$9,BP$8,$B40:$BM40,\">0\"),\"\")","v":5},{"$f":"IFERROR(_xlfn.STDEV.S(IF((($B$9:$BM$9=\"Mon\")+($B$9:$BM$9=\"Tue\")+($B$9:$BM$9=\"Wed\")+($B$9:$BM$9=\"Thu\"))*($B40:$BM40<>\"\"),$B40:$BM40,\"\")),\"\")","v":2.5884358211089546},{"$f":"IFERROR(BX40*0.05,\"\")","v":0.59375},{"$f":"IFERROR(_xlfn.CONFIDENCE.NORM(0.05,BZ40,BY40),\"\")","v":2.2688223420378502},{"$f":"IF(BX40=\"\",\"\",IF(OR(BZ40=0,CB40<=CA40),\"P\",\"O\"))","v":"O"},null,{"$f":"IFERROR(AVERAGE(BP40:BT40),\"\")","v":12.9},{"$f":"IFERROR(COUNTIFS($B$9:$BM$9,BQ$8,$B40:$BM40,\">0\")+COUNTIFS($B$9:$BM$9,BR$8,$B40:$BM40,\">0\")+COUNTIFS($B$9:$BM$9,BS$8,$B40:$BM40,\">0\")+COUNTIFS($B$9:$BM$9,BP$8,$B40:$BM40,\">0\")+COUNTIFS($B$9:$BM$9,BT$8,$B40:$BM40,\">0\"),\"\")","v":7},{"$f":"IFERROR(_xlfn.STDEV.S(IF((($B$9:$BM$9=\"Mon\")+($B$9:$BM$9=\"Tue\")+($B$9:$BM$9=\"Wed\")+($B$9:$BM$9=\"Thu\")+($B$9:$BM$9=\"Fri\"))*($B40:$BM40<>\"\"),$B40:$BM40,\"\")),\"\")","v":4.0296519996266706},{"$f":"IFERROR(CE40*0.05,\"\")","v":0.64500000000000002},{"$f":"IFERROR(_xlfn.CONFIDENCE.NORM(0.05,CG40,CF40),\"\")","v":2.9851531232238595},{"$f":"IF(CE40=\"\",\"\",IF(OR(CG40=0,CI40<=CH40),\"P\",\"O\"))","v":"O"},null,{"$f":"IFERROR(AVERAGE(BQ40:BS40),\"\")","v":13.166666666666666},{"$f":"IFERROR(COUNTIFS($B$9:$BM$9,BQ$8,$B40:$BM40,\">0\")+COUNTIFS($B$9:$BM$9,BR$8,$B40:$BM40,\">0\")+COUNTIFS($B$9:$BM$9,BS$8,$B40:$BM40,\">0\"),\"\")","v":4},{"$f":"IFERROR(_xlfn.STDEV.S(IF((($B$9:$BM$9=\"Tue\")+($B$9:$BM$9=\"Wed\")+($B$9:$BM$9=\"Thu\"))*($B40:$BM40<>\"\"),$B40:$BM40,\"\")),\"\")","v":1.707825127659933},{"$f":"IFERROR(CL40*0.05,\"\")","v":0.65833333333333333},{"$f":"IFERROR(_xlfn.CONFIDENCE.NORM(0.05,CN40,CM40),\"\")","v":1.673637871052994},{"$f":"IF(CL40=\"\",\"\",IF(OR(CN40=0,CP40<=CO40),\"P\",\"O\"))","v":"O"},null,{"$f":"IFERROR(AVERAGE(BU40:BV40),\"\")","v":35.25},{"$f":"IFERROR(COUNTIFS($B$9:$BM$9,BU$8,$B40:$BM40,\">0\")+COUNTIFS($B$9:$BM$9,BV$8,$B40:$BM40,\">0\"),\"\")","v":4},{"$f":"IFERROR(_xlfn.STDEV.S(IF((($B$9:$BM$9=\"Sat\")+($B$9:$BM$9=\"Sun\"))*($B40:$BM40<>\"\"),$B40:$BM40,\"\")),\"\")","v":16.439282222773596},{"$f":"IFERROR(CS40*0.05,\"\")","v":1.7625000000000002},{"$f":"IFERROR(_xlfn.CONFIDENCE.NORM(0.05,CU40,CT40),\"\")","v":16.110200544162904},{"$f":"IF(CS40=\"\",\"\",IF(OR(CU40=0,CW40<=CV40),\"P\",\"O\"))","v":"O"}]
["01:00:00",2,3,11,18,null,null,3,4,10,8,28,5,3,"","","","","","","","","","","","","","","","","","","","","","","","","","","","","","","","","","","","","","","","","","","","","","","","","","","",null,null,5,3,3,3,6.5,9.5,23,null,{"$f":"IFERROR(AVERAGE(BP41:BS41),\"\")","v":3.5},{"$f":"IFERROR(COUNTIFS($B$9:$BM$9,BQ$8,$B41:$BM41,\">0\")+COUNTIFS($B$9:$BM$9,BR$8,$B41:$BM41,\">0\")+COUNTIFS($B$9:$BM$9,BS$8,$B41:$BM41,\">0\")+COUNTIFS($B$9:$BM$9,BP$8,$B41:$BM41,\">0\"),\"\")","v":5},{"$f":"IFERROR(_xlfn.STDEV.S(IF((($B$9:$BM$9=\"Mon\")+($B$9:$BM$9=\"Tue\")+($B$9:$BM$9=\"Wed\")+($B$9:$BM$9=\"Thu\"))*($B41:$BM41<>\"\"),$B41:$BM41,\"\")),\"\")","v":1.1401754250991383},{"$f":"IFERROR(BX41*0.05,\"\")","v":0.17500000000000002},{"$f":"IFERROR(_xlfn.CONFIDENCE.NORM(0.05,BZ41,BY41),\"\")","v":0.99938946031088038},{"$f":"IF(BX41=\"\",\"\",IF(OR(BZ41=0,CB41<=CA41),\"P\",\"O\"))","v":"O"},null,{"$f":"IFERROR(AVERAGE(BP41:BT41),\"\")","v":4.0999999999999996},{"$f":"IFERROR(COUNTIFS($B$9:$BM$9,BQ$8,$B41:$BM41,\">0\")+COUNTIFS($B$9:$BM$9,BR$8,$B41:$BM41,\">0\")+COUNTIFS($B$9:$BM$9,BS$8,$B41:$BM41,\">0\")+COUNTIFS($B$9:$BM$9,BP$8,$B41:$BM41,\">0\")+COUNTIFS($B$9:$BM$9,BT$8,$B41:$BM41,\">0\"),\"\")","v":7},{"$f":"IFERROR(_xlfn.STDEV.S(IF((($B$9:$BM$9=\"Mon\")+($B$9:$BM$9=\"Tue\")+($B$9:$BM$9=\"Wed\")+($B$9:$BM$9=\"Thu\")+($B$9:$BM$9=\"Fri\"))*($B41:$BM41<>\"\"),$B41:$BM41,\"\")),\"\")","v":2.6903708365381966},{"$f":"IFERROR(CE41*0.05,\"\")","v":0.20499999999999999},{"$f":"IFERROR(_xlfn.CONFIDENCE.NORM(0.05,CG41,CF41),\"\")","v":1.9930179841997366},{"$f":"IF(CE41=\"\",\"\",IF(OR(CG41=0,CI41<=CH41),\"P\",\"O\"))","v":"O"},null,{"$f":"IFERROR(AVERAGE(BQ41:BS41),\"\")","v":3},{"$f":"IFERROR(COUNTIFS($B$9:$BM$9,BQ$8,$B41:$BM41,\">0\")+COUNTIFS($B$9:$BM$9,BR$8,$B41:$BM41,\">0\")+COUNTIFS($B$9:$BM$9,BS$8,$B41:$BM41,\">0\"),\"\")","v":4},{"$f":"IFERROR(_xlfn.STDEV.S(IF((($B$9:$BM$9=\"Tue\")+($B$9:$BM$9=\"Wed\")+($B$9:$BM$9=\"Thu\"))*($B41:$BM41<>\"\"),$B41:$BM41,\"\")),\"\")","v":0.81649658092772603},{"$f":"IFERROR(CL41*0.05,\"\")","v":0.15000000000000002},{"$f":"IFERROR(_xlfn.CONFIDENCE.NORM(0.05,CN41,CM41),\"\")","v":0.80015194605921813},{"$f":"IF(CL41=\"\",\"\",IF(OR(CN41=0,CP41<=CO41),\"P\",\"O\"))","v":"O"},null,{"$f":"IFERROR(AVERAGE(BU41:BV41),\"\")","v":16.25},{"$f":"IFERROR(COUNTIFS($B$9:$BM$9,BU$8,$B41:$BM41,\">0\")+COUNTIFS($B$9:$BM$9,BV$8,$B41:$BM41,\">0\"),\"\")","v":4},{"$f":"IFERROR(_xlfn.STDEV.S(IF(($B$9:$BM$9=\"Sat\")+($B$9:$BM$9=\"Sun\"),$B41:$BM41,\"\")),\"\")","v":8.8835053141576203},{"$f":"IFERROR(CS41*0.05,\"\")","v":0.8125},{"$f":"IFERROR(_xlfn.CONFIDENCE.NORM(0.05,CU41,CT41),\"\")","v":8.7056752361095544},{"$f":"IF(CS41=\"\",\"\",IF(OR(CU41=0,CW41<=CV41),\"P\",\"O\"))","v":"O"}]
["02:00:00",5,6,1,15,5,5,9,3,1,3,9,2,3,"","","","","","","","","","","","","","","","","","","","","","","","","","","","","","","","","","","","","","","","","","","","","","","","","","","",null,null,3.5,4,9,4,3.5,2,12,null,5.125,7,{"$f":"IFERROR(_xlfn.STDEV.S(IF((($B$9:$BM$9=\"Mon\")+($B$9:$BM$9=\"Tue\")+($B$9:$BM$9=\"Wed\")+($B$9:$BM$9=\"Thu\"))*($B42:$BM42<>\"\"),$B42:$BM42,\"\")),\"\")","v":2.2990681342044406},0.25625000000000003,1.7031422122706057,"O",null,4.8,9,{"$f":"IFERROR(_xlfn.STDEV.S(IF((($B$9:$BM$9=\"Mon\")+($B$9:$BM$9=\"Tue\")+($B$9:$BM$9=\"Wed\")+($B$9:$BM$9=\"Thu\")+($B$9:$BM$9=\"Fri\"))*($B42:$BM42<>\"\"),$B42:$BM42,\"\")),\"\")","v":2.3979157616563596},0.24,1.566609510269132,"O",null,5.666666666666667,5,{"$f":"IFERROR(_xlfn.STDEV.S(IF((($B$9:$BM$9=\"Tue\")+($B$9:$BM$9=\"Wed\")+($B$9:$BM$9=\"Thu\"))*($B42:$BM42<>\"\"),$B42:$BM42,\"\")),\"\")","v":2.4494897427831779},0.28333333333333338,2.1470329724605879,"O",null,7,4,{"$f":"IFERROR(_xlfn.STDEV.S(IF(($B$9:$BM$9=\"Sat\")+($B$9:$BM$9=\"Sun\"),$B42:$BM42,\"\")),\"\")","v":6.324555320336759},0.35000000000000003,6.1979503230456148,"O"]
["03:00:00",0,2,2,5,4,2,4,5,1,3,2,2,0,"","","","","","","","","","","","","","","","","","","","","","","","","","","","","","","","","","","","","","","","","","","","","","","","","","","",null,null,3,1,4,2.5,1.5,2.5,3.5,null,2.625,5,{"$f":"IFERROR(_xlfn.STDEV.S(IF((($B$9:$BM$9=\"Mon\")+($B$9:$BM$9=\"Tue\")+($B$9:$BM$9=\"Wed\")+($B$9:$BM$9=\"Thu\"))*($B43:$BM43<>\"\"),$B43:$BM43,\"\")),\"\")","v":1.9880595947760098},0.13125000000000001,1.742579046830717,"O",null,2.4,7,{"$f":"IFERROR(_xlfn.STDEV.S(IF((($B$9:$BM$9=\"Mon\")+($B$9:$BM$9=\"Tue\")+($B$9:$BM$9=\"Wed\")+($B$9:$BM$9=\"Thu\")+($B$9:$BM$9=\"Fri\"))*($B43:$BM43<>\"\"),$B43:$BM43,\"\")),\"\")","v":1.7873008824606014},0.12,1.3240266931021147,"O",null,2.5,3,{"$f":"IFERROR(_xlfn.STDEV.S(IF((($B$9:$BM$9=\"Tue\")+($B$9:$BM$9=\"Wed\")+($B$9:$BM$9=\"Thu\"))*($B43:$BM43<>\"\"),$B43:$BM43,\"\")),\"\")","v":2.2803508501982761},0.125,2.5804124907728383,"O",null,3,4,{"$f":"IFERROR(_xlfn.STDEV.S(IF(($B$9:$BM$9=\"Sat\")+($B$9:$BM$9=\"Sun\"),$B43:$BM43,\"\")),\"\")","v":1.4142135623730951},0.15000000000000002,1.3859038243496775,"O"]
["04:00:00",13,11,4,7,11,6,6,12,{"$f":"IF(J$8=\"\",\"\",SUMIFS(INDIRECT(\"'\"&TEXT(J$8,\"DD_MMM_YYYY\")&\"'!B$6:B$101\"),INDIRECT(\"'\"&TEXT(J$8,\"DD_MMM_YYYY\")&\"'!a$6:a$101\"),\">=\"&$A44,INDIRECT(\"'\"&TEXT(J$8,\"DD_MMM_YYYY\")&\"'!a$6:a$101\"),\"<\"&$A45))","v":9},3,6,4,6,"","","","","","","","","","","",{"$f":"IF(Z$8=\"\",\"\",SUMIFS(INDIRECT(\"'\"&TEXT(Z$8,\"DD_MMM_YYYY\")&\"'!B$6:B$101\"),INDIRECT(\"'\"&TEXT(Z$8,\"DD_MMM_YYYY\")&\"'!a$6:a$101\"),\">=\"&$A44,INDIRECT(\"'\"&TEXT(Z$8,\"DD_MMM_YYYY\")&\"'!a$6:a$101\"),\"<\"&$A45))","v":""},"","","","","","","","","","","","","","","",{"$f":"IF(AP$8=\"\",\"\",SUMIFS(INDIRECT(\"'\"&TEXT(AP$8,\"DD_MMM_YYYY\")&\"'!B$6:B$101\"),INDIRECT(\"'\"&TEXT(AP$8,\"DD_MMM_YYYY\")&\"'!a$6:a$101\"),\">=\"&$A44,INDIRECT(\"'\"&TEXT(AP$8,\"DD_MMM_YYYY\")&\"'!a$6:a$101\"),\"<\"&$A45))","v":""},"","","","","","","","","","","","","","","",{"$f":"IF(BF$8=\"\",\"\",SUMIFS(INDIRECT(\"'\"&TEXT(BF$8,\"DD_MMM_YYYY\")&\"'!B$6:B$101\"),INDIRECT(\"'\"&TEXT(BF$8,\"DD_MMM_YYYY\")&\"'!a$6:a$101\"),\">=\"&$A44,INDIRECT(\"'\"&TEXT(BF$8,\"DD_MMM_YYYY\")&\"'!a$6:a$101\"),\"<\"&$A45))","v":""},"","","","","","","",null,null,7.5,6,6,12.5,10,3.5,6.5,null,8,7,{"$f":"IFERROR(_xlfn.STDEV.S(IF((($B$9:$BM$9=\"Mon\")+($B$9:$BM$9=\"Tue\")+($B$9:$BM$9=\"Wed\")+($B$9:$BM$9=\"Thu\"))*($B44:$BM44<>\"\"),$B44:$BM44,\"\")),\"\")","v":3.5923198500080566},0.4,2.6611788861331234,"O",null,8.4,9,{"$f":"IFERROR(_xlfn.STDEV.S(IF((($B$9:$BM$9=\"Mon\")+($B$9:$BM$9=\"Tue\")+($B$9:$BM$9=\"Wed\")+($B$9:$BM$9=\"Thu\")+($B$9:$BM$9=\"Fri\"))*($B44:$BM44<>\"\"),$B44:$BM44,\"\")),\"\")","v":3.2403703492039302},0.42000000000000004,2.1170030603370602,"O",null,8.1666666666666661,5,{"$f":"IFERROR(_xlfn.STDEV.S(IF((($B$9:$BM$9=\"Tue\")+($B$9:$BM$9=\"Wed\")+($B$9:$BM$9=\"Thu\"))*($B44:$BM44<>\"\"),$B44:$BM44,\"\")),\"\")","v":3.577708763999663},0.40833333333333333,3.1359423752640851,"O",null,5,4,{"$f":"IFERROR(_xlfn.STDEV.S(IF(($B$9:$BM$9=\"Sat\")+($B$9:$BM$9=\"Sun\"),$B44:$BM44,\"\")),\"\")","v":1.8257418583505538},0.25,1.7891941437171568,"O"]
["05:00:00",37,38,26,15,32,39,45,38,37,24,15,51,48,"","","","","","","","","","","","","","","","","","","","","","","","","","","","","","","","","","","","","","","","","","","","","","","","","","","",null,null,41.5,43.5,45,37.5,37.5,25,15,null,41.875,7,{"$f":"IFERROR(_xlfn.STDEV.S(IF((($B$9:$BM$9=\"Mon\")+($B$9:$BM$9=\"Tue\")+($B$9:$BM$9=\"Wed\")+($B$9:$BM$9=\"Thu\"))*($B45:$BM45<>\"\"),$B45:$BM45,\"\")),\"\")","v":6.7541874136751421},2.09375,5.0034801155632245,"O",null,41,9,{"$f":"IFERROR(_xlfn.STDEV.S(IF((($B$9:$BM$9=\"Mon\")+($B$9:$BM$9=\"Tue\")+($B$9:$BM$9=\"Wed\")+($B$9:$BM$9=\"Thu\")+($B$9:$BM$9=\"Fri\"))*($B45:$BM45<>\"\"),$B45:$BM45,\"\")),\"\")","v":6.1055530280047385},2.0500000000000003,3.9888880135295861,"O",null,42,5,{"$f":"IFERROR(_xlfn.STDEV.S(IF((($B$9:$BM$9=\"Tue\")+($B$9:$BM$9=\"Wed\")+($B$9:$BM$9=\"Thu\"))*($B45:$BM45<>\"\"),$B45:$BM45,\"\")),\"\")","v":4.8270073544588872},2.1,4.2309807497121463,"O",null,20,4,{"$f":"IFERROR(_xlfn.STDEV.S(IF(($B$9:$BM$9=\"Sat\")+($B$9:$BM$9=\"Sun\"),$B45:$BM45,\"\")),\"\")","v":5.8309518948453007},1,5.7142278547411856,"O"]
["06:00:00",120,97,47,34,120,106,151,136,128,64,29,140,125,"","","","","","","","","","","","","","","","","","","","","","","","","","","","","","","","","","","","","","","","","","","","","","","","","","","",null,null,130,115.5,151,128,112.5,55.5,31.5,null,131.125,7,{"$f":"IFERROR(_xlfn.STDEV.S(IF((($B$9:$BM$9=\"Mon\")+($B$9:$BM$9=\"Tue\")+($B$9:$BM$9=\"Wed\")+($B$9:$BM$9=\"Thu\"))*($B46:$BM46<>\"\"),$B46:$BM46,\"\")),\"\")","v":15.041213223609796},6.5562500000000004,11.142481940300208,"O",null,127.4,9,{"$f":"IFERROR(_xlfn.STDEV.S(IF((($B$9:$BM$9=\"Mon\")+($B$9:$BM$9=\"Tue\")+($B$9:$BM$9=\"Wed\")+($B$9:$BM$9=\"Thu\")+($B$9:$BM$9=\"Fri\"))*($B46:$BM46<>\"\"),$B46:$BM46,\"\")),\"\")","v":16.679161982679023},6.370000000000001,10.896852259453519,"O",null,131.5,5,{"$f":"IFERROR(_xlfn.STDEV.S(IF((($B$9:$BM$9=\"Tue\")+($B$9:$BM$9=\"Wed\")+($B$9:$BM$9=\"Thu\"))*($B46:$BM46<>\"\"),$B46:$BM46,\"\")),\"\")","v":16.949926253526865},6.5750000000000002,14.856992422327062,"O",null,43.5,4,{"$f":"IFERROR(_xlfn.STDEV.S(IF(($B$9:$BM$9=\"Sat\")+($B$9:$BM$9=\"Sun\"),$B46:$BM46,\"\")),\"\")","v":15.631165450257807},2.1750000000000003,15.318260659446057,"O"]
["07:00:00",308,272,126,61,363,370,397,341,345,123,55,350,340,"","","","","","","","","","","","","","","","","","","","","","","","","","","","","","","","","","","","","","","","","","","","","","","","","","","",null,null,356.5,355,397,324.5,308.5,124.5,58,null,358.25,7,{"$f":"IFERROR(_xlfn.STDEV.S(IF((($B$9:$BM$9=\"Mon\")+($B$9:$BM$9=\"Tue\")+($B$9:$BM$9=\"Wed\")+($B$9:$BM$9=\"Thu\"))*($B47:$BM47<>\"\"),$B47:$BM47,\"\")),\"\")","v":27.902892835178019},17.912500000000001,20.670372454402806,"O",null,348.3,9,{"$f":"IFERROR(_xlfn.STDEV.S(IF((($B$9:$BM$9=\"Mon\")+($B$9:$BM$9=\"Tue\")+($B$9:$BM$9=\"Wed\")+($B$9:$BM$9=\"Thu\")+($B$9:$BM$9=\"Fri\"))*($B47:$BM47<>\"\"),$B47:$BM47,\"\")),\"\")","v":36.015428792548214},17.415000000000003,23.529647773720455,"O",null,358.83333333333331,5,{"$f":"IFERROR(_xlfn.STDEV.S(IF((($B$9:$BM$9=\"Tue\")+($B$9:$BM$9=\"Wed\")+($B$9:$BM$9=\"Thu\"))*($B47:$BM47<>\"\"),$B47:$BM47,\"\")),\"\")","v":33.714981833007116},17.941666666666666,29.551941531760683,"O",null,91.25,4,{"$f":"IFERROR(_xlfn.STDEV.S(IF(($B$9:$BM$9=\"Sat\")+($B$9:$BM$9=\"Sun\"),$B47:$BM47,\"\")),\"\")","v":38.491341017602039},4.5625,37.720821055574646,"O"]
["08:00:00",356,348,300,136,362,394,379,441,413,263,115,400,399,"","","","","","","","","","","","","","","","","","","","","","","","","","","","","","","","","","","","","","","","","","","","","","","","","","","",null,null,381,396.5,379,398.5,380.5,281.5,125.5,null,388.75,7,{"$f":"IFERROR(_xlfn.STDEV.S(IF((($B$9:$BM$9=\"Mon\")+($B$9:$BM$9=\"Tue\")+($B$9:$BM$9=\"Wed\")+($B$9:$BM$9=\"Thu\"))*($B48:$BM48<>\"\"),$B48:$BM48,\"\")),\"\")","v":28.457152419199005},19.4375,21.080966155414778,"O",null,387.1,9,{"$f":"IFERROR(_xlfn.STDEV.S(IF((($B$9:$BM$9=\"Mon\")+($B$9:$BM$9=\"Tue\")+($B$9:$BM$9=\"Wed\")+($B$9:$BM$9=\"Thu\")+($B$9:$BM$9=\"Fri\"))*($B48:$BM48<>\"\"),$B48:$BM48,\"\")),\"\")","v":29.824486584013478},19.355000000000004,19.484973187354811,"O",null,391.33333333333331,5,{"$f":"IFERROR(_xlfn.STDEV.S(IF((($B$9:$BM$9=\"Tue\")+($B$9:$BM$9=\"Wed\")+($B$9:$BM$9=\"Thu\"))*($B48:$BM48<>\"\"),$B48:$BM48,\"\")),\"\")","v":31.236196951613685},19.566666666666666,27.379230709978895,"O",null,203.5,4,{"$f":"IFERROR(_xlfn.STDEV.S(IF(($B$9:$BM$9=\"Sat\")+($B$9:$BM$9=\"Sun\"),$B48:$BM48,\"\")),\"\")","v":91.726041376844918},10.175000000000001,89.889868771523396,"O"]
["09:00:00",322,368,360,302,339,329,294,377,321,373,215,312,350,"","","","","","","","","","","","","","","","","","","","","","","","","","","","","","","","","","","","","","","","","","","","","","","","","","","",null,null,325.5,339.5,294,349.5,344.5,366.5,258.5,null,327.125,7,{"$f":"IFERROR(_xlfn.STDEV.S(IF((($B$9:$BM$9=\"Mon\")+($B$9:$BM$9=\"Tue\")+($B$9:$BM$9=\"Wed\")+($B$9:$BM$9=\"Thu\"))*($B49:$BM49<>\"\"),$B49:$BM49,\"\")),\"\")","v":26.928476695551446},16.356249999999999,19.948528140602139,"O",null,330.6,9,{"$f":"IFERROR(_xlfn.STDEV.S(IF((($B$9:$BM$9=\"Mon\")+($B$9:$BM$9=\"Tue\")+($B$9:$BM$9=\"Wed\")+($B$9:$BM$9=\"Thu\")+($B$9:$BM$9=\"Fri\"))*($B49:$BM49<>\"\"),$B49:$BM49,\"\")),\"\")","v":26.702059845637375},16.53,17.445025203494133,"O",null,327.66666666666669,5,{"$f":"IFERROR(_xlfn.STDEV.S(IF((($B$9:$BM$9=\"Tue\")+($B$9:$BM$9=\"Wed\")+($B$9:$BM$9=\"Thu\"))*($B49:$BM49<>\"\"),$B49:$BM49,\"\")),\"\")","v":31.117519181322923},16.383333333333336,27.275206969253667,"O",null,312.5,4,{"$f":"IFERROR(_xlfn.STDEV.S(IF(($B$9:$BM$9=\"Sat\")+($B$9:$BM$9=\"Sun\"),$B49:$BM49,\"\")),\"\")","v":71.956005077176613},15.625,70.5155892113237,"O"]
["10:00:00",355,395,467,393,290,290,305,321,343,521,377,278,302,"","","","","","","","","","","","","","","","","","","","","","","","","","","","","","","","","","","","","","","","","","","","","","","","","","","",null,null,{"$f":"IF(COUNTIFS($B$9:$BM$9,BP$8,$B50:$BM50,\">=0\")=0,\"\",SUMIFS($B50:$BM50,$B$9:$BM$9,BP$8)/COUNTIFS($B$9:$BM$9,BP$8,$B50:$BM50,\">=0\"))","v":284},296,305,338,369,494,385,null,305.75,7,{"$f":"IFERROR(_xlfn.STDEV.S(IF((($B$9:$BM$9=\"Mon\")+($B$9:$BM$9=\"Tue\")+($B$9:$BM$9=\"Wed\")+($B$9:$BM$9=\"Thu\"))*($B50:$BM50<>\"\"),$B50:$BM50,\"\")),\"\")","v":25.621791320596429},15.287500000000001,18.980539855638749,"O",null,318.39999999999998,9,{"$f":"IFERROR(_xlfn.STDEV.S(IF((($B$9:$BM$9=\"Mon\")+($B$9:$BM$9=\"Tue\")+($B$9:$BM$9=\"Wed\")+($B$9:$BM$9=\"Thu\")+($B$9:$BM$9=\"Fri\"))*($B50:$BM50<>\"\"),$B50:$BM50,\"\")),\"\")","v":37.902653088024188},15.92,24.762611657014418,"O",null,313,5,{"$f":"IFERROR(_xlfn.STDEV.S(IF((($B$9:$BM$9=\"Tue\")+($B$9:$BM$9=\"Wed\")+($B$9:$BM$9=\"Thu\"))*($B50:$BM50<>\"\"),$B50:$BM50,\"\")),\"\")","v":25.145576151681233},15.65,22.040664292733531,"O",null,439.5,4,{"$f":"IFERROR(_xlfn.STDEV.S(IF(($B$9:$BM$9=\"Sat\")+($B$9:$BM$9=\"Sun\"),$B50:$BM50,\"\")),\"\")","v":67},21.975000000000001,65.658793482091795,"O"]
["11:00:00",366,367,438,413,281,264,290,326,335,466,450,316,277,"","","","","","","","","","","","","","","","","","","","","","","","","","","","","","","","","","","","","","","","","","","","","","","","","","","",null,null,298.5,270.5,290,346,351,452,431.5,null,301.25,7,{"$f":"IFERROR(_xlfn.STDEV.S(IF((($B$9:$BM$9=\"Mon\")+($B$9:$BM$9=\"Tue\")+($B$9:$BM$9=\"Wed\")+($B$9:$BM$9=\"Thu\"))*($B51:$BM51<>\"\"),$B51:$BM51,\"\")),\"\")","v":35.395049425160103},15.0625,26.220537740720154,"O",null,311.2,9,{"$f":"IFERROR(_xlfn.STDEV.S(IF((($B$9:$BM$9=\"Mon\")+($B$9:$BM$9=\"Tue\")+($B$9:$BM$9=\"Wed\")+($B$9:$BM$9=\"Thu\")+($B$9:$BM$9=\"Fri\"))*($B51:$BM51<>\"\"),$B51:$BM51,\"\")),\"\")","v":38.134994136328132},15.56,24.914405019283087,"O",null,302.16666666666669,5,{"$f":"IFERROR(_xlfn.STDEV.S(IF((($B$9:$BM$9=\"Tue\")+($B$9:$BM$9=\"Wed\")+($B$9:$BM$9=\"Thu\"))*($B51:$BM51<>\"\"),$B51:$BM51,\"\")),\"\")","v":41.385987966943631},15.108333333333334,36.275751317057249,"O",null,441.75,4,{"$f":"IFERROR(_xlfn.STDEV.S(IF(($B$9:$BM$9=\"Sat\")+($B$9:$BM$9=\"Sun\"),$B51:$BM51,\"\")),\"\")","v":22.336442569636436},22.087500000000002,21.889311489617352,"P"]
["12:00:00",376,358,479,384,332,283,313,270,341,435,384,293,275,"","","","","","","","","","","","","","","","","","","","","","","","","","","","","","","","","","","","","","","","","","","","","","","","","","","",null,null,312.5,279,313,323,349.5,457,384,null,306.875,7,{"$f":"IFERROR(_xlfn.STDEV.S(IF((($B$9:$BM$9=\"Mon\")+($B$9:$BM$9=\"Tue\")+($B$9:$BM$9=\"Wed\")+($B$9:$BM$9=\"Thu\"))*($B52:$BM52<>\"\"),$B52:$BM52,\"\")),\"\")","v":37.815340802378074},15.34375,28.013481737989238,"O",null,315.39999999999998,9,{"$f":"IFERROR(_xlfn.STDEV.S(IF((($B$9:$BM$9=\"Mon\")+($B$9:$BM$9=\"Tue\")+($B$9:$BM$9=\"Wed\")+($B$9:$BM$9=\"Thu\")+($B$9:$BM$9=\"Fri\"))*($B52:$BM52<>\"\"),$B52:$BM52,\"\")),\"\")","v":38.190312907856622},15.77,24.950545952571371,"O",null,305,5,{"$f":"IFERROR(_xlfn.STDEV.S(IF((($B$9:$BM$9=\"Tue\")+($B$9:$BM$9=\"Wed\")+($B$9:$BM$9=\"Thu\"))*($B52:$BM52<>\"\"),$B52:$BM52,\"\")),\"\")","v":43.878240621064137},15.25,38.460266945205682,"O",null,420.5,4,{"$f":"IFERROR(_xlfn.STDEV.S(IF(($B$9:$BM$9=\"Sat\")+($B$9:$BM$9=\"Sun\"),$B52:$BM52,\"\")),\"\")","v":45.814844755821227},21.025000000000002,44.897722839351673,"O"]
["13:00:00",390,412,430,370,318,290,327,334,350,364,391,348,155,"","","","","","","","","","","","","","","","","","","","","","","","","","","","","","","","","","","","","","","","","","","","","","","","","","","",null,null,333,222.5,327,362,381,397,380.5,null,311.125,7,{"$f":"IFERROR(_xlfn.STDEV.S(IF((($B$9:$BM$9=\"Mon\")+($B$9:$BM$9=\"Tue\")+($B$9:$BM$9=\"Wed\")+($B$9:$BM$9=\"Thu\"))*($B53:$BM53<>\"\"),$B53:$BM53,\"\")),\"\")","v":74.373894549607883},15.55625,55.095939704384612,"O",null,325.10000000000002,9,{"$f":"IFERROR(_xlfn.STDEV.S(IF((($B$9:$BM$9=\"Mon\")+($B$9:$BM$9=\"Tue\")+($B$9:$BM$9=\"Wed\")+($B$9:$BM$9=\"Thu\")+($B$9:$BM$9=\"Fri\"))*($B53:$BM53<>\"\"),$B53:$BM53,\"\")),\"\")","v":73.490551168916326},16.255000000000003,48.012944498357982,"O",null,303.83333333333331,5,{"$f":"IFERROR(_xlfn.STDEV.S(IF((($B$9:$BM$9=\"Tue\")+($B$9:$BM$9=\"Wed\")+($B$9:$BM$9=\"Thu\"))*($B53:$BM53<>\"\"),$B53:$BM53,\"\")),\"\")","v":88.185599731475421},15.191666666666666,77.29666591890232,"O",null,388.75,4,{"$f":"IFERROR(_xlfn.STDEV.S(IF(($B$9:$BM$9=\"Sat\")+($B$9:$BM$9=\"Sun\"),$B53:$BM53,\"\")),\"\")","v":29.837057495671385},19.4375,29.239779048083381,"O"]
["14:00:00",299,407,363,354,360,288,314,300,366,383,331,305,0,"","","","","","","","","","","","","","","","","","","","","","","","","","","","","","","","","","","","","","","","","","","","","","","","","","","",null,null,332.5,144,314,299.5,386.5,373,342.5,null,272.5,6,{"$f":"IFERROR(_xlfn.STDEV.S(IF((($B$9:$BM$9=\"Mon\")+($B$9:$BM$9=\"Tue\")+($B$9:$BM$9=\"Wed\")+($B$9:$BM$9=\"Thu\"))*($B54:$BM54<>\"\"),$B54:$BM54,\"\")),\"\")","v":119.82189163206242},13.625,95.875719769891504,"O",null,295.3,8,{"$f":"IFERROR(_xlfn.STDEV.S(IF((($B$9:$BM$9=\"Mon\")+($B$9:$BM$9=\"Tue\")+($B$9:$BM$9=\"Wed\")+($B$9:$BM$9=\"Thu\")+($B$9:$BM$9=\"Fri\"))*($B54:$BM54<>\"\"),$B54:$BM54,\"\")),\"\")","v":116.91746851708875},14.765000000000001,81.018183375558152,"O",null,252.5,4,{"$f":"IFERROR(_xlfn.STDEV.S(IF((($B$9:$BM$9=\"Tue\")+($B$9:$BM$9=\"Wed\")+($B$9:$BM$9=\"Thu\"))*($B54:$BM54<>\"\"),$B54:$BM54,\"\")),\"\")","v":134.59271897097554},12.625,131.89844088221645,"O",null,357.75,4,{"$f":"IFERROR(_xlfn.STDEV.S(IF(($B$9:$BM$9=\"Sat\")+($B$9:$BM$9=\"Sun\"),$B54:$BM54,\"\")),\"\")","v":21.561926320870931},17.887499999999999,21.130299513106625,"O"]
["15:00:00",356,415,271,270,341,364,330,296,374,326,246,366,0,"","","","","","","","","","","","","","","","","","","","","","","","","","","","","","","","","","","","","","","","","","","","","","","","","","","",null,null,353.5,182,330,326,394.5,298.5,258,null,297.875,6,{"$f":"IFERROR(_xlfn.STDEV.S(IF((($B$9:$BM$9=\"Mon\")+($B$9:$BM$9=\"Tue\")+($B$9:$BM$9=\"Wed\")+($B$9:$BM$9=\"Thu\"))*($B55:$BM55<>\"\"),$B55:$BM55,\"\")),\"\")","v":131.57344499773282},14.893750000000001,105.27874806465142,"O",null,317.2,8,{"$f":"IFERROR(_xlfn.STDEV.S(IF((($B$9:$BM$9=\"Mon\")+($B$9:$BM$9=\"Tue\")+($B$9:$BM$9=\"Wed\")+($B$9:$BM$9=\"Thu\")+($B$9:$BM$9=\"Fri\"))*($B55:$BM55<>\"\"),$B55:$BM55,\"\")),\"\")","v":122.80347895904431},15.86,85.096905566392323,"O",null,279.33333333333331,4,{"$f":"IFERROR(_xlfn.STDEV.S(IF((($B$9:$BM$9=\"Tue\")+($B$9:$BM$9=\"Wed\")+($B$9:$BM$9=\"Thu\"))*($B55:$BM55<>\"\"),$B55:$BM55,\"\")),\"\")","v":152.81099436886078},13.966666666666667,149.75202270236002,"O",null,278.25,4,{"$f":"IFERROR(_xlfn.STDEV.S(IF(($B$9:$BM$9=\"Sat\")+($B$9:$BM$9=\"Sun\"),$B55:$BM55,\"\")),\"\")","v":33.866158132664928},13.912500000000001,33.188225117380746,"O"]
["16:00:00",417,442,297,208,384,384,394,435,459,249,260,411,0,"","","","","","","","","","","","","","","","","","","","","","","","","","","","","","","","","","","","","","","","","","","","","","","","","","","",null,null,397.5,192,394,426,450.5,273,234,null,352.375,6,{"$f":"IFERROR(_xlfn.STDEV.S(IF((($B$9:$BM$9=\"Mon\")+($B$9:$BM$9=\"Tue\")+($B$9:$BM$9=\"Wed\")+($B$9:$BM$9=\"Thu\"))*($B56:$BM56<>\"\"),$B56:$BM56,\"\")),\"\")","v":153.89049910337454},17.618750000000002,123.1357823375895,"O",null,372,8,{"$f":"IFERROR(_xlfn.STDEV.S(IF((($B$9:$BM$9=\"Mon\")+($B$9:$BM$9=\"Tue\")+($B$9:$BM$9=\"Wed\")+($B$9:$BM$9=\"Thu\")+($B$9:$BM$9=\"Fri\"))*($B56:$BM56<>\"\"),$B56:$BM56,\"\")),\"\")","v":141.01694145661287},18.600000000000001,97.717959231407178,"O",null,337.33333333333331,4,{"$f":"IFERROR(_xlfn.STDEV.S(IF((($B$9:$BM$9=\"Tue\")+($B$9:$BM$9=\"Wed\")+($B$9:$BM$9=\"Thu\"))*($B56:$BM56<>\"\"),$B56:$BM56,\"\")),\"\")","v":183.32075714441069},16.866666666666667,179.65104081082933,"O",null,253.5,4,{"$f":"IFERROR(_xlfn.STDEV.S(IF(($B$9:$BM$9=\"Sat\")+($B$9:$BM$9=\"Sun\"),$B56:$BM56,\"\")),\"\")","v":36.628768293059849},12.675000000000001,35.89553332622998,"O"]
["17:00:00",460,453,291,158,504,425,477,445,482,232,203,509,0,"","","","","","","","","","","","","","","","","","","","","","","","","","","","","","","","","","","","","","","","","","","","","","","","","","","",null,null,506.5,212.5,477,452.5,467.5,261.5,180.5,null,412.125,6,{"$f":"IFERROR(_xlfn.STDEV.S(IF((($B$9:$BM$9=\"Mon\")+($B$9:$BM$9=\"Tue\")+($B$9:$BM$9=\"Wed\")+($B$9:$BM$9=\"Thu\"))*($B57:$BM57<>\"\"),$B57:$BM57,\"\")),\"\")","v":180.19381100306833},20.606250000000003,144.18242854193207,"O",null,423.2,8,{"$f":"IFERROR(_xlfn.STDEV.S(IF((($B$9:$BM$9=\"Mon\")+($B$9:$BM$9=\"Tue\")+($B$9:$BM$9=\"Wed\")+($B$9:$BM$9=\"Thu\")+($B$9:$BM$9=\"Fri\"))*($B57:$BM57<>\"\"),$B57:$BM57,\"\")),\"\")","v":158.80001399384207},21.16,110.040773350424,"O",null,380.66666666666669,4,{"$f":"IFERROR(_xlfn.STDEV.S(IF((($B$9:$BM$9=\"Tue\")+($B$9:$BM$9=\"Wed\")+($B$9:$BM$9=\"Thu\"))*($B57:$BM57<>\"\"),$B57:$BM57,\"\")),\"\")","v":202.93422579742429},19.033333333333335,198.87188689673533,"O",null,221,4,{"$f":"IFERROR(_xlfn.STDEV.S(IF(($B$9:$BM$9=\"Sat\")+($B$9:$BM$9=\"Sun\"),$B57:$BM57,\"\")),\"\")","v":55.719535772174794},11.05,54.604141674376883,"O"]
["18:00:00",317,323,219,170,275,271,346,338,349,221,159,275,0,"","","","","","","","","","","","","","","","","","","","","","","","","","","","","","","","","","","","","","","","","","","","","","","","","","","",null,null,275,135.5,346,327.5,336,220,164.5,null,271,6,{"$f":"IFERROR(_xlfn.STDEV.S(IF((($B$9:$BM$9=\"Mon\")+($B$9:$BM$9=\"Tue\")+($B$9:$BM$9=\"Wed\")+($B$9:$BM$9=\"Thu\"))*($B58:$BM58<>\"\"),$B58:$BM58,\"\")),\"\")","v":118.95337221745655},13.55,95.180772270104399,"O",null,284,8,{"$f":"IFERROR(_xlfn.STDEV.S(IF((($B$9:$BM$9=\"Mon\")+($B$9:$BM$9=\"Tue\")+($B$9:$BM$9=\"Wed\")+($B$9:$BM$9=\"Thu\")+($B$9:$BM$9=\"Fri\"))*($B58:$BM58<>\"\"),$B58:$BM58,\"\")),\"\")","v":108.48668633113978},14.200000000000001,75.176056738675257,"O",null,269.66666666666669,4,{"$f":"IFERROR(_xlfn.STDEV.S(IF((($B$9:$BM$9=\"Tue\")+($B$9:$BM$9=\"Wed\")+($B$9:$BM$9=\"Thu\"))*($B58:$BM58<>\"\"),$B58:$BM58,\"\")),\"\")","v":145.1664561804827},13.483333333333334,142.26051293852899,"O",null,192.25,4,{"$f":"IFERROR(_xlfn.STDEV.S(IF(($B$9:$BM$9=\"Sat\")+($B$9:$BM$9=\"Sun\"),$B58:$BM58,\"\")),\"\")","v":32.366392034536894},9.6125000000000007,31.718481348598193,"O"]
["19:00:00",226,185,193,129,172,201,200,238,251,178,137,170,0,"","","","","","","","","","",{"$f":"IF(Y$8=\"\",\"\",SUMIFS(INDIRECT(\"'\"&TEXT(Y$8,\"DD_MMM_YYYY\")&\"'!B$6:B$101\"),INDIRECT(\"'\"&TEXT(Y$8,\"DD_MMM_YYYY\")&\"'!a$6:a$101\"),\">=\"&$A59,INDIRECT(\"'\"&TEXT(Y$8,\"DD_MMM_YYYY\")&\"'!a$6:a$101\"),\"<\"&$A60))","v":""},"","","","","","","","","","","","","","","",{"$f":"IF(AO$8=\"\",\"\",SUMIFS(INDIRECT(\"'\"&TEXT(AO$8,\"DD_MMM_YYYY\")&\"'!B$6:B$101\"),INDIRECT(\"'\"&TEXT(AO$8,\"DD_MMM_YYYY\")&\"'!a$6:a$101\"),\">=\"&$A59,INDIRECT(\"'\"&TEXT(AO$8,\"DD_MMM_YYYY\")&\"'!a$6:a$101\"),\"<\"&$A60))","v":""},"","","","","","","","","","","","","","","",{"$f":"IF(BE$8=\"\",\"\",SUMIFS(INDIRECT(\"'\"&TEXT(BE$8,\"DD_MMM_YYYY\")&\"'!B$6:B$101\"),INDIRECT(\"'\"&TEXT(BE$8,\"DD_MMM_YYYY\")&\"'!a$6:a$101\"),\">=\"&$A59,INDIRECT(\"'\"&TEXT(BE$8,\"DD_MMM_YYYY\")&\"'!a$6:a$101\"),\"<\"&$A60))","v":""},"","","","","","","","",null,null,171,100.5,200,232,218,185.5,133,null,175.875,6,{"$f":"IFERROR(_xlfn.STDEV.S(IF((($B$9:$BM$9=\"Mon\")+($B$9:$BM$9=\"Tue\")+($B$9:$BM$9=\"Wed\")+($B$9:$BM$9=\"Thu\"))*($B59:$BM59<>\"\"),$B59:$BM59,\"\")),\"\")","v":80.087154906092039},8.7937500000000011,64.08189285245561,"O",null,184.3,8,{"$f":"IFERROR(_xlfn.STDEV.S(IF((($B$9:$BM$9=\"Mon\")+($B$9:$BM$9=\"Tue\")+($B$9:$BM$9=\"Wed\")+($B$9:$BM$9=\"Thu\")+($B$9:$BM$9=\"Fri\"))*($B59:$BM59<>\"\"),$B59:$BM59,\"\")),\"\")","v":74.071099477311535},9.2150000000000016,51.327710019695722,"O",null,177.5,4,{"$f":"IFERROR(_xlfn.STDEV.S(IF((($B$9:$BM$9=\"Tue\")+($B$9:$BM$9=\"Wed\")+($B$9:$BM$9=\"Thu\"))*($B59:$BM59<>\"\"),$B59:$BM59,\"\")),\"\")","v":98.076500753238534},8.875,96.113204603031477,"O",null,159.25,4,{"$f":"IFERROR(_xlfn.STDEV.S(IF(($B$9:$BM$9=\"Sat\")+($B$9:$BM$9=\"Sun\"),$B59:$BM59,\"\")),\"\")","v":31.095283672394221},7.9625000000000004,30.472818043474522,"O"]
["20:00:00",113,121,130,106,99,89,106,97,143,123,86,126,0,"","","",{"$f":"IF(R$8=\"\",\"\",SUMIFS(INDIRECT(\"'\"&TEXT(R$8,\"DD_MMM_YYYY\")&\"'!B$6:B$101\"),INDIRECT(\"'\"&TEXT(R$8,\"DD_MMM_YYYY\")&\"'!a$6:a$101\"),\">=\"&$A60,INDIRECT(\"'\"&TEXT(R$8,\"DD_MMM_YYYY\")&\"'!a$6:a$101\"),\"<\"&$A61))","v":""},"","","","","","","","","","","","","","","","","","","","","","","","","","","","","","","","","","","","","","","","","","","","","","","",null,null,112.5,44.5,106,105,132,126.5,96,null,92,6,{"$f":"IFERROR(_xlfn.STDEV.S(IF((($B$9:$BM$9=\"Mon\")+($B$9:$BM$9=\"Tue\")+($B$9:$BM$9=\"Wed\")+($B$9:$BM$9=\"Thu\"))*($B60:$BM60<>\"\"),$B60:$BM60,\"\")),\"\")","v":41.456804829444671},4.6000000000000005,33.171743061677347,"O",null,100,8,{"$f":"IFERROR(_xlfn.STDEV.S(IF((($B$9:$BM$9=\"Mon\")+($B$9:$BM$9=\"Tue\")+($B$9:$BM$9=\"Wed\")+($B$9:$BM$9=\"Thu\")+($B$9:$BM$9=\"Fri\"))*($B60:$BM60<>\"\"),$B60:$BM60,\"\")),\"\")","v":40.770700263792378},5,28.25213470850213,"O",null,85.166666666666671,4,{"$f":"IFERROR(_xlfn.STDEV.S(IF((($B$9:$BM$9=\"Tue\")+($B$9:$BM$9=\"Wed\")+($B$9:$BM$9=\"Thu\"))*($B60:$BM60<>\"\"),$B60:$BM60,\"\")),\"\")","v":46.178999556075269},4.2583333333333337,45.254587985999322,"O",null,111.25,4,{"$f":"IFERROR(_xlfn.STDEV.S(IF(($B$9:$BM$9=\"Sat\")+($B$9:$BM$9=\"Sun\"),$B60:$BM60,\"\")),\"\")","v":19.619293225462194},5.5625,19.22655406201828,"O"]
["21:00:00",72,119,107,77,77,85,89,105,102,99,71,110,0,"","","","","","","","","","","","","","","","","","","","","","","","","","","","","","","","","","","","","","","","","","","","","","","","","","","",null,null,93.5,42.5,89,88.5,110.5,103,74,null,78.375,6,{"$f":"IFERROR(_xlfn.STDEV.S(IF((($B$9:$BM$9=\"Mon\")+($B$9:$BM$9=\"Tue\")+($B$9:$BM$9=\"Wed\")+($B$9:$BM$9=\"Thu\"))*($B61:$BM61<>\"\"),$B61:$BM61,\"\")),\"\")","v":36.594300883373322},3.9187500000000002,29.281001066507731,"O",null,84.8,8,{"$f":"IFERROR(_xlfn.STDEV.S(IF((($B$9:$BM$9=\"Mon\")+($B$9:$BM$9=\"Tue\")+($B$9:$BM$9=\"Wed\")+($B$9:$BM$9=\"Thu\")+($B$9:$BM$9=\"Fri\"))*($B61:$BM61<>\"\"),$B61:$BM61,\"\")),\"\")","v":35.249113464029136},4.24,24.425940577366841,"O",null,73.333333333333329,4,{"$f":"IFERROR(_xlfn.STDEV.S(IF((($B$9:$BM$9=\"Tue\")+($B$9:$BM$9=\"Wed\")+($B$9:$BM$9=\"Thu\"))*($B61:$BM61<>\"\"),$B61:$BM61,\"\")),\"\")","v":40.971941618624811},3.6666666666666665,40.151764974591167,"O",null,88.5,4,{"$f":"IFERROR(_xlfn.STDEV.S(IF(($B$9:$BM$9=\"Sat\")+($B$9:$BM$9=\"Sun\"),$B61:$BM61,\"\")),\"\")","v":17.233687939614086},4.4249999999999998,16.888703841222945,"O"]
["22:00:00",67,85,94,40,54,95,67,73,93,90,41,45,0,"","","","","","","","","","","","","","","","","","","","","","","","","","","","","","","","","","","","","","","","","","","","","","","","","","","",null,null,49.5,47.5,67,70,89,92,40.5,null,58.5,6,{"$f":"IFERROR(_xlfn.STDEV.S(IF((($B$9:$BM$9=\"Mon\")+($B$9:$BM$9=\"Tue\")+($B$9:$BM$9=\"Wed\")+($B$9:$BM$9=\"Thu\"))*($B62:$BM62<>\"\"),$B62:$BM62,\"\")),\"\")","v":29.724929412387656},2.9250000000000003,23.784460115794875,"O",null,64.599999999999994,8,{"$f":"IFERROR(_xlfn.STDEV.S(IF((($B$9:$BM$9=\"Mon\")+($B$9:$BM$9=\"Tue\")+($B$9:$BM$9=\"Wed\")+($B$9:$BM$9=\"Thu\")+($B$9:$BM$9=\"Fri\"))*($B62:$BM62<>\"\"),$B62:$BM62,\"\")),\"\")","v":29.364093720052047},3.23,20.347904892591242,"O",null,61.5,4,{"$f":"IFERROR(_xlfn.STDEV.S(IF((($B$9:$BM$9=\"Tue\")+($B$9:$BM$9=\"Wed\")+($B$9:$BM$9=\"Thu\"))*($B62:$BM62<>\"\"),$B62:$BM62,\"\")),\"\")","v":35.676322680455733},3.0750000000000002,34.962153777261349,"O",null,66.25,4,{"$f":"IFERROR(_xlfn.STDEV.S(IF(($B$9:$BM$9=\"Sat\")+($B$9:$BM$9=\"Sun\"),$B62:$BM62,\"\")),\"\")","v":29.781146161064161},3.3125,29.184986947004518,"O"]
["23:00:00",{"$f":"IF(B$8=\"\",\"\",SUMIFS(INDIRECT(\"'\"&TEXT(B$8,\"DD_MMM_YYYY\")&\"'!B$6:B$101\"),INDIRECT(\"'\"&TEXT(B$8,\"DD_MMM_YYYY\")&\"'!a$6:a$101\"),\">=\"&$A63))","v":23},{"$f":"IF(C$8=\"\",\"\",SUMIFS(INDIRECT(\"'\"&TEXT(C$8,\"DD_MMM_YYYY\")&\"'!B$6:B$101\"),INDIRECT(\"'\"&TEXT(C$8,\"DD_MMM_YYYY\")&\"'!a$6:a$101\"),\">=\"&$A63))","v":50},59,21,27,26,34,29,56,79,25,19,0,"","","","","","","","","","","","","","","","","","","","","","","","","","","","","","","","","","","","","","","","","","","","","","","","","","","",null,null,23,13,34,26,53,69,23,null,24,6,{"$f":"IFERROR(_xlfn.STDEV.S(IF((($B$9:$BM$9=\"Mon\")+($B$9:$BM$9=\"Tue\")+($B$9:$BM$9=\"Wed\")+($B$9:$BM$9=\"Thu\"))*($B63:$BM63<>\"\"),$B63:$BM63,\"\")),\"\")","v":10.997835284835874},1.2000000000000002,8.7999393056001605,"O",null,29.8,8,{"$f":"IFERROR(_xlfn.STDEV.S(IF((($B$9:$BM$9=\"Mon\")+($B$9:$BM$9=\"Tue\")+($B$9:$BM$9=\"Wed\")+($B$9:$BM$9=\"Thu\")+($B$9:$BM$9=\"Fri\"))*($B63:$BM63<>\"\"),$B63:$BM63,\"\")),\"\")","v":16.522711641858304},1.4900000000000002,11.449444626539181,"O",null,24.333333333333332,4,{"$f":"IFERROR(_xlfn.STDEV.S(IF((($B$9:$BM$9=\"Tue\")+($B$9:$BM$9=\"Wed\")+($B$9:$BM$9=\"Thu\"))*($B63:$BM63<>\"\"),$B63:$BM63,\"\")),\"\")","v":13.164345787011216},1.2166666666666668,12.900821811286786,"O",null,46,4,{"$f":"IFERROR(_xlfn.STDEV.S(IF(($B$9:$BM$9=\"Sat\")+($B$9:$BM$9=\"Sun\"),$B63:$BM63,\"\")),\"\")","v":27.832834326864138},2.3000000000000003,27.275676434161909,"O"]
["TOTAL",{"$f":"SUM(B40:B63)","v":5011},{"$f":"SUM(C40:C63)","v":5298},4735,3730,4750,4606,4893,4976,5322,4653,3689,4845,2298,0,0,0,0,0,0,0,0,0,0,0,0,0,0,0,0,0,0,0,0,0,0,0,0,0,0,0,0,0,0,0,0,0,0,0,0,0,0,0,0,0,0,0,0,0,0,0,0,0,0,0,null,null,{"$f":"SUM(BP40:BP63)","v":4804},{"$f":"SUM(BQ40:BQ63)","v":3461},4893,4993.5,5310,4694,3709.5]
[]
[]
["LGV",null,null,null,null,null,null,null,null,null,null,null,null,null,null,null,null,null,null,null,null,null,null,null,null,null,null,null,null,null,null,null,null,null,null,null,null,null,null,null,null,null,null,null,null,null,null,null,null,null,null,null,null,null,null,null,null,null,null,null,null,null,null,null,null,null,null,"STATISTICS"]
[null,{"$f":"'Site Plan'!$Q$3","v":"2016-04-07"},{"$f":"IF($B$8+COLUMN(B68)-1<='Site Plan'!$Q$4,$B$8+COLUMN(B68)-1,\"\")","v":"2016-04-08"},{"$f":"IF($B$8+COLUMN(C68)-1<='Site Plan'!$Q$4,$B$8+COLUMN(C68)-1,\"\")","v":"2016-04-09"},{"$f":"IF($B$8+COLUMN(D68)-1<='Site Plan'!$Q$4,$B$8+COLUMN(D68)-1,\"\")","v":"2016-04-10"},{"$f":"IF($B$8+COLUMN(E68)-1<='Site Plan'!$Q$4,$B$8+COLUMN(E68)-1,\"\")","v":"2016-04-11"},{"$f":"IF($B$8+COLUMN(F68)-1<='Site Plan'!$Q$4,$B$8+COLUMN(F68)-1,\"\")","v":"2016-04-12"},{"$f":"IF($B$8+COLUMN(G68)-1<='Site Plan'!$Q$4,$B$8+COLUMN(G68)-1,\"\")","v":"2016-04-13"},{"$f":"IF($B$8+COLUMN(H68)-1<='Site Plan'!$Q$4,$B$8+COLUMN(H68)-1,\"\")","v":"2016-04-14"},{"$f":"IF($B$8+COLUMN(I68)-1<='Site Plan'!$Q$4,$B$8+COLUMN(I68)-1,\"\")","v":"2016-04-15"},{"$f":"IF($B$8+COLUMN(J68)-1<='Site Plan'!$Q$4,$B$8+COLUMN(J68)-1,\"\")","v":"2016-04-16"},{"$f":"IF($B$8+COLUMN(K68)-1<='Site Plan'!$Q$4,$B$8+COLUMN(K68)-1,\"\")","v":"2016-04-17"},{"$f":"IF($B$8+COLUMN(L68)-1<='Site Plan'!$Q$4,$B$8+COLUMN(L68)-1,\"\")","v":"2016-04-18"},{"$f":"IF($B$8+COLUMN(M68)-1<='Site Plan'!$Q$4,$B$8+COLUMN(M68)-1,\"\")","v":"2016-04-19"},{"$f":"IF($B$8+COLUMN(N68)-1<='Site Plan'!$Q$4,$B$8+COLUMN(N68)-1,\"\")","v":""},{"$f":"IF($B$8+COLUMN(O68)-1<='Site Plan'!$Q$4,$B$8+COLUMN(O68)-1,\"\")","v":""},{"$f":"IF($B$8+COLUMN(P68)-1<='Site Plan'!$Q$4,$B$8+COLUMN(P68)-1,\"\")","v":""},{"$f":"IF($B$8+COLUMN(Q68)-1<='Site Plan'!$Q$4,$B$8+COLUMN(Q68)-1,\"\")","v":""},{"$f":"IF($B$8+COLUMN(R68)-1<='Site Plan'!$Q$4,$B$8+COLUMN(R68)-1,\"\")","v":""},{"$f":"IF($B$8+COLUMN(S68)-1<='Site Plan'!$Q$4,$B$8+COLUMN(S68)-1,\"\")","v":""},{"$f":"IF($B$8+COLUMN(T68)-1<='Site Plan'!$Q$4,$B$8+COLUMN(T68)-1,\"\")","v":""},{"$f":"IF($B$8+COLUMN(U68)-1<='Site Plan'!$Q$4,$B$8+COLUMN(U68)-1,\"\")","v":""},{"$f":"IF($B$8+COLUMN(V68)-1<='Site Plan'!$Q$4,$B$8+COLUMN(V68)-1,\"\")","v":""},{"$f":"IF($B$8+COLUMN(W68)-1<='Site Plan'!$Q$4,$B$8+COLUMN(W68)-1,\"\")","v":""},{"$f":"IF($B$8+COLUMN(X68)-1<='Site Plan'!$Q$4,$B$8+COLUMN(X68)-1,\"\")","v":""},{"$f":"IF($B$8+COLUMN(Y68)-1<='Site Plan'!$Q$4,$B$8+COLUMN(Y68)-1,\"\")","v":""},{"$f":"IF($B$8+COLUMN(Z68)-1<='Site Plan'!$Q$4,$B$8+COLUMN(Z68)-1,\"\")","v":""},{"$f":"IF($B$8+COLUMN(AA68)-1<='Site Plan'!$Q$4,$B$8+COLUMN(AA68)-1,\"\")","v":""},{"$f":"IF($B$8+COLUMN(AB68)-1<='Site Plan'!$Q$4,$B$8+COLUMN(AB68)-1,\"\")","v":""},{"$f":"IF($B$8+COLUMN(AC68)-1<='Site Plan'!$Q$4,$B$8+COLUMN(AC68)-1,\"\")","v":""},{"$f":"IF($B$8+COLUMN(AD68)-1<='Site Plan'!$Q$4,$B$8+COLUMN(AD68)-1,\"\")","v":""},{"$f":"IF($B$8+COLUMN(AE68)-1<='Site Plan'!$Q$4,$B$8+COLUMN(AE68)-1,\"\")","v":""},{"$f":"IF($B$8+COLUMN(AF68)-1<='Site Plan'!$Q$4,$B$8+COLUMN(AF68)-1,\"\")","v":""},{"$f":"IF($B$8+COLUMN(AG68)-1<='Site Plan'!$Q$4,$B$8+COLUMN(AG68)-1,\"\")","v":""},{"$f":"IF($B$8+COLUMN(AH68)-1<='Site Plan'!$Q$4,$B$8+COLUMN(AH68)-1,\"\")","v":""},{"$f":"IF($B$8+COLUMN(AI68)-1<='Site Plan'!$Q$4,$B$8+COLUMN(AI68)-1,\"\")","v":""},{"$f":"IF($B$8+COLUMN(AJ68)-1<='Site Plan'!$Q$4,$B$8+COLUMN(AJ68)-1,\"\")","v":""},{"$f":"IF($B$8+COLUMN(AK68)-1<='Site Plan'!$Q$4,$B$8+COLUMN(AK68)-1,\"\")","v":""},{"$f":"IF($B$8+COLUMN(AL68)-1<='Site Plan'!$Q$4,$B$8+COLUMN(AL68)-1,\"\")","v":""},{"$f":"IF($B$8+COLUMN(AM68)-1<='Site Plan'!$Q$4,$B$8+COLUMN(AM68)-1,\"\")","v":""},{"$f":"IF($B$8+COLUMN(AN68)-1<='Site Plan'!$Q$4,$B$8+COLUMN(AN68)-1,\"\")","v":""},{"$f":"IF($B$8+COLUMN(AO68)-1<='Site Plan'!$Q$4,$B$8+COLUMN(AO68)-1,\"\")","v":""},{"$f":"IF($B$8+COLUMN(AP68)-1<='Site Plan'!$Q$4,$B$8+COLUMN(AP68)-1,\"\")","v":""},{"$f":"IF($B$8+COLUMN(AQ68)-1<='Site Plan'!$Q$4,$B$8+COLUMN(AQ68)-1,\"\")","v":""},{"$f":"IF($B$8+COLUMN(AR68)-1<='Site Plan'!$Q$4,$B$8+COLUMN(AR68)-1,\"\")","v":""},{"$f":"IF($B$8+COLUMN(AS68)-1<='Site Plan'!$Q$4,$B$8+COLUMN(AS68)-1,\"\")","v":""},{"$f":"IF($B$8+COLUMN(AT68)-1<='Site Plan'!$Q$4,$B$8+COLUMN(AT68)-1,\"\")","v":""},{"$f":"IF($B$8+COLUMN(AU68)-1<='Site Plan'!$Q$4,$B$8+COLUMN(AU68)-1,\"\")","v":""},{"$f":"IF($B$8+COLUMN(AV68)-1<='Site Plan'!$Q$4,$B$8+COLUMN(AV68)-1,\"\")","v":""},{"$f":"IF($B$8+COLUMN(AW68)-1<='Site Plan'!$Q$4,$B$8+COLUMN(AW68)-1,\"\")","v":""},{"$f":"IF($B$8+COLUMN(AX68)-1<='Site Plan'!$Q$4,$B$8+COLUMN(AX68)-1,\"\")","v":""},{"$f":"IF($B$8+COLUMN(AY68)-1<='Site Plan'!$Q$4,$B$8+COLUMN(AY68)-1,\"\")","v":""},{"$f":"IF($B$8+COLUMN(AZ68)-1<='Site Plan'!$Q$4,$B$8+COLUMN(AZ68)-1,\"\")","v":""},{"$f":"IF($B$8+COLUMN(BA68)-1<='Site Plan'!$Q$4,$B$8+COLUMN(BA68)-1,\"\")","v":""},{"$f":"IF($B$8+COLUMN(BB68)-1<='Site Plan'!$Q$4,$B$8+COLUMN(BB68)-1,\"\")","v":""},{"$f":"IF($B$8+COLUMN(BC68)-1<='Site Plan'!$Q$4,$B$8+COLUMN(BC68)-1,\"\")","v":""},{"$f":"IF($B$8+COLUMN(BD68)-1<='Site Plan'!$Q$4,$B$8+COLUMN(BD68)-1,\"\")","v":""},{"$f":"IF($B$8+COLUMN(BE68)-1<='Site Plan'!$Q$4,$B$8+COLUMN(BE68)-1,\"\")","v":""},{"$f":"IF($B$8+COLUMN(BF68)-1<='Site Plan'!$Q$4,$B$8+COLUMN(BF68)-1,\"\")","v":""},{"$f":"IF($B$8+COLUMN(BG68)-1<='Site Plan'!$Q$4,$B$8+COLUMN(BG68)-1,\"\")","v":""},{"$f":"IF($B$8+COLUMN(BH68)-1<='Site Plan'!$Q$4,$B$8+COLUMN(BH68)-1,\"\")","v":""},{"$f":"IF($B$8+COLUMN(BI68)-1<='Site Plan'!$Q$4,$B$8+COLUMN(BI68)-1,\"\")","v":""},{"$f":"IF($B$8+COLUMN(BJ68)-1<='Site Plan'!$Q$4,$B$8+COLUMN(BJ68)-1,\"\")","v":""},{"$f":"IF($B$8+COLUMN(BK68)-1<='Site Plan'!$Q$4,$B$8+COLUMN(BK68)-1,\"\")","v":""},{"$f":"IF($B$8+COLUMN(BL68)-1<='Site Plan'!$Q$4,$B$8+COLUMN(BL68)-1,\"\")","v":""},null,null,"Mon","Tue","Wed","Thu","Fri","Sat","Sun",null,"Mon-Thu",null,null,null,null,null,null,"Mon-Fri",null,null,null,null,null,null,"Tue-Thu",null,null,null,null,null,null,"Sat-Sun"]
["TIME",{"$f":"IF(B68=\"\",\"\",CHOOSE(WEEKDAY(B68),\"Mon\",\"Tue\",\"Wed\",\"Thu\",\"Fri\",\"Sat\",\"Sun\"))","v":"Fri"},{"$f":"IF(C68=\"\",\"\",CHOOSE(WEEKDAY(C68),\"Mon\",\"Tue\",\"Wed\",\"Thu\",\"Fri\",\"Sat\",\"Sun\"))","v":"Sat"},"Sun","Mon","Tue","Wed","Thu","Fri",{"$f":"IF(J68=\"\",\"\",CHOOSE(WEEKDAY(J68),\"Mon\",\"Tue\",\"Wed\",\"Thu\",\"Fri\",\"Sat\",\"Sun\"))","v":"Sat"},"Sun","Mon","Tue","Wed","","","","","","","","","","","","","","","","","","","","","","","","","","","","","","","","","","","","","","","","","","","","","","","","","","","",null,null,"Mean","Mean","Mean","Mean","Mean","Mean","Mean",null,"Mean","Number of observations","Standard Deviation"," ± 5% interval of the mean","95% confidence interval","Meet WebTAG criteria?",null,"Mean","Number of observations","Standard Deviation"," ± 5% interval of the mean","95% confidence interval","Meet WebTAG criteria?",null,"Mean","Number of observations","Standard Deviation"," ± 5% interval of the mean","95% confidence interval","Meet WebTAG criteria?",null,"Mean","Number of observations","Standard Deviation"," ± 5% interval of the mean","95% confidence interval","Meet WebTAG criteria?"]
["00:00:00",{"$f":"IF(B$8=\"\",\"\",SUMIFS(INDIRECT(\"'\"&TEXT(B$8,\"DD_MMM_YYYY\")&\"'!C$6:C$101\"),INDIRECT(\"'\"&TEXT(B$8,\"DD_MMM_YYYY\")&\"'!a$6:a$101\"),\">=\"&$A70,INDIRECT(\"'\"&TEXT(B$8,\"DD_MMM_YYYY\")&\"'!a$6:a$101\"),\"<\"&$A71))","v":13},{"$f":"IF(C$8=\"\",\"\",SUMIFS(INDIRECT(\"'\"&TEXT(C$8,\"DD_MMM_YYYY\")&\"'!C$6:C$101\"),INDIRECT(\"'\"&TEXT(C$8,\"DD_MMM_YYYY\")&\"'!a$6:a$101\"),\">=\"&$A70,INDIRECT(\"'\"&TEXT(C$8,\"DD_MMM_YYYY\")&\"'!a$6:a$101\"),\"<\"&$A71))","v":10},26,27,8,10,9,10,13,21,31,3,8,"","","","","","","","","","","","","","","","","","","","","","","","","","","","","","","","","","","","","","","","","","","","","","","","","","","",null,null,{"$f":"IF(COUNTIFS($B$9:$BM$9,BP$8,$B70:$BM70,\">=0\")=0,\"\",SUMIFS($B70:$BM70,$B$9:$BM$9,BP$8)/COUNTIFS($B$9:$BM$9,BP$8,$B70:$BM70,\">=0\"))","v":5.5},9,9,11.5,11.5,23.5,29,null,{"$f":"IFERROR(AVERAGE(BP70:BS70),\"\")","v":8.75},{"$f":"IFERROR(COUNTIFS($B$9:$BM$9,BQ$8,$B70:$BM70,\">0\")+COUNTIFS($B$9:$BM$9,BR$8,$B70:$BM70,\">0\")+COUNTIFS($B$9:$BM$9,BS$8,$B70:$BM70,\">0\")+COUNTIFS($B$9:$BM$9,BP$8,$B70:$BM70,\">0\"),\"\")","v":7},{"$f":"IFERROR(_xlfn.STDEV.S(IF((($B$9:$BM$9=\"Mon\")+($B$9:$BM$9=\"Tue\")+($B$9:$BM$9=\"Wed\")+($B$9:$BM$9=\"Thu\"))*($B70:$BM70<>\"\"),$B70:$BM70,\"\")),\"\")","v":3.0394235042348474},{"$f":"IFERROR(BX70*0.05,\"\")","v":0.4375},{"$f":"IFERROR(_xlfn.CONFIDENCE.NORM(0.05,BZ70,BY70),\"\")","v":2.2515950675907619},{"$f":"IF(BX70=\"\",\"\",IF(OR(BZ70=0,CB70<=CA70),\"P\",\"O\"))","v":"O"},null,{"$f":"IFERROR(AVERAGE(BP70:BT70),\"\")","v":9.3000000000000007},{"$f":"IFERROR(COUNTIFS($B$9:$BM$9,BQ$8,$B70:$BM70,\">0\")+COUNTIFS($B$9:$BM$9,BR$8,$B70:$BM70,\">0\")+COUNTIFS($B$9:$BM$9,BS$8,$B70:$BM70,\">0\")+COUNTIFS($B$9:$BM$9,BP$8,$B70:$BM70,\">0\")+COUNTIFS($B$9:$BM$9,BT$8,$B70:$BM70,\">0\"),\"\")","v":9},{"$f":"IFERROR(_xlfn.STDEV.S(IF((($B$9:$BM$9=\"Mon\")+($B$9:$BM$9=\"Tue\")+($B$9:$BM$9=\"Wed\")+($B$9:$BM$9=\"Thu\")+($B$9:$BM$9=\"Fri\"))*($B70:$BM70<>\"\"),$B70:$BM70,\"\")),\"\")","v":3},{"$f":"IFERROR(CE70*0.05,\"\")","v":0.46500000000000008},{"$f":"IFERROR(_xlfn.CONFIDENCE.NORM(0.05,CG70,CF70),\"\")","v":1.9599639845400536},{"$f":"IF(CE70=\"\",\"\",IF(OR(CG70=0,CI70<=CH70),\"P\",\"O\"))","v":"O"},null,{"$f":"IFERROR(AVERAGE(BQ70:BS70),\"\")","v":9.8333333333333339},{"$f":"IFERROR(COUNTIFS($B$9:$BM$9,BQ$8,$B70:$BM70,\">0\")+COUNTIFS($B$9:$BM$9,BR$8,$B70:$BM70,\">0\")+COUNTIFS($B$9:$BM$9,BS$8,$B70:$BM70,\">0\"),\"\")","v":5},{"$f":"IFERROR(_xlfn.STDEV.S(IF((($B$9:$BM$9=\"Tue\")+($B$9:$BM$9=\"Wed\")+($B$9:$BM$9=\"Thu\"))*($B70:$BM70<>\"\"),$B70:$BM70,\"\")),\"\")","v":1.8708286933869707},{"$f":"IFERROR(CL70*0.05,\"\")","v":0.4916666666666667},{"$f":"IFERROR(_xlfn.CONFIDENCE.NORM(0.05,CN70,CM70),\"\")","v":1.6398235193111135},{"$f":"IF(CL70=\"\",\"\",IF(OR(CN70=0,CP70<=CO70),\"P\",\"O\"))","v":"O"},null,{"$f":"IFERROR(AVERAGE(BU70:BV70),\"\")","v":26.25},{"$f":"IFERROR(COUNTIFS($B$9:$BM$9,BU$8,$B70:$BM70,\">0\")+COUNTIFS($B$9:$BM$9,BV$8,$B70:$BM70,\">0\"),\"\")","v":4},{"$f":"IFERROR(_xlfn.STDEV.S(IF((($B$9:$BM$9=\"Sat\")+($B$9:$BM$9=\"Sun\"))*($B70:$BM70<>\"\"),$B70:$BM70,\"\")),\"\")","v":4.1129875597510219},{"$f":"IFERROR(CS70*0.05,\"\")","v":1.3125},{"$f":"IFERROR(_xlfn.CONFIDENCE.NORM(0.05,CU70,CT70),\"\")","v":4.030653742986642},{"$f":"IF(CS70=\"\",\"\",IF(OR(CU70=0,CW70<=CV70),\"P\",\"O\"))","v":"O"}]
["01:00:00",{"$f":"IF(B$8=\"\",\"\",SUMIFS(INDIRECT(\"'\"&TEXT(B$8,\"DD_MMM_YYYY\")&\"'!C$6:C$101\"),INDIRECT(\"'\"&TEXT(B$8,\"DD_MMM_YYYY\")&\"'!a$6:a$101\"),\">=\"&$A71,INDIRECT(\"'\"&TEXT(B$8,\"DD_MMM_YYYY\")&\"'!a$6:a$101\"),\"<\"&$A72))","v":5},6,7,14,3,4,5,7,13,6,16,6,6,"","","","","","","","","","","","","","","","","","","","","","","","","","","","","","","","","","","","","","","","","","","","","","","","","","","",null,null,4.5,5,5,6,9.5,6.5,15,null,{"$f":"IFERROR(AVERAGE(BP71:BS71),\"\")","v":5.125},{"$f":"IFERROR(COUNTIFS($B$9:$BM$9,BQ$8,$B71:$BM71,\">0\")+COUNTIFS($B$9:$BM$9,BR$8,$B71:$BM71,\">0\")+COUNTIFS($B$9:$BM$9,BS$8,$B71:$BM71,\">0\")+COUNTIFS($B$9:$BM$9,BP$8,$B71:$BM71,\">0\"),\"\")","v":7},{"$f":"IFERROR(_xlfn.STDEV.S(IF((($B$9:$BM$9=\"Mon\")+($B$9:$BM$9=\"Tue\")+($B$9:$BM$9=\"Wed\")+($B$9:$BM$9=\"Thu\"))*($B71:$BM71<>\"\"),$B71:$BM71,\"\")),\"\")","v":1.3451854182690988},{"$f":"IFERROR(BX71*0.05,\"\")","v":0.25625000000000003},{"$f":"IFERROR(_xlfn.CONFIDENCE.NORM(0.05,BZ71,BY71),\"\")","v":0.99650899209986865},{"$f":"IF(BX71=\"\",\"\",IF(OR(BZ71=0,CB71<=CA71),\"P\",\"O\"))","v":"O"},null,{"$f":"IFERROR(AVERAGE(BP71:BT71),\"\")","v":6},{"$f":"IFERROR(COUNTIFS($B$9:$BM$9,BQ$8,$B71:$BM71,\">0\")+COUNTIFS($B$9:$BM$9,BR$8,$B71:$BM71,\">0\")+COUNTIFS($B$9:$BM$9,BS$8,$B71:$BM71,\">0\")+COUNTIFS($B$9:$BM$9,BP$8,$B71:$BM71,\">0\")+COUNTIFS($B$9:$BM$9,BT$8,$B71:$BM71,\">0\"),\"\")","v":9},{"$f":"IFERROR(_xlfn.STDEV.S(IF((($B$9:$BM$9=\"Mon\")+($B$9:$BM$9=\"Tue\")+($B$9:$BM$9=\"Wed\")+($B$9:$BM$9=\"Thu\")+($B$9:$BM$9=\"Fri\"))*($B71:$BM71<>\"\"),$B71:$BM71,\"\")),\"\")","v":2.8480012484391777},{"$f":"IFERROR(CE71*0.05,\"\")","v":0.30000000000000004},{"$f":"IFERROR(_xlfn.CONFIDENCE.NORM(0.05,CG71,CF71),\"\")","v":1.8606599582886327},{"$f":"IF(CE71=\"\",\"\",IF(OR(CG71=0,CI71<=CH71),\"P\",\"O\"))","v":"O"},null,{"$f":"IFERROR(AVERAGE(BQ71:BS71),\"\")","v":5.333333333333333},{"$f":"IFERROR(COUNTIFS($B$9:$BM$9,BQ$8,$B71:$BM71,\">0\")+COUNTIFS($B$9:$BM$9,BR$8,$B71:$BM71,\">0\")+COUNTIFS($B$9:$BM$9,BS$8,$B71:$BM71,\">0\"),\"\")","v":5},{"$f":"IFERROR(_xlfn.STDEV.S(IF((($B$9:$BM$9=\"Tue\")+($B$9:$BM$9=\"Wed\")+($B$9:$BM$9=\"Thu\"))*($B71:$BM71<>\"\"),$B71:$BM71,\"\")),\"\")","v":1.1401754250991367},{"$f":"IFERROR(CL71*0.05,\"\")","v":0.26666666666666666},{"$f":"IFERROR(_xlfn.CONFIDENCE.NORM(0.05,CN71,CM71),\"\")","v":0.99938946031087883},{"$f":"IF(CL71=\"\",\"\",IF(OR(CN71=0,CP71<=CO71),\"P\",\"O\"))","v":"O"},null,{"$f":"IFERROR(AVERAGE(BU71:BV71),\"\")","v":10.75},{"$f":"IFERROR(COUNTIFS($B$9:$BM$9,BU$8,$B71:$BM71,\">0\")+COUNTIFS($B$9:$BM$9,BV$8,$B71:$BM71,\">0\"),\"\")","v":4},{"$f":"IFERROR(_xlfn.STDEV.S(IF(($B$9:$BM$9=\"Sat\")+($B$9:$BM$9=\"Sun\"),$B71:$BM71,\"\")),\"\")","v":4.9916597106239795},{"$f":"IFERROR(CS71*0.05,\"\")","v":0.53749999999999998},{"$f":"IFERROR(_xlfn.CONFIDENCE.NORM(0.05,CU71,CT71),\"\")","v":4.891736627951313},{"$f":"IF(CS71=\"\",\"\",IF(OR(CU71=0,CW71<=CV71),\"P\",\"O\"))","v":"O"}]
["02:00:00",3,6,1,8,4,4,3,2,2,9,6,6,3,"","","","","","","","","","","","","","","","","","","","","","","","","","","","","","","","","","","","","","","","","","","","","","","","","","","",null,null,5,3.5,3,2.5,4,5,7,null,3.5,7,{"$f":"IFERROR(_xlfn.STDEV.S(IF((($B$9:$BM$9=\"Mon\")+($B$9:$BM$9=\"Tue\")+($B$9:$BM$9=\"Wed\")+($B$9:$BM$9=\"Thu\"))*($B72:$BM72<>\"\"),$B72:$BM72,\"\")),\"\")","v":1.2724180205607032},0.17500000000000002,0.94260314004162282,"O",null,3.6,9,{"$f":"IFERROR(_xlfn.STDEV.S(IF((($B$9:$BM$9=\"Mon\")+($B$9:$BM$9=\"Tue\")+($B$9:$BM$9=\"Wed\")+($B$9:$BM$9=\"Thu\")+($B$9:$BM$9=\"Fri\"))*($B72:$BM72<>\"\"),$B72:$BM72,\"\")),\"\")","v":1.5},0.18000000000000002,0.9799819922700268,"O",null,3,5,{"$f":"IFERROR(_xlfn.STDEV.S(IF((($B$9:$BM$9=\"Tue\")+($B$9:$BM$9=\"Wed\")+($B$9:$BM$9=\"Thu\"))*($B72:$BM72<>\"\"),$B72:$BM72,\"\")),\"\")","v":0.70710678118654757},0.15000000000000002,0.61979503230456146,"O",null,6,4,{"$f":"IFERROR(_xlfn.STDEV.S(IF(($B$9:$BM$9=\"Sat\")+($B$9:$BM$9=\"Sun\"),$B72:$BM72,\"\")),\"\")","v":3.5590260840104371},0.30000000000000004,3.4877814723495399,"O"]
["03:00:00",5,6,5,9,6,4,4,4,5,5,13,6,5,"","","","","","","","","","","","","","","","","","","","","","","","","","","","","","","","","","","","","","","","","","","","","","","","","","","",null,null,6,4.5,4,4.5,5.5,5,11,null,4.75,7,{"$f":"IFERROR(_xlfn.STDEV.S(IF((($B$9:$BM$9=\"Mon\")+($B$9:$BM$9=\"Tue\")+($B$9:$BM$9=\"Wed\")+($B$9:$BM$9=\"Thu\"))*($B73:$BM73<>\"\"),$B73:$BM73,\"\")),\"\")","v":0.89973541084243769},0.23750000000000002,0.66652107229116486,"O",null,4.9000000000000004,9,{"$f":"IFERROR(_xlfn.STDEV.S(IF((($B$9:$BM$9=\"Mon\")+($B$9:$BM$9=\"Tue\")+($B$9:$BM$9=\"Wed\")+($B$9:$BM$9=\"Thu\")+($B$9:$BM$9=\"Fri\"))*($B73:$BM73<>\"\"),$B73:$BM73,\"\")),\"\")","v":0.8660254037844386},0.24500000000000002,0.56579286703808573,"O",null,4.333333333333333,5,{"$f":"IFERROR(_xlfn.STDEV.S(IF((($B$9:$BM$9=\"Tue\")+($B$9:$BM$9=\"Wed\")+($B$9:$BM$9=\"Thu\"))*($B73:$BM73<>\"\"),$B73:$BM73,\"\")),\"\")","v":0.54772255750516674},0.21666666666666667,0.48009116763553139,"O",null,8,4,{"$f":"IFERROR(_xlfn.STDEV.S(IF(($B$9:$BM$9=\"Sat\")+($B$9:$BM$9=\"Sun\"),$B73:$BM73,\"\")),\"\")","v":3.8297084310253524},0.4,3.7530452980495435,"O"]
["04:00:00",9,5,5,4,{"$f":"IF(F$8=\"\",\"\",SUMIFS(INDIRECT(\"'\"&TEXT(F$8,\"DD_MMM_YYYY\")&\"'!C$6:C$101\"),INDIRECT(\"'\"&TEXT(F$8,\"DD_MMM_YYYY\")&\"'!a$6:a$101\"),\">=\"&$A74,INDIRECT(\"'\"&TEXT(F$8,\"DD_MMM_YYYY\")&\"'!a$6:a$101\"),\"<\"&$A75))","v":9},{"$f":"IF(G$8=\"\",\"\",SUMIFS(INDIRECT(\"'\"&TEXT(G$8,\"DD_MMM_YYYY\")&\"'!C$6:C$101\"),INDIRECT(\"'\"&TEXT(G$8,\"DD_MMM_YYYY\")&\"'!a$6:a$101\"),\">=\"&$A74,INDIRECT(\"'\"&TEXT(G$8,\"DD_MMM_YYYY\")&\"'!a$6:a$101\"),\"<\"&$A75))","v":8},{"$f":"IF(H$8=\"\",\"\",SUMIFS(INDIRECT(\"'\"&TEXT(H$8,\"DD_MMM_YYYY\")&\"'!C$6:C$101\"),INDIRECT(\"'\"&TEXT(H$8,\"DD_MMM_YYYY\")&\"'!a$6:a$101\"),\">=\"&$A74,INDIRECT(\"'\"&TEXT(H$8,\"DD_MMM_YYYY\")&\"'!a$6:a$101\"),\"<\"&$A75))","v":11},{"$f":"IF(I$8=\"\",\"\",SUMIFS(INDIRECT(\"'\"&TEXT(I$8,\"DD_MMM_YYYY\")&\"'!C$6:C$101\"),INDIRECT(\"'\"&TEXT(I$8,\"DD_MMM_YYYY\")&\"'!a$6:a$101\"),\">=\"&$A74,INDIRECT(\"'\"&TEXT(I$8,\"DD_MMM_YYYY\")&\"'!a$6:a$101\"),\"<\"&$A75))","v":9},{"$f":"IF(J$8=\"\",\"\",SUMIFS(INDIRECT(\"'\"&TEXT(J$8,\"DD_MMM_YYYY\")&\"'!C$6:C$101\"),INDIRECT(\"'\"&TEXT(J$8,\"DD_MMM_YYYY\")&\"'!a$6:a$101\"),\">=\"&$A74,INDIRECT(\"'\"&TEXT(J$8,\"DD_MMM_YYYY\")&\"'!a$6:a$101\"),\"<\"&$A75))","v":13},{"$f":"IF(K$8=\"\",\"\",SUMIFS(INDIRECT(\"'\"&TEXT(K$8,\"DD_MMM_YYYY\")&\"'!C$6:C$101\"),INDIRECT(\"'\"&TEXT(K$8,\"DD_MMM_YYYY\")&\"'!a$6:a$101\"),\">=\"&$A74,INDIRECT(\"'\"&TEXT(K$8,\"DD_MMM_YYYY\")&\"'!a$6:a$101\"),\"<\"&$A75))","v":8},{"$f":"IF(L$8=\"\",\"\",SUMIFS(INDIRECT(\"'\"&TEXT(L$8,\"DD_MMM_YYYY\")&\"'!C$6:C$101\"),INDIRECT(\"'\"&TEXT(L$8,\"DD_MMM_YYYY\")&\"'!a$6:a$101\"),\">=\"&$A74,INDIRECT(\"'\"&TEXT(L$8,\"DD_MMM_YYYY\")&\"'!a$6:a$101\"),\"<\"&$A75))","v":6},{"$f":"IF(M$8=\"\",\"\",SUMIFS(INDIRECT(\"'\"&TEXT(M$8,\"DD_MMM_YYYY\")&\"'!C$6:C$101\"),INDIRECT(\"'\"&TEXT(M$8,\"DD_MMM_YYYY\")&\"'!a$6:a$101\"),\">=\"&$A74,INDIRECT(\"'\"&TEXT(M$8,\"DD_MMM_YYYY\")&\"'!a$6:a$101\"),\"<\"&$A75))","v":6},{"$f":"IF(N$8=\"\",\"\",SUMIFS(INDIRECT(\"'\"&TEXT(N$8,\"DD_MMM_YYYY\")&\"'!C$6:C$101\"),INDIRECT(\"'\"&TEXT(N$8,\"DD_MMM_YYYY\")&\"'!a$6:a$101\"),\">=\"&$A74,INDIRECT(\"'\"&TEXT(N$8,\"DD_MMM_YYYY\")&\"'!a$6:a$101\"),\"<\"&$A75))","v":8},{"$f":"IF(O$8=\"\",\"\",SUMIFS(INDIRECT(\"'\"&TEXT(O$8,\"DD_MMM_YYYY\")&\"'!C$6:C$101\"),INDIRECT(\"'\"&TEXT(O$8,\"DD_MMM_YYYY\")&\"'!a$6:a$101\"),\">=\"&$A74,INDIRECT(\"'\"&TEXT(O$8,\"DD_MMM_YYYY\")&\"'!a$6:a$101\"),\"<\"&$A75))","v":""},{"$f":"IF(P$8=\"\",\"\",SUMIFS(INDIRECT(\"'\"&TEXT(P$8,\"DD_MMM_YYYY\")&\"'!C$6:C$101\"),INDIRECT(\"'\"&TEXT(P$8,\"DD_MMM_YYYY\")&\"'!a$6:a$101\"),\">=\"&$A74,INDIRECT(\"'\"&TEXT(P$8,\"DD_MMM_YYYY\")&\"'!a$6:a$101\"),\"<\"&$A75))","v":""},{"$f":"IF(Q$8=\"\",\"\",SUMIFS(INDIRECT(\"'\"&TEXT(Q$8,\"DD_MMM_YYYY\")&\"'!C$6:C$101\"),INDIRECT(\"'\"&TEXT(Q$8,\"DD_MMM_YYYY\")&\"'!a$6:a$101\"),\">=\"&$A74,INDIRECT(\"'\"&TEXT(Q$8,\"DD_MMM_YYYY\")&\"'!a$6:a$101\"),\"<\"&$A75))","v":""},{"$f":"IF(R$8=\"\",\"\",SUMIFS(INDIRECT(\"'\"&TEXT(R$8,\"DD_MMM_YYYY\")&\"'!C$6:C$101\"),INDIRECT(\"'\"&TEXT(R$8,\"DD_MMM_YYYY\")&\"'!a$6:a$101\"),\">=\"&$A74,INDIRECT(\"'\"&TEXT(R$8,\"DD_MMM_YYYY\")&\"'!a$6:a$101\"),\"<\"&$A75))","v":""},{"$f":"IF(S$8=\"\",\"\",SUMIFS(INDIRECT(\"'\"&TEXT(S$8,\"DD_MMM_YYYY\")&\"'!C$6:C$101\"),INDIRECT(\"'\"&TEXT(S$8,\"DD_MMM_YYYY\")&\"'!a$6:a$101\"),\">=\"&$A74,INDIRECT(\"'\"&TEXT(S$8,\"DD_MMM_YYYY\")&\"'!a$6:a$101\"),\"<\"&$A75))","v":""},{"$f":"IF(T$8=\"\",\"\",SUMIFS(INDIRECT(\"'\"&TEXT(T$8,\"DD_MMM_YYYY\")&\"'!C$6:C$101\"),INDIRECT(\"'\"&TEXT(T$8,\"DD_MMM_YYYY\")&\"'!a$6:a$101\"),\">=\"&$A74,INDIRECT(\"'\"&TEXT(T$8,\"DD_MMM_YYYY\")&\"'!a$6:a$101\"),\"<\"&$A75))","v":""},{"$f":"IF(U$8=\"\",\"\",SUMIFS(INDIRECT(\"'\"&TEXT(U$8,\"DD_MMM_YYYY\")&\"'!C$6:C$101\"),INDIRECT(\"'\"&TEXT(U$8,\"DD_MMM_YYYY\")&\"'!a$6:a$101\"),\">=\"&$A74,INDIRECT(\"'\"&TEXT(U$8,\"DD_MMM_YYYY\")&\"'!a$6:a$101\"),\"<\"&$A75))","v":""},{"$f":"IF(V$8=\"\",\"\",SUMIFS(INDIRECT(\"'\"&TEXT(V$8,\"DD_MMM_YYYY\")&\"'!C$6:C$101\"),INDIRECT(\"'\"&TEXT(V$8,\"DD_MMM_YYYY\")&\"'!a$6:a$101\"),\">=\"&$A74,INDIRECT(\"'\"&TEXT(V$8,\"DD_MMM_YYYY\")&\"'!a$6:a$101\"),\"<\"&$A75))","v":""},{"$f":"IF(W$8=\"\",\"\",SUMIFS(INDIRECT(\"'\"&TEXT(W$8,\"DD_MMM_YYYY\")&\"'!C$6:C$101\"),INDIRECT(\"'\"&TEXT(W$8,\"DD_MMM_YYYY\")&\"'!a$6:a$101\"),\">=\"&$A74,INDIRECT(\"'\"&TEXT(W$8,\"DD_MMM_YYYY\")&\"'!a$6:a$101\"),\"<\"&$A75))","v":""},{"$f":"IF(X$8=\"\",\"\",SUMIFS(INDIRECT(\"'\"&TEXT(X$8,\"DD_MMM_YYYY\")&\"'!C$6:C$101\"),INDIRECT(\"'\"&TEXT(X$8,\"DD_MMM_YYYY\")&\"'!a$6:a$101\"),\">=\"&$A74,INDIRECT(\"'\"&TEXT(X$8,\"DD_MMM_YYYY\")&\"'!a$6:a$101\"),\"<\"&$A75))","v":""},{"$f":"IF(Y$8=\"\",\"\",SUMIFS(INDIRECT(\"'\"&TEXT(Y$8,\"DD_MMM_YYYY\")&\"'!C$6:C$101\"),INDIRECT(\"'\"&TEXT(Y$8,\"DD_MMM_YYYY\")&\"'!a$6:a$101\"),\">=\"&$A74,INDIRECT(\"'\"&TEXT(Y$8,\"DD_MMM_YYYY\")&\"'!a$6:a$101\"),\"<\"&$A75))","v":""},{"$f":"IF(Z$8=\"\",\"\",SUMIFS(INDIRECT(\"'\"&TEXT(Z$8,\"DD_MMM_YYYY\")&\"'!C$6:C$101\"),INDIRECT(\"'\"&TEXT(Z$8,\"DD_MMM_YYYY\")&\"'!a$6:a$101\"),\">=\"&$A74,INDIRECT(\"'\"&TEXT(Z$8,\"DD_MMM_YYYY\")&\"'!a$6:a$101\"),\"<\"&$A75))","v":""},{"$f":"IF(AA$8=\"\",\"\",SUMIFS(INDIRECT(\"'\"&TEXT(AA$8,\"DD_MMM_YYYY\")&\"'!C$6:C$101\"),INDIRECT(\"'\"&TEXT(AA$8,\"DD_MMM_YYYY\")&\"'!a$6:a$101\"),\">=\"&$A74,INDIRECT(\"'\"&TEXT(AA$8,\"DD_MMM_YYYY\")&\"'!a$6:a$101\"),\"<\"&$A75))","v":""},{"$f":"IF(AB$8=\"\",\"\",SUMIFS(INDIRECT(\"'\"&TEXT(AB$8,\"DD_MMM_YYYY\")&\"'!C$6:C$101\"),INDIRECT(\"'\"&TEXT(AB$8,\"DD_MMM_YYYY\")&\"'!a$6:a$101\"),\">=\"&$A74,INDIRECT(\"'\"&TEXT(AB$8,\"DD_MMM_YYYY\")&\"'!a$6:a$101\"),\"<\"&$A75))","v":""},{"$f":"IF(AC$8=\"\",\"\",SUMIFS(INDIRECT(\"'\"&TEXT(AC$8,\"DD_MMM_YYYY\")&\"'!C$6:C$101\"),INDIRECT(\"'\"&TEXT(AC$8,\"DD_MMM_YYYY\")&\"'!a$6:a$101\"),\">=\"&$A74,INDIRECT(\"'\"&TEXT(AC$8,\"DD_MMM_YYYY\")&\"'!a$6:a$101\"),\"<\"&$A75))","v":""},{"$f":"IF(AD$8=\"\",\"\",SUMIFS(INDIRECT(\"'\"&TEXT(AD$8,\"DD_MMM_YYYY\")&\"'!C$6:C$101\"),INDIRECT(\"'\"&TEXT(AD$8,\"DD_MMM_YYYY\")&\"'!a$6:a$101\"),\">=\"&$A74,INDIRECT(\"'\"&TEXT(AD$8,\"DD_MMM_YYYY\")&\"'!a$6:a$101\"),\"<\"&$A75))","v":""},{"$f":"IF(AE$8=\"\",\"\",SUMIFS(INDIRECT(\"'\"&TEXT(AE$8,\"DD_MMM_YYYY\")&\"'!C$6:C$101\"),INDIRECT(\"'\"&TEXT(AE$8,\"DD_MMM_YYYY\")&\"'!a$6:a$101\"),\">=\"&$A74,INDIRECT(\"'\"&TEXT(AE$8,\"DD_MMM_YYYY\")&\"'!a$6:a$101\"),\"<\"&$A75))","v":""},{"$f":"IF(AF$8=\"\",\"\",SUMIFS(INDIRECT(\"'\"&TEXT(AF$8,\"DD_MMM_YYYY\")&\"'!C$6:C$101\"),INDIRECT(\"'\"&TEXT(AF$8,\"DD_MMM_YYYY\")&\"'!a$6:a$101\"),\">=\"&$A74,INDIRECT(\"'\"&TEXT(AF$8,\"DD_MMM_YYYY\")&\"'!a$6:a$101\"),\"<\"&$A75))","v":""},{"$f":"IF(AG$8=\"\",\"\",SUMIFS(INDIRECT(\"'\"&TEXT(AG$8,\"DD_MMM_YYYY\")&\"'!C$6:C$101\"),INDIRECT(\"'\"&TEXT(AG$8,\"DD_MMM_YYYY\")&\"'!a$6:a$101\"),\">=\"&$A74,INDIRECT(\"'\"&TEXT(AG$8,\"DD_MMM_YYYY\")&\"'!a$6:a$101\"),\"<\"&$A75))","v":""},{"$f":"IF(AH$8=\"\",\"\",SUMIFS(INDIRECT(\"'\"&TEXT(AH$8,\"DD_MMM_YYYY\")&\"'!C$6:C$101\"),INDIRECT(\"'\"&TEXT(AH$8,\"DD_MMM_YYYY\")&\"'!a$6:a$101\"),\">=\"&$A74,INDIRECT(\"'\"&TEXT(AH$8,\"DD_MMM_YYYY\")&\"'!a$6:a$101\"),\"<\"&$A75))","v":""},{"$f":"IF(AI$8=\"\",\"\",SUMIFS(INDIRECT(\"'\"&TEXT(AI$8,\"DD_MMM_YYYY\")&\"'!C$6:C$101\"),INDIRECT(\"'\"&TEXT(AI$8,\"DD_MMM_YYYY\")&\"'!a$6:a$101\"),\">=\"&$A74,INDIRECT(\"'\"&TEXT(AI$8,\"DD_MMM_YYYY\")&\"'!a$6:a$101\"),\"<\"&$A75))","v":""},{"$f":"IF(AJ$8=\"\",\"\",SUMIFS(INDIRECT(\"'\"&TEXT(AJ$8,\"DD_MMM_YYYY\")&\"'!C$6:C$101\"),INDIRECT(\"'\"&TEXT(AJ$8,\"DD_MMM_YYYY\")&\"'!a$6:a$101\"),\">=\"&$A74,INDIRECT(\"'\"&TEXT(AJ$8,\"DD_MMM_YYYY\")&\"'!a$6:a$101\"),\"<\"&$A75))","v":""},{"$f":"IF(AK$8=\"\",\"\",SUMIFS(INDIRECT(\"'\"&TEXT(AK$8,\"DD_MMM_YYYY\")&\"'!C$6:C$101\"),INDIRECT(\"'\"&TEXT(AK$8,\"DD_MMM_YYYY\")&\"'!a$6:a$101\"),\">=\"&$A74,INDIRECT(\"'\"&TEXT(AK$8,\"DD_MMM_YYYY\")&\"'!a$6:a$101\"),\"<\"&$A75))","v":""},{"$f":"IF(AL$8=\"\",\"\",SUMIFS(INDIRECT(\"'\"&TEXT(AL$8,\"DD_MMM_YYYY\")&\"'!C$6:C$101\"),INDIRECT(\"'\"&TEXT(AL$8,\"DD_MMM_YYYY\")&\"'!a$6:a$101\"),\">=\"&$A74,INDIRECT(\"'\"&TEXT(AL$8,\"DD_MMM_YYYY\")&\"'!a$6:a$101\"),\"<\"&$A75))","v":""},{"$f":"IF(AM$8=\"\",\"\",SUMIFS(INDIRECT(\"'\"&TEXT(AM$8,\"DD_MMM_YYYY\")&\"'!C$6:C$101\"),INDIRECT(\"'\"&TEXT(AM$8,\"DD_MMM_YYYY\")&\"'!a$6:a$101\"),\">=\"&$A74,INDIRECT(\"'\"&TEXT(AM$8,\"DD_MMM_YYYY\")&\"'!a$6:a$101\"),\"<\"&$A75))","v":""},{"$f":"IF(AN$8=\"\",\"\",SUMIFS(INDIRECT(\"'\"&TEXT(AN$8,\"DD_MMM_YYYY\")&\"'!C$6:C$101\"),INDIRECT(\"'\"&TEXT(AN$8,\"DD_MMM_YYYY\")&\"'!a$6:a$101\"),\">=\"&$A74,INDIRECT(\"'\"&TEXT(AN$8,\"DD_MMM_YYYY\")&\"'!a$6:a$101\"),\"<\"&$A75))","v":""},{"$f":"IF(AO$8=\"\",\"\",SUMIFS(INDIRECT(\"'\"&TEXT(AO$8,\"DD_MMM_YYYY\")&\"'!C$6:C$101\"),INDIRECT(\"'\"&TEXT(AO$8,\"DD_MMM_YYYY\")&\"'!a$6:a$101\"),\">=\"&$A74,INDIRECT(\"'\"&TEXT(AO$8,\"DD_MMM_YYYY\")&\"'!a$6:a$101\"),\"<\"&$A75))","v":""},{"$f":"IF(AP$8=\"\",\"\",SUMIFS(INDIRECT(\"'\"&TEXT(AP$8,\"DD_MMM_YYYY\")&\"'!C$6:C$101\"),INDIRECT(\"'\"&TEXT(AP$8,\"DD_MMM_YYYY\")&\"'!a$6:a$101\"),\">=\"&$A74,INDIRECT(\"'\"&TEXT(AP$8,\"DD_MMM_YYYY\")&\"'!a$6:a$101\"),\"<\"&$A75))","v":""},{"$f":"IF(AQ$8=\"\",\"\",SUMIFS(INDIRECT(\"'\"&TEXT(AQ$8,\"DD_MMM_YYYY\")&\"'!C$6:C$101\"),INDIRECT(\"'\"&TEXT(AQ$8,\"DD_MMM_YYYY\")&\"'!a$6:a$101\"),\">=\"&$A74,INDIRECT(\"'\"&TEXT(AQ$8,\"DD_MMM_YYYY\")&\"'!a$6:a$101\"),\"<\"&$A75))","v":""},{"$f":"IF(AR$8=\"\",\"\",SUMIFS(INDIRECT(\"'\"&TEXT(AR$8,\"DD_MMM_YYYY\")&\"'!C$6:C$101\"),INDIRECT(\"'\"&TEXT(AR$8,\"DD_MMM_YYYY\")&\"'!a$6:a$101\"),\">=\"&$A74,INDIRECT(\"'\"&TEXT(AR$8,\"DD_MMM_YYYY\")&\"'!a$6:a$101\"),\"<\"&$A75))","v":""},{"$f":"IF(AS$8=\"\",\"\",SUMIFS(INDIRECT(\"'\"&TEXT(AS$8,\"DD_MMM_YYYY\")&\"'!C$6:C$101\"),INDIRECT(\"'\"&TEXT(AS$8,\"DD_MMM_YYYY\")&\"'!a$6:a$101\"),\">=\"&$A74,INDIRECT(\"'\"&TEXT(AS$8,\"DD_MMM_YYYY\")&\"'!a$6:a$101\"),\"<\"&$A75))","v":""},{"$f":"IF(AT$8=\"\",\"\",SUMIFS(INDIRECT(\"'\"&TEXT(AT$8,\"DD_MMM_YYYY\")&\"'!C$6:C$101\"),INDIRECT(\"'\"&TEXT(AT$8,\"DD_MMM_YYYY\")&\"'!a$6:a$101\"),\">=\"&$A74,INDIRECT(\"'\"&TEXT(AT$8,\"DD_MMM_YYYY\")&\"'!a$6:a$101\"),\"<\"&$A75))","v":""},{"$f":"IF(AU$8=\"\",\"\",SUMIFS(INDIRECT(\"'\"&TEXT(AU$8,\"DD_MMM_YYYY\")&\"'!C$6:C$101\"),INDIRECT(\"'\"&TEXT(AU$8,\"DD_MMM_YYYY\")&\"'!a$6:a$101\"),\">=\"&$A74,INDIRECT(\"'\"&TEXT(AU$8,\"DD_MMM_YYYY\")&\"'!a$6:a$101\"),\"<\"&$A75))","v":""},{"$f":"IF(AV$8=\"\",\"\",SUMIFS(INDIRECT(\"'\"&TEXT(AV$8,\"DD_MMM_YYYY\")&\"'!C$6:C$101\"),INDIRECT(\"'\"&TEXT(AV$8,\"DD_MMM_YYYY\")&\"'!a$6:a$101\"),\">=\"&$A74,INDIRECT(\"'\"&TEXT(AV$8,\"DD_MMM_YYYY\")&\"'!a$6:a$101\"),\"<\"&$A75))","v":""},{"$f":"IF(AW$8=\"\",\"\",SUMIFS(INDIRECT(\"'\"&TEXT(AW$8,\"DD_MMM_YYYY\")&\"'!C$6:C$101\"),INDIRECT(\"'\"&TEXT(AW$8,\"DD_MMM_YYYY\")&\"'!a$6:a$101\"),\">=\"&$A74,INDIRECT(\"'\"&TEXT(AW$8,\"DD_MMM_YYYY\")&\"'!a$6:a$101\"),\"<\"&$A75))","v":""},{"$f":"IF(AX$8=\"\",\"\",SUMIFS(INDIRECT(\"'\"&TEXT(AX$8,\"DD_MMM_YYYY\")&\"'!C$6:C$101\"),INDIRECT(\"'\"&TEXT(AX$8,\"DD_MMM_YYYY\")&\"'!a$6:a$101\"),\">=\"&$A74,INDIRECT(\"'\"&TEXT(AX$8,\"DD_MMM_YYYY\")&\"'!a$6:a$101\"),\"<\"&$A75))","v":""},{"$f":"IF(AY$8=\"\",\"\",SUMIFS(INDIRECT(\"'\"&TEXT(AY$8,\"DD_MMM_YYYY\")&\"'!C$6:C$101\"),INDIRECT(\"'\"&TEXT(AY$8,\"DD_MMM_YYYY\")&\"'!a$6:a$101\"),\">=\"&$A74,INDIRECT(\"'\"&TEXT(AY$8,\"DD_MMM_YYYY\")&\"'!a$6:a$101\"),\"<\"&$A75))","v":""},{"$f":"IF(AZ$8=\"\",\"\",SUMIFS(INDIRECT(\"'\"&TEXT(AZ$8,\"DD_MMM_YYYY\")&\"'!C$6:C$101\"),INDIRECT(\"'\"&TEXT(AZ$8,\"DD_MMM_YYYY\")&\"'!a$6:a$101\"),\">=\"&$A74,INDIRECT(\"'\"&TEXT(AZ$8,\"DD_MMM_YYYY\")&\"'!a$6:a$101\"),\"<\"&$A75))","v":""},{"$f":"IF(BA$8=\"\",\"\",SUMIFS(INDIRECT(\"'\"&TEXT(BA$8,\"DD_MMM_YYYY\")&\"'!C$6:C$101\"),INDIRECT(\"'\"&TEXT(BA$8,\"DD_MMM_YYYY\")&\"'!a$6:a$101\"),\">=\"&$A74,INDIRECT(\"'\"&TEXT(BA$8,\"DD_MMM_YYYY\")&\"'!a$6:a$101\"),\"<\"&$A75))","v":""},{"$f":"IF(BB$8=\"\",\"\",SUMIFS(INDIRECT(\"'\"&TEXT(BB$8,\"DD_MMM_YYYY\")&\"'!C$6:C$101\"),INDIRECT(\"'\"&TEXT(BB$8,\"DD_MMM_YYYY\")&\"'!a$6:a$101\"),\">=\"&$A74,INDIRECT(\"'\"&TEXT(BB$8,\"DD_MMM_YYYY\")&\"'!a$6:a$101\"),\"<\"&$A75))","v":""},{"$f":"IF(BC$8=\"\",\"\",SUMIFS(INDIRECT(\"'\"&TEXT(BC$8,\"DD_MMM_YYYY\")&\"'!C$6:C$101\"),INDIRECT(\"'\"&TEXT(BC$8,\"DD_MMM_YYYY\")&\"'!a$6:a$101\"),\">=\"&$A74,INDIRECT(\"'\"&TEXT(BC$8,\"DD_MMM_YYYY\")&\"'!a$6:a$101\"),\"<\"&$A75))","v":""},{"$f":"IF(BD$8=\"\",\"\",SUMIFS(INDIRECT(\"'\"&TEXT(BD$8,\"DD_MMM_YYYY\")&\"'!C$6:C$101\"),INDIRECT(\"'\"&TEXT(BD$8,\"DD_MMM_YYYY\")&\"'!a$6:a$101\"),\">=\"&$A74,INDIRECT(\"'\"&TEXT(BD$8,\"DD_MMM_YYYY\")&\"'!a$6:a$101\"),\"<\"&$A75))","v":""},{"$f":"IF(BE$8=\"\",\"\",SUMIFS(INDIRECT(\"'\"&TEXT(BE$8,\"DD_MMM_YYYY\")&\"'!C$6:C$101\"),INDIRECT(\"'\"&TEXT(BE$8,\"DD_MMM_YYYY\")&\"'!a$6:a$101\"),\">=\"&$A74,INDIRECT(\"'\"&TEXT(BE$8,\"DD_MMM_YYYY\")&\"'!a$6:a$101\"),\"<\"&$A75))","v":""},{"$f":"IF(BF$8=\"\",\"\",SUMIFS(INDIRECT(\"'\"&TEXT(BF$8,\"DD_MMM_YYYY\")&\"'!C$6:C$101\"),INDIRECT(\"'\"&TEXT(BF$8,\"DD_MMM_YYYY\")&\"'!a$6:a$101\"),\">=\"&$A74,INDIRECT(\"'\"&TEXT(BF$8,\"DD_MMM_YYYY\")&\"'!a$6:a$101\"),\"<\"&$A75))","v":""},{"$f":"IF(BG$8=\"\",\"\",SUMIFS(INDIRECT(\"'\"&TEXT(BG$8,\"DD_MMM_YYYY\")&\"'!C$6:C$101\"),INDIRECT(\"'\"&TEXT(BG$8,\"DD_MMM_YYYY\")&\"'!a$6:a$101\"),\">=\"&$A74,INDIRECT(\"'\"&TEXT(BG$8,\"DD_MMM_YYYY\")&\"'!a$6:a$101\"),\"<\"&$A75))","v":""},{"$f":"IF(BH$8=\"\",\"\",SUMIFS(INDIRECT(\"'\"&TEXT(BH$8,\"DD_MMM_YYYY\")&\"'!C$6:C$101\"),INDIRECT(\"'\"&TEXT(BH$8,\"DD_MMM_YYYY\")&\"'!a$6:a$101\"),\">=\"&$A74,INDIRECT(\"'\"&TEXT(BH$8,\"DD_MMM_YYYY\")&\"'!a$6:a$101\"),\"<\"&$A75))","v":""},{"$f":"IF(BI$8=\"\",\"\",SUMIFS(INDIRECT(\"'\"&TEXT(BI$8,\"DD_MMM_YYYY\")&\"'!C$6:C$101\"),INDIRECT(\"'\"&TEXT(BI$8,\"DD_MMM_YYYY\")&\"'!a$6:a$101\"),\">=\"&$A74,INDIRECT(\"'\"&TEXT(BI$8,\"DD_MMM_YYYY\")&\"'!a$6:a$101\"),\"<\"&$A75))","v":""},{"$f":"IF(BJ$8=\"\",\"\",SUMIFS(INDIRECT(\"'\"&TEXT(BJ$8,\"DD_MMM_YYYY\")&\"'!C$6:C$101\"),INDIRECT(\"'\"&TEXT(BJ$8,\"DD_MMM_YYYY\")&\"'!a$6:a$101\"),\">=\"&$A74,INDIRECT(\"'\"&TEXT(BJ$8,\"DD_MMM_YYYY\")&\"'!a$6:a$101\"),\"<\"&$A75))","v":""},{"$f":"IF(BK$8=\"\",\"\",SUMIFS(INDIRECT(\"'\"&TEXT(BK$8,\"DD_MMM_YYYY\")&\"'!C$6:C$101\"),INDIRECT(\"'\"&TEXT(BK$8,\"DD_MMM_YYYY\")&\"'!a$6:a$101\"),\">=\"&$A74,INDIRECT(\"'\"&TEXT(BK$8,\"DD_MMM_YYYY\")&\"'!a$6:a$101\"),\"<\"&$A75))","v":""},{"$f":"IF(BL$8=\"\",\"\",SUMIFS(INDIRECT(\"'\"&TEXT(BL$8,\"DD_MMM_YYYY\")&\"'!C$6:C$101\"),INDIRECT(\"'\"&TEXT(BL$8,\"DD_MMM_YYYY\")&\"'!a$6:a$101\"),\">=\"&$A74,INDIRECT(\"'\"&TEXT(BL$8,\"DD_MMM_YYYY\")&\"'!a$6:a$101\"),\"<\"&$A75))","v":""},{"$f":"IF(BM$8=\"\",\"\",SUMIFS(INDIRECT(\"'\"&TEXT(BM$8,\"DD_MMM_YYYY\")&\"'!C$6:C$101\"),INDIRECT(\"'\"&TEXT(BM$8,\"DD_MMM_YYYY\")&\"'!a$6:a$101\"),\">=\"&$A74,INDIRECT(\"'\"&TEXT(BM$8,\"DD_MMM_YYYY\")&\"'!a$6:a$101\"),\"<\"&$A75))","v":""},null,null,7.5,8,11,9,9,6.5,5,null,8.875,7,{"$f":"IFERROR(_xlfn.STDEV.S(IF((($B$9:$BM$9=\"Mon\")+($B$9:$BM$9=\"Tue\")+($B$9:$BM$9=\"Wed\")+($B$9:$BM$9=\"Thu\"))*($B74:$BM74<>\"\"),$B74:$BM74,\"\")),\"\")","v":1.5118578920369061},0.44375000000000003,1.1199794197371715,"O",null,8.9,9,{"$f":"IFERROR(_xlfn.STDEV.S(IF((($B$9:$BM$9=\"Mon\")+($B$9:$BM$9=\"Tue\")+($B$9:$BM$9=\"Wed\")+($B$9:$BM$9=\"Thu\")+($B$9:$BM$9=\"Fri\"))*($B74:$BM74<>\"\"),$B74:$BM74,\"\")),\"\")","v":2.3979157616563596},0.44500000000000006,1.566609510269132,"O",null,9.3333333333333339,5,{"$f":"IFERROR(_xlfn.STDEV.S(IF((($B$9:$BM$9=\"Tue\")+($B$9:$BM$9=\"Wed\")+($B$9:$BM$9=\"Thu\"))*($B74:$BM74<>\"\"),$B74:$BM74,\"\")),\"\")","v":1.2247448713915889},0.46666666666666673,1.0735164862302939,"O",null,5.75,4,{"$f":"IFERROR(_xlfn.STDEV.S(IF(($B$9:$BM$9=\"Sat\")+($B$9:$BM$9=\"Sun\"),$B74:$BM74,\"\")),\"\")","v":1.707825127659933},0.28750000000000003,1.673637871052994,"O"]
["05:00:00",26,{"$f":"IF(C$8=\"\",\"\",SUMIFS(INDIRECT(\"'\"&TEXT(C$8,\"DD_MMM_YYYY\")&\"'!C$6:C$101\"),INDIRECT(\"'\"&TEXT(C$8,\"DD_MMM_YYYY\")&\"'!a$6:a$101\"),\">=\"&$A75,INDIRECT(\"'\"&TEXT(C$8,\"DD_MMM_YYYY\")&\"'!a$6:a$101\"),\"<\"&$A76))","v":23},{"$f":"IF(D$8=\"\",\"\",SUMIFS(INDIRECT(\"'\"&TEXT(D$8,\"DD_MMM_YYYY\")&\"'!C$6:C$101\"),INDIRECT(\"'\"&TEXT(D$8,\"DD_MMM_YYYY\")&\"'!a$6:a$101\"),\">=\"&$A75,INDIRECT(\"'\"&TEXT(D$8,\"DD_MMM_YYYY\")&\"'!a$6:a$101\"),\"<\"&$A76))","v":15},{"$f":"IF(E$8=\"\",\"\",SUMIFS(INDIRECT(\"'\"&TEXT(E$8,\"DD_MMM_YYYY\")&\"'!C$6:C$101\"),INDIRECT(\"'\"&TEXT(E$8,\"DD_MMM_YYYY\")&\"'!a$6:a$101\"),\">=\"&$A75,INDIRECT(\"'\"&TEXT(E$8,\"DD_MMM_YYYY\")&\"'!a$6:a$101\"),\"<\"&$A76))","v":17},31,28,26,24,30,21,12,27,26,"","","","","","","","","","","","","","","","","","","","","","","","","","","","","","","","","","","","","","","","","","","","","","","","","","","",null,null,29,27,26,25,26.5,18,14.5,null,26.75,7,{"$f":"IFERROR(_xlfn.STDEV.S(IF((($B$9:$BM$9=\"Mon\")+($B$9:$BM$9=\"Tue\")+($B$9:$BM$9=\"Wed\")+($B$9:$BM$9=\"Thu\"))*($B75:$BM75<>\"\"),$B75:$BM75,\"\")),\"\")","v":2.193062655175134},1.3375000000000001,1.6246136974429,"O",null,26.7,9,{"$f":"IFERROR(_xlfn.STDEV.S(IF((($B$9:$BM$9=\"Mon\")+($B$9:$BM$9=\"Tue\")+($B$9:$BM$9=\"Wed\")+($B$9:$BM$9=\"Thu\")+($B$9:$BM$9=\"Fri\"))*($B75:$BM75<>\"\"),$B75:$BM75,\"\")),\"\")","v":2.5873624493766703},1.335,1.6903790719098706,"O",null,26,5,{"$f":"IFERROR(_xlfn.STDEV.S(IF((($B$9:$BM$9=\"Tue\")+($B$9:$BM$9=\"Wed\")+($B$9:$BM$9=\"Thu\"))*($B75:$BM75<>\"\"),$B75:$BM75,\"\")),\"\")","v":1.4142135623730951},1.3,1.2395900646091229,"P",null,16.25,4,{"$f":"IFERROR(_xlfn.STDEV.S(IF(($B$9:$BM$9=\"Sat\")+($B$9:$BM$9=\"Sun\"),$B75:$BM75,\"\")),\"\")","v":3.7749172176353749},0.8125,3.6993508955927412,"O"]
["06:00:00",83,82,26,19,91,92,79,76,84,30,9,73,95,"","","","","","","","","","","","","","","","","","","","","","","","","","","","","","","","","","","","","","","","","","","","","","","","","","","",null,null,82,93.5,79,79.5,83,28,14,null,83.5,7,{"$f":"IFERROR(_xlfn.STDEV.S(IF((($B$9:$BM$9=\"Mon\")+($B$9:$BM$9=\"Tue\")+($B$9:$BM$9=\"Wed\")+($B$9:$BM$9=\"Thu\"))*($B76:$BM76<>\"\"),$B76:$BM76,\"\")),\"\")","v":8.6106246662397918},4.1749999999999998,6.3787228072586615,"O",null,83.4,9,{"$f":"IFERROR(_xlfn.STDEV.S(IF((($B$9:$BM$9=\"Mon\")+($B$9:$BM$9=\"Tue\")+($B$9:$BM$9=\"Wed\")+($B$9:$BM$9=\"Thu\")+($B$9:$BM$9=\"Fri\"))*($B76:$BM76<>\"\"),$B76:$BM76,\"\")),\"\")","v":7.490735018081411},4.1700000000000008,4.8938569510575176,"O",null,84,5,{"$f":"IFERROR(_xlfn.STDEV.S(IF((($B$9:$BM$9=\"Tue\")+($B$9:$BM$9=\"Wed\")+($B$9:$BM$9=\"Thu\"))*($B76:$BM76<>\"\"),$B76:$BM76,\"\")),\"\")","v":8.2158383625774913},4.2,7.2013675145329623,"O",null,21,4,{"$f":"IFERROR(_xlfn.STDEV.S(IF(($B$9:$BM$9=\"Sat\")+($B$9:$BM$9=\"Sun\"),$B76:$BM76,\"\")),\"\")","v":9.2014491612281741},1.05,9.0172544807917525,"O"]
["07:00:00",165,166,88,22,178,196,174,199,187,68,32,148,207,"","","","","","","","","","","","","","","","","","","","","","","","","","","","","","","","","","","","","","","","","","","","","","","","","","","",null,null,163,201.5,174,182,176.5,78,27,null,180.125,7,{"$f":"IFERROR(_xlfn.STDEV.S(IF((($B$9:$BM$9=\"Mon\")+($B$9:$BM$9=\"Tue\")+($B$9:$BM$9=\"Wed\")+($B$9:$BM$9=\"Thu\"))*($B77:$BM77<>\"\"),$B77:$BM77,\"\")),\"\")","v":20.928449536456348},9.0062499999999996,15.503727494030155,"O",null,179.4,9,{"$f":"IFERROR(_xlfn.STDEV.S(IF((($B$9:$BM$9=\"Mon\")+($B$9:$BM$9=\"Tue\")+($B$9:$BM$9=\"Wed\")+($B$9:$BM$9=\"Thu\")+($B$9:$BM$9=\"Fri\"))*($B77:$BM77<>\"\"),$B77:$BM77,\"\")),\"\")","v":18.973665961010276},8.9700000000000006,12.39590064609123,"O",null,185.83333333333334,5,{"$f":"IFERROR(_xlfn.STDEV.S(IF((($B$9:$BM$9=\"Tue\")+($B$9:$BM$9=\"Wed\")+($B$9:$BM$9=\"Thu\"))*($B77:$BM77<>\"\"),$B77:$BM77,\"\")),\"\")","v":17.824140933015538},9.2916666666666679,15.623261294201816,"O",null,52.5,4,{"$f":"IFERROR(_xlfn.STDEV.S(IF(($B$9:$BM$9=\"Sat\")+($B$9:$BM$9=\"Sun\"),$B77:$BM77,\"\")),\"\")","v":30.8274769213008},2.625,30.210372249994631,"O"]
["08:00:00",173,180,170,70,168,207,198,186,229,141,70,197,151,"","","","","","","","","","","","","","","","","","","","","","","","","","","","","","","","","","","","","","","","","","","","","","","","","","","",null,null,182.5,179,198,179.5,204.5,155.5,70,null,184.75,7,{"$f":"IFERROR(_xlfn.STDEV.S(IF((($B$9:$BM$9=\"Mon\")+($B$9:$BM$9=\"Tue\")+($B$9:$BM$9=\"Wed\")+($B$9:$BM$9=\"Thu\"))*($B78:$BM78<>\"\"),$B78:$BM78,\"\")),\"\")","v":19.811011848873104},9.2375000000000007,14.675933281674792,"O",null,188.7,9,{"$f":"IFERROR(_xlfn.STDEV.S(IF((($B$9:$BM$9=\"Mon\")+($B$9:$BM$9=\"Tue\")+($B$9:$BM$9=\"Wed\")+($B$9:$BM$9=\"Thu\")+($B$9:$BM$9=\"Fri\"))*($B78:$BM78<>\"\"),$B78:$BM78,\"\")),\"\")","v":23.140872930812268},9.4350000000000005,15.118425838403294,"O",null,185.5,5,{"$f":"IFERROR(_xlfn.STDEV.S(IF((($B$9:$BM$9=\"Tue\")+($B$9:$BM$9=\"Wed\")+($B$9:$BM$9=\"Thu\"))*($B78:$BM78<>\"\"),$B78:$BM78,\"\")),\"\")","v":21.988633427296023},9.2750000000000004,19.273532835500649,"O",null,112.75,4,{"$f":"IFERROR(_xlfn.STDEV.S(IF(($B$9:$BM$9=\"Sat\")+($B$9:$BM$9=\"Sun\"),$B78:$BM78,\"\")),\"\")","v":50.763339790311932},5.6375000000000002,49.747158861990215,"O"]
["09:00:00",201,172,207,154,153,186,181,177,193,172,131,171,199,"","","","","","","","","","","","","","","","","","","","","","","","","","","","","","","","","","","","","","","","","","","","","","","","","","","",null,null,162,192.5,181,189,182.5,189.5,142.5,null,181.125,7,{"$f":"IFERROR(_xlfn.STDEV.S(IF((($B$9:$BM$9=\"Mon\")+($B$9:$BM$9=\"Tue\")+($B$9:$BM$9=\"Wed\")+($B$9:$BM$9=\"Thu\"))*($B79:$BM79<>\"\"),$B79:$BM79,\"\")),\"\")","v":16.577379883730835},9.0562500000000004,12.280469216540817,"O",null,181.4,9,{"$f":"IFERROR(_xlfn.STDEV.S(IF((($B$9:$BM$9=\"Mon\")+($B$9:$BM$9=\"Tue\")+($B$9:$BM$9=\"Wed\")+($B$9:$BM$9=\"Thu\")+($B$9:$BM$9=\"Fri\"))*($B79:$BM79<>\"\"),$B79:$BM79,\"\")),\"\")","v":15.297966458904847},9.07,9.9944877653850792,"O",null,187.5,5,{"$f":"IFERROR(_xlfn.STDEV.S(IF((($B$9:$BM$9=\"Tue\")+($B$9:$BM$9=\"Wed\")+($B$9:$BM$9=\"Thu\"))*($B79:$BM79<>\"\"),$B79:$BM79,\"\")),\"\")","v":10.733126291998991},9.375,9.4078271257922577,"O",null,166,4,{"$f":"IFERROR(_xlfn.STDEV.S(IF(($B$9:$BM$9=\"Sat\")+($B$9:$BM$9=\"Sun\"),$B79:$BM79,\"\")),\"\")","v":32.072833779799794},8.3000000000000007,31.430799545273615,"O"]
["10:00:00",202,183,189,206,181,186,177,188,202,208,186,169,165,"","","","","","","","","","","","","","","","","","","","","","","","","","","","","","","","","","","","","","","","","","","","","","","","","","","",null,null,{"$f":"IF(COUNTIFS($B$9:$BM$9,BP$8,$B80:$BM80,\">=0\")=0,\"\",SUMIFS($B80:$BM80,$B$9:$BM$9,BP$8)/COUNTIFS($B$9:$BM$9,BP$8,$B80:$BM80,\">=0\"))","v":175},175.5,177,195,192.5,198.5,196,null,180.625,7,{"$f":"IFERROR(_xlfn.STDEV.S(IF((($B$9:$BM$9=\"Mon\")+($B$9:$BM$9=\"Tue\")+($B$9:$BM$9=\"Wed\")+($B$9:$BM$9=\"Thu\"))*($B80:$BM80<>\"\"),$B80:$BM80,\"\")),\"\")","v":12.455635557564181},9.03125,9.2270943966986767,"O",null,183,9,{"$f":"IFERROR(_xlfn.STDEV.S(IF((($B$9:$BM$9=\"Mon\")+($B$9:$BM$9=\"Tue\")+($B$9:$BM$9=\"Wed\")+($B$9:$BM$9=\"Thu\")+($B$9:$BM$9=\"Fri\"))*($B80:$BM80<>\"\"),$B80:$BM80,\"\")),\"\")","v":12.806248474865699},9.15,8.3665952626025852,"P",null,182.5,5,{"$f":"IFERROR(_xlfn.STDEV.S(IF((($B$9:$BM$9=\"Tue\")+($B$9:$BM$9=\"Wed\")+($B$9:$BM$9=\"Thu\"))*($B80:$BM80<>\"\"),$B80:$BM80,\"\")),\"\")","v":13.722244714331545},9.125,12.02785679941945,"O",null,197.25,4,{"$f":"IFERROR(_xlfn.STDEV.S(IF(($B$9:$BM$9=\"Sat\")+($B$9:$BM$9=\"Sun\"),$B80:$BM80,\"\")),\"\")","v":11.354147553500733},9.8625000000000007,11.126860140007498,"O"]
["11:00:00",180,180,224,170,157,178,180,160,175,189,189,149,167,"","","","","","","","","","","","","","","","","","","","","","","","","","","","","","","","","","","","","","","","","","","","","","","","","","","",null,null,153,172.5,180,170,177.5,206.5,179.5,null,168.875,7,{"$f":"IFERROR(_xlfn.STDEV.S(IF((($B$9:$BM$9=\"Mon\")+($B$9:$BM$9=\"Tue\")+($B$9:$BM$9=\"Wed\")+($B$9:$BM$9=\"Thu\"))*($B81:$BM81<>\"\"),$B81:$BM81,\"\")),\"\")","v":12.45945806357946},8.4437499999999996,9.2299260967489829,"O",null,170.6,9,{"$f":"IFERROR(_xlfn.STDEV.S(IF((($B$9:$BM$9=\"Mon\")+($B$9:$BM$9=\"Tue\")+($B$9:$BM$9=\"Wed\")+($B$9:$BM$9=\"Thu\")+($B$9:$BM$9=\"Fri\"))*($B81:$BM81<>\"\"),$B81:$BM81,\"\")),\"\")","v":11.759157188241756},8.5299999999999994,7.6825081924997081,"P",null,174.16666666666666,5,{"$f":"IFERROR(_xlfn.STDEV.S(IF((($B$9:$BM$9=\"Tue\")+($B$9:$BM$9=\"Wed\")+($B$9:$BM$9=\"Thu\"))*($B81:$BM81<>\"\"),$B81:$BM81,\"\")),\"\")","v":9.0553851381374173},8.7083333333333339,7.937249187179626,"P",null,193,4,{"$f":"IFERROR(_xlfn.STDEV.S(IF(($B$9:$BM$9=\"Sat\")+($B$9:$BM$9=\"Sun\"),$B81:$BM81,\"\")),\"\")","v":22.524061208701536},9.65,22.073174377315357,"O"]
["12:00:00",179,201,233,164,161,152,183,160,207,205,187,170,191,"","","","","","","","","","","","","","","","","","","","","","","","","","","","","","","","","","","","","","","","","","","","","","","","","","","",null,null,165.5,171.5,183,169.5,204,219,175.5,null,172.375,7,{"$f":"IFERROR(_xlfn.STDEV.S(IF((($B$9:$BM$9=\"Mon\")+($B$9:$BM$9=\"Tue\")+($B$9:$BM$9=\"Wed\")+($B$9:$BM$9=\"Thu\"))*($B82:$BM82<>\"\"),$B82:$BM82,\"\")),\"\")","v":14.088157809883821},8.6187500000000004,10.43646158292119,"O",null,178.7,9,{"$f":"IFERROR(_xlfn.STDEV.S(IF((($B$9:$BM$9=\"Mon\")+($B$9:$BM$9=\"Tue\")+($B$9:$BM$9=\"Wed\")+($B$9:$BM$9=\"Thu\")+($B$9:$BM$9=\"Fri\"))*($B82:$BM82<>\"\"),$B82:$BM82,\"\")),\"\")","v":19.096974745871275},8.9350000000000005,12.476460905192882,"O",null,174.66666666666666,5,{"$f":"IFERROR(_xlfn.STDEV.S(IF((($B$9:$BM$9=\"Tue\")+($B$9:$BM$9=\"Wed\")+($B$9:$BM$9=\"Thu\"))*($B82:$BM82<>\"\"),$B82:$BM82,\"\")),\"\")","v":16.355427233796124},8.7333333333333325,14.335900631182387,"O",null,197.25,4,{"$f":"IFERROR(_xlfn.STDEV.S(IF(($B$9:$BM$9=\"Sat\")+($B$9:$BM$9=\"Sun\"),$B82:$BM82,\"\")),\"\")","v":29.147612823923222},9.8625000000000007,28.564135685103661,"O"]
["13:00:00",176,180,186,166,187,187,149,140,182,218,145,162,90,"","","","","","","","","","","","","","","","","","","","","","","","","","","","","","","","","","","","","","","","","","","","","","","","","","","",null,null,174.5,138.5,149,158,181,202,155.5,null,155,7,{"$f":"IFERROR(_xlfn.STDEV.S(IF((($B$9:$BM$9=\"Mon\")+($B$9:$BM$9=\"Tue\")+($B$9:$BM$9=\"Wed\")+($B$9:$BM$9=\"Thu\"))*($B83:$BM83<>\"\"),$B83:$BM83,\"\")),\"\")","v":34.202478328470903},7.75,25.337084942742042,"O",null,160.19999999999999,9,{"$f":"IFERROR(_xlfn.STDEV.S(IF((($B$9:$BM$9=\"Mon\")+($B$9:$BM$9=\"Tue\")+($B$9:$BM$9=\"Wed\")+($B$9:$BM$9=\"Thu\")+($B$9:$BM$9=\"Fri\"))*($B83:$BM83<>\"\"),$B83:$BM83,\"\")),\"\")","v":31.631120400292136},8.01,20.665285591740918,"O",null,148.5,5,{"$f":"IFERROR(_xlfn.STDEV.S(IF((($B$9:$BM$9=\"Tue\")+($B$9:$BM$9=\"Wed\")+($B$9:$BM$9=\"Thu\"))*($B83:$BM83<>\"\"),$B83:$BM83,\"\")),\"\")","v":37.858948743989174},7.4250000000000007,33.184221936639958,"O",null,178.75,4,{"$f":"IFERROR(_xlfn.STDEV.S(IF(($B$9:$BM$9=\"Sat\")+($B$9:$BM$9=\"Sun\"),$B83:$BM83,\"\")),\"\")","v":31.063107807601394},8.9375,30.441286275391839,"O"]
["14:00:00",155,211,188,138,159,183,179,195,188,213,134,155,0,"","","","","","","","","","","","","","","","","","","","","","","","","","","","","","","","","","","","","","","","","","","","","","","","","","","",null,null,157,91.5,179,175,199.5,200.5,136,null,150.625,6,{"$f":"IFERROR(_xlfn.STDEV.S(IF((($B$9:$BM$9=\"Mon\")+($B$9:$BM$9=\"Tue\")+($B$9:$BM$9=\"Wed\")+($B$9:$BM$9=\"Thu\"))*($B84:$BM84<>\"\"),$B84:$BM84,\"\")),\"\")","v":66.462664062507415},7.53125,53.180229989895373,"O",null,160.4,8,{"$f":"IFERROR(_xlfn.STDEV.S(IF((($B$9:$BM$9=\"Mon\")+($B$9:$BM$9=\"Tue\")+($B$9:$BM$9=\"Wed\")+($B$9:$BM$9=\"Thu\")+($B$9:$BM$9=\"Fri\"))*($B84:$BM84<>\"\"),$B84:$BM84,\"\")),\"\")","v":62.375876747345202},8.0200000000000014,43.223483065654911,"O",null,148.5,4,{"$f":"IFERROR(_xlfn.STDEV.S(IF((($B$9:$BM$9=\"Tue\")+($B$9:$BM$9=\"Wed\")+($B$9:$BM$9=\"Thu\"))*($B84:$BM84<>\"\"),$B84:$BM84,\"\")),\"\")","v":80.918477494327576},7.4250000000000007,79.29865078634846,"O",null,168.25,4,{"$f":"IFERROR(_xlfn.STDEV.S(IF(($B$9:$BM$9=\"Sat\")+($B$9:$BM$9=\"Sun\"),$B84:$BM84,\"\")),\"\")","v":38.646905870112462},8.4124999999999996,37.873271809665006,"O"]
["15:00:00",181,208,143,146,194,178,176,206,224,182,135,225,0,"","","","","","","","","","","","","","","","","","","","","","","","","","","","","","","","","","","","","","","","","","","","","","","","","","","",null,null,209.5,89,176,193.5,216,162.5,140.5,null,167,6,{"$f":"IFERROR(_xlfn.STDEV.S(IF((($B$9:$BM$9=\"Mon\")+($B$9:$BM$9=\"Tue\")+($B$9:$BM$9=\"Wed\")+($B$9:$BM$9=\"Thu\"))*($B85:$BM85<>\"\"),$B85:$BM85,\"\")),\"\")","v":75.154760961885145},8.35,60.135228239267761,"O",null,176.8,8,{"$f":"IFERROR(_xlfn.STDEV.S(IF((($B$9:$BM$9=\"Mon\")+($B$9:$BM$9=\"Tue\")+($B$9:$BM$9=\"Wed\")+($B$9:$BM$9=\"Thu\")+($B$9:$BM$9=\"Fri\"))*($B85:$BM85<>\"\"),$B85:$BM85,\"\")),\"\")","v":68.875693180621482},8.8400000000000016,47.727543291879151,"O",null,152.83333333333334,4,{"$f":"IFERROR(_xlfn.STDEV.S(IF((($B$9:$BM$9=\"Tue\")+($B$9:$BM$9=\"Wed\")+($B$9:$BM$9=\"Thu\"))*($B85:$BM85<>\"\"),$B85:$BM85,\"\")),\"\")","v":83.726937123007204},7.6416666666666675,82.050890648471864,"O",null,151.5,4,{"$f":"IFERROR(_xlfn.STDEV.S(IF(($B$9:$BM$9=\"Sat\")+($B$9:$BM$9=\"Sun\"),$B85:$BM85,\"\")),\"\")","v":20.85665361461421},7.5750000000000002,20.43914496133549,"O"]
["16:00:00",190,243,147,111,217,215,222,221,216,157,110,209,0,"","","","","","","","","","","","","","","","","","","","","","","","","","","","","","","","","","","","","","","","","","","","","","","","","","","",null,null,213,107.5,222,205.5,229.5,152,110.5,null,187,6,{"$f":"IFERROR(_xlfn.STDEV.S(IF((($B$9:$BM$9=\"Mon\")+($B$9:$BM$9=\"Tue\")+($B$9:$BM$9=\"Wed\")+($B$9:$BM$9=\"Thu\"))*($B86:$BM86<>\"\"),$B86:$BM86,\"\")),\"\")","v":80.985595427005819},9.35,64.800781783683234,"O",null,195.5,8,{"$f":"IFERROR(_xlfn.STDEV.S(IF((($B$9:$BM$9=\"Mon\")+($B$9:$BM$9=\"Tue\")+($B$9:$BM$9=\"Wed\")+($B$9:$BM$9=\"Thu\")+($B$9:$BM$9=\"Fri\"))*($B86:$BM86<>\"\"),$B86:$BM86,\"\")),\"\")","v":73.506991353052811},9.7750000000000004,50.936810216317284,"O",null,178.33333333333334,4,{"$f":"IFERROR(_xlfn.STDEV.S(IF((($B$9:$BM$9=\"Tue\")+($B$9:$BM$9=\"Wed\")+($B$9:$BM$9=\"Thu\"))*($B86:$BM86<>\"\"),$B86:$BM86,\"\")),\"\")","v":95.693782452153087},8.9166666666666679,93.778183575315509,"O",null,131.25,4,{"$f":"IFERROR(_xlfn.STDEV.S(IF(($B$9:$BM$9=\"Sat\")+($B$9:$BM$9=\"Sun\"),$B86:$BM86,\"\")),\"\")","v":24.308777564218786},6.5625,23.822164267032054,"O"]
["17:00:00",228,230,137,115,239,231,242,220,216,132,108,218,0,"","","","","","","","","","","","","","","","","","","","","","","","","","","","","","","","","","","","","","","","","","","","","","","","","","","",null,null,228.5,115.5,242,224,223,134.5,111.5,null,202.5,6,{"$f":"IFERROR(_xlfn.STDEV.S(IF((($B$9:$BM$9=\"Mon\")+($B$9:$BM$9=\"Tue\")+($B$9:$BM$9=\"Wed\")+($B$9:$BM$9=\"Thu\"))*($B87:$BM87<>\"\"),$B87:$BM87,\"\")),\"\")","v":87.259056017944971},10.125,69.820503484049013,"O",null,206.6,8,{"$f":"IFERROR(_xlfn.STDEV.S(IF((($B$9:$BM$9=\"Mon\")+($B$9:$BM$9=\"Tue\")+($B$9:$BM$9=\"Wed\")+($B$9:$BM$9=\"Thu\")+($B$9:$BM$9=\"Fri\"))*($B87:$BM87<>\"\"),$B87:$BM87,\"\")),\"\")","v":76.522872397734787},10.33,53.026670753121508,"O",null,193.83333333333334,4,{"$f":"IFERROR(_xlfn.STDEV.S(IF((($B$9:$BM$9=\"Tue\")+($B$9:$BM$9=\"Wed\")+($B$9:$BM$9=\"Thu\"))*($B87:$BM87<>\"\"),$B87:$BM87,\"\")),\"\")","v":103.27245518530097},9.6916666666666682,101.2051463791083,"O",null,123,4,{"$f":"IFERROR(_xlfn.STDEV.S(IF(($B$9:$BM$9=\"Sat\")+($B$9:$BM$9=\"Sun\"),$B87:$BM87,\"\")),\"\")","v":13.73559851869101},6.15,13.460639201368044,"O"]
["18:00:00",194,174,140,79,158,160,214,196,187,147,89,162,0,"","","","","","","","","","","","","","","","","","","","","","","","","","","","","","","","","","","","","","","","","","","","","","","","","","","",null,null,160,80,214,195,180.5,143.5,84,null,162.25,6,{"$f":"IFERROR(_xlfn.STDEV.S(IF((($B$9:$BM$9=\"Mon\")+($B$9:$BM$9=\"Tue\")+($B$9:$BM$9=\"Wed\")+($B$9:$BM$9=\"Thu\"))*($B88:$BM88<>\"\"),$B88:$BM88,\"\")),\"\")","v":71.636649306130465},8.1125000000000007,57.320204351462039,"O",null,165.9,8,{"$f":"IFERROR(_xlfn.STDEV.S(IF((($B$9:$BM$9=\"Mon\")+($B$9:$BM$9=\"Tue\")+($B$9:$BM$9=\"Wed\")+($B$9:$BM$9=\"Thu\")+($B$9:$BM$9=\"Fri\"))*($B88:$BM88<>\"\"),$B88:$BM88,\"\")),\"\")","v":63.144895104654161},8.2949999999999999,43.756375806849718,"O",null,163,4,{"$f":"IFERROR(_xlfn.STDEV.S(IF((($B$9:$BM$9=\"Tue\")+($B$9:$BM$9=\"Wed\")+($B$9:$BM$9=\"Thu\"))*($B88:$BM88<>\"\"),$B88:$BM88,\"\")),\"\")","v":87.619632503223841},8.15,85.865662022476897,"O",null,113.75,4,{"$f":"IFERROR(_xlfn.STDEV.S(IF(($B$9:$BM$9=\"Sat\")+($B$9:$BM$9=\"Sun\"),$B88:$BM88,\"\")),\"\")","v":34.711909579662525},5.6875,34.017046305374713,"O"]
["19:00:00",131,116,96,90,117,110,119,134,149,112,70,111,0,"","","","","","","","","","","","","","","","","","","","","","","","","","","","","","","","","","","","","","","","","","","","","","","","","","","",null,null,114,55,119,132.5,132.5,104,80,null,105.125,6,{"$f":"IFERROR(_xlfn.STDEV.S(IF((($B$9:$BM$9=\"Mon\")+($B$9:$BM$9=\"Tue\")+($B$9:$BM$9=\"Wed\")+($B$9:$BM$9=\"Thu\"))*($B89:$BM89<>\"\"),$B89:$BM89,\"\")),\"\")","v":46.401970401512663},5.2562500000000005,37.128626917752605,"O",null,110.6,8,{"$f":"IFERROR(_xlfn.STDEV.S(IF((($B$9:$BM$9=\"Mon\")+($B$9:$BM$9=\"Tue\")+($B$9:$BM$9=\"Wed\")+($B$9:$BM$9=\"Thu\")+($B$9:$BM$9=\"Fri\"))*($B89:$BM89<>\"\"),$B89:$BM89,\"\")),\"\")","v":43.017438324474881},5.53,29.809016143808059,"O",null,102.16666666666667,4,{"$f":"IFERROR(_xlfn.STDEV.S(IF((($B$9:$BM$9=\"Tue\")+($B$9:$BM$9=\"Wed\")+($B$9:$BM$9=\"Thu\"))*($B89:$BM89<>\"\"),$B89:$BM89,\"\")),\"\")","v":56.059789510842805},5.1083333333333343,54.937584211074082,"O",null,92,4,{"$f":"IFERROR(_xlfn.STDEV.S(IF(($B$9:$BM$9=\"Sat\")+($B$9:$BM$9=\"Sun\"),$B89:$BM89,\"\")),\"\")","v":17.358955421722047},4.6000000000000005,17.011463717905755,"O"]
["20:00:00",75,71,71,62,66,74,67,69,81,77,51,67,0,"","","","","","","","","","","","","","","","","","","","","","","","","","","","","","","","","","","","","","","","","","","","","","","","","","","",null,null,66.5,37,67,72,76,74,56.5,null,60.625,6,{"$f":"IFERROR(_xlfn.STDEV.S(IF((($B$9:$BM$9=\"Mon\")+($B$9:$BM$9=\"Tue\")+($B$9:$BM$9=\"Wed\")+($B$9:$BM$9=\"Thu\"))*($B90:$BM90<>\"\"),$B90:$BM90,\"\")),\"\")","v":26.568868284229985},3.03125,21.259131662217666,"O",null,63.7,8,{"$f":"IFERROR(_xlfn.STDEV.S(IF((($B$9:$BM$9=\"Mon\")+($B$9:$BM$9=\"Tue\")+($B$9:$BM$9=\"Wed\")+($B$9:$BM$9=\"Thu\")+($B$9:$BM$9=\"Fri\"))*($B90:$BM90<>\"\"),$B90:$BM90,\"\")),\"\")","v":24.233241632105269},3.1850000000000005,16.792471127162255,"O",null,58.666666666666664,4,{"$f":"IFERROR(_xlfn.STDEV.S(IF((($B$9:$BM$9=\"Tue\")+($B$9:$BM$9=\"Wed\")+($B$9:$BM$9=\"Thu\"))*($B90:$BM90<>\"\"),$B90:$BM90,\"\")),\"\")","v":32.03903868720159},2.9333333333333336,31.397680963100278,"O",null,65.25,4,{"$f":"IFERROR(_xlfn.STDEV.S(IF(($B$9:$BM$9=\"Sat\")+($B$9:$BM$9=\"Sun\"),$B90:$BM90,\"\")),\"\")","v":11.324751652906125},3.2625000000000002,11.098052686778223,"O"]
["21:00:00",56,58,57,33,45,54,62,56,61,46,40,47,0,"","","","","","","","","","","","","","","","","","","","","","","","","","","","","","","","","","","","","","","","","","","","","","","","","","","",null,null,46,27,62,56,59.5,51.5,36.5,null,47.75,6,{"$f":"IFERROR(_xlfn.STDEV.S(IF((($B$9:$BM$9=\"Mon\")+($B$9:$BM$9=\"Tue\")+($B$9:$BM$9=\"Wed\")+($B$9:$BM$9=\"Thu\"))*($B91:$BM91<>\"\"),$B91:$BM91,\"\")),\"\")","v":20.96595880400962},2.3875000000000002,16.775952738025694,"O",null,50.1,8,{"$f":"IFERROR(_xlfn.STDEV.S(IF((($B$9:$BM$9=\"Mon\")+($B$9:$BM$9=\"Tue\")+($B$9:$BM$9=\"Wed\")+($B$9:$BM$9=\"Thu\")+($B$9:$BM$9=\"Fri\"))*($B91:$BM91<>\"\"),$B91:$BM91,\"\")),\"\")","v":19.162318347330636},2.5050000000000003,13.278565140485759,"O",null,48.333333333333336,4,{"$f":"IFERROR(_xlfn.STDEV.S(IF((($B$9:$BM$9=\"Tue\")+($B$9:$BM$9=\"Wed\")+($B$9:$BM$9=\"Thu\"))*($B91:$BM91<>\"\"),$B91:$BM91,\"\")),\"\")","v":25.667099563448929},2.416666666666667,25.153295365981815,"O",null,44,4,{"$f":"IFERROR(_xlfn.STDEV.S(IF(($B$9:$BM$9=\"Sat\")+($B$9:$BM$9=\"Sun\"),$B91:$BM91,\"\")),\"\")","v":10.16530045465127},2.2000000000000002,9.9618113915725601,"O"]
["22:00:00",38,49,44,31,27,48,30,39,69,51,29,18,0,"","","","","","","","","","","","","","","","","","","","","","","","","","","","","","","","","","","","","","","","","","","","","","","","","","","",null,null,22.5,24,30,38.5,59,47.5,30,null,28.75,6,{"$f":"IFERROR(_xlfn.STDEV.S(IF((($B$9:$BM$9=\"Mon\")+($B$9:$BM$9=\"Tue\")+($B$9:$BM$9=\"Wed\")+($B$9:$BM$9=\"Thu\"))*($B92:$BM92<>\"\"),$B92:$BM92,\"\")),\"\")","v":15.851994016076155},1.4375,12.684003860882417,"O",null,34.799999999999997,8,{"$f":"IFERROR(_xlfn.STDEV.S(IF((($B$9:$BM$9=\"Mon\")+($B$9:$BM$9=\"Tue\")+($B$9:$BM$9=\"Wed\")+($B$9:$BM$9=\"Thu\")+($B$9:$BM$9=\"Fri\"))*($B92:$BM92<>\"\"),$B92:$BM92,\"\")),\"\")","v":19.836834424877374},1.74,13.745972346214442,"O",null,30.833333333333332,4,{"$f":"IFERROR(_xlfn.STDEV.S(IF((($B$9:$BM$9=\"Tue\")+($B$9:$BM$9=\"Wed\")+($B$9:$BM$9=\"Thu\"))*($B92:$BM92<>\"\"),$B92:$BM92,\"\")),\"\")","v":18.466185312619388},1.5416666666666667,18.096529072288256,"O",null,38.75,4,{"$f":"IFERROR(_xlfn.STDEV.S(IF(($B$9:$BM$9=\"Sat\")+($B$9:$BM$9=\"Sun\"),$B92:$BM92,\"\")),\"\")","v":10.531698185319719},1.9375,10.320874569636244,"O"]
["23:00:00",{"$f":"IF(B$8=\"\",\"\",SUMIFS(INDIRECT(\"'\"&TEXT(B$8,\"DD_MMM_YYYY\")&\"'!C$6:C$101\"),INDIRECT(\"'\"&TEXT(B$8,\"DD_MMM_YYYY\")&\"'!a$6:a$101\"),\">=\"&$A93))","v":27},{"$f":"IF(C$8=\"\",\"\",SUMIFS(INDIRECT(\"'\"&TEXT(C$8,\"DD_MMM_YYYY\")&\"'!C$6:C$101\"),INDIRECT(\"'\"&TEXT(C$8,\"DD_MMM_YYYY\")&\"'!a$6:a$101\"),\">=\"&$A93))","v":29},37,14,20,20,25,18,32,33,11,15,0,"","","","","","","","","","","","","","","","","","","","","","","","","","","","","","","","","","","","","","","","","","","","","","","","","","","",null,null,17.5,10,25,22.5,30.5,35,12.5,null,18.75,6,{"$f":"IFERROR(_xlfn.STDEV.S(IF((($B$9:$BM$9=\"Mon\")+($B$9:$BM$9=\"Tue\")+($B$9:$BM$9=\"Wed\")+($B$9:$BM$9=\"Thu\"))*($B93:$BM93<>\"\"),$B93:$BM93,\"\")),\"\")","v":8.858678822273129},0.9375,7.0882890991554266,"O",null,21.1,8,{"$f":"IFERROR(_xlfn.STDEV.S(IF((($B$9:$BM$9=\"Mon\")+($B$9:$BM$9=\"Tue\")+($B$9:$BM$9=\"Wed\")+($B$9:$BM$9=\"Thu\")+($B$9:$BM$9=\"Fri\"))*($B93:$BM93<>\"\"),$B93:$BM93,\"\")),\"\")","v":9.5131487952202232},1.0550000000000002,6.5921546484516167,"O",null,19.166666666666668,4,{"$f":"IFERROR(_xlfn.STDEV.S(IF((($B$9:$BM$9=\"Tue\")+($B$9:$BM$9=\"Wed\")+($B$9:$BM$9=\"Thu\"))*($B93:$BM93<>\"\"),$B93:$BM93,\"\")),\"\")","v":10.700467279516348},0.95833333333333348,10.486265242800664,"O",null,23.75,4,{"$f":"IFERROR(_xlfn.STDEV.S(IF(($B$9:$BM$9=\"Sat\")+($B$9:$BM$9=\"Sun\"),$B93:$BM93,\"\")),\"\")","v":13.149778198382917},1.1875,12.886545836760254,"O"]
["TOTAL",{"$f":"SUM(B70:B93)","v":2695},{"$f":"SUM(C70:C93)","v":2789},2442,1869,2579,2715,2715,2696,2958,2451,1810,2520,1321,0,0,0,0,0,0,0,0,0,0,0,0,0,0,0,0,0,0,0,0,0,0,0,0,0,0,0,0,0,0,0,0,0,0,0,0,0,0,0,0,0,0,0,0,0,0,0,0,0,0,0,null,null,{"$f":"SUM(BP70:BP93)","v":2549.5},{"$f":"SUM(BQ70:BQ93)","v":2018},2715,2695.5,2873.5,2446.5,1839.5]
[]
[]
["HGV",null,null,null,null,null,null,null,null,null,null,null,null,null,null,null,null,null,null,null,null,null,null,null,null,null,null,null,null,null,null,null,null,null,null,null,null,null,null,null,null,null,null,null,null,null,null,null,null,null,null,null,null,null,null,null,null,null,null,null,null,null,null,null,null,null,null,"STATISTICS"]
[null,{"$f":"'Site Plan'!$Q$3","v":"2016-04-07"},{"$f":"IF($B$8+COLUMN(B98)-1<='Site Plan'!$Q$4,$B$8+COLUMN(B98)-1,\"\")","v":"2016-04-08"},{"$f":"IF($B$8+COLUMN(C98)-1<='Site Plan'!$Q$4,$B$8+COLUMN(C98)-1,\"\")","v":"2016-04-09"},{"$f":"IF($B$8+COLUMN(D98)-1<='Site Plan'!$Q$4,$B$8+COLUMN(D98)-1,\"\")","v":"2016-04-10"},{"$f":"IF($B$8+COLUMN(E98)-1<='Site Plan'!$Q$4,$B$8+COLUMN(E98)-1,\"\")","v":"2016-04-11"},{"$f":"IF($B$8+COLUMN(F98)-1<='Site Plan'!$Q$4,$B$8+COLUMN(F98)-1,\"\")","v":"2016-04-12"},{"$f":"IF($B$8+COLUMN(G98)-1<='Site Plan'!$Q$4,$B$8+COLUMN(G98)-1,\"\")","v":"2016-04-13"},{"$f":"IF($B$8+COLUMN(H98)-1<='Site Plan'!$Q$4,$B$8+COLUMN(H98)-1,\"\")","v":"2016-04-14"},{"$f":"IF($B$8+COLUMN(I98)-1<='Site Plan'!$Q$4,$B$8+COLUMN(I98)-1,\"\")","v":"2016-04-15"},{"$f":"IF($B$8+COLUMN(J98)-1<='Site Plan'!$Q$4,$B$8+COLUMN(J98)-1,\"\")","v":"2016-04-16"},{"$f":"IF($B$8+COLUMN(K98)-1<='Site Plan'!$Q$4,$B$8+COLUMN(K98)-1,\"\")","v":"2016-04-17"},{"$f":"IF($B$8+COLUMN(L98)-1<='Site Plan'!$Q$4,$B$8+COLUMN(L98)-1,\"\")","v":"2016-04-18"},{"$f":"IF($B$8+COLUMN(M98)-1<='Site Plan'!$Q$4,$B$8+COLUMN(M98)-1,\"\")","v":"2016-04-19"},{"$f":"IF($B$8+COLUMN(N98)-1<='Site Plan'!$Q$4,$B$8+COLUMN(N98)-1,\"\")","v":""},{"$f":"IF($B$8+COLUMN(O98)-1<='Site Plan'!$Q$4,$B$8+COLUMN(O98)-1,\"\")","v":""},{"$f":"IF($B$8+COLUMN(P98)-1<='Site Plan'!$Q$4,$B$8+COLUMN(P98)-1,\"\")","v":""},{"$f":"IF($B$8+COLUMN(Q98)-1<='Site Plan'!$Q$4,$B$8+COLUMN(Q98)-1,\"\")","v":""},{"$f":"IF($B$8+COLUMN(R98)-1<='Site Plan'!$Q$4,$B$8+COLUMN(R98)-1,\"\")","v":""},{"$f":"IF($B$8+COLUMN(S98)-1<='Site Plan'!$Q$4,$B$8+COLUMN(S98)-1,\"\")","v":""},{"$f":"IF($B$8+COLUMN(T98)-1<='Site Plan'!$Q$4,$B$8+COLUMN(T98)-1,\"\")","v":""},{"$f":"IF($B$8+COLUMN(U98)-1<='Site Plan'!$Q$4,$B$8+COLUMN(U98)-1,\"\")","v":""},{"$f":"IF($B$8+COLUMN(V98)-1<='Site Plan'!$Q$4,$B$8+COLUMN(V98)-1,\"\")","v":""},{"$f":"IF($B$8+COLUMN(W98)-1<='Site Plan'!$Q$4,$B$8+COLUMN(W98)-1,\"\")","v":""},{"$f":"IF($B$8+COLUMN(X98)-1<='Site Plan'!$Q$4,$B$8+COLUMN(X98)-1,\"\")","v":""},{"$f":"IF($B$8+COLUMN(Y98)-1<='Site Plan'!$Q$4,$B$8+COLUMN(Y98)-1,\"\")","v":""},{"$f":"IF($B$8+COLUMN(Z98)-1<='Site Plan'!$Q$4,$B$8+COLUMN(Z98)-1,\"\")","v":""},{"$f":"IF($B$8+COLUMN(AA98)-1<='Site Plan'!$Q$4,$B$8+COLUMN(AA98)-1,\"\")","v":""},{"$f":"IF($B$8+COLUMN(AB98)-1<='Site Plan'!$Q$4,$B$8+COLUMN(AB98)-1,\"\")","v":""},{"$f":"IF($B$8+COLUMN(AC98)-1<='Site Plan'!$Q$4,$B$8+COLUMN(AC98)-1,\"\")","v":""},{"$f":"IF($B$8+COLUMN(AD98)-1<='Site Plan'!$Q$4,$B$8+COLUMN(AD98)-1,\"\")","v":""},{"$f":"IF($B$8+COLUMN(AE98)-1<='Site Plan'!$Q$4,$B$8+COLUMN(AE98)-1,\"\")","v":""},{"$f":"IF($B$8+COLUMN(AF98)-1<='Site Plan'!$Q$4,$B$8+COLUMN(AF98)-1,\"\")","v":""},{"$f":"IF($B$8+COLUMN(AG98)-1<='Site Plan'!$Q$4,$B$8+COLUMN(AG98)-1,\"\")","v":""},{"$f":"IF($B$8+COLUMN(AH98)-1<='Site Plan'!$Q$4,$B$8+COLUMN(AH98)-1,\"\")","v":""},{"$f":"IF($B$8+COLUMN(AI98)-1<='Site Plan'!$Q$4,$B$8+COLUMN(AI98)-1,\"\")","v":""},{"$f":"IF($B$8+COLUMN(AJ98)-1<='Site Plan'!$Q$4,$B$8+COLUMN(AJ98)-1,\"\")","v":""},{"$f":"IF($B$8+COLUMN(AK98)-1<='Site Plan'!$Q$4,$B$8+COLUMN(AK98)-1,\"\")","v":""},{"$f":"IF($B$8+COLUMN(AL98)-1<='Site Plan'!$Q$4,$B$8+COLUMN(AL98)-1,\"\")","v":""},{"$f":"IF($B$8+COLUMN(AM98)-1<='Site Plan'!$Q$4,$B$8+COLUMN(AM98)-1,\"\")","v":""},{"$f":"IF($B$8+COLUMN(AN98)-1<='Site Plan'!$Q$4,$B$8+COLUMN(AN98)-1,\"\")","v":""},{"$f":"IF($B$8+COLUMN(AO98)-1<='Site Plan'!$Q$4,$B$8+COLUMN(AO98)-1,\"\")","v":""},{"$f":"IF($B$8+COLUMN(AP98)-1<='Site Plan'!$Q$4,$B$8+COLUMN(AP98)-1,\"\")","v":""},{"$f":"IF($B$8+COLUMN(AQ98)-1<='Site Plan'!$Q$4,$B$8+COLUMN(AQ98)-1,\"\")","v":""},{"$f":"IF($B$8+COLUMN(AR98)-1<='Site Plan'!$Q$4,$B$8+COLUMN(AR98)-1,\"\")","v":""},{"$f":"IF($B$8+COLUMN(AS98)-1<='Site Plan'!$Q$4,$B$8+COLUMN(AS98)-1,\"\")","v":""},{"$f":"IF($B$8+COLUMN(AT98)-1<='Site Plan'!$Q$4,$B$8+COLUMN(AT98)-1,\"\")","v":""},{"$f":"IF($B$8+COLUMN(AU98)-1<='Site Plan'!$Q$4,$B$8+COLUMN(AU98)-1,\"\")","v":""},{"$f":"IF($B$8+COLUMN(AV98)-1<='Site Plan'!$Q$4,$B$8+COLUMN(AV98)-1,\"\")","v":""},{"$f":"IF($B$8+COLUMN(AW98)-1<='Site Plan'!$Q$4,$B$8+COLUMN(AW98)-1,\"\")","v":""},{"$f":"IF($B$8+COLUMN(AX98)-1<='Site Plan'!$Q$4,$B$8+COLUMN(AX98)-1,\"\")","v":""},{"$f":"IF($B$8+COLUMN(AY98)-1<='Site Plan'!$Q$4,$B$8+COLUMN(AY98)-1,\"\")","v":""},{"$f":"IF($B$8+COLUMN(AZ98)-1<='Site Plan'!$Q$4,$B$8+COLUMN(AZ98)-1,\"\")","v":""},{"$f":"IF($B$8+COLUMN(BA98)-1<='Site Plan'!$Q$4,$B$8+COLUMN(BA98)-1,\"\")","v":""},{"$f":"IF($B$8+COLUMN(BB98)-1<='Site Plan'!$Q$4,$B$8+COLUMN(BB98)-1,\"\")","v":""},{"$f":"IF($B$8+COLUMN(BC98)-1<='Site Plan'!$Q$4,$B$8+COLUMN(BC98)-1,\"\")","v":""},{"$f":"IF($B$8+COLUMN(BD98)-1<='Site Plan'!$Q$4,$B$8+COLUMN(BD98)-1,\"\")","v":""},{"$f":"IF($B$8+COLUMN(BE98)-1<='Site Plan'!$Q$4,$B$8+COLUMN(BE98)-1,\"\")","v":""},{"$f":"IF($B$8+COLUMN(BF98)-1<='Site Plan'!$Q$4,$B$8+COLUMN(BF98)-1,\"\")","v":""},{"$f":"IF($B$8+COLUMN(BG98)-1<='Site Plan'!$Q$4,$B$8+COLUMN(BG98)-1,\"\")","v":""},{"$f":"IF($B$8+COLUMN(BH98)-1<='Site Plan'!$Q$4,$B$8+COLUMN(BH98)-1,\"\")","v":""},{"$f":"IF($B$8+COLUMN(BI98)-1<='Site Plan'!$Q$4,$B$8+COLUMN(BI98)-1,\"\")","v":""},{"$f":"IF($B$8+COLUMN(BJ98)-1<='Site Plan'!$Q$4,$B$8+COLUMN(BJ98)-1,\"\")","v":""},{"$f":"IF($B$8+COLUMN(BK98)-1<='Site Plan'!$Q$4,$B$8+COLUMN(BK98)-1,\"\")","v":""},{"$f":"IF($B$8+COLUMN(BL98)-1<='Site Plan'!$Q$4,$B$8+COLUMN(BL98)-1,\"\")","v":""},null,null,"Mon","Tue","Wed","Thu","Fri","Sat","Sun",null,"Mon-Thu",null,null,null,null,null,null,"Mon-Fri",null,null,null,null,null,null,"Tue-Thu",null,null,null,null,null,null,"Sat-Sun"]
["TIME",{"$f":"IF(B98=\"\",\"\",CHOOSE(WEEKDAY(B98),\"Mon\",\"Tue\",\"Wed\",\"Thu\",\"Fri\",\"Sat\",\"Sun\"))","v":"Fri"},{"$f":"IF(C98=\"\",\"\",CHOOSE(WEEKDAY(C98),\"Mon\",\"Tue\",\"Wed\",\"Thu\",\"Fri\",\"Sat\",\"Sun\"))","v":"Sat"},"Sun","Mon","Tue","Wed","Thu","Fri",{"$f":"IF(J98=\"\",\"\",CHOOSE(WEEKDAY(J98),\"Mon\",\"Tue\",\"Wed\",\"Thu\",\"Fri\",\"Sat\",\"Sun\"))","v":"Sat"},"Sun","Mon","Tue","Wed","","","","","","","","","","","","","","","","","","","","","","","","","","","","","","","","","","","","","","","","","","","","","","","","","","","",null,null,"Mean","Mean","Mean","Mean","Mean","Mean","Mean",null,"Mean","Number of observations","Standard Deviation"," ± 5% interval of the mean","95% confidence interval","Meet WebTAG criteria?",null,"Mean","Number of observations","Standard Deviation"," ± 5% interval of the mean","95% confidence interval","Meet WebTAG criteria?",null,"Mean","Number of observations","Standard Deviation"," ± 5% interval of the mean","95% confidence interval","Meet WebTAG criteria?",null,"Mean","Number of observations","Standard Deviation"," ± 5% interval of the mean","95% confidence interval","Meet WebTAG criteria?"]
["00:00:00",{"$f":"IF(B$8=\"\",\"\",SUMIFS(INDIRECT(\"'\"&TEXT(B$8,\"DD_MMM_YYYY\")&\"'!J$6:J$101\"),INDIRECT(\"'\"&TEXT(B$8,\"DD_MMM_YYYY\")&\"'!a$6:a$101\"),\">=\"&$A100,INDIRECT(\"'\"&TEXT(B$8,\"DD_MMM_YYYY\")&\"'!a$6:a$101\"),\"<\"&$A101))","v":1},{"$f":"IF(C$8=\"\",\"\",SUMIFS(INDIRECT(\"'\"&TEXT(C$8,\"DD_MMM_YYYY\")&\"'!J$6:J$101\"),INDIRECT(\"'\"&TEXT(C$8,\"DD_MMM_YYYY\")&\"'!a$6:a$101\"),\">=\"&$A100,INDIRECT(\"'\"&TEXT(C$8,\"DD_MMM_YYYY\")&\"'!a$6:a$101\"),\"<\"&$A101))","v":1},3,2,0,2,1,0,1,1,1,2,2,"","","","","","","","","","","","","","","","","","","","","","","","","","","","","","","","","","","","","","","","","","","","","","","","","","","",null,null,{"$f":"IF(COUNTIFS($B$9:$BM$9,BP$8,$B100:$BM100,\">=0\")=0,\"\",SUMIFS($B100:$BM100,$B$9:$BM$9,BP$8)/COUNTIFS($B$9:$BM$9,BP$8,$B100:$BM100,\">=0\"))","v":1},2,1,0.5,1,2,1.5,null,{"$f":"IFERROR(AVERAGE(BP100:BS100),\"\")","v":1.125},{"$f":"IFERROR(COUNTIFS($B$9:$BM$9,BQ$8,$B100:$BM100,\">0\")+COUNTIFS($B$9:$BM$9,BR$8,$B100:$BM100,\">0\")+COUNTIFS($B$9:$BM$9,BS$8,$B100:$BM100,\">0\")+COUNTIFS($B$9:$BM$9,BP$8,$B100:$BM100,\">0\"),\"\")","v":5},{"$f":"IFERROR(_xlfn.STDEV.S(IF((($B$9:$BM$9=\"Mon\")+($B$9:$BM$9=\"Tue\")+($B$9:$BM$9=\"Wed\")+($B$9:$BM$9=\"Thu\"))*($B100:$BM100<>\"\"),$B100:$BM100,\"\")),\"\")","v":0.89973541084243747},{"$f":"IFERROR(BX100*0.05,\"\")","v":5.6250000000000001E-2},{"$f":"IFERROR(_xlfn.CONFIDENCE.NORM(0.05,BZ100,BY100),\"\")","v":0.78863836815832744},{"$f":"IF(BX100=\"\",\"\",IF(OR(BZ100=0,CB100<=CA100),\"P\",\"O\"))","v":"O"},null,{"$f":"IFERROR(AVERAGE(BP100:BT100),\"\")","v":1.1000000000000001},{"$f":"IFERROR(COUNTIFS($B$9:$BM$9,BQ$8,$B100:$BM100,\">0\")+COUNTIFS($B$9:$BM$9,BR$8,$B100:$BM100,\">0\")+COUNTIFS($B$9:$BM$9,BS$8,$B100:$BM100,\">0\")+COUNTIFS($B$9:$BM$9,BP$8,$B100:$BM100,\">0\")+COUNTIFS($B$9:$BM$9,BT$8,$B100:$BM100,\">0\"),\"\")","v":7},{"$f":"IFERROR(_xlfn.STDEV.S(IF((($B$9:$BM$9=\"Mon\")+($B$9:$BM$9=\"Tue\")+($B$9:$BM$9=\"Wed\")+($B$9:$BM$9=\"Thu\")+($B$9:$BM$9=\"Fri\"))*($B100:$BM100<>\"\"),$B100:$BM100,\"\")),\"\")","v":0.78173595997057166},{"$f":"IFERROR(CE100*0.05,\"\")","v":5.5000000000000007E-2},{"$f":"IFERROR(_xlfn.CONFIDENCE.NORM(0.05,CG100,CF100),\"\")","v":0.57910746204852226},{"$f":"IF(CE100=\"\",\"\",IF(OR(CG100=0,CI100<=CH100),\"P\",\"O\"))","v":"O"},null,{"$f":"IFERROR(AVERAGE(BQ100:BS100),\"\")","v":1.1666666666666667},{"$f":"IFERROR(COUNTIFS($B$9:$BM$9,BQ$8,$B100:$BM100,\">0\")+COUNTIFS($B$9:$BM$9,BR$8,$B100:$BM100,\">0\")+COUNTIFS($B$9:$BM$9,BS$8,$B100:$BM100,\">0\"),\"\")","v":4},{"$f":"IFERROR(_xlfn.STDEV.S(IF((($B$9:$BM$9=\"Tue\")+($B$9:$BM$9=\"Wed\")+($B$9:$BM$9=\"Thu\"))*($B100:$BM100<>\"\"),$B100:$BM100,\"\")),\"\")","v":0.83666002653407556},{"$f":"IFERROR(CL100*0.05,\"\")","v":5.8333333333333341E-2},{"$f":"IFERROR(_xlfn.CONFIDENCE.NORM(0.05,CN100,CM100),\"\")","v":0.81991175965555685},{"$f":"IF(CL100=\"\",\"\",IF(OR(CN100=0,CP100<=CO100),\"P\",\"O\"))","v":"O"},null,{"$f":"IFERROR(AVERAGE(BU100:BV100),\"\")","v":1.75},{"$f":"IFERROR(COUNTIFS($B$9:$BM$9,BU$8,$B100:$BM100,\">0\")+COUNTIFS($B$9:$BM$9,BV$8,$B100:$BM100,\">0\"),\"\")","v":4},{"$f":"IFERROR(_xlfn.STDEV.S(IF((($B$9:$BM$9=\"Sat\")+($B$9:$BM$9=\"Sun\"))*($B100:$BM100<>\"\"),$B100:$BM100,\"\")),\"\")","v":0.9574271077563381},{"$f":"IFERROR(CS100*0.05,\"\")","v":8.7500000000000008E-2},{"$f":"IFERROR(_xlfn.CONFIDENCE.NORM(0.05,CU100,CT100),\"\")","v":0.93826132451238586},{"$f":"IF(CS100=\"\",\"\",IF(OR(CU100=0,CW100<=CV100),\"P\",\"O\"))","v":"O"}]
["01:00:00",{"$f":"IF(B$8=\"\",\"\",SUMIFS(INDIRECT(\"'\"&TEXT(B$8,\"DD_MMM_YYYY\")&\"'!J$6:J$101\"),INDIRECT(\"'\"&TEXT(B$8,\"DD_MMM_YYYY\")&\"'!a$6:a$101\"),\">=\"&$A101,INDIRECT(\"'\"&TEXT(B$8,\"DD_MMM_YYYY\")&\"'!a$6:a$101\"),\"<\"&$A102))","v":1},2,1,2,3,2,2,2,0,2,1,1,1,"","","","","","","","","","","","","","","","","","","","","","","","","","","","","","","","","","","","","","","","","","","","","","","","","","","",null,null,2,1.5,2,1.5,1,1.5,1.5,null,{"$f":"IFERROR(AVERAGE(BP101:BS101),\"\")","v":1.75},{"$f":"IFERROR(COUNTIFS($B$9:$BM$9,BQ$8,$B101:$BM101,\">0\")+COUNTIFS($B$9:$BM$9,BR$8,$B101:$BM101,\">0\")+COUNTIFS($B$9:$BM$9,BS$8,$B101:$BM101,\">0\")+COUNTIFS($B$9:$BM$9,BP$8,$B101:$BM101,\">0\"),\"\")","v":7},{"$f":"IFERROR(_xlfn.STDEV.S(IF((($B$9:$BM$9=\"Mon\")+($B$9:$BM$9=\"Tue\")+($B$9:$BM$9=\"Wed\")+($B$9:$BM$9=\"Thu\"))*($B101:$BM101<>\"\"),$B101:$BM101,\"\")),\"\")","v":0.75592894601845428},{"$f":"IFERROR(BX101*0.05,\"\")","v":8.7500000000000008E-2},{"$f":"IFERROR(_xlfn.CONFIDENCE.NORM(0.05,BZ101,BY101),\"\")","v":0.55998970986858665},{"$f":"IF(BX101=\"\",\"\",IF(OR(BZ101=0,CB101<=CA101),\"P\",\"O\"))","v":"O"},null,{"$f":"IFERROR(AVERAGE(BP101:BT101),\"\")","v":1.6},{"$f":"IFERROR(COUNTIFS($B$9:$BM$9,BQ$8,$B101:$BM101,\">0\")+COUNTIFS($B$9:$BM$9,BR$8,$B101:$BM101,\">0\")+COUNTIFS($B$9:$BM$9,BS$8,$B101:$BM101,\">0\")+COUNTIFS($B$9:$BM$9,BP$8,$B101:$BM101,\">0\")+COUNTIFS($B$9:$BM$9,BT$8,$B101:$BM101,\">0\"),\"\")","v":8},{"$f":"IFERROR(_xlfn.STDEV.S(IF((($B$9:$BM$9=\"Mon\")+($B$9:$BM$9=\"Tue\")+($B$9:$BM$9=\"Wed\")+($B$9:$BM$9=\"Thu\")+($B$9:$BM$9=\"Fri\"))*($B101:$BM101<>\"\"),$B101:$BM101,\"\")),\"\")","v":0.88191710368819676},{"$f":"IFERROR(CE101*0.05,\"\")","v":8.0000000000000016E-2},{"$f":"IFERROR(_xlfn.CONFIDENCE.NORM(0.05,CG101,CF101),\"\")","v":0.61112614338043136},{"$f":"IF(CE101=\"\",\"\",IF(OR(CG101=0,CI101<=CH101),\"P\",\"O\"))","v":"O"},null,{"$f":"IFERROR(AVERAGE(BQ101:BS101),\"\")","v":1.6666666666666667},{"$f":"IFERROR(COUNTIFS($B$9:$BM$9,BQ$8,$B101:$BM101,\">0\")+COUNTIFS($B$9:$BM$9,BR$8,$B101:$BM101,\">0\")+COUNTIFS($B$9:$BM$9,BS$8,$B101:$BM101,\">0\"),\"\")","v":5},{"$f":"IFERROR(_xlfn.STDEV.S(IF((($B$9:$BM$9=\"Tue\")+($B$9:$BM$9=\"Wed\")+($B$9:$BM$9=\"Thu\"))*($B101:$BM101<>\"\"),$B101:$BM101,\"\")),\"\")","v":0.54772255750516596},{"$f":"IFERROR(CL101*0.05,\"\")","v":8.3333333333333343E-2},{"$f":"IFERROR(_xlfn.CONFIDENCE.NORM(0.05,CN101,CM101),\"\")","v":0.48009116763553072},{"$f":"IF(CL101=\"\",\"\",IF(OR(CN101=0,CP101<=CO101),\"P\",\"O\"))","v":"O"},null,{"$f":"IFERROR(AVERAGE(BU101:BV101),\"\")","v":1.5},{"$f":"IFERROR(COUNTIFS($B$9:$BM$9,BU$8,$B101:$BM101,\">0\")+COUNTIFS($B$9:$BM$9,BV$8,$B101:$BM101,\">0\"),\"\")","v":4},{"$f":"IFERROR(_xlfn.STDEV.S(IF(($B$9:$BM$9=\"Sat\")+($B$9:$BM$9=\"Sun\"),$B101:$BM101,\"\")),\"\")","v":0.57735026918962573},{"$f":"IFERROR(CS101*0.05,\"\")","v":7.5000000000000011E-2},{"$f":"IFERROR(_xlfn.CONFIDENCE.NORM(0.05,CU101,CT101),\"\")","v":0.56579286703808573},{"$f":"IF(CS101=\"\",\"\",IF(OR(CU101=0,CW101<=CV101),\"P\",\"O\"))","v":"O"}]
["02:00:00",2,1,2,1,2,3,1,4,4,3,1,3,3,"","","","","","","","","","","","","","","","","","","","","","","","","","","","","","","","","","","","","","","","","","","","","","","","","","","",null,null,2.5,3,1,3,2.5,2.5,1,null,2.375,7,{"$f":"IFERROR(_xlfn.STDEV.S(IF((($B$9:$BM$9=\"Mon\")+($B$9:$BM$9=\"Tue\")+($B$9:$BM$9=\"Wed\")+($B$9:$BM$9=\"Thu\"))*($B102:$BM102<>\"\"),$B102:$BM102,\"\")),\"\")","v":0.97590007294853331},0.11875000000000001,0.72294360678951985,"O",null,2.4,9,{"$f":"IFERROR(_xlfn.STDEV.S(IF((($B$9:$BM$9=\"Mon\")+($B$9:$BM$9=\"Tue\")+($B$9:$BM$9=\"Wed\")+($B$9:$BM$9=\"Thu\")+($B$9:$BM$9=\"Fri\"))*($B102:$BM102<>\"\"),$B102:$BM102,\"\")),\"\")","v":1.1303883305208779},0.12,0.73850680545509295,"O",null,2.3333333333333335,5,{"$f":"IFERROR(_xlfn.STDEV.S(IF((($B$9:$BM$9=\"Tue\")+($B$9:$BM$9=\"Wed\")+($B$9:$BM$9=\"Thu\"))*($B102:$BM102<>\"\"),$B102:$BM102,\"\")),\"\")","v":1.1401754250991383},0.11666666666666668,0.99938946031088038,"O",null,1.75,4,{"$f":"IFERROR(_xlfn.STDEV.S(IF(($B$9:$BM$9=\"Sat\")+($B$9:$BM$9=\"Sun\"),$B102:$BM102,\"\")),\"\")","v":0.9574271077563381},8.7500000000000008E-2,0.93826132451238586,"O"]
["03:00:00",1,3,3,0,3,1,1,2,1,2,0,2,3,"","","","","","","","","","","","","","","","","","","","","","","","","","","","","","","","","","","","","","","","","","","","","","","","","","","",null,null,2.5,2,1,1.5,2,2.5,0,null,1.75,7,{"$f":"IFERROR(_xlfn.STDEV.S(IF((($B$9:$BM$9=\"Mon\")+($B$9:$BM$9=\"Tue\")+($B$9:$BM$9=\"Wed\")+($B$9:$BM$9=\"Thu\"))*($B103:$BM103<>\"\"),$B103:$BM103,\"\")),\"\")","v":0.89973541084243747},8.7500000000000008E-2,0.66652107229116464,"O",null,1.8,9,{"$f":"IFERROR(_xlfn.STDEV.S(IF((($B$9:$BM$9=\"Mon\")+($B$9:$BM$9=\"Tue\")+($B$9:$BM$9=\"Wed\")+($B$9:$BM$9=\"Thu\")+($B$9:$BM$9=\"Fri\"))*($B103:$BM103<>\"\"),$B103:$BM103,\"\")),\"\")","v":0.92796072713833677},9.0000000000000011E-2,0.60625653475291341,"O",null,1.5,5,{"$f":"IFERROR(_xlfn.STDEV.S(IF((($B$9:$BM$9=\"Tue\")+($B$9:$BM$9=\"Wed\")+($B$9:$BM$9=\"Thu\"))*($B103:$BM103<>\"\"),$B103:$BM103,\"\")),\"\")","v":0.89442719099991574},7.5000000000000011E-2,0.78398559381602129,"O",null,1.25,2,{"$f":"IFERROR(_xlfn.STDEV.S(IF(($B$9:$BM$9=\"Sat\")+($B$9:$BM$9=\"Sun\"),$B103:$BM103,\"\")),\"\")","v":1.5},6.25E-2,2.0788557365245159,"O"]
["04:00:00",2,3,4,0,{"$f":"IF(F$8=\"\",\"\",SUMIFS(INDIRECT(\"'\"&TEXT(F$8,\"DD_MMM_YYYY\")&\"'!J$6:J$101\"),INDIRECT(\"'\"&TEXT(F$8,\"DD_MMM_YYYY\")&\"'!a$6:a$101\"),\">=\"&$A104,INDIRECT(\"'\"&TEXT(F$8,\"DD_MMM_YYYY\")&\"'!a$6:a$101\"),\"<\"&$A105))","v":2},{"$f":"IF(G$8=\"\",\"\",SUMIFS(INDIRECT(\"'\"&TEXT(G$8,\"DD_MMM_YYYY\")&\"'!J$6:J$101\"),INDIRECT(\"'\"&TEXT(G$8,\"DD_MMM_YYYY\")&\"'!a$6:a$101\"),\">=\"&$A104,INDIRECT(\"'\"&TEXT(G$8,\"DD_MMM_YYYY\")&\"'!a$6:a$101\"),\"<\"&$A105))","v":1},{"$f":"IF(H$8=\"\",\"\",SUMIFS(INDIRECT(\"'\"&TEXT(H$8,\"DD_MMM_YYYY\")&\"'!J$6:J$101\"),INDIRECT(\"'\"&TEXT(H$8,\"DD_MMM_YYYY\")&\"'!a$6:a$101\"),\">=\"&$A104,INDIRECT(\"'\"&TEXT(H$8,\"DD_MMM_YYYY\")&\"'!a$6:a$101\"),\"<\"&$A105))","v":2},{"$f":"IF(I$8=\"\",\"\",SUMIFS(INDIRECT(\"'\"&TEXT(I$8,\"DD_MMM_YYYY\")&\"'!J$6:J$101\"),INDIRECT(\"'\"&TEXT(I$8,\"DD_MMM_YYYY\")&\"'!a$6:a$101\"),\">=\"&$A104,INDIRECT(\"'\"&TEXT(I$8,\"DD_MMM_YYYY\")&\"'!a$6:a$101\"),\"<\"&$A105))","v":2},{"$f":"IF(J$8=\"\",\"\",SUMIFS(INDIRECT(\"'\"&TEXT(J$8,\"DD_MMM_YYYY\")&\"'!J$6:J$101\"),INDIRECT(\"'\"&TEXT(J$8,\"DD_MMM_YYYY\")&\"'!a$6:a$101\"),\">=\"&$A104,INDIRECT(\"'\"&TEXT(J$8,\"DD_MMM_YYYY\")&\"'!a$6:a$101\"),\"<\"&$A105))","v":2},{"$f":"IF(K$8=\"\",\"\",SUMIFS(INDIRECT(\"'\"&TEXT(K$8,\"DD_MMM_YYYY\")&\"'!J$6:J$101\"),INDIRECT(\"'\"&TEXT(K$8,\"DD_MMM_YYYY\")&\"'!a$6:a$101\"),\">=\"&$A104,INDIRECT(\"'\"&TEXT(K$8,\"DD_MMM_YYYY\")&\"'!a$6:a$101\"),\"<\"&$A105))","v":4},{"$f":"IF(L$8=\"\",\"\",SUMIFS(INDIRECT(\"'\"&TEXT(L$8,\"DD_MMM_YYYY\")&\"'!J$6:J$101\"),INDIRECT(\"'\"&TEXT(L$8,\"DD_MMM_YYYY\")&\"'!a$6:a$101\"),\">=\"&$A104,INDIRECT(\"'\"&TEXT(L$8,\"DD_MMM_YYYY\")&\"'!a$6:a$101\"),\"<\"&$A105))","v":1},{"$f":"IF(M$8=\"\",\"\",SUMIFS(INDIRECT(\"'\"&TEXT(M$8,\"DD_MMM_YYYY\")&\"'!J$6:J$101\"),INDIRECT(\"'\"&TEXT(M$8,\"DD_MMM_YYYY\")&\"'!a$6:a$101\"),\">=\"&$A104,INDIRECT(\"'\"&TEXT(M$8,\"DD_MMM_YYYY\")&\"'!a$6:a$101\"),\"<\"&$A105))","v":0},{"$f":"IF(N$8=\"\",\"\",SUMIFS(INDIRECT(\"'\"&TEXT(N$8,\"DD_MMM_YYYY\")&\"'!J$6:J$101\"),INDIRECT(\"'\"&TEXT(N$8,\"DD_MMM_YYYY\")&\"'!a$6:a$101\"),\">=\"&$A104,INDIRECT(\"'\"&TEXT(N$8,\"DD_MMM_YYYY\")&\"'!a$6:a$101\"),\"<\"&$A105))","v":0},{"$f":"IF(O$8=\"\",\"\",SUMIFS(INDIRECT(\"'\"&TEXT(O$8,\"DD_MMM_YYYY\")&\"'!J$6:J$101\"),INDIRECT(\"'\"&TEXT(O$8,\"DD_MMM_YYYY\")&\"'!a$6:a$101\"),\">=\"&$A104,INDIRECT(\"'\"&TEXT(O$8,\"DD_MMM_YYYY\")&\"'!a$6:a$101\"),\"<\"&$A105))","v":""},{"$f":"IF(P$8=\"\",\"\",SUMIFS(INDIRECT(\"'\"&TEXT(P$8,\"DD_MMM_YYYY\")&\"'!J$6:J$101\"),INDIRECT(\"'\"&TEXT(P$8,\"DD_MMM_YYYY\")&\"'!a$6:a$101\"),\">=\"&$A104,INDIRECT(\"'\"&TEXT(P$8,\"DD_MMM_YYYY\")&\"'!a$6:a$101\"),\"<\"&$A105))","v":""},{"$f":"IF(Q$8=\"\",\"\",SUMIFS(INDIRECT(\"'\"&TEXT(Q$8,\"DD_MMM_YYYY\")&\"'!J$6:J$101\"),INDIRECT(\"'\"&TEXT(Q$8,\"DD_MMM_YYYY\")&\"'!a$6:a$101\"),\">=\"&$A104,INDIRECT(\"'\"&TEXT(Q$8,\"DD_MMM_YYYY\")&\"'!a$6:a$101\"),\"<\"&$A105))","v":""},{"$f":"IF(R$8=\"\",\"\",SUMIFS(INDIRECT(\"'\"&TEXT(R$8,\"DD_MMM_YYYY\")&\"'!J$6:J$101\"),INDIRECT(\"'\"&TEXT(R$8,\"DD_MMM_YYYY\")&\"'!a$6:a$101\"),\">=\"&$A104,INDIRECT(\"'\"&TEXT(R$8,\"DD_MMM_YYYY\")&\"'!a$6:a$101\"),\"<\"&$A105))","v":""},{"$f":"IF(S$8=\"\",\"\",SUMIFS(INDIRECT(\"'\"&TEXT(S$8,\"DD_MMM_YYYY\")&\"'!J$6:J$101\"),INDIRECT(\"'\"&TEXT(S$8,\"DD_MMM_YYYY\")&\"'!a$6:a$101\"),\">=\"&$A104,INDIRECT(\"'\"&TEXT(S$8,\"DD_MMM_YYYY\")&\"'!a$6:a$101\"),\"<\"&$A105))","v":""},{"$f":"IF(T$8=\"\",\"\",SUMIFS(INDIRECT(\"'\"&TEXT(T$8,\"DD_MMM_YYYY\")&\"'!J$6:J$101\"),INDIRECT(\"'\"&TEXT(T$8,\"DD_MMM_YYYY\")&\"'!a$6:a$101\"),\">=\"&$A104,INDIRECT(\"'\"&TEXT(T$8,\"DD_MMM_YYYY\")&\"'!a$6:a$101\"),\"<\"&$A105))","v":""},{"$f":"IF(U$8=\"\",\"\",SUMIFS(INDIRECT(\"'\"&TEXT(U$8,\"DD_MMM_YYYY\")&\"'!J$6:J$101\"),INDIRECT(\"'\"&TEXT(U$8,\"DD_MMM_YYYY\")&\"'!a$6:a$101\"),\">=\"&$A104,INDIRECT(\"'\"&TEXT(U$8,\"DD_MMM_YYYY\")&\"'!a$6:a$101\"),\"<\"&$A105))","v":""},{"$f":"IF(V$8=\"\",\"\",SUMIFS(INDIRECT(\"'\"&TEXT(V$8,\"DD_MMM_YYYY\")&\"'!J$6:J$101\"),INDIRECT(\"'\"&TEXT(V$8,\"DD_MMM_YYYY\")&\"'!a$6:a$101\"),\">=\"&$A104,INDIRECT(\"'\"&TEXT(V$8,\"DD_MMM_YYYY\")&\"'!a$6:a$101\"),\"<\"&$A105))","v":""},{"$f":"IF(W$8=\"\",\"\",SUMIFS(INDIRECT(\"'\"&TEXT(W$8,\"DD_MMM_YYYY\")&\"'!J$6:J$101\"),INDIRECT(\"'\"&TEXT(W$8,\"DD_MMM_YYYY\")&\"'!a$6:a$101\"),\">=\"&$A104,INDIRECT(\"'\"&TEXT(W$8,\"DD_MMM_YYYY\")&\"'!a$6:a$101\"),\"<\"&$A105))","v":""},{"$f":"IF(X$8=\"\",\"\",SUMIFS(INDIRECT(\"'\"&TEXT(X$8,\"DD_MMM_YYYY\")&\"'!J$6:J$101\"),INDIRECT(\"'\"&TEXT(X$8,\"DD_MMM_YYYY\")&\"'!a$6:a$101\"),\">=\"&$A104,INDIRECT(\"'\"&TEXT(X$8,\"DD_MMM_YYYY\")&\"'!a$6:a$101\"),\"<\"&$A105))","v":""},{"$f":"IF(Y$8=\"\",\"\",SUMIFS(INDIRECT(\"'\"&TEXT(Y$8,\"DD_MMM_YYYY\")&\"'!J$6:J$101\"),INDIRECT(\"'\"&TEXT(Y$8,\"DD_MMM_YYYY\")&\"'!a$6:a$101\"),\">=\"&$A104,INDIRECT(\"'\"&TEXT(Y$8,\"DD_MMM_YYYY\")&\"'!a$6:a$101\"),\"<\"&$A105))","v":""},{"$f":"IF(Z$8=\"\",\"\",SUMIFS(INDIRECT(\"'\"&TEXT(Z$8,\"DD_MMM_YYYY\")&\"'!J$6:J$101\"),INDIRECT(\"'\"&TEXT(Z$8,\"DD_MMM_YYYY\")&\"'!a$6:a$101\"),\">=\"&$A104,INDIRECT(\"'\"&TEXT(Z$8,\"DD_MMM_YYYY\")&\"'!a$6:a$101\"),\"<\"&$A105))","v":""},{"$f":"IF(AA$8=\"\",\"\",SUMIFS(INDIRECT(\"'\"&TEXT(AA$8,\"DD_MMM_YYYY\")&\"'!J$6:J$101\"),INDIRECT(\"'\"&TEXT(AA$8,\"DD_MMM_YYYY\")&\"'!a$6:a$101\"),\">=\"&$A104,INDIRECT(\"'\"&TEXT(AA$8,\"DD_MMM_YYYY\")&\"'!a$6:a$101\"),\"<\"&$A105))","v":""},{"$f":"IF(AB$8=\"\",\"\",SUMIFS(INDIRECT(\"'\"&TEXT(AB$8,\"DD_MMM_YYYY\")&\"'!J$6:J$101\"),INDIRECT(\"'\"&TEXT(AB$8,\"DD_MMM_YYYY\")&\"'!a$6:a$101\"),\">=\"&$A104,INDIRECT(\"'\"&TEXT(AB$8,\"DD_MMM_YYYY\")&\"'!a$6:a$101\"),\"<\"&$A105))","v":""},{"$f":"IF(AC$8=\"\",\"\",SUMIFS(INDIRECT(\"'\"&TEXT(AC$8,\"DD_MMM_YYYY\")&\"'!J$6:J$101\"),INDIRECT(\"'\"&TEXT(AC$8,\"DD_MMM_YYYY\")&\"'!a$6:a$101\"),\">=\"&$A104,INDIRECT(\"'\"&TEXT(AC$8,\"DD_MMM_YYYY\")&\"'!a$6:a$101\"),\"<\"&$A105))","v":""},{"$f":"IF(AD$8=\"\",\"\",SUMIFS(INDIRECT(\"'\"&TEXT(AD$8,\"DD_MMM_YYYY\")&\"'!J$6:J$101\"),INDIRECT(\"'\"&TEXT(AD$8,\"DD_MMM_YYYY\")&\"'!a$6:a$101\"),\">=\"&$A104,INDIRECT(\"'\"&TEXT(AD$8,\"DD_MMM_YYYY\")&\"'!a$6:a$101\"),\"<\"&$A105))","v":""},{"$f":"IF(AE$8=\"\",\"\",SUMIFS(INDIRECT(\"'\"&TEXT(AE$8,\"DD_MMM_YYYY\")&\"'!J$6:J$101\"),INDIRECT(\"'\"&TEXT(AE$8,\"DD_MMM_YYYY\")&\"'!a$6:a$101\"),\">=\"&$A104,INDIRECT(\"'\"&TEXT(AE$8,\"DD_MMM_YYYY\")&\"'!a$6:a$101\"),\"<\"&$A105))","v":""},{"$f":"IF(AF$8=\"\",\"\",SUMIFS(INDIRECT(\"'\"&TEXT(AF$8,\"DD_MMM_YYYY\")&\"'!J$6:J$101\"),INDIRECT(\"'\"&TEXT(AF$8,\"DD_MMM_YYYY\")&\"'!a$6:a$101\"),\">=\"&$A104,INDIRECT(\"'\"&TEXT(AF$8,\"DD_MMM_YYYY\")&\"'!a$6:a$101\"),\"<\"&$A105))","v":""},{"$f":"IF(AG$8=\"\",\"\",SUMIFS(INDIRECT(\"'\"&TEXT(AG$8,\"DD_MMM_YYYY\")&\"'!J$6:J$101\"),INDIRECT(\"'\"&TEXT(AG$8,\"DD_MMM_YYYY\")&\"'!a$6:a$101\"),\">=\"&$A104,INDIRECT(\"'\"&TEXT(AG$8,\"DD_MMM_YYYY\")&\"'!a$6:a$101\"),\"<\"&$A105))","v":""},{"$f":"IF(AH$8=\"\",\"\",SUMIFS(INDIRECT(\"'\"&TEXT(AH$8,\"DD_MMM_YYYY\")&\"'!J$6:J$101\"),INDIRECT(\"'\"&TEXT(AH$8,\"DD_MMM_YYYY\")&\"'!a$6:a$101\"),\">=\"&$A104,INDIRECT(\"'\"&TEXT(AH$8,\"DD_MMM_YYYY\")&\"'!a$6:a$101\"),\"<\"&$A105))","v":""},{"$f":"IF(AI$8=\"\",\"\",SUMIFS(INDIRECT(\"'\"&TEXT(AI$8,\"DD_MMM_YYYY\")&\"'!J$6:J$101\"),INDIRECT(\"'\"&TEXT(AI$8,\"DD_MMM_YYYY\")&\"'!a$6:a$101\"),\">=\"&$A104,INDIRECT(\"'\"&TEXT(AI$8,\"DD_MMM_YYYY\")&\"'!a$6:a$101\"),\"<\"&$A105))","v":""},{"$f":"IF(AJ$8=\"\",\"\",SUMIFS(INDIRECT(\"'\"&TEXT(AJ$8,\"DD_MMM_YYYY\")&\"'!J$6:J$101\"),INDIRECT(\"'\"&TEXT(AJ$8,\"DD_MMM_YYYY\")&\"'!a$6:a$101\"),\">=\"&$A104,INDIRECT(\"'\"&TEXT(AJ$8,\"DD_MMM_YYYY\")&\"'!a$6:a$101\"),\"<\"&$A105))","v":""},{"$f":"IF(AK$8=\"\",\"\",SUMIFS(INDIRECT(\"'\"&TEXT(AK$8,\"DD_MMM_YYYY\")&\"'!J$6:J$101\"),INDIRECT(\"'\"&TEXT(AK$8,\"DD_MMM_YYYY\")&\"'!a$6:a$101\"),\">=\"&$A104,INDIRECT(\"'\"&TEXT(AK$8,\"DD_MMM_YYYY\")&\"'!a$6:a$101\"),\"<\"&$A105))","v":""},{"$f":"IF(AL$8=\"\",\"\",SUMIFS(INDIRECT(\"'\"&TEXT(AL$8,\"DD_MMM_YYYY\")&\"'!J$6:J$101\"),INDIRECT(\"'\"&TEXT(AL$8,\"DD_MMM_YYYY\")&\"'!a$6:a$101\"),\">=\"&$A104,INDIRECT(\"'\"&TEXT(AL$8,\"DD_MMM_YYYY\")&\"'!a$6:a$101\"),\"<\"&$A105))","v":""},{"$f":"IF(AM$8=\"\",\"\",SUMIFS(INDIRECT(\"'\"&TEXT(AM$8,\"DD_MMM_YYYY\")&\"'!J$6:J$101\"),INDIRECT(\"'\"&TEXT(AM$8,\"DD_MMM_YYYY\")&\"'!a$6:a$101\"),\">=\"&$A104,INDIRECT(\"'\"&TEXT(AM$8,\"DD_MMM_YYYY\")&\"'!a$6:a$101\"),\"<\"&$A105))","v":""},{"$f":"IF(AN$8=\"\",\"\",SUMIFS(INDIRECT(\"'\"&TEXT(AN$8,\"DD_MMM_YYYY\")&\"'!J$6:J$101\"),INDIRECT(\"'\"&TEXT(AN$8,\"DD_MMM_YYYY\")&\"'!a$6:a$101\"),\">=\"&$A104,INDIRECT(\"'\"&TEXT(AN$8,\"DD_MMM_YYYY\")&\"'!a$6:a$101\"),\"<\"&$A105))","v":""},{"$f":"IF(AO$8=\"\",\"\",SUMIFS(INDIRECT(\"'\"&TEXT(AO$8,\"DD_MMM_YYYY\")&\"'!J$6:J$101\"),INDIRECT(\"'\"&TEXT(AO$8,\"DD_MMM_YYYY\")&\"'!a$6:a$101\"),\">=\"&$A104,INDIRECT(\"'\"&TEXT(AO$8,\"DD_MMM_YYYY\")&\"'!a$6:a$101\"),\"<\"&$A105))","v":""},{"$f":"IF(AP$8=\"\",\"\",SUMIFS(INDIRECT(\"'\"&TEXT(AP$8,\"DD_MMM_YYYY\")&\"'!J$6:J$101\"),INDIRECT(\"'\"&TEXT(AP$8,\"DD_MMM_YYYY\")&\"'!a$6:a$101\"),\">=\"&$A104,INDIRECT(\"'\"&TEXT(AP$8,\"DD_MMM_YYYY\")&\"'!a$6:a$101\"),\"<\"&$A105))","v":""},{"$f":"IF(AQ$8=\"\",\"\",SUMIFS(INDIRECT(\"'\"&TEXT(AQ$8,\"DD_MMM_YYYY\")&\"'!J$6:J$101\"),INDIRECT(\"'\"&TEXT(AQ$8,\"DD_MMM_YYYY\")&\"'!a$6:a$101\"),\">=\"&$A104,INDIRECT(\"'\"&TEXT(AQ$8,\"DD_MMM_YYYY\")&\"'!a$6:a$101\"),\"<\"&$A105))","v":""},{"$f":"IF(AR$8=\"\",\"\",SUMIFS(INDIRECT(\"'\"&TEXT(AR$8,\"DD_MMM_YYYY\")&\"'!J$6:J$101\"),INDIRECT(\"'\"&TEXT(AR$8,\"DD_MMM_YYYY\")&\"'!a$6:a$101\"),\">=\"&$A104,INDIRECT(\"'\"&TEXT(AR$8,\"DD_MMM_YYYY\")&\"'!a$6:a$101\"),\"<\"&$A105))","v":""},{"$f":"IF(AS$8=\"\",\"\",SUMIFS(INDIRECT(\"'\"&TEXT(AS$8,\"DD_MMM_YYYY\")&\"'!J$6:J$101\"),INDIRECT(\"'\"&TEXT(AS$8,\"DD_MMM_YYYY\")&\"'!a$6:a$101\"),\">=\"&$A104,INDIRECT(\"'\"&TEXT(AS$8,\"DD_MMM_YYYY\")&\"'!a$6:a$101\"),\"<\"&$A105))","v":""},{"$f":"IF(AT$8=\"\",\"\",SUMIFS(INDIRECT(\"'\"&TEXT(AT$8,\"DD_MMM_YYYY\")&\"'!J$6:J$101\"),INDIRECT(\"'\"&TEXT(AT$8,\"DD_MMM_YYYY\")&\"'!a$6:a$101\"),\">=\"&$A104,INDIRECT(\"'\"&TEXT(AT$8,\"DD_MMM_YYYY\")&\"'!a$6:a$101\"),\"<\"&$A105))","v":""},{"$f":"IF(AU$8=\"\",\"\",SUMIFS(INDIRECT(\"'\"&TEXT(AU$8,\"DD_MMM_YYYY\")&\"'!J$6:J$101\"),INDIRECT(\"'\"&TEXT(AU$8,\"DD_MMM_YYYY\")&\"'!a$6:a$101\"),\">=\"&$A104,INDIRECT(\"'\"&TEXT(AU$8,\"DD_MMM_YYYY\")&\"'!a$6:a$101\"),\"<\"&$A105))","v":""},{"$f":"IF(AV$8=\"\",\"\",SUMIFS(INDIRECT(\"'\"&TEXT(AV$8,\"DD_MMM_YYYY\")&\"'!J$6:J$101\"),INDIRECT(\"'\"&TEXT(AV$8,\"DD_MMM_YYYY\")&\"'!a$6:a$101\"),\">=\"&$A104,INDIRECT(\"'\"&TEXT(AV$8,\"DD_MMM_YYYY\")&\"'!a$6:a$101\"),\"<\"&$A105))","v":""},{"$f":"IF(AW$8=\"\",\"\",SUMIFS(INDIRECT(\"'\"&TEXT(AW$8,\"DD_MMM_YYYY\")&\"'!J$6:J$101\"),INDIRECT(\"'\"&TEXT(AW$8,\"DD_MMM_YYYY\")&\"'!a$6:a$101\"),\">=\"&$A104,INDIRECT(\"'\"&TEXT(AW$8,\"DD_MMM_YYYY\")&\"'!a$6:a$101\"),\"<\"&$A105))","v":""},{"$f":"IF(AX$8=\"\",\"\",SUMIFS(INDIRECT(\"'\"&TEXT(AX$8,\"DD_MMM_YYYY\")&\"'!J$6:J$101\"),INDIRECT(\"'\"&TEXT(AX$8,\"DD_MMM_YYYY\")&\"'!a$6:a$101\"),\">=\"&$A104,INDIRECT(\"'\"&TEXT(AX$8,\"DD_MMM_YYYY\")&\"'!a$6:a$101\"),\"<\"&$A105))","v":""},{"$f":"IF(AY$8=\"\",\"\",SUMIFS(INDIRECT(\"'\"&TEXT(AY$8,\"DD_MMM_YYYY\")&\"'!J$6:J$101\"),INDIRECT(\"'\"&TEXT(AY$8,\"DD_MMM_YYYY\")&\"'!a$6:a$101\"),\">=\"&$A104,INDIRECT(\"'\"&TEXT(AY$8,\"DD_MMM_YYYY\")&\"'!a$6:a$101\"),\"<\"&$A105))","v":""},{"$f":"IF(AZ$8=\"\",\"\",SUMIFS(INDIRECT(\"'\"&TEXT(AZ$8,\"DD_MMM_YYYY\")&\"'!J$6:J$101\"),INDIRECT(\"'\"&TEXT(AZ$8,\"DD_MMM_YYYY\")&\"'!a$6:a$101\"),\">=\"&$A104,INDIRECT(\"'\"&TEXT(AZ$8,\"DD_MMM_YYYY\")&\"'!a$6:a$101\"),\"<\"&$A105))","v":""},{"$f":"IF(BA$8=\"\",\"\",SUMIFS(INDIRECT(\"'\"&TEXT(BA$8,\"DD_MMM_YYYY\")&\"'!J$6:J$101\"),INDIRECT(\"'\"&TEXT(BA$8,\"DD_MMM_YYYY\")&\"'!a$6:a$101\"),\">=\"&$A104,INDIRECT(\"'\"&TEXT(BA$8,\"DD_MMM_YYYY\")&\"'!a$6:a$101\"),\"<\"&$A105))","v":""},{"$f":"IF(BB$8=\"\",\"\",SUMIFS(INDIRECT(\"'\"&TEXT(BB$8,\"DD_MMM_YYYY\")&\"'!J$6:J$101\"),INDIRECT(\"'\"&TEXT(BB$8,\"DD_MMM_YYYY\")&\"'!a$6:a$101\"),\">=\"&$A104,INDIRECT(\"'\"&TEXT(BB$8,\"DD_MMM_YYYY\")&\"'!a$6:a$101\"),\"<\"&$A105))","v":""},{"$f":"IF(BC$8=\"\",\"\",SUMIFS(INDIRECT(\"'\"&TEXT(BC$8,\"DD_MMM_YYYY\")&\"'!J$6:J$101\"),INDIRECT(\"'\"&TEXT(BC$8,\"DD_MMM_YYYY\")&\"'!a$6:a$101\"),\">=\"&$A104,INDIRECT(\"'\"&TEXT(BC$8,\"DD_MMM_YYYY\")&\"'!a$6:a$101\"),\"<\"&$A105))","v":""},{"$f":"IF(BD$8=\"\",\"\",SUMIFS(INDIRECT(\"'\"&TEXT(BD$8,\"DD_MMM_YYYY\")&\"'!J$6:J$101\"),INDIRECT(\"'\"&TEXT(BD$8,\"DD_MMM_YYYY\")&\"'!a$6:a$101\"),\">=\"&$A104,INDIRECT(\"'\"&TEXT(BD$8,\"DD_MMM_YYYY\")&\"'!a$6:a$101\"),\"<\"&$A105))","v":""},{"$f":"IF(BE$8=\"\",\"\",SUMIFS(INDIRECT(\"'\"&TEXT(BE$8,\"DD_MMM_YYYY\")&\"'!J$6:J$101\"),INDIRECT(\"'\"&TEXT(BE$8,\"DD_MMM_YYYY\")&\"'!a$6:a$101\"),\">=\"&$A104,INDIRECT(\"'\"&TEXT(BE$8,\"DD_MMM_YYYY\")&\"'!a$6:a$101\"),\"<\"&$A105))","v":""},{"$f":"IF(BF$8=\"\",\"\",SUMIFS(INDIRECT(\"'\"&TEXT(BF$8,\"DD_MMM_YYYY\")&\"'!J$6:J$101\"),INDIRECT(\"'\"&TEXT(BF$8,\"DD_MMM_YYYY\")&\"'!a$6:a$101\"),\">=\"&$A104,INDIRECT(\"'\"&TEXT(BF$8,\"DD_MMM_YYYY\")&\"'!a$6:a$101\"),\"<\"&$A105))","v":""},{"$f":"IF(BG$8=\"\",\"\",SUMIFS(INDIRECT(\"'\"&TEXT(BG$8,\"DD_MMM_YYYY\")&\"'!J$6:J$101\"),INDIRECT(\"'\"&TEXT(BG$8,\"DD_MMM_YYYY\")&\"'!a$6:a$101\"),\">=\"&$A104,INDIRECT(\"'\"&TEXT(BG$8,\"DD_MMM_YYYY\")&\"'!a$6:a$101\"),\"<\"&$A105))","v":""},{"$f":"IF(BH$8=\"\",\"\",SUMIFS(INDIRECT(\"'\"&TEXT(BH$8,\"DD_MMM_YYYY\")&\"'!J$6:J$101\"),INDIRECT(\"'\"&TEXT(BH$8,\"DD_MMM_YYYY\")&\"'!a$6:a$101\"),\">=\"&$A104,INDIRECT(\"'\"&TEXT(BH$8,\"DD_MMM_YYYY\")&\"'!a$6:a$101\"),\"<\"&$A105))","v":""},{"$f":"IF(BI$8=\"\",\"\",SUMIFS(INDIRECT(\"'\"&TEXT(BI$8,\"DD_MMM_YYYY\")&\"'!J$6:J$101\"),INDIRECT(\"'\"&TEXT(BI$8,\"DD_MMM_YYYY\")&\"'!a$6:a$101\"),\">=\"&$A104,INDIRECT(\"'\"&TEXT(BI$8,\"DD_MMM_YYYY\")&\"'!a$6:a$101\"),\"<\"&$A105))","v":""},{"$f":"IF(BJ$8=\"\",\"\",SUMIFS(INDIRECT(\"'\"&TEXT(BJ$8,\"DD_MMM_YYYY\")&\"'!J$6:J$101\"),INDIRECT(\"'\"&TEXT(BJ$8,\"DD_MMM_YYYY\")&\"'!a$6:a$101\"),\">=\"&$A104,INDIRECT(\"'\"&TEXT(BJ$8,\"DD_MMM_YYYY\")&\"'!a$6:a$101\"),\"<\"&$A105))","v":""},{"$f":"IF(BK$8=\"\",\"\",SUMIFS(INDIRECT(\"'\"&TEXT(BK$8,\"DD_MMM_YYYY\")&\"'!J$6:J$101\"),INDIRECT(\"'\"&TEXT(BK$8,\"DD_MMM_YYYY\")&\"'!a$6:a$101\"),\">=\"&$A104,INDIRECT(\"'\"&TEXT(BK$8,\"DD_MMM_YYYY\")&\"'!a$6:a$101\"),\"<\"&$A105))","v":""},{"$f":"IF(BL$8=\"\",\"\",SUMIFS(INDIRECT(\"'\"&TEXT(BL$8,\"DD_MMM_YYYY\")&\"'!J$6:J$101\"),INDIRECT(\"'\"&TEXT(BL$8,\"DD_MMM_YYYY\")&\"'!a$6:a$101\"),\">=\"&$A104,INDIRECT(\"'\"&TEXT(BL$8,\"DD_MMM_YYYY\")&\"'!a$6:a$101\"),\"<\"&$A105))","v":""},{"$f":"IF(BM$8=\"\",\"\",SUMIFS(INDIRECT(\"'\"&TEXT(BM$8,\"DD_MMM_YYYY\")&\"'!J$6:J$101\"),INDIRECT(\"'\"&TEXT(BM$8,\"DD_MMM_YYYY\")&\"'!a$6:a$101\"),\">=\"&$A104,INDIRECT(\"'\"&TEXT(BM$8,\"DD_MMM_YYYY\")&\"'!a$6:a$101\"),\"<\"&$A105))","v":""},null,null,1,0.5,2,2,2.5,4,0.5,null,1.375,5,{"$f":"IFERROR(_xlfn.STDEV.S(IF((($B$9:$BM$9=\"Mon\")+($B$9:$BM$9=\"Tue\")+($B$9:$BM$9=\"Wed\")+($B$9:$BM$9=\"Thu\"))*($B104:$BM104<>\"\"),$B104:$BM104,\"\")),\"\")","v":0.95118973121134187},6.8750000000000006E-2,0.83373923977172093,"O",null,1.6,7,{"$f":"IFERROR(_xlfn.STDEV.S(IF((($B$9:$BM$9=\"Mon\")+($B$9:$BM$9=\"Tue\")+($B$9:$BM$9=\"Wed\")+($B$9:$BM$9=\"Thu\")+($B$9:$BM$9=\"Fri\"))*($B104:$BM104<>\"\"),$B104:$BM104,\"\")),\"\")","v":1.0137937550497031},8.0000000000000016E-2,0.75101512350740007,"O",null,1.5,4,{"$f":"IFERROR(_xlfn.STDEV.S(IF((($B$9:$BM$9=\"Tue\")+($B$9:$BM$9=\"Wed\")+($B$9:$BM$9=\"Thu\"))*($B104:$BM104<>\"\"),$B104:$BM104,\"\")),\"\")","v":0.89442719099991574},7.5000000000000011E-2,0.87652254057658119,"O",null,2.25,3,{"$f":"IFERROR(_xlfn.STDEV.S(IF(($B$9:$BM$9=\"Sat\")+($B$9:$BM$9=\"Sun\"),$B104:$BM104,\"\")),\"\")","v":2.0615528128088303},0.1125,2.3328237530190763,"O"]
["05:00:00",13,{"$f":"IF(C$8=\"\",\"\",SUMIFS(INDIRECT(\"'\"&TEXT(C$8,\"DD_MMM_YYYY\")&\"'!J$6:J$101\"),INDIRECT(\"'\"&TEXT(C$8,\"DD_MMM_YYYY\")&\"'!a$6:a$101\"),\">=\"&$A105,INDIRECT(\"'\"&TEXT(C$8,\"DD_MMM_YYYY\")&\"'!a$6:a$101\"),\"<\"&$A106))","v":9},{"$f":"IF(D$8=\"\",\"\",SUMIFS(INDIRECT(\"'\"&TEXT(D$8,\"DD_MMM_YYYY\")&\"'!J$6:J$101\"),INDIRECT(\"'\"&TEXT(D$8,\"DD_MMM_YYYY\")&\"'!a$6:a$101\"),\">=\"&$A105,INDIRECT(\"'\"&TEXT(D$8,\"DD_MMM_YYYY\")&\"'!a$6:a$101\"),\"<\"&$A106))","v":3},{"$f":"IF(E$8=\"\",\"\",SUMIFS(INDIRECT(\"'\"&TEXT(E$8,\"DD_MMM_YYYY\")&\"'!J$6:J$101\"),INDIRECT(\"'\"&TEXT(E$8,\"DD_MMM_YYYY\")&\"'!a$6:a$101\"),\">=\"&$A105,INDIRECT(\"'\"&TEXT(E$8,\"DD_MMM_YYYY\")&\"'!a$6:a$101\"),\"<\"&$A106))","v":0},6,7,8,7,9,3,0,8,9,"","","","","","","","","","","","","","","","","","","","","","","","","","","","","","","","","","","","","","","","","","","","","","","","","","","",null,null,7,8,8,10,9,3,0,null,8.25,7,{"$f":"IFERROR(_xlfn.STDEV.S(IF((($B$9:$BM$9=\"Mon\")+($B$9:$BM$9=\"Tue\")+($B$9:$BM$9=\"Wed\")+($B$9:$BM$9=\"Thu\"))*($B105:$BM105<>\"\"),$B105:$BM105,\"\")),\"\")","v":2.2886885410853179},0.41250000000000003,1.6954530433745787,"O",null,8.4,9,{"$f":"IFERROR(_xlfn.STDEV.S(IF((($B$9:$BM$9=\"Mon\")+($B$9:$BM$9=\"Tue\")+($B$9:$BM$9=\"Wed\")+($B$9:$BM$9=\"Thu\")+($B$9:$BM$9=\"Fri\"))*($B105:$BM105<>\"\"),$B105:$BM105,\"\")),\"\")","v":2.0069324297987143},0.42000000000000004,1.3111717606036464,"O",null,8.6666666666666661,5,{"$f":"IFERROR(_xlfn.STDEV.S(IF((($B$9:$BM$9=\"Tue\")+($B$9:$BM$9=\"Wed\")+($B$9:$BM$9=\"Thu\"))*($B105:$BM105<>\"\"),$B105:$BM105,\"\")),\"\")","v":2.4899799195977472},0.43333333333333335,2.1825235251104891,"O",null,1.5,2,{"$f":"IFERROR(_xlfn.STDEV.S(IF(($B$9:$BM$9=\"Sat\")+($B$9:$BM$9=\"Sun\"),$B105:$BM105,\"\")),\"\")","v":1.7320508075688772},7.5000000000000011E-2,2.400455838177654,"O"]
["06:00:00",14,9,8,1,7,18,10,12,13,3,0,14,15,"","","","","","","","","","","","","","","","","","","","","","","","","","","","","","","","","","","","","","","","","","","","","","","","","","","",null,null,10.5,16.5,10,13,11,5.5,0.5,null,12.5,7,{"$f":"IFERROR(_xlfn.STDEV.S(IF((($B$9:$BM$9=\"Mon\")+($B$9:$BM$9=\"Tue\")+($B$9:$BM$9=\"Wed\")+($B$9:$BM$9=\"Thu\"))*($B106:$BM106<>\"\"),$B106:$BM106,\"\")),\"\")","v":3.579039509354963},0.625,2.6513408528782088,"O",null,12.2,9,{"$f":"IFERROR(_xlfn.STDEV.S(IF((($B$9:$BM$9=\"Mon\")+($B$9:$BM$9=\"Tue\")+($B$9:$BM$9=\"Wed\")+($B$9:$BM$9=\"Thu\")+($B$9:$BM$9=\"Fri\"))*($B106:$BM106<>\"\"),$B106:$BM106,\"\")),\"\")","v":3.35824027993498},0.61,2.1940100000347562,"O",null,13.166666666666666,5,{"$f":"IFERROR(_xlfn.STDEV.S(IF((($B$9:$BM$9=\"Tue\")+($B$9:$BM$9=\"Wed\")+($B$9:$BM$9=\"Thu\"))*($B106:$BM106<>\"\"),$B106:$BM106,\"\")),\"\")","v":3.0331501776206182},0.65833333333333333,2.6586244996383335,"O",null,3,3,{"$f":"IFERROR(_xlfn.STDEV.S(IF(($B$9:$BM$9=\"Sat\")+($B$9:$BM$9=\"Sun\"),$B106:$BM106,\"\")),\"\")","v":3.5590260840104371},0.15000000000000002,4.0273431438711924,"O"]
["07:00:00",18,25,8,5,18,20,21,22,20,6,1,28,24,"","","","","","","","","","","","","","","","","","","","","","","","","","","","","","","","","","","","","","","","","","","","","","","","","","","",null,null,23,22,21,20,22.5,7,3,null,21.5,7,{"$f":"IFERROR(_xlfn.STDEV.S(IF((($B$9:$BM$9=\"Mon\")+($B$9:$BM$9=\"Tue\")+($B$9:$BM$9=\"Wed\")+($B$9:$BM$9=\"Thu\"))*($B107:$BM107<>\"\"),$B107:$BM107,\"\")),\"\")","v":3.5523298860110994},1.075,2.6315544505902562,"O",null,21.7,9,{"$f":"IFERROR(_xlfn.STDEV.S(IF((($B$9:$BM$9=\"Mon\")+($B$9:$BM$9=\"Tue\")+($B$9:$BM$9=\"Wed\")+($B$9:$BM$9=\"Thu\")+($B$9:$BM$9=\"Fri\"))*($B107:$BM107<>\"\"),$B107:$BM107,\"\")),\"\")","v":3.3458099833141239},1.085,2.1858890221367471,"O",null,21,5,{"$f":"IFERROR(_xlfn.STDEV.S(IF((($B$9:$BM$9=\"Tue\")+($B$9:$BM$9=\"Wed\")+($B$9:$BM$9=\"Thu\"))*($B107:$BM107<>\"\"),$B107:$BM107,\"\")),\"\")","v":2.2360679774997898},1.05,1.9599639845400536,"O",null,5,4,{"$f":"IFERROR(_xlfn.STDEV.S(IF(($B$9:$BM$9=\"Sat\")+($B$9:$BM$9=\"Sun\"),$B107:$BM107,\"\")),\"\")","v":2.9439202887759488},0.25,2.8849888696788071,"O"]
["08:00:00",30,25,12,6,32,23,30,20,20,11,4,18,22,"","","","","","","","","","","","","","","","","","","","","","","","","","","","","","","","","","","","","","","","","","","","","","","","","","","",null,null,25,22.5,30,25,22.5,11.5,5,null,25.625,7,{"$f":"IFERROR(_xlfn.STDEV.S(IF((($B$9:$BM$9=\"Mon\")+($B$9:$BM$9=\"Tue\")+($B$9:$BM$9=\"Wed\")+($B$9:$BM$9=\"Thu\"))*($B108:$BM108<>\"\"),$B108:$BM108,\"\")),\"\")","v":5.5677643628300215},1.28125,4.1245817699931324,"O",null,25,9,{"$f":"IFERROR(_xlfn.STDEV.S(IF((($B$9:$BM$9=\"Mon\")+($B$9:$BM$9=\"Tue\")+($B$9:$BM$9=\"Wed\")+($B$9:$BM$9=\"Thu\")+($B$9:$BM$9=\"Fri\"))*($B108:$BM108<>\"\"),$B108:$BM108,\"\")),\"\")","v":5.1017426216713275},1.25,3.3330772656229182,"O",null,25.833333333333332,5,{"$f":"IFERROR(_xlfn.STDEV.S(IF((($B$9:$BM$9=\"Tue\")+($B$9:$BM$9=\"Wed\")+($B$9:$BM$9=\"Thu\"))*($B108:$BM108<>\"\"),$B108:$BM108,\"\")),\"\")","v":4.6904157598234297},1.2916666666666667,4.1112551381608693,"O",null,8.25,4,{"$f":"IFERROR(_xlfn.STDEV.S(IF(($B$9:$BM$9=\"Sat\")+($B$9:$BM$9=\"Sun\"),$B108:$BM108,\"\")),\"\")","v":3.8622100754188224},0.41250000000000003,3.7848963242743081,"O"]
["09:00:00",32,34,9,5,32,18,30,29,25,9,9,32,31,"","","","","","","","","","","","","","","","","","","","","","","","","","","","","","","","","","","","","","","","","","","","","","","","","","","",null,null,32,24.5,30,30.5,29.5,9,7,null,29.25,7,{"$f":"IFERROR(_xlfn.STDEV.S(IF((($B$9:$BM$9=\"Mon\")+($B$9:$BM$9=\"Tue\")+($B$9:$BM$9=\"Wed\")+($B$9:$BM$9=\"Thu\"))*($B109:$BM109<>\"\"),$B109:$BM109,\"\")),\"\")","v":5.0473944244719497},1.4625000000000001,3.7390934085005476,"O",null,29.3,9,{"$f":"IFERROR(_xlfn.STDEV.S(IF((($B$9:$BM$9=\"Mon\")+($B$9:$BM$9=\"Tue\")+($B$9:$BM$9=\"Wed\")+($B$9:$BM$9=\"Thu\")+($B$9:$BM$9=\"Fri\"))*($B109:$BM109<>\"\"),$B109:$BM109,\"\")),\"\")","v":4.9187848544579031},1.4650000000000001,3.2135470541461935,"O",null,28.333333333333332,5,{"$f":"IFERROR(_xlfn.STDEV.S(IF((($B$9:$BM$9=\"Tue\")+($B$9:$BM$9=\"Wed\")+($B$9:$BM$9=\"Thu\"))*($B109:$BM109<>\"\"),$B109:$BM109,\"\")),\"\")","v":5.7008771254956896},1.4166666666666667,4.9969473015543997,"O",null,8,4,{"$f":"IFERROR(_xlfn.STDEV.S(IF(($B$9:$BM$9=\"Sat\")+($B$9:$BM$9=\"Sun\"),$B109:$BM109,\"\")),\"\")","v":2},0.4,1.9599639845400536,"O"]
["10:00:00",31,29,12,13,31,34,27,30,24,16,11,29,28,"","","","","","","","","","","","","","","","","","","","","","","","","","","","","","","","","","","","","","","","","","","","","","","","","","","",null,null,{"$f":"IF(COUNTIFS($B$9:$BM$9,BP$8,$B110:$BM110,\">=0\")=0,\"\",SUMIFS($B110:$BM110,$B$9:$BM$9,BP$8)/COUNTIFS($B$9:$BM$9,BP$8,$B110:$BM110,\">=0\"))","v":30},31,27,30.5,26.5,14,12,null,29.625,7,{"$f":"IFERROR(_xlfn.STDEV.S(IF((($B$9:$BM$9=\"Mon\")+($B$9:$BM$9=\"Tue\")+($B$9:$BM$9=\"Wed\")+($B$9:$BM$9=\"Thu\"))*($B110:$BM110<>\"\"),$B110:$BM110,\"\")),\"\")","v":2.3094010767585029},1.4812500000000002,1.7107968225794385,"O",null,29,9,{"$f":"IFERROR(_xlfn.STDEV.S(IF((($B$9:$BM$9=\"Mon\")+($B$9:$BM$9=\"Tue\")+($B$9:$BM$9=\"Wed\")+($B$9:$BM$9=\"Thu\")+($B$9:$BM$9=\"Fri\"))*($B110:$BM110<>\"\"),$B110:$BM110,\"\")),\"\")","v":2.8185890875479602},1.4500000000000002,1.8414443662705382,"O",null,29.5,5,{"$f":"IFERROR(_xlfn.STDEV.S(IF((($B$9:$BM$9=\"Tue\")+($B$9:$BM$9=\"Wed\")+($B$9:$BM$9=\"Thu\"))*($B110:$BM110<>\"\"),$B110:$BM110,\"\")),\"\")","v":2.7386127875258306},1.4750000000000001,2.400455838177654,"O",null,13,4,{"$f":"IFERROR(_xlfn.STDEV.S(IF(($B$9:$BM$9=\"Sat\")+($B$9:$BM$9=\"Sun\"),$B110:$BM110,\"\")),\"\")","v":2.1602468994692869},0.65,2.1170030603370602,"O"]
["11:00:00",29,33,9,15,36,41,26,36,29,9,6,38,43,"","","","","","","","","","","","","","","","","","","","","","","","","","","","","","","","","","","","","","","","","","","","","","","","","","","",null,null,37,42,26,32.5,31,9,10.5,null,34.375,7,{"$f":"IFERROR(_xlfn.STDEV.S(IF((($B$9:$BM$9=\"Mon\")+($B$9:$BM$9=\"Tue\")+($B$9:$BM$9=\"Wed\")+($B$9:$BM$9=\"Thu\"))*($B111:$BM111<>\"\"),$B111:$BM111,\"\")),\"\")","v":6.1334368521284794},1.71875,4.5436301141944559,"O",null,33.700000000000003,9,{"$f":"IFERROR(_xlfn.STDEV.S(IF((($B$9:$BM$9=\"Mon\")+($B$9:$BM$9=\"Tue\")+($B$9:$BM$9=\"Wed\")+($B$9:$BM$9=\"Thu\")+($B$9:$BM$9=\"Fri\"))*($B111:$BM111<>\"\"),$B111:$BM111,\"\")),\"\")","v":5.7686894332922645},1.6850000000000003,3.7688078424165368,"O",null,33.5,5,{"$f":"IFERROR(_xlfn.STDEV.S(IF((($B$9:$BM$9=\"Tue\")+($B$9:$BM$9=\"Wed\")+($B$9:$BM$9=\"Thu\"))*($B111:$BM111<>\"\"),$B111:$BM111,\"\")),\"\")","v":7.3824115301167001},1.675,6.4708501099597378,"O",null,9.75,4,{"$f":"IFERROR(_xlfn.STDEV.S(IF(($B$9:$BM$9=\"Sat\")+($B$9:$BM$9=\"Sun\"),$B111:$BM111,\"\")),\"\")","v":3.7749172176353749},0.48750000000000004,3.6993508955927412,"O"]
["12:00:00",36,30,12,8,38,29,36,30,33,6,3,32,29,"","","","","","","","","","","","","","","","","","","","","","","","","","","","","","","","","","","","","","","","","","","","","","","","","","","",null,null,35,29,36,33,31.5,9,5.5,null,33.25,7,{"$f":"IFERROR(_xlfn.STDEV.S(IF((($B$9:$BM$9=\"Mon\")+($B$9:$BM$9=\"Tue\")+($B$9:$BM$9=\"Wed\")+($B$9:$BM$9=\"Thu\"))*($B112:$BM112<>\"\"),$B112:$BM112,\"\")),\"\")","v":3.7606990231680579},1.6625000000000001,2.7859136311411277,"O",null,32.9,9,{"$f":"IFERROR(_xlfn.STDEV.S(IF((($B$9:$BM$9=\"Mon\")+($B$9:$BM$9=\"Tue\")+($B$9:$BM$9=\"Wed\")+($B$9:$BM$9=\"Thu\")+($B$9:$BM$9=\"Fri\"))*($B112:$BM112<>\"\"),$B112:$BM112,\"\")),\"\")","v":3.3952581312438941},1.645,2.2181945518182666,"O",null,32.666666666666664,5,{"$f":"IFERROR(_xlfn.STDEV.S(IF((($B$9:$BM$9=\"Tue\")+($B$9:$BM$9=\"Wed\")+($B$9:$BM$9=\"Thu\"))*($B112:$BM112<>\"\"),$B112:$BM112,\"\")),\"\")","v":3.6742346141747673},1.6333333333333333,3.2205494586908818,"O",null,7.25,4,{"$f":"IFERROR(_xlfn.STDEV.S(IF(($B$9:$BM$9=\"Sat\")+($B$9:$BM$9=\"Sun\"),$B112:$BM112,\"\")),\"\")","v":3.7749172176353749},0.36250000000000004,3.6993508955927412,"O"]
["13:00:00",29,22,10,8,28,35,30,23,36,9,13,35,11,"","","","","","","","","","","","","","","","","","","","","","","","","","","","","","","","","","","","","","","","","","","","","","","","","","","",null,null,31.5,23,30,26,29,9.5,10.5,null,27.625,7,{"$f":"IFERROR(_xlfn.STDEV.S(IF((($B$9:$BM$9=\"Mon\")+($B$9:$BM$9=\"Tue\")+($B$9:$BM$9=\"Wed\")+($B$9:$BM$9=\"Thu\"))*($B113:$BM113<>\"\"),$B113:$BM113,\"\")),\"\")","v":8.3008892237375349},1.3812500000000001,6.1492717966889163,"O",null,27.9,9,{"$f":"IFERROR(_xlfn.STDEV.S(IF((($B$9:$BM$9=\"Mon\")+($B$9:$BM$9=\"Tue\")+($B$9:$BM$9=\"Wed\")+($B$9:$BM$9=\"Thu\")+($B$9:$BM$9=\"Fri\"))*($B113:$BM113<>\"\"),$B113:$BM113,\"\")),\"\")","v":8.031189202104505},1.395,5.2469471963839336,"O",null,26.333333333333332,5,{"$f":"IFERROR(_xlfn.STDEV.S(IF((($B$9:$BM$9=\"Tue\")+($B$9:$BM$9=\"Wed\")+($B$9:$BM$9=\"Thu\"))*($B113:$BM113<>\"\"),$B113:$BM113,\"\")),\"\")","v":9.208691546577068},1.3166666666666667,8.0716257097918191,"O",null,10,4,{"$f":"IFERROR(_xlfn.STDEV.S(IF(($B$9:$BM$9=\"Sat\")+($B$9:$BM$9=\"Sun\"),$B113:$BM113,\"\")),\"\")","v":2.1602468994692869},0.5,2.1170030603370602,"O"]
["14:00:00",31,28,7,10,39,29,39,40,42,8,8,23,0,"","","","","","","","","","","","","","","","","","","","","","","","","","","","","","","","","","","","","","","","","","","","","","","","","","","",null,null,31,14.5,39,35.5,35,7.5,9,null,30,6,{"$f":"IFERROR(_xlfn.STDEV.S(IF((($B$9:$BM$9=\"Mon\")+($B$9:$BM$9=\"Tue\")+($B$9:$BM$9=\"Wed\")+($B$9:$BM$9=\"Thu\"))*($B114:$BM114<>\"\"),$B114:$BM114,\"\")),\"\")","v":14.150551057753733},1.5,11.322590966671978,"O",null,31,8,{"$f":"IFERROR(_xlfn.STDEV.S(IF((($B$9:$BM$9=\"Mon\")+($B$9:$BM$9=\"Tue\")+($B$9:$BM$9=\"Wed\")+($B$9:$BM$9=\"Thu\")+($B$9:$BM$9=\"Fri\"))*($B114:$BM114<>\"\"),$B114:$BM114,\"\")),\"\")","v":13.042665031009234},1.55,9.0379396730937511,"O",null,29.666666666666668,4,{"$f":"IFERROR(_xlfn.STDEV.S(IF((($B$9:$BM$9=\"Tue\")+($B$9:$BM$9=\"Wed\")+($B$9:$BM$9=\"Thu\"))*($B114:$BM114<>\"\"),$B114:$BM114,\"\")),\"\")","v":16.26960356001338},1.4833333333333334,15.943918510185432,"O",null,8.25,4,{"$f":"IFERROR(_xlfn.STDEV.S(IF(($B$9:$BM$9=\"Sat\")+($B$9:$BM$9=\"Sun\"),$B114:$BM114,\"\")),\"\")","v":1.2583057392117916},0.41250000000000003,1.2331169651975802,"O"]
["15:00:00",34,21,2,9,33,25,29,25,23,3,5,36,0,"","","","","","","","","","","","","","","","","","","","","","","","","","","","","","","","","","","","","","","","","","","","","","","","","","","",null,null,34.5,12.5,29,29.5,22,2.5,7,null,26.375,6,{"$f":"IFERROR(_xlfn.STDEV.S(IF((($B$9:$BM$9=\"Mon\")+($B$9:$BM$9=\"Tue\")+($B$9:$BM$9=\"Wed\")+($B$9:$BM$9=\"Thu\"))*($B115:$BM115<>\"\"),$B115:$BM115,\"\")),\"\")","v":12.24744871391589},1.3187500000000001,9.7998199227002676,"O",null,25.5,8,{"$f":"IFERROR(_xlfn.STDEV.S(IF((($B$9:$BM$9=\"Mon\")+($B$9:$BM$9=\"Tue\")+($B$9:$BM$9=\"Wed\")+($B$9:$BM$9=\"Thu\")+($B$9:$BM$9=\"Fri\"))*($B115:$BM115<>\"\"),$B115:$BM115,\"\")),\"\")","v":10.763879928311681},1.2750000000000001,7.4588511787439451,"O",null,23.666666666666668,4,{"$f":"IFERROR(_xlfn.STDEV.S(IF((($B$9:$BM$9=\"Tue\")+($B$9:$BM$9=\"Wed\")+($B$9:$BM$9=\"Thu\"))*($B115:$BM115<>\"\"),$B115:$BM115,\"\")),\"\")","v":13.164345787011216},1.1833333333333333,12.900821811286786,"O",null,4.75,4,{"$f":"IFERROR(_xlfn.STDEV.S(IF(($B$9:$BM$9=\"Sat\")+($B$9:$BM$9=\"Sun\"),$B115:$BM115,\"\")),\"\")","v":3.0956959368344519},0.23750000000000002,3.0337262716412532,"O"]
["16:00:00",21,19,13,5,18,32,13,27,23,8,1,29,0,"","","","","","","","","","","","","","","","","","","","","","","","","","","","","","","","","","","","","","","","","","","","","","","","","","","",null,null,23.5,16,13,24,21,10.5,3,null,19.125,6,{"$f":"IFERROR(_xlfn.STDEV.S(IF((($B$9:$BM$9=\"Mon\")+($B$9:$BM$9=\"Tue\")+($B$9:$BM$9=\"Wed\")+($B$9:$BM$9=\"Thu\"))*($B116:$BM116<>\"\"),$B116:$BM116,\"\")),\"\")","v":11.015141094572204},0.95625000000000004,8.8137865829388158,"O",null,19.5,8,{"$f":"IFERROR(_xlfn.STDEV.S(IF((($B$9:$BM$9=\"Mon\")+($B$9:$BM$9=\"Tue\")+($B$9:$BM$9=\"Wed\")+($B$9:$BM$9=\"Thu\")+($B$9:$BM$9=\"Fri\"))*($B116:$BM116<>\"\"),$B116:$BM116,\"\")),\"\")","v":9.601793813889385},0.97500000000000009,6.6535813836431865,"O",null,17.666666666666668,4,{"$f":"IFERROR(_xlfn.STDEV.S(IF((($B$9:$BM$9=\"Tue\")+($B$9:$BM$9=\"Wed\")+($B$9:$BM$9=\"Thu\"))*($B116:$BM116<>\"\"),$B116:$BM116,\"\")),\"\")","v":12.581732790041283},0.88333333333333341,12.329871565793779,"O",null,6.75,4,{"$f":"IFERROR(_xlfn.STDEV.S(IF(($B$9:$BM$9=\"Sat\")+($B$9:$BM$9=\"Sun\"),$B116:$BM116,\"\")),\"\")","v":5.0579969684978394},0.33750000000000002,4.9567459460842684,"O"]
["17:00:00",16,10,7,3,16,19,18,21,21,10,5,16,0,"","","","","","","","","","","","","","","","","","","","","","","","","","","","","","","","","","","","","","","","","","","","","","","","","","","",null,null,16,9.5,18,18.5,15.5,8.5,4,null,15.5,6,{"$f":"IFERROR(_xlfn.STDEV.S(IF((($B$9:$BM$9=\"Mon\")+($B$9:$BM$9=\"Tue\")+($B$9:$BM$9=\"Wed\")+($B$9:$BM$9=\"Thu\"))*($B117:$BM117<>\"\"),$B117:$BM117,\"\")),\"\")","v":6.9385053969033663},0.77500000000000002,5.5518585960746165,"O",null,15.5,8,{"$f":"IFERROR(_xlfn.STDEV.S(IF((($B$9:$BM$9=\"Mon\")+($B$9:$BM$9=\"Tue\")+($B$9:$BM$9=\"Wed\")+($B$9:$BM$9=\"Thu\")+($B$9:$BM$9=\"Fri\"))*($B117:$BM117<>\"\"),$B117:$BM117,\"\")),\"\")","v":6.6101773383506481},0.77500000000000002,4.580535026424867,"O",null,15.333333333333334,4,{"$f":"IFERROR(_xlfn.STDEV.S(IF((($B$9:$BM$9=\"Tue\")+($B$9:$BM$9=\"Wed\")+($B$9:$BM$9=\"Thu\"))*($B117:$BM117<>\"\"),$B117:$BM117,\"\")),\"\")","v":8.4675852520066179},0.76666666666666672,8.2980810649777421,"O",null,6.25,4,{"$f":"IFERROR(_xlfn.STDEV.S(IF(($B$9:$BM$9=\"Sat\")+($B$9:$BM$9=\"Sun\"),$B117:$BM117,\"\")),\"\")","v":2.9860788111948193},0.3125,2.9263034624700124,"O"]
["18:00:00",20,10,5,4,16,13,11,15,16,6,5,7,0,"","","","","","","","","","","","","","","","","","","","","","","","","","","","","","","","","","","","","","","","","","","","","","","","","","","",null,null,11.5,6.5,11,17.5,13,5.5,4.5,null,11.625,6,{"$f":"IFERROR(_xlfn.STDEV.S(IF((($B$9:$BM$9=\"Mon\")+($B$9:$BM$9=\"Tue\")+($B$9:$BM$9=\"Wed\")+($B$9:$BM$9=\"Thu\"))*($B118:$BM118<>\"\"),$B118:$BM118,\"\")),\"\")","v":6.5755680544037594},0.58125000000000004,5.2614535751759952,"O",null,11.9,8,{"$f":"IFERROR(_xlfn.STDEV.S(IF((($B$9:$BM$9=\"Mon\")+($B$9:$BM$9=\"Tue\")+($B$9:$BM$9=\"Wed\")+($B$9:$BM$9=\"Thu\")+($B$9:$BM$9=\"Fri\"))*($B118:$BM118<>\"\"),$B118:$BM118,\"\")),\"\")","v":5.9160797830996161},0.59500000000000008,4.0995587982777844,"O",null,11.666666666666666,4,{"$f":"IFERROR(_xlfn.STDEV.S(IF((($B$9:$BM$9=\"Tue\")+($B$9:$BM$9=\"Wed\")+($B$9:$BM$9=\"Thu\"))*($B118:$BM118<>\"\"),$B118:$BM118,\"\")),\"\")","v":7.3959448348402379},0.58333333333333337,7.2478927539659503,"O",null,5,4,{"$f":"IFERROR(_xlfn.STDEV.S(IF(($B$9:$BM$9=\"Sat\")+($B$9:$BM$9=\"Sun\"),$B118:$BM118,\"\")),\"\")","v":0.81649658092772603},0.25,0.80015194605921813,"O"]
["19:00:00",9,6,1,2,5,10,6,5,12,1,3,8,0,"","","","","","","","","","","","","","","","","","","","","","","","","","","","","","","","","","","","","","","","","","","","","","","","","","","",null,null,6.5,5,6,7,9,1,2.5,null,6.125,6,{"$f":"IFERROR(_xlfn.STDEV.S(IF((($B$9:$BM$9=\"Mon\")+($B$9:$BM$9=\"Tue\")+($B$9:$BM$9=\"Wed\")+($B$9:$BM$9=\"Thu\"))*($B119:$BM119<>\"\"),$B119:$BM119,\"\")),\"\")","v":3.3380918415851202},0.30625000000000002,2.6709806831687337,"O",null,6.7,8,{"$f":"IFERROR(_xlfn.STDEV.S(IF((($B$9:$BM$9=\"Mon\")+($B$9:$BM$9=\"Tue\")+($B$9:$BM$9=\"Wed\")+($B$9:$BM$9=\"Thu\")+($B$9:$BM$9=\"Fri\"))*($B119:$BM119<>\"\"),$B119:$BM119,\"\")),\"\")","v":3.4920544732928271},0.33500000000000002,2.4198258246869635,"O",null,6,4,{"$f":"IFERROR(_xlfn.STDEV.S(IF((($B$9:$BM$9=\"Tue\")+($B$9:$BM$9=\"Wed\")+($B$9:$BM$9=\"Thu\"))*($B119:$BM119<>\"\"),$B119:$BM119,\"\")),\"\")","v":3.9370039370059056},0.30000000000000004,3.8581929617619863,"O",null,1.75,4,{"$f":"IFERROR(_xlfn.STDEV.S(IF(($B$9:$BM$9=\"Sat\")+($B$9:$BM$9=\"Sun\"),$B119:$BM119,\"\")),\"\")","v":0.9574271077563381},8.7500000000000008E-2,0.93826132451238586,"O"]
["20:00:00",7,2,1,1,5,5,1,2,3,1,1,3,0,"","","","","","","","","","","","","","","","","","","","","","","","","","","","","","","","","","","","","","","","","","","","","","","","","","","",null,null,4,2.5,1,4.5,2.5,1,1,null,3,6,{"$f":"IFERROR(_xlfn.STDEV.S(IF((($B$9:$BM$9=\"Mon\")+($B$9:$BM$9=\"Tue\")+($B$9:$BM$9=\"Wed\")+($B$9:$BM$9=\"Thu\"))*($B120:$BM120<>\"\"),$B120:$BM120,\"\")),\"\")","v":2.4976179127511156},0.15000000000000002,1.9984738334001679,"O",null,2.9,8,{"$f":"IFERROR(_xlfn.STDEV.S(IF((($B$9:$BM$9=\"Mon\")+($B$9:$BM$9=\"Tue\")+($B$9:$BM$9=\"Wed\")+($B$9:$BM$9=\"Thu\")+($B$9:$BM$9=\"Fri\"))*($B120:$BM120<>\"\"),$B120:$BM120,\"\")),\"\")","v":2.2047927592204921},0.14499999999999999,1.5278153584510787,"O",null,2.6666666666666665,4,{"$f":"IFERROR(_xlfn.STDEV.S(IF((($B$9:$BM$9=\"Tue\")+($B$9:$BM$9=\"Wed\")+($B$9:$BM$9=\"Thu\"))*($B120:$BM120<>\"\"),$B120:$BM120,\"\")),\"\")","v":2.9154759474226504},0.13333333333333333,2.8571139273705928,"O",null,1,4,{"$f":"IFERROR(_xlfn.STDEV.S(IF(($B$9:$BM$9=\"Sat\")+($B$9:$BM$9=\"Sun\"),$B120:$BM120,\"\")),\"\")","v":0},0.05,"","P"]
["21:00:00",3,5,2,5,4,3,2,5,2,2,3,3,0,"","","","","","","","","","","","","","","","","","","","","","","","","","","","","","","","","","","","","","","","","","","","","","","","","","","",null,null,3.5,1.5,2,4,3.5,2,4,null,2.75,6,{"$f":"IFERROR(_xlfn.STDEV.S(IF((($B$9:$BM$9=\"Mon\")+($B$9:$BM$9=\"Tue\")+($B$9:$BM$9=\"Wed\")+($B$9:$BM$9=\"Thu\"))*($B121:$BM121<>\"\"),$B121:$BM121,\"\")),\"\")","v":1.5735915849388862},0.13750000000000001,1.2591123689912593,"O",null,2.9,8,{"$f":"IFERROR(_xlfn.STDEV.S(IF((($B$9:$BM$9=\"Mon\")+($B$9:$BM$9=\"Tue\")+($B$9:$BM$9=\"Wed\")+($B$9:$BM$9=\"Thu\")+($B$9:$BM$9=\"Fri\"))*($B121:$BM121<>\"\"),$B121:$BM121,\"\")),\"\")","v":1.5811388300841898},0.14499999999999999,1.0956531757207268,"O",null,2.5,4,{"$f":"IFERROR(_xlfn.STDEV.S(IF((($B$9:$BM$9=\"Tue\")+($B$9:$BM$9=\"Wed\")+($B$9:$BM$9=\"Thu\"))*($B121:$BM121<>\"\"),$B121:$BM121,\"\")),\"\")","v":1.8165902124584952},0.125,1.7802256955433073,"O",null,3,4,{"$f":"IFERROR(_xlfn.STDEV.S(IF(($B$9:$BM$9=\"Sat\")+($B$9:$BM$9=\"Sun\"),$B121:$BM121,\"\")),\"\")","v":1.4142135623730951},0.15000000000000002,1.3859038243496775,"O"]
["22:00:00",3,1,0,1,3,1,1,2,4,1,0,5,0,"","","","","","","","","","","","","","","","","","","","","","","","","","","","","","","","","","","","","","","","","","","","","","","","","","","",null,null,4,0.5,1,2.5,2.5,0.5,0.5,null,2,6,{"$f":"IFERROR(_xlfn.STDEV.S(IF((($B$9:$BM$9=\"Mon\")+($B$9:$BM$9=\"Tue\")+($B$9:$BM$9=\"Wed\")+($B$9:$BM$9=\"Thu\"))*($B122:$BM122<>\"\"),$B122:$BM122,\"\")),\"\")","v":1.6761634196950514},0.1,1.3411854221822694,"O",null,2.1,8,{"$f":"IFERROR(_xlfn.STDEV.S(IF((($B$9:$BM$9=\"Mon\")+($B$9:$BM$9=\"Tue\")+($B$9:$BM$9=\"Wed\")+($B$9:$BM$9=\"Thu\")+($B$9:$BM$9=\"Fri\"))*($B122:$BM122<>\"\"),$B122:$BM122,\"\")),\"\")","v":1.6414763002993509},0.10500000000000001,1.1374641410821151,"O",null,1.3333333333333333,4,{"$f":"IFERROR(_xlfn.STDEV.S(IF((($B$9:$BM$9=\"Tue\")+($B$9:$BM$9=\"Wed\")+($B$9:$BM$9=\"Thu\"))*($B122:$BM122<>\"\"),$B122:$BM122,\"\")),\"\")","v":1.1401754250991378},6.6666666666666666E-2,1.1173513846259777,"O",null,0.5,2,{"$f":"IFERROR(_xlfn.STDEV.S(IF(($B$9:$BM$9=\"Sat\")+($B$9:$BM$9=\"Sun\"),$B122:$BM122,\"\")),\"\")","v":0.57735026918962573},2.5000000000000001E-2,0.80015194605921802,"O"]
["23:00:00",{"$f":"IF(B$8=\"\",\"\",SUMIFS(INDIRECT(\"'\"&TEXT(B$8,\"DD_MMM_YYYY\")&\"'!J$6:J$101\"),INDIRECT(\"'\"&TEXT(B$8,\"DD_MMM_YYYY\")&\"'!a$6:a$101\"),\">=\"&$A123))","v":0},{"$f":"IF(C$8=\"\",\"\",SUMIFS(INDIRECT(\"'\"&TEXT(C$8,\"DD_MMM_YYYY\")&\"'!J$6:J$101\"),INDIRECT(\"'\"&TEXT(C$8,\"DD_MMM_YYYY\")&\"'!a$6:a$101\"),\">=\"&$A123))","v":0},0,0,0,1,0,0,3,0,1,0,0,"","","","","","","","","","","","","","","","","","","","","","","","","","","","","","","","","","","","","","","","","","","","","","","","","","","",null,null,0,0.5,0,0,1.5,0,0.5,null,0.125,1,{"$f":"IFERROR(_xlfn.STDEV.S(IF((($B$9:$BM$9=\"Mon\")+($B$9:$BM$9=\"Tue\")+($B$9:$BM$9=\"Wed\")+($B$9:$BM$9=\"Thu\"))*($B123:$BM123<>\"\"),$B123:$BM123,\"\")),\"\")","v":0.37796447300922725},6.2500000000000003E-3,0.7407967545337466,"O",null,0.4,2,{"$f":"IFERROR(_xlfn.STDEV.S(IF((($B$9:$BM$9=\"Mon\")+($B$9:$BM$9=\"Tue\")+($B$9:$BM$9=\"Wed\")+($B$9:$BM$9=\"Thu\")+($B$9:$BM$9=\"Fri\"))*($B123:$BM123<>\"\"),$B123:$BM123,\"\")),\"\")","v":1.0137937550497031},2.0000000000000004E-2,1.4050206422252036,"O",null,0.16666666666666666,1,{"$f":"IFERROR(_xlfn.STDEV.S(IF((($B$9:$BM$9=\"Tue\")+($B$9:$BM$9=\"Wed\")+($B$9:$BM$9=\"Thu\"))*($B123:$BM123<>\"\"),$B123:$BM123,\"\")),\"\")","v":0.44721359549995793},8.3333333333333332E-3,0.8765225405765813,"O",null,0.25,1,{"$f":"IFERROR(_xlfn.STDEV.S(IF(($B$9:$BM$9=\"Sat\")+($B$9:$BM$9=\"Sun\"),$B123:$BM123,\"\")),\"\")","v":0.5},1.2500000000000001E-2,0.9799819922700268,"O"]
["TOTAL",{"$f":"SUM(B100:B123)","v":383},{"$f":"SUM(C100:C123)","v":328},134,106,377,372,345,361,366,124,83,372,221,0,0,0,0,0,0,0,0,0,0,0,0,0,0,0,0,0,0,0,0,0,0,0,0,0,0,0,0,0,0,0,0,0,0,0,0,0,0,0,0,0,0,0,0,0,0,0,0,0,0,0,null,null,{"$f":"SUM(BP100:BP123)","v":374.5},{"$f":"SUM(BQ100:BQ123)","v":296.5},345,372,347,129,94.5]

{"sheet":"1hr_summary_dir 2","index":19,"n_rows":124,"n_cols":102,"rows_kept":124,"cut":false,"hidden":false,"merged":[]}
["* The table is calculated automatically based on sheet 'Form'"]
["!!! it is at that stage the user should manually remove all the values, which are outliers, incomplete, etc."]
[]
["AUTOMATIC TRAFFIC COUNT, 1HR SUMMARY"]
[{"$f":"'Site Plan'!A20","v":"Direction 2"},{"$f":"'Site Plan'!C20","v":"Westbound"}]
[]
["CAR + LGV + HGV",null,null,null,null,null,null,null,null,null,null,null,null,null,null,null,null,null,null,null,null,null,null,null,null,null,null,null,null,null,null,null,null,null,null,null,null,null,null,null,null,null,null,null,null,null,null,null,null,null,null,null,null,null,null,null,null,null,null,null,null,null,null,null,null,null,null,"STATISTICS"]
[null,{"$f":"'Site Plan'!$Q$3","v":"2016-04-07"},{"$f":"IF($B$8+COLUMN(B8)-1<='Site Plan'!$Q$4,$B$8+COLUMN(B8)-1,\"\")","v":"2016-04-08"},{"$f":"IF($B$8+COLUMN(C8)-1<='Site Plan'!$Q$4,$B$8+COLUMN(C8)-1,\"\")","v":"2016-04-09"},{"$f":"IF($B$8+COLUMN(D8)-1<='Site Plan'!$Q$4,$B$8+COLUMN(D8)-1,\"\")","v":"2016-04-10"},{"$f":"IF($B$8+COLUMN(E8)-1<='Site Plan'!$Q$4,$B$8+COLUMN(E8)-1,\"\")","v":"2016-04-11"},{"$f":"IF($B$8+COLUMN(F8)-1<='Site Plan'!$Q$4,$B$8+COLUMN(F8)-1,\"\")","v":"2016-04-12"},{"$f":"IF($B$8+COLUMN(G8)-1<='Site Plan'!$Q$4,$B$8+COLUMN(G8)-1,\"\")","v":"2016-04-13"},{"$f":"IF($B$8+COLUMN(H8)-1<='Site Plan'!$Q$4,$B$8+COLUMN(H8)-1,\"\")","v":"2016-04-14"},{"$f":"IF($B$8+COLUMN(I8)-1<='Site Plan'!$Q$4,$B$8+COLUMN(I8)-1,\"\")","v":"2016-04-15"},{"$f":"IF($B$8+COLUMN(J8)-1<='Site Plan'!$Q$4,$B$8+COLUMN(J8)-1,\"\")","v":"2016-04-16"},{"$f":"IF($B$8+COLUMN(K8)-1<='Site Plan'!$Q$4,$B$8+COLUMN(K8)-1,\"\")","v":"2016-04-17"},{"$f":"IF($B$8+COLUMN(L8)-1<='Site Plan'!$Q$4,$B$8+COLUMN(L8)-1,\"\")","v":"2016-04-18"},{"$f":"IF($B$8+COLUMN(M8)-1<='Site Plan'!$Q$4,$B$8+COLUMN(M8)-1,\"\")","v":"2016-04-19"},{"$f":"IF($B$8+COLUMN(N8)-1<='Site Plan'!$Q$4,$B$8+COLUMN(N8)-1,\"\")","v":""},{"$f":"IF($B$8+COLUMN(O8)-1<='Site Plan'!$Q$4,$B$8+COLUMN(O8)-1,\"\")","v":""},{"$f":"IF($B$8+COLUMN(P8)-1<='Site Plan'!$Q$4,$B$8+COLUMN(P8)-1,\"\")","v":""},{"$f":"IF($B$8+COLUMN(Q8)-1<='Site Plan'!$Q$4,$B$8+COLUMN(Q8)-1,\"\")","v":""},{"$f":"IF($B$8+COLUMN(R8)-1<='Site Plan'!$Q$4,$B$8+COLUMN(R8)-1,\"\")","v":""},{"$f":"IF($B$8+COLUMN(S8)-1<='Site Plan'!$Q$4,$B$8+COLUMN(S8)-1,\"\")","v":""},{"$f":"IF($B$8+COLUMN(T8)-1<='Site Plan'!$Q$4,$B$8+COLUMN(T8)-1,\"\")","v":""},{"$f":"IF($B$8+COLUMN(U8)-1<='Site Plan'!$Q$4,$B$8+COLUMN(U8)-1,\"\")","v":""},{"$f":"IF($B$8+COLUMN(V8)-1<='Site Plan'!$Q$4,$B$8+COLUMN(V8)-1,\"\")","v":""},{"$f":"IF($B$8+COLUMN(W8)-1<='Site Plan'!$Q$4,$B$8+COLUMN(W8)-1,\"\")","v":""},{"$f":"IF($B$8+COLUMN(X8)-1<='Site Plan'!$Q$4,$B$8+COLUMN(X8)-1,\"\")","v":""},{"$f":"IF($B$8+COLUMN(Y8)-1<='Site Plan'!$Q$4,$B$8+COLUMN(Y8)-1,\"\")","v":""},{"$f":"IF($B$8+COLUMN(Z8)-1<='Site Plan'!$Q$4,$B$8+COLUMN(Z8)-1,\"\")","v":""},{"$f":"IF($B$8+COLUMN(AA8)-1<='Site Plan'!$Q$4,$B$8+COLUMN(AA8)-1,\"\")","v":""},{"$f":"IF($B$8+COLUMN(AB8)-1<='Site Plan'!$Q$4,$B$8+COLUMN(AB8)-1,\"\")","v":""},{"$f":"IF($B$8+COLUMN(AC8)-1<='Site Plan'!$Q$4,$B$8+COLUMN(AC8)-1,\"\")","v":""},{"$f":"IF($B$8+COLUMN(AD8)-1<='Site Plan'!$Q$4,$B$8+COLUMN(AD8)-1,\"\")","v":""},{"$f":"IF($B$8+COLUMN(AE8)-1<='Site Plan'!$Q$4,$B$8+COLUMN(AE8)-1,\"\")","v":""},{"$f":"IF($B$8+COLUMN(AF8)-1<='Site Plan'!$Q$4,$B$8+COLUMN(AF8)-1,\"\")","v":""},{"$f":"IF($B$8+COLUMN(AG8)-1<='Site Plan'!$Q$4,$B$8+COLUMN(AG8)-1,\"\")","v":""},{"$f":"IF($B$8+COLUMN(AH8)-1<='Site Plan'!$Q$4,$B$8+COLUMN(AH8)-1,\"\")","v":""},{"$f":"IF($B$8+COLUMN(AI8)-1<='Site Plan'!$Q$4,$B$8+COLUMN(AI8)-1,\"\")","v":""},{"$f":"IF($B$8+COLUMN(AJ8)-1<='Site Plan'!$Q$4,$B$8+COLUMN(AJ8)-1,\"\")","v":""},{"$f":"IF($B$8+COLUMN(AK8)-1<='Site Plan'!$Q$4,$B$8+COLUMN(AK8)-1,\"\")","v":""},{"$f":"IF($B$8+COLUMN(AL8)-1<='Site Plan'!$Q$4,$B$8+COLUMN(AL8)-1,\"\")","v":""},{"$f":"IF($B$8+COLUMN(AM8)-1<='Site Plan'!$Q$4,$B$8+COLUMN(AM8)-1,\"\")","v":""},{"$f":"IF($B$8+COLUMN(AN8)-1<='Site Plan'!$Q$4,$B$8+COLUMN(AN8)-1,\"\")","v":""},{"$f":"IF($B$8+COLUMN(AO8)-1<='Site Plan'!$Q$4,$B$8+COLUMN(AO8)-1,\"\")","v":""},{"$f":"IF($B$8+COLUMN(AP8)-1<='Site Plan'!$Q$4,$B$8+COLUMN(AP8)-1,\"\")","v":""},{"$f":"IF($B$8+COLUMN(AQ8)-1<='Site Plan'!$Q$4,$B$8+COLUMN(AQ8)-1,\"\")","v":""},{"$f":"IF($B$8+COLUMN(AR8)-1<='Site Plan'!$Q$4,$B$8+COLUMN(AR8)-1,\"\")","v":""},{"$f":"IF($B$8+COLUMN(AS8)-1<='Site Plan'!$Q$4,$B$8+COLUMN(AS8)-1,\"\")","v":""},{"$f":"IF($B$8+COLUMN(AT8)-1<='Site Plan'!$Q$4,$B$8+COLUMN(AT8)-1,\"\")","v":""},{"$f":"IF($B$8+COLUMN(AU8)-1<='Site Plan'!$Q$4,$B$8+COLUMN(AU8)-1,\"\")","v":""},{"$f":"IF($B$8+COLUMN(AV8)-1<='Site Plan'!$Q$4,$B$8+COLUMN(AV8)-1,\"\")","v":""},{"$f":"IF($B$8+COLUMN(AW8)-1<='Site Plan'!$Q$4,$B$8+COLUMN(AW8)-1,\"\")","v":""},{"$f":"IF($B$8+COLUMN(AX8)-1<='Site Plan'!$Q$4,$B$8+COLUMN(AX8)-1,\"\")","v":""},{"$f":"IF($B$8+COLUMN(AY8)-1<='Site Plan'!$Q$4,$B$8+COLUMN(AY8)-1,\"\")","v":""},{"$f":"IF($B$8+COLUMN(AZ8)-1<='Site Plan'!$Q$4,$B$8+COLUMN(AZ8)-1,\"\")","v":""},{"$f":"IF($B$8+COLUMN(BA8)-1<='Site Plan'!$Q$4,$B$8+COLUMN(BA8)-1,\"\")","v":""},{"$f":"IF($B$8+COLUMN(BB8)-1<='Site Plan'!$Q$4,$B$8+COLUMN(BB8)-1,\"\")","v":""},{"$f":"IF($B$8+COLUMN(BC8)-1<='Site Plan'!$Q$4,$B$8+COLUMN(BC8)-1,\"\")","v":""},{"$f":"IF($B$8+COLUMN(BD8)-1<='Site Plan'!$Q$4,$B$8+COLUMN(BD8)-1,\"\")","v":""},{"$f":"IF($B$8+COLUMN(BE8)-1<='Site Plan'!$Q$4,$B$8+COLUMN(BE8)-1,\"\")","v":""},{"$f":"IF($B$8+COLUMN(BF8)-1<='Site Plan'!$Q$4,$B$8+COLUMN(BF8)-1,\"\")","v":""},{"$f":"IF($B$8+COLUMN(BG8)-1<='Site Plan'!$Q$4,$B$8+COLUMN(BG8)-1,\"\")","v":""},{"$f":"IF($B$8+COLUMN(BH8)-1<='Site Plan'!$Q$4,$B$8+COLUMN(BH8)-1,\"\")","v":""},{"$f":"IF($B$8+COLUMN(BI8)-1<='Site Plan'!$Q$4,$B$8+COLUMN(BI8)-1,\"\")","v":""},{"$f":"IF($B$8+COLUMN(BJ8)-1<='Site Plan'!$Q$4,$B$8+COLUMN(BJ8)-1,\"\")","v":""},{"$f":"IF($B$8+COLUMN(BK8)-1<='Site Plan'!$Q$4,$B$8+COLUMN(BK8)-1,\"\")","v":""},{"$f":"IF($B$8+COLUMN(BL8)-1<='Site Plan'!$Q$4,$B$8+COLUMN(BL8)-1,\"\")","v":""},null,null,"Mon","Tue","Wed","Thu","Fri","Sat","Sun",null,"Mon-Thu",null,null,null,null,null,null,"Mon-Fri",null,null,null,null,null,null,"Tue-Thu",null,null,null,null,null,null,"Sat-Sun"]
["TIME",{"$f":"IF(B8=\"\",\"\",CHOOSE(WEEKDAY(B8),\"Sun\",\"Mon\",\"Tue\",\"Wed\",\"Thu\",\"Fri\",\"Sat\"))","v":"Thu"},{"$f":"IF(C8=\"\",\"\",CHOOSE(WEEKDAY(C8),\"Sun\",\"Mon\",\"Tue\",\"Wed\",\"Thu\",\"Fri\",\"Sat\"))","v":"Fri"},"Sat","Sun","Mon","Tue","Wed","Thu","Fri","Sat","Sun","Mon","Tue","","","","","","","","","","","","","","","","","","","","","","","","","","","","","","","","","","","","","","","","","","","","","","","","","","","",null,null,"Mean","Mean","Mean","Mean","Mean","Mean","Mean",null,"Mean","Number of observations","Standard Deviation"," ± 5% interval of the mean","95% confidence interval","Meet WebTAG criteria?",null,"Mean","Number of observations","Standard Deviation"," ± 5% interval of the mean","95% confidence interval","Meet WebTAG criteria?",null,"Mean","Number of observations","Standard Deviation"," ± 5% interval of the mean","95% confidence interval","Meet WebTAG criteria?",null,"Mean","Number of observations","Standard Deviation"," ± 5% interval of the mean","95% confidence interval","Meet WebTAG criteria?"]
["00:00:00",{"$f":"IF(B$8=\"\",\"\",SUMIFS(INDIRECT(\"'\"&TEXT(B$8,\"DD_MMM_YYYY\")&\"'!S$6:S$101\"),INDIRECT(\"'\"&TEXT(B$8,\"DD_MMM_YYYY\")&\"'!a$6:a$101\"),\">=\"&$A10,INDIRECT(\"'\"&TEXT(B$8,\"DD_MMM_YYYY\")&\"'!a$6:a$101\"),\"<\"&$A11))","v":15},{"$f":"IF(C$8=\"\",\"\",SUMIFS(INDIRECT(\"'\"&TEXT(C$8,\"DD_MMM_YYYY\")&\"'!S$6:S$101\"),INDIRECT(\"'\"&TEXT(C$8,\"DD_MMM_YYYY\")&\"'!a$6:a$101\"),\">=\"&$A10,INDIRECT(\"'\"&TEXT(C$8,\"DD_MMM_YYYY\")&\"'!a$6:a$101\"),\"<\"&$A11))","v":13},45,61,13,12,16,12,20,23,85,5,11,"","","","","","","","","","","","","","","","","","","","","","","","","","","","","","","","","","","","","","","","","","","","","","","","","","","",null,null,{"$f":"IF(COUNTIFS($B$9:$BM$9,BP$8,$B10:$BM10,\">=0\")=0,\"\",SUMIFS($B10:$BM10,$B$9:$BM$9,BP$8)/COUNTIFS($B$9:$BM$9,BP$8,$B10:$BM10,\">=0\"))","v":9},11.5,16,13.5,16.5,34,73,null,{"$f":"IFERROR(AVERAGE(BP10:BS10),\"\")","v":12.5},{"$f":"IFERROR(COUNTIFS($B$9:$BM$9,BQ$8,$B10:$BM10,\">0\")+COUNTIFS($B$9:$BM$9,BR$8,$B10:$BM10,\">0\")+COUNTIFS($B$9:$BM$9,BS$8,$B10:$BM10,\">0\")+COUNTIFS($B$9:$BM$9,BP$8,$B10:$BM10,\">0\"),\"\")","v":7},{"$f":"IFERROR(_xlfn.STDEV.S(IF((($B$9:$BM$9=\"Mon\")+($B$9:$BM$9=\"Tue\")+($B$9:$BM$9=\"Wed\")+($B$9:$BM$9=\"Thu\"))*($B10:$BM10<>\"\"),$B10:$BM10,\"\")),\"\")","v":3.5590260840104371},{"$f":"IFERROR(BX10*0.05,\"\")","v":0.625},{"$f":"IFERROR(_xlfn.CONFIDENCE.NORM(0.05,BZ10,BY10),\"\")","v":2.6365149723358812},{"$f":"IF(BX10=\"\",\"\",IF(OR(BZ10=0,CB10<=CA10),\"P\",\"O\"))","v":"O"},null,{"$f":"IFERROR(AVERAGE(BP10:BT10),\"\")","v":13.3},{"$f":"IFERROR(COUNTIFS($B$9:$BM$9,BQ$8,$B10:$BM10,\">0\")+COUNTIFS($B$9:$BM$9,BR$8,$B10:$BM10,\">0\")+COUNTIFS($B$9:$BM$9,BS$8,$B10:$BM10,\">0\")+COUNTIFS($B$9:$BM$9,BP$8,$B10:$BM10,\">0\")+COUNTIFS($B$9:$BM$9,BT$8,$B10:$BM10,\">0\"),\"\")","v":9},{"$f":"IFERROR(_xlfn.STDEV.S(IF((($B$9:$BM$9=\"Mon\")+($B$9:$BM$9=\"Tue\")+($B$9:$BM$9=\"Wed\")+($B$9:$BM$9=\"Thu\")+($B$9:$BM$9=\"Fri\"))*($B10:$BM10<>\"\"),$B10:$BM10,\"\")),\"\")","v":4.0620192023179804},{"$f":"IFERROR(CE10*0.05,\"\")","v":0.66500000000000004},{"$f":"IFERROR(_xlfn.CONFIDENCE.NORM(0.05,CG10,CF10),\"\")","v":2.6538037803511196},{"$f":"IF(CE10=\"\",\"\",IF(OR(CG10=0,CI10<=CH10),\"P\",\"O\"))","v":"O"},null,{"$f":"IFERROR(AVERAGE(BQ10:BS10),\"\")","v":13.666666666666666},{"$f":"IFERROR(COUNTIFS($B$9:$BM$9,BQ$8,$B10:$BM10,\">0\")+COUNTIFS($B$9:$BM$9,BR$8,$B10:$BM10,\">0\")+COUNTIFS($B$9:$BM$9,BS$8,$B10:$BM10,\">0\"),\"\")","v":5},{"$f":"IFERROR(_xlfn.STDEV.S(IF((($B$9:$BM$9=\"Tue\")+($B$9:$BM$9=\"Wed\")+($B$9:$BM$9=\"Thu\"))*($B10:$BM10<>\"\"),$B10:$BM10,\"\")),\"\")","v":2.1679483388678773},{"$f":"IFERROR(CL10*0.05,\"\")","v":0.68333333333333335},{"$f":"IFERROR(_xlfn.CONFIDENCE.NORM(0.05,CN10,CM10),\"\")","v":1.900255585823251},{"$f":"IF(CL10=\"\",\"\",IF(OR(CN10=0,CP10<=CO10),\"P\",\"O\"))","v":"O"},null,{"$f":"IFERROR(AVERAGE(BU10:BV10),\"\")","v":53.5},{"$f":"IFERROR(COUNTIFS($B$9:$BM$9,BU$8,$B10:$BM10,\">0\")+COUNTIFS($B$9:$BM$9,BV$8,$B10:$BM10,\">0\"),\"\")","v":4},{"$f":"IFERROR(_xlfn.STDEV.S(IF((($B$9:$BM$9=\"Sat\")+($B$9:$BM$9=\"Sun\"))*($B10:$BM10<>\"\"),$B10:$BM10,\"\")),\"\")","v":26.147020225384509},{"$f":"IFERROR(CS10*0.05,\"\")","v":2.6750000000000003},{"$f":"IFERROR(_xlfn.CONFIDENCE.NORM(0.05,CU10,CT10),\"\")","v":25.623608972396998},{"$f":"IF(CS10=\"\",\"\",IF(OR(CU10=0,CW10<=CV10),\"P\",\"O\"))","v":"O"}]
["01:00:00",{"$f":"IF(B$8=\"\",\"\",SUMIFS(INDIRECT(\"'\"&TEXT(B$8,\"DD_MMM_YYYY\")&\"'!S$6:S$101\"),INDIRECT(\"'\"&TEXT(B$8,\"DD_MMM_YYYY\")&\"'!a$6:a$101\"),\">=\"&$A11,INDIRECT(\"'\"&TEXT(B$8,\"DD_MMM_YYYY\")&\"'!a$6:a$101\"),\"<\"&$A12))","v":6},7,21,24,6,9,7,8,5,10,24,8,4,"","","","","","","","","","","","","","","","","","","","","","","","","","","","","","","","","","","","","","","","","","","","","","","","","","","",null,null,7,6.5,7,7,6,15.5,24,null,{"$f":"IFERROR(AVERAGE(BP11:BS11),\"\")","v":6.875},{"$f":"IFERROR(COUNTIFS($B$9:$BM$9,BQ$8,$B11:$BM11,\">0\")+COUNTIFS($B$9:$BM$9,BR$8,$B11:$BM11,\">0\")+COUNTIFS($B$9:$BM$9,BS$8,$B11:$BM11,\">0\")+COUNTIFS($B$9:$BM$9,BP$8,$B11:$BM11,\">0\"),\"\")","v":7},{"$f":"IFERROR(_xlfn.STDEV.S(IF((($B$9:$BM$9=\"Mon\")+($B$9:$BM$9=\"Tue\")+($B$9:$BM$9=\"Wed\")+($B$9:$BM$9=\"Thu\"))*($B11:$BM11<>\"\"),$B11:$BM11,\"\")),\"\")","v":1.6761634196950503},{"$f":"IFERROR(BX11*0.05,\"\")","v":0.34375},{"$f":"IFERROR(_xlfn.CONFIDENCE.NORM(0.05,BZ11,BY11),\"\")","v":1.2416964213782793},{"$f":"IF(BX11=\"\",\"\",IF(OR(BZ11=0,CB11<=CA11),\"P\",\"O\"))","v":"O"},null,{"$f":"IFERROR(AVERAGE(BP11:BT11),\"\")","v":6.7},{"$f":"IFERROR(COUNTIFS($B$9:$BM$9,BQ$8,$B11:$BM11,\">0\")+COUNTIFS($B$9:$BM$9,BR$8,$B11:$BM11,\">0\")+COUNTIFS($B$9:$BM$9,BS$8,$B11:$BM11,\">0\")+COUNTIFS($B$9:$BM$9,BP$8,$B11:$BM11,\">0\")+COUNTIFS($B$9:$BM$9,BT$8,$B11:$BM11,\">0\"),\"\")","v":9},{"$f":"IFERROR(_xlfn.STDEV.S(IF((($B$9:$BM$9=\"Mon\")+($B$9:$BM$9=\"Tue\")+($B$9:$BM$9=\"Wed\")+($B$9:$BM$9=\"Thu\")+($B$9:$BM$9=\"Fri\"))*($B11:$BM11<>\"\"),$B11:$BM11,\"\")),\"\")","v":1.5811388300841898},{"$f":"IFERROR(CE11*0.05,\"\")","v":0.33500000000000002},{"$f":"IFERROR(_xlfn.CONFIDENCE.NORM(0.05,CG11,CF11),\"\")","v":1.0329917205076025},{"$f":"IF(CE11=\"\",\"\",IF(OR(CG11=0,CI11<=CH11),\"P\",\"O\"))","v":"O"},null,{"$f":"IFERROR(AVERAGE(BQ11:BS11),\"\")","v":6.833333333333333},{"$f":"IFERROR(COUNTIFS($B$9:$BM$9,BQ$8,$B11:$BM11,\">0\")+COUNTIFS($B$9:$BM$9,BR$8,$B11:$BM11,\">0\")+COUNTIFS($B$9:$BM$9,BS$8,$B11:$BM11,\">0\"),\"\")","v":5},{"$f":"IFERROR(_xlfn.STDEV.S(IF((($B$9:$BM$9=\"Tue\")+($B$9:$BM$9=\"Wed\")+($B$9:$BM$9=\"Thu\"))*($B11:$BM11<>\"\"),$B11:$BM11,\"\")),\"\")","v":1.9235384061671352},{"$f":"IFERROR(CL11*0.05,\"\")","v":0.34166666666666667},{"$f":"IFERROR(_xlfn.CONFIDENCE.NORM(0.05,CN11,CM11),\"\")","v":1.6860247706702454},{"$f":"IF(CL11=\"\",\"\",IF(OR(CN11=0,CP11<=CO11),\"P\",\"O\"))","v":"O"},null,{"$f":"IFERROR(AVERAGE(BU11:BV11),\"\")","v":19.75},{"$f":"IFERROR(COUNTIFS($B$9:$BM$9,BU$8,$B11:$BM11,\">0\")+COUNTIFS($B$9:$BM$9,BV$8,$B11:$BM11,\">0\"),\"\")","v":4},{"$f":"IFERROR(_xlfn.STDEV.S(IF(($B$9:$BM$9=\"Sat\")+($B$9:$BM$9=\"Sun\"),$B11:$BM11,\"\")),\"\")","v":6.6520673478250352},{"$f":"IFERROR(CS11*0.05,\"\")","v":0.98750000000000004},{"$f":"IFERROR(_xlfn.CONFIDENCE.NORM(0.05,CU11,CT11),\"\")","v":6.5189062122359713},{"$f":"IF(CS11=\"\",\"\",IF(OR(CU11=0,CW11<=CV11),\"P\",\"O\"))","v":"O"}]
["02:00:00",9,10,3,23,9,14,8,10,9,13,17,12,11,"","","","","","","","","","","","","","","","","","","","","","","","","","","","","","","","","","","","","","","","","","","","","","","","","","","",null,null,10.5,12.5,8,9.5,9.5,8,20,null,10.125,7,{"$f":"IFERROR(_xlfn.STDEV.S(IF((($B$9:$BM$9=\"Mon\")+($B$9:$BM$9=\"Tue\")+($B$9:$BM$9=\"Wed\")+($B$9:$BM$9=\"Thu\"))*($B12:$BM12<>\"\"),$B12:$BM12,\"\")),\"\")","v":2.0701966780270609},0.50624999999999998,1.5335949803289901,"O",null,10,9,{"$f":"IFERROR(_xlfn.STDEV.S(IF((($B$9:$BM$9=\"Mon\")+($B$9:$BM$9=\"Tue\")+($B$9:$BM$9=\"Wed\")+($B$9:$BM$9=\"Thu\")+($B$9:$BM$9=\"Fri\"))*($B12:$BM12<>\"\"),$B12:$BM12,\"\")),\"\")","v":1.8559214542766735},0.5,1.2125130695058268,"O",null,10,5,{"$f":"IFERROR(_xlfn.STDEV.S(IF((($B$9:$BM$9=\"Tue\")+($B$9:$BM$9=\"Wed\")+($B$9:$BM$9=\"Thu\"))*($B12:$BM12<>\"\"),$B12:$BM12,\"\")),\"\")","v":2.3021728866442701},0.5,2.0179064274479575,"O",null,14,4,{"$f":"IFERROR(_xlfn.STDEV.S(IF(($B$9:$BM$9=\"Sat\")+($B$9:$BM$9=\"Sun\"),$B12:$BM12,\"\")),\"\")","v":8.4063468086123283},0.70000000000000007,8.2380684932166908,"O"]
["03:00:00",11,14,15,15,18,17,19,15,16,24,19,12,12,"","","","","","","","","","","","","","","","","","","","","","","","","","","","","","","","","","","","","","","","","","","","","","","","","","","",null,null,15,14.5,19,13,15,19.5,17,null,15.375,7,{"$f":"IFERROR(_xlfn.STDEV.S(IF((($B$9:$BM$9=\"Mon\")+($B$9:$BM$9=\"Tue\")+($B$9:$BM$9=\"Wed\")+($B$9:$BM$9=\"Thu\"))*($B13:$BM13<>\"\"),$B13:$BM13,\"\")),\"\")","v":3.2366943748507491},0.76875000000000004,2.3977326883070682,"O",null,15.3,9,{"$f":"IFERROR(_xlfn.STDEV.S(IF((($B$9:$BM$9=\"Mon\")+($B$9:$BM$9=\"Tue\")+($B$9:$BM$9=\"Wed\")+($B$9:$BM$9=\"Thu\")+($B$9:$BM$9=\"Fri\"))*($B13:$BM13<>\"\"),$B13:$BM13,\"\")),\"\")","v":2.8480012484391777},0.76500000000000012,1.8606599582886327,"O",null,15.5,5,{"$f":"IFERROR(_xlfn.STDEV.S(IF((($B$9:$BM$9=\"Tue\")+($B$9:$BM$9=\"Wed\")+($B$9:$BM$9=\"Thu\"))*($B13:$BM13<>\"\"),$B13:$BM13,\"\")),\"\")","v":3.3466401061363005},0.77500000000000002,2.9334054882260698,"O",null,18.25,4,{"$f":"IFERROR(_xlfn.STDEV.S(IF(($B$9:$BM$9=\"Sat\")+($B$9:$BM$9=\"Sun\"),$B13:$BM13,\"\")),\"\")","v":4.2720018726587652},0.91250000000000009,4.1864849061494223,"O"]
["04:00:00",45,47,23,27,{"$f":"IF(F$8=\"\",\"\",SUMIFS(INDIRECT(\"'\"&TEXT(F$8,\"DD_MMM_YYYY\")&\"'!S$6:S$101\"),INDIRECT(\"'\"&TEXT(F$8,\"DD_MMM_YYYY\")&\"'!a$6:a$101\"),\">=\"&$A14,INDIRECT(\"'\"&TEXT(F$8,\"DD_MMM_YYYY\")&\"'!a$6:a$101\"),\"<\"&$A15))","v":60},{"$f":"IF(G$8=\"\",\"\",SUMIFS(INDIRECT(\"'\"&TEXT(G$8,\"DD_MMM_YYYY\")&\"'!S$6:S$101\"),INDIRECT(\"'\"&TEXT(G$8,\"DD_MMM_YYYY\")&\"'!a$6:a$101\"),\">=\"&$A14,INDIRECT(\"'\"&TEXT(G$8,\"DD_MMM_YYYY\")&\"'!a$6:a$101\"),\"<\"&$A15))","v":48},{"$f":"IF(H$8=\"\",\"\",SUMIFS(INDIRECT(\"'\"&TEXT(H$8,\"DD_MMM_YYYY\")&\"'!S$6:S$101\"),INDIRECT(\"'\"&TEXT(H$8,\"DD_MMM_YYYY\")&\"'!a$6:a$101\"),\">=\"&$A14,INDIRECT(\"'\"&TEXT(H$8,\"DD_MMM_YYYY\")&\"'!a$6:a$101\"),\"<\"&$A15))","v":43},{"$f":"IF(I$8=\"\",\"\",SUMIFS(INDIRECT(\"'\"&TEXT(I$8,\"DD_MMM_YYYY\")&\"'!S$6:S$101\"),INDIRECT(\"'\"&TEXT(I$8,\"DD_MMM_YYYY\")&\"'!a$6:a$101\"),\">=\"&$A14,INDIRECT(\"'\"&TEXT(I$8,\"DD_MMM_YYYY\")&\"'!a$6:a$101\"),\"<\"&$A15))","v":44},{"$f":"IF(J$8=\"\",\"\",SUMIFS(INDIRECT(\"'\"&TEXT(J$8,\"DD_MMM_YYYY\")&\"'!S$6:S$101\"),INDIRECT(\"'\"&TEXT(J$8,\"DD_MMM_YYYY\")&\"'!a$6:a$101\"),\">=\"&$A14,INDIRECT(\"'\"&TEXT(J$8,\"DD_MMM_YYYY\")&\"'!a$6:a$101\"),\"<\"&$A15))","v":46},{"$f":"IF(K$8=\"\",\"\",SUMIFS(INDIRECT(\"'\"&TEXT(K$8,\"DD_MMM_YYYY\")&\"'!S$6:S$101\"),INDIRECT(\"'\"&TEXT(K$8,\"DD_MMM_YYYY\")&\"'!a$6:a$101\"),\">=\"&$A14,INDIRECT(\"'\"&TEXT(K$8,\"DD_MMM_YYYY\")&\"'!a$6:a$101\"),\"<\"&$A15))","v":16},{"$f":"IF(L$8=\"\",\"\",SUMIFS(INDIRECT(\"'\"&TEXT(L$8,\"DD_MMM_YYYY\")&\"'!S$6:S$101\"),INDIRECT(\"'\"&TEXT(L$8,\"DD_MMM_YYYY\")&\"'!a$6:a$101\"),\">=\"&$A14,INDIRECT(\"'\"&TEXT(L$8,\"DD_MMM_YYYY\")&\"'!a$6:a$101\"),\"<\"&$A15))","v":23},{"$f":"IF(M$8=\"\",\"\",SUMIFS(INDIRECT(\"'\"&TEXT(M$8,\"DD_MMM_YYYY\")&\"'!S$6:S$101\"),INDIRECT(\"'\"&TEXT(M$8,\"DD_MMM_YYYY\")&\"'!a$6:a$101\"),\">=\"&$A14,INDIRECT(\"'\"&TEXT(M$8,\"DD_MMM_YYYY\")&\"'!a$6:a$101\"),\"<\"&$A15))","v":51},{"$f":"IF(N$8=\"\",\"\",SUMIFS(INDIRECT(\"'\"&TEXT(N$8,\"DD_MMM_YYYY\")&\"'!S$6:S$101\"),INDIRECT(\"'\"&TEXT(N$8,\"DD_MMM_YYYY\")&\"'!a$6:a$101\"),\">=\"&$A14,INDIRECT(\"'\"&TEXT(N$8,\"DD_MMM_YYYY\")&\"'!a$6:a$101\"),\"<\"&$A15))","v":46},{"$f":"IF(O$8=\"\",\"\",SUMIFS(INDIRECT(\"'\"&TEXT(O$8,\"DD_MMM_YYYY\")&\"'!S$6:S$101\"),INDIRECT(\"'\"&TEXT(O$8,\"DD_MMM_YYYY\")&\"'!a$6:a$101\"),\">=\"&$A14,INDIRECT(\"'\"&TEXT(O$8,\"DD_MMM_YYYY\")&\"'!a$6:a$101\"),\"<\"&$A15))","v":""},{"$f":"IF(P$8=\"\",\"\",SUMIFS(INDIRECT(\"'\"&TEXT(P$8,\"DD_MMM_YYYY\")&\"'!S$6:S$101\"),INDIRECT(\"'\"&TEXT(P$8,\"DD_MMM_YYYY\")&\"'!a$6:a$101\"),\">=\"&$A14,INDIRECT(\"'\"&TEXT(P$8,\"DD_MMM_YYYY\")&\"'!a$6:a$101\"),\"<\"&$A15))","v":""},{"$f":"IF(Q$8=\"\",\"\",SUMIFS(INDIRECT(\"'\"&TEXT(Q$8,\"DD_MMM_YYYY\")&\"'!S$6:S$101\"),INDIRECT(\"'\"&TEXT(Q$8,\"DD_MMM_YYYY\")&\"'!a$6:a$101\"),\">=\"&$A14,INDIRECT(\"'\"&TEXT(Q$8,\"DD_MMM_YYYY\")&\"'!a$6:a$101\"),\"<\"&$A15))","v":""},{"$f":"IF(R$8=\"\",\"\",SUMIFS(INDIRECT(\"'\"&TEXT(R$8,\"DD_MMM_YYYY\")&\"'!S$6:S$101\"),INDIRECT(\"'\"&TEXT(R$8,\"DD_MMM_YYYY\")&\"'!a$6:a$101\"),\">=\"&$A14,INDIRECT(\"'\"&TEXT(R$8,\"DD_MMM_YYYY\")&\"'!a$6:a$101\"),\"<\"&$A15))","v":""},{"$f":"IF(S$8=\"\",\"\",SUMIFS(INDIRECT(\"'\"&TEXT(S$8,\"DD_MMM_YYYY\")&\"'!S$6:S$101\"),INDIRECT(\"'\"&TEXT(S$8,\"DD_MMM_YYYY\")&\"'!a$6:a$101\"),\">=\"&$A14,INDIRECT(\"'\"&TEXT(S$8,\"DD_MMM_YYYY\")&\"'!a$6:a$101\"),\"<\"&$A15))","v":""},{"$f":"IF(T$8=\"\",\"\",SUMIFS(INDIRECT(\"'\"&TEXT(T$8,\"DD_MMM_YYYY\")&\"'!S$6:S$101\"),INDIRECT(\"'\"&TEXT(T$8,\"DD_MMM_YYYY\")&\"'!a$6:a$101\"),\">=\"&$A14,INDIRECT(\"'\"&TEXT(T$8,\"DD_MMM_YYYY\")&\"'!a$6:a$101\"),\"<\"&$A15))","v":""},{"$f":"IF(U$8=\"\",\"\",SUMIFS(INDIRECT(\"'\"&TEXT(U$8,\"DD_MMM_YYYY\")&\"'!S$6:S$101\"),INDIRECT(\"'\"&TEXT(U$8,\"DD_MMM_YYYY\")&\"'!a$6:a$101\"),\">=\"&$A14,INDIRECT(\"'\"&TEXT(U$8,\"DD_MMM_YYYY\")&\"'!a$6:a$101\"),\"<\"&$A15))","v":""},{"$f":"IF(V$8=\"\",\"\",SUMIFS(INDIRECT(\"'\"&TEXT(V$8,\"DD_MMM_YYYY\")&\"'!S$6:S$101\"),INDIRECT(\"'\"&TEXT(V$8,\"DD_MMM_YYYY\")&\"'!a$6:a$101\"),\">=\"&$A14,INDIRECT(\"'\"&TEXT(V$8,\"DD_MMM_YYYY\")&\"'!a$6:a$101\"),\"<\"&$A15))","v":""},{"$f":"IF(W$8=\"\",\"\",SUMIFS(INDIRECT(\"'\"&TEXT(W$8,\"DD_MMM_YYYY\")&\"'!S$6:S$101\"),INDIRECT(\"'\"&TEXT(W$8,\"DD_MMM_YYYY\")&\"'!a$6:a$101\"),\">=\"&$A14,INDIRECT(\"'\"&TEXT(W$8,\"DD_MMM_YYYY\")&\"'!a$6:a$101\"),\"<\"&$A15))","v":""},{"$f":"IF(X$8=\"\",\"\",SUMIFS(INDIRECT(\"'\"&TEXT(X$8,\"DD_MMM_YYYY\")&\"'!S$6:S$101\"),INDIRECT(\"'\"&TEXT(X$8,\"DD_MMM_YYYY\")&\"'!a$6:a$101\"),\">=\"&$A14,INDIRECT(\"'\"&TEXT(X$8,\"DD_MMM_YYYY\")&\"'!a$6:a$101\"),\"<\"&$A15))","v":""},{"$f":"IF(Y$8=\"\",\"\",SUMIFS(INDIRECT(\"'\"&TEXT(Y$8,\"DD_MMM_YYYY\")&\"'!S$6:S$101\"),INDIRECT(\"'\"&TEXT(Y$8,\"DD_MMM_YYYY\")&\"'!a$6:a$101\"),\">=\"&$A14,INDIRECT(\"'\"&TEXT(Y$8,\"DD_MMM_YYYY\")&\"'!a$6:a$101\"),\"<\"&$A15))","v":""},{"$f":"IF(Z$8=\"\",\"\",SUMIFS(INDIRECT(\"'\"&TEXT(Z$8,\"DD_MMM_YYYY\")&\"'!S$6:S$101\"),INDIRECT(\"'\"&TEXT(Z$8,\"DD_MMM_YYYY\")&\"'!a$6:a$101\"),\">=\"&$A14,INDIRECT(\"'\"&TEXT(Z$8,\"DD_MMM_YYYY\")&\"'!a$6:a$101\"),\"<\"&$A15))","v":""},{"$f":"IF(AA$8=\"\",\"\",SUMIFS(INDIRECT(\"'\"&TEXT(AA$8,\"DD_MMM_YYYY\")&\"'!S$6:S$101\"),INDIRECT(\"'\"&TEXT(AA$8,\"DD_MMM_YYYY\")&\"'!a$6:a$101\"),\">=\"&$A14,INDIRECT(\"'\"&TEXT(AA$8,\"DD_MMM_YYYY\")&\"'!a$6:a$101\"),\"<\"&$A15))","v":""},{"$f":"IF(AB$8=\"\",\"\",SUMIFS(INDIRECT(\"'\"&TEXT(AB$8,\"DD_MMM_YYYY\")&\"'!S$6:S$101\"),INDIRECT(\"'\"&TEXT(AB$8,\"DD_MMM_YYYY\")&\"'!a$6:a$101\"),\">=\"&$A14,INDIRECT(\"'\"&TEXT(AB$8,\"DD_MMM_YYYY\")&\"'!a$6:a$101\"),\"<\"&$A15))","v":""},{"$f":"IF(AC$8=\"\",\"\",SUMIFS(INDIRECT(\"'\"&TEXT(AC$8,\"DD_MMM_YYYY\")&\"'!S$6:S$101\"),INDIRECT(\"'\"&TEXT(AC$8,\"DD_MMM_YYYY\")&\"'!a$6:a$101\"),\">=\"&$A14,INDIRECT(\"'\"&TEXT(AC$8,\"DD_MMM_YYYY\")&\"'!a$6:a$101\"),\"<\"&$A15))","v":""},{"$f":"IF(AD$8=\"\",\"\",SUMIFS(INDIRECT(\"'\"&TEXT(AD$8,\"DD_MMM_YYYY\")&\"'!S$6:S$101\"),INDIRECT(\"'\"&TEXT(AD$8,\"DD_MMM_YYYY\")&\"'!a$6:a$101\"),\">=\"&$A14,INDIRECT(\"'\"&TEXT(AD$8,\"DD_MMM_YYYY\")&\"'!a$6:a$101\"),\"<\"&$A15))","v":""},{"$f":"IF(AE$8=\"\",\"\",SUMIFS(INDIRECT(\"'\"&TEXT(AE$8,\"DD_MMM_YYYY\")&\"'!S$6:S$101\"),INDIRECT(\"'\"&TEXT(AE$8,\"DD_MMM_YYYY\")&\"'!a$6:a$101\"),\">=\"&$A14,INDIRECT(\"'\"&TEXT(AE$8,\"DD_MMM_YYYY\")&\"'!a$6:a$101\"),\"<\"&$A15))","v":""},{"$f":"IF(AF$8=\"\",\"\",SUMIFS(INDIRECT(\"'\"&TEXT(AF$8,\"DD_MMM_YYYY\")&\"'!S$6:S$101\"),INDIRECT(\"'\"&TEXT(AF$8,\"DD_MMM_YYYY\")&\"'!a$6:a$101\"),\">=\"&$A14,INDIRECT(\"'\"&TEXT(AF$8,\"DD_MMM_YYYY\")&\"'!a$6:a$101\"),\"<\"&$A15))","v":""},{"$f":"IF(AG$8=\"\",\"\",SUMIFS(INDIRECT(\"'\"&TEXT(AG$8,\"DD_MMM_YYYY\")&\"'!S$6:S$101\"),INDIRECT(\"'\"&TEXT(AG$8,\"DD_MMM_YYYY\")&\"'!a$6:a$101\"),\">=\"&$A14,INDIRECT(\"'\"&TEXT(AG$8,\"DD_MMM_YYYY\")&\"'!a$6:a$101\"),\"<\"&$A15))","v":""},{"$f":"IF(AH$8=\"\",\"\",SUMIFS(INDIRECT(\"'\"&TEXT(AH$8,\"DD_MMM_YYYY\")&\"'!S$6:S$101\"),INDIRECT(\"'\"&TEXT(AH$8,\"DD_MMM_YYYY\")&\"'!a$6:a$101\"),\">=\"&$A14,INDIRECT(\"'\"&TEXT(AH$8,\"DD_MMM_YYYY\")&\"'!a$6:a$101\"),\"<\"&$A15))","v":""},{"$f":"IF(AI$8=\"\",\"\",SUMIFS(INDIRECT(\"'\"&TEXT(AI$8,\"DD_MMM_YYYY\")&\"'!S$6:S$101\"),INDIRECT(\"'\"&TEXT(AI$8,\"DD_MMM_YYYY\")&\"'!a$6:a$101\"),\">=\"&$A14,INDIRECT(\"'\"&TEXT(AI$8,\"DD_MMM_YYYY\")&\"'!a$6:a$101\"),\"<\"&$A15))","v":""},{"$f":"IF(AJ$8=\"\",\"\",SUMIFS(INDIRECT(\"'\"&TEXT(AJ$8,\"DD_MMM_YYYY\")&\"'!S$6:S$101\"),INDIRECT(\"'\"&TEXT(AJ$8,\"DD_MMM_YYYY\")&\"'!a$6:a$101\"),\">=\"&$A14,INDIRECT(\"'\"&TEXT(AJ$8,\"DD_MMM_YYYY\")&\"'!a$6:a$101\"),\"<\"&$A15))","v":""},{"$f":"IF(AK$8=\"\",\"\",SUMIFS(INDIRECT(\"'\"&TEXT(AK$8,\"DD_MMM_YYYY\")&\"'!S$6:S$101\"),INDIRECT(\"'\"&TEXT(AK$8,\"DD_MMM_YYYY\")&\"'!a$6:a$101\"),\">=\"&$A14,INDIRECT(\"'\"&TEXT(AK$8,\"DD_MMM_YYYY\")&\"'!a$6:a$101\"),\"<\"&$A15))","v":""},{"$f":"IF(AL$8=\"\",\"\",SUMIFS(INDIRECT(\"'\"&TEXT(AL$8,\"DD_MMM_YYYY\")&\"'!S$6:S$101\"),INDIRECT(\"'\"&TEXT(AL$8,\"DD_MMM_YYYY\")&\"'!a$6:a$101\"),\">=\"&$A14,INDIRECT(\"'\"&TEXT(AL$8,\"DD_MMM_YYYY\")&\"'!a$6:a$101\"),\"<\"&$A15))","v":""},{"$f":"IF(AM$8=\"\",\"\",SUMIFS(INDIRECT(\"'\"&TEXT(AM$8,\"DD_MMM_YYYY\")&\"'!S$6:S$101\"),INDIRECT(\"'\"&TEXT(AM$8,\"DD_MMM_YYYY\")&\"'!a$6:a$101\"),\">=\"&$A14,INDIRECT(\"'\"&TEXT(AM$8,\"DD_MMM_YYYY\")&\"'!a$6:a$101\"),\"<\"&$A15))","v":""},{"$f":"IF(AN$8=\"\",\"\",SUMIFS(INDIRECT(\"'\"&TEXT(AN$8,\"DD_MMM_YYYY\")&\"'!S$6:S$101\"),INDIRECT(\"'\"&TEXT(AN$8,\"DD_MMM_YYYY\")&\"'!a$6:a$101\"),\">=\"&$A14,INDIRECT(\"'\"&TEXT(AN$8,\"DD_MMM_YYYY\")&\"'!a$6:a$101\"),\"<\"&$A15))","v":""},{"$f":"IF(AO$8=\"\",\"\",SUMIFS(INDIRECT(\"'\"&TEXT(AO$8,\"DD_MMM_YYYY\")&\"'!S$6:S$101\"),INDIRECT(\"'\"&TEXT(AO$8,\"DD_MMM_YYYY\")&\"'!a$6:a$101\"),\">=\"&$A14,INDIRECT(\"'\"&TEXT(AO$8,\"DD_MMM_YYYY\")&\"'!a$6:a$101\"),\"<\"&$A15))","v":""},{"$f":"IF(AP$8=\"\",\"\",SUMIFS(INDIRECT(\"'\"&TEXT(AP$8,\"DD_MMM_YYYY\")&\"'!S$6:S$101\"),INDIRECT(\"'\"&TEXT(AP$8,\"DD_MMM_YYYY\")&\"'!a$6:a$101\"),\">=\"&$A14,INDIRECT(\"'\"&TEXT(AP$8,\"DD_MMM_YYYY\")&\"'!a$6:a$101\"),\"<\"&$A15))","v":""},{"$f":"IF(AQ$8=\"\",\"\",SUMIFS(INDIRECT(\"'\"&TEXT(AQ$8,\"DD_MMM_YYYY\")&\"'!S$6:S$101\"),INDIRECT(\"'\"&TEXT(AQ$8,\"DD_MMM_YYYY\")&\"'!a$6:a$101\"),\">=\"&$A14,INDIRECT(\"'\"&TEXT(AQ$8,\"DD_MMM_YYYY\")&\"'!a$6:a$101\"),\"<\"&$A15))","v":""},{"$f":"IF(AR$8=\"\",\"\",SUMIFS(INDIRECT(\"'\"&TEXT(AR$8,\"DD_MMM_YYYY\")&\"'!S$6:S$101\"),INDIRECT(\"'\"&TEXT(AR$8,\"DD_MMM_YYYY\")&\"'!a$6:a$101\"),\">=\"&$A14,INDIRECT(\"'\"&TEXT(AR$8,\"DD_MMM_YYYY\")&\"'!a$6:a$101\"),\"<\"&$A15))","v":""},{"$f":"IF(AS$8=\"\",\"\",SUMIFS(INDIRECT(\"'\"&TEXT(AS$8,\"DD_MMM_YYYY\")&\"'!S$6:S$101\"),INDIRECT(\"'\"&TEXT(AS$8,\"DD_MMM_YYYY\")&\"'!a$6:a$101\"),\">=\"&$A14,INDIRECT(\"'\"&TEXT(AS$8,\"DD_MMM_YYYY\")&\"'!a$6:a$101\"),\"<\"&$A15))","v":""},{"$f":"IF(AT$8=\"\",\"\",SUMIFS(INDIRECT(\"'\"&TEXT(AT$8,\"DD_MMM_YYYY\")&\"'!S$6:S$101\"),INDIRECT(\"'\"&TEXT(AT$8,\"DD_MMM_YYYY\")&\"'!a$6:a$101\"),\">=\"&$A14,INDIRECT(\"'\"&TEXT(AT$8,\"DD_MMM_YYYY\")&\"'!a$6:a$101\"),\"<\"&$A15))","v":""},{"$f":"IF(AU$8=\"\",\"\",SUMIFS(INDIRECT(\"'\"&TEXT(AU$8,\"DD_MMM_YYYY\")&\"'!S$6:S$101\"),INDIRECT(\"'\"&TEXT(AU$8,\"DD_MMM_YYYY\")&\"'!a$6:a$101\"),\">=\"&$A14,INDIRECT(\"'\"&TEXT(AU$8,\"DD_MMM_YYYY\")&\"'!a$6:a$101\"),\"<\"&$A15))","v":""},{"$f":"IF(AV$8=\"\",\"\",SUMIFS(INDIRECT(\"'\"&TEXT(AV$8,\"DD_MMM_YYYY\")&\"'!S$6:S$101\"),INDIRECT(\"'\"&TEXT(AV$8,\"DD_MMM_YYYY\")&\"'!a$6:a$101\"),\">=\"&$A14,INDIRECT(\"'\"&TEXT(AV$8,\"DD_MMM_YYYY\")&\"'!a$6:a$101\"),\"<\"&$A15))","v":""},{"$f":"IF(AW$8=\"\",\"\",SUMIFS(INDIRECT(\"'\"&TEXT(AW$8,\"DD_MMM_YYYY\")&\"'!S$6:S$101\"),INDIRECT(\"'\"&TEXT(AW$8,\"DD_MMM_YYYY\")&\"'!a$6:a$101\"),\">=\"&$A14,INDIRECT(\"'\"&TEXT(AW$8,\"DD_MMM_YYYY\")&\"'!a$6:a$101\"),\"<\"&$A15))","v":""},{"$f":"IF(AX$8=\"\",\"\",SUMIFS(INDIRECT(\"'\"&TEXT(AX$8,\"DD_MMM_YYYY\")&\"'!S$6:S$101\"),INDIRECT(\"'\"&TEXT(AX$8,\"DD_MMM_YYYY\")&\"'!a$6:a$101\"),\">=\"&$A14,INDIRECT(\"'\"&TEXT(AX$8,\"DD_MMM_YYYY\")&\"'!a$6:a$101\"),\"<\"&$A15))","v":""},{"$f":"IF(AY$8=\"\",\"\",SUMIFS(INDIRECT(\"'\"&TEXT(AY$8,\"DD_MMM_YYYY\")&\"'!S$6:S$101\"),INDIRECT(\"'\"&TEXT(AY$8,\"DD_MMM_YYYY\")&\"'!a$6:a$101\"),\">=\"&$A14,INDIRECT(\"'\"&TEXT(AY$8,\"DD_MMM_YYYY\")&\"'!a$6:a$101\"),\"<\"&$A15))","v":""},{"$f":"IF(AZ$8=\"\",\"\",SUMIFS(INDIRECT(\"'\"&TEXT(AZ$8,\"DD_MMM_YYYY\")&\"'!S$6:S$101\"),INDIRECT(\"'\"&TEXT(AZ$8,\"DD_MMM_YYYY\")&\"'!a$6:a$101\"),\">=\"&$A14,INDIRECT(\"'\"&TEXT(AZ$8,\"DD_MMM_YYYY\")&\"'!a$6:a$101\"),\"<\"&$A15))","v":""},{"$f":"IF(BA$8=\"\",\"\",SUMIFS(INDIRECT(\"'\"&TEXT(BA$8,\"DD_MMM_YYYY\")&\"'!S$6:S$101\"),INDIRECT(\"'\"&TEXT(BA$8,\"DD_MMM_YYYY\")&\"'!a$6:a$101\"),\">=\"&$A14,INDIRECT(\"'\"&TEXT(BA$8,\"DD_MMM_YYYY\")&\"'!a$6:a$101\"),\"<\"&$A15))","v":""},{"$f":"IF(BB$8=\"\",\"\",SUMIFS(INDIRECT(\"'\"&TEXT(BB$8,\"DD_MMM_YYYY\")&\"'!S$6:S$101\"),INDIRECT(\"'\"&TEXT(BB$8,\"DD_MMM_YYYY\")&\"'!a$6:a$101\"),\">=\"&$A14,INDIRECT(\"'\"&TEXT(BB$8,\"DD_MMM_YYYY\")&\"'!a$6:a$101\"),\"<\"&$A15))","v":""},{"$f":"IF(BC$8=\"\",\"\",SUMIFS(INDIRECT(\"'\"&TEXT(BC$8,\"DD_MMM_YYYY\")&\"'!S$6:S$101\"),INDIRECT(\"'\"&TEXT(BC$8,\"DD_MMM_YYYY\")&\"'!a$6:a$101\"),\">=\"&$A14,INDIRECT(\"'\"&TEXT(BC$8,\"DD_MMM_YYYY\")&\"'!a$6:a$101\"),\"<\"&$A15))","v":""},{"$f":"IF(BD$8=\"\",\"\",SUMIFS(INDIRECT(\"'\"&TEXT(BD$8,\"DD_MMM_YYYY\")&\"'!S$6:S$101\"),INDIRECT(\"'\"&TEXT(BD$8,\"DD_MMM_YYYY\")&\"'!a$6:a$101\"),\">=\"&$A14,INDIRECT(\"'\"&TEXT(BD$8,\"DD_MMM_YYYY\")&\"'!a$6:a$101\"),\"<\"&$A15))","v":""},{"$f":"IF(BE$8=\"\",\"\",SUMIFS(INDIRECT(\"'\"&TEXT(BE$8,\"DD_MMM_YYYY\")&\"'!S$6:S$101\"),INDIRECT(\"'\"&TEXT(BE$8,\"DD_MMM_YYYY\")&\"'!a$6:a$101\"),\">=\"&$A14,INDIRECT(\"'\"&TEXT(BE$8,\"DD_MMM_YYYY\")&\"'!a$6:a$101\"),\"<\"&$A15))","v":""},{"$f":"IF(BF$8=\"\",\"\",SUMIFS(INDIRECT(\"'\"&TEXT(BF$8,\"DD_MMM_YYYY\")&\"'!S$6:S$101\"),INDIRECT(\"'\"&TEXT(BF$8,\"DD_MMM_YYYY\")&\"'!a$6:a$101\"),\">=\"&$A14,INDIRECT(\"'\"&TEXT(BF$8,\"DD_MMM_YYYY\")&\"'!a$6:a$101\"),\"<\"&$A15))","v":""},{"$f":"IF(BG$8=\"\",\"\",SUMIFS(INDIRECT(\"'\"&TEXT(BG$8,\"DD_MMM_YYYY\")&\"'!S$6:S$101\"),INDIRECT(\"'\"&TEXT(BG$8,\"DD_MMM_YYYY\")&\"'!a$6:a$101\"),\">=\"&$A14,INDIRECT(\"'\"&TEXT(BG$8,\"DD_MMM_YYYY\")&\"'!a$6:a$101\"),\"<\"&$A15))","v":""},{"$f":"IF(BH$8=\"\",\"\",SUMIFS(INDIRECT(\"'\"&TEXT(BH$8,\"DD_MMM_YYYY\")&\"'!S$6:S$101\"),INDIRECT(\"'\"&TEXT(BH$8,\"DD_MMM_YYYY\")&\"'!a$6:a$101\"),\">=\"&$A14,INDIRECT(\"'\"&TEXT(BH$8,\"DD_MMM_YYYY\")&\"'!a$6:a$101\"),\"<\"&$A15))","v":""},{"$f":"IF(BI$8=\"\",\"\",SUMIFS(INDIRECT(\"'\"&TEXT(BI$8,\"DD_MMM_YYYY\")&\"'!S$6:S$101\"),INDIRECT(\"'\"&TEXT(BI$8,\"DD_MMM_YYYY\")&\"'!a$6:a$101\"),\">=\"&$A14,INDIRECT(\"'\"&TEXT(BI$8,\"DD_MMM_YYYY\")&\"'!a$6:a$101\"),\"<\"&$A15))","v":""},{"$f":"IF(BJ$8=\"\",\"\",SUMIFS(INDIRECT(\"'\"&TEXT(BJ$8,\"DD_MMM_YYYY\")&\"'!S$6:S$101\"),INDIRECT(\"'\"&TEXT(BJ$8,\"DD_MMM_YYYY\")&\"'!a$6:a$101\"),\">=\"&$A14,INDIRECT(\"'\"&TEXT(BJ$8,\"DD_MMM_YYYY\")&\"'!a$6:a$101\"),\"<\"&$A15))","v":""},{"$f":"IF(BK$8=\"\",\"\",SUMIFS(INDIRECT(\"'\"&TEXT(BK$8,\"DD_MMM_YYYY\")&\"'!S$6:S$101\"),INDIRECT(\"'\"&TEXT(BK$8,\"DD_MMM_YYYY\")&\"'!a$6:a$101\"),\">=\"&$A14,INDIRECT(\"'\"&TEXT(BK$8,\"DD_MMM_YYYY\")&\"'!a$6:a$101\"),\"<\"&$A15))","v":""},{"$f":"IF(BL$8=\"\",\"\",SUMIFS(INDIRECT(\"'\"&TEXT(BL$8,\"DD_MMM_YYYY\")&\"'!S$6:S$101\"),INDIRECT(\"'\"&TEXT(BL$8,\"DD_MMM_YYYY\")&\"'!a$6:a$101\"),\">=\"&$A14,INDIRECT(\"'\"&TEXT(BL$8,\"DD_MMM_YYYY\")&\"'!a$6:a$101\"),\"<\"&$A15))","v":""},{"$f":"IF(BM$8=\"\",\"\",SUMIFS(INDIRECT(\"'\"&TEXT(BM$8,\"DD_MMM_YYYY\")&\"'!S$6:S$101\"),INDIRECT(\"'\"&TEXT(BM$8,\"DD_MMM_YYYY\")&\"'!a$6:a$101\"),\">=\"&$A14,INDIRECT(\"'\"&TEXT(BM$8,\"DD_MMM_YYYY\")&\"'!a$6:a$101\"),\"<\"&$A15))","v":""},null,null,55.5,47,43,44.5,46.5,19.5,25,null,47.5,7,{"$f":"IFERROR(_xlfn.STDEV.S(IF((($B$9:$BM$9=\"Mon\")+($B$9:$BM$9=\"Tue\")+($B$9:$BM$9=\"Wed\")+($B$9:$BM$9=\"Thu\"))*($B14:$BM14<>\"\"),$B14:$BM14,\"\")),\"\")","v":5.8716429111612802},2.375,4.3496940123693557,"O",null,47.3,9,{"$f":"IFERROR(_xlfn.STDEV.S(IF((($B$9:$BM$9=\"Mon\")+($B$9:$BM$9=\"Tue\")+($B$9:$BM$9=\"Wed\")+($B$9:$BM$9=\"Thu\")+($B$9:$BM$9=\"Fri\"))*($B14:$BM14<>\"\"),$B14:$BM14,\"\")),\"\")","v":5.1424162068471606},2.3649999999999998,3.3596501863118364,"O",null,44.833333333333336,5,{"$f":"IFERROR(_xlfn.STDEV.S(IF((($B$9:$BM$9=\"Tue\")+($B$9:$BM$9=\"Wed\")+($B$9:$BM$9=\"Thu\"))*($B14:$BM14<>\"\"),$B14:$BM14,\"\")),\"\")","v":1.9235384061671343},2.2416666666666667,1.6860247706702445,"P",null,22.25,4,{"$f":"IFERROR(_xlfn.STDEV.S(IF(($B$9:$BM$9=\"Sat\")+($B$9:$BM$9=\"Sun\"),$B14:$BM14,\"\")),\"\")","v":4.5734742446707477},1.1125,4.4819224018880952,"O"]
["05:00:00",143,{"$f":"IF(C$8=\"\",\"\",SUMIFS(INDIRECT(\"'\"&TEXT(C$8,\"DD_MMM_YYYY\")&\"'!S$6:S$101\"),INDIRECT(\"'\"&TEXT(C$8,\"DD_MMM_YYYY\")&\"'!a$6:a$101\"),\">=\"&$A15,INDIRECT(\"'\"&TEXT(C$8,\"DD_MMM_YYYY\")&\"'!a$6:a$101\"),\"<\"&$A16))","v":134},{"$f":"IF(D$8=\"\",\"\",SUMIFS(INDIRECT(\"'\"&TEXT(D$8,\"DD_MMM_YYYY\")&\"'!S$6:S$101\"),INDIRECT(\"'\"&TEXT(D$8,\"DD_MMM_YYYY\")&\"'!a$6:a$101\"),\">=\"&$A15,INDIRECT(\"'\"&TEXT(D$8,\"DD_MMM_YYYY\")&\"'!a$6:a$101\"),\"<\"&$A16))","v":53},{"$f":"IF(E$8=\"\",\"\",SUMIFS(INDIRECT(\"'\"&TEXT(E$8,\"DD_MMM_YYYY\")&\"'!S$6:S$101\"),INDIRECT(\"'\"&TEXT(E$8,\"DD_MMM_YYYY\")&\"'!a$6:a$101\"),\">=\"&$A15,INDIRECT(\"'\"&TEXT(E$8,\"DD_MMM_YYYY\")&\"'!a$6:a$101\"),\"<\"&$A16))","v":34},152,141,160,152,151,47,22,159,149,"","","","","","","","","","","","","","","","","","","","","","","","","","","","","","","","","","","","","","","","","","","","","","","","","","","",null,null,155.5,145,160,147.5,142.5,50,28,null,152,7,{"$f":"IFERROR(_xlfn.STDEV.S(IF((($B$9:$BM$9=\"Mon\")+($B$9:$BM$9=\"Tue\")+($B$9:$BM$9=\"Wed\")+($B$9:$BM$9=\"Thu\"))*($B15:$BM15<>\"\"),$B15:$BM15,\"\")),\"\")","v":7.2440451735332569},7.6000000000000005,5.3663651542492881,"P",null,150.1,9,{"$f":"IFERROR(_xlfn.STDEV.S(IF((($B$9:$BM$9=\"Mon\")+($B$9:$BM$9=\"Tue\")+($B$9:$BM$9=\"Wed\")+($B$9:$BM$9=\"Thu\")+($B$9:$BM$9=\"Fri\"))*($B15:$BM15<>\"\"),$B15:$BM15,\"\")),\"\")","v":8.426149773176359},7.5049999999999999,5.5049833612553352,"P",null,150.83333333333334,5,{"$f":"IFERROR(_xlfn.STDEV.S(IF((($B$9:$BM$9=\"Tue\")+($B$9:$BM$9=\"Wed\")+($B$9:$BM$9=\"Thu\"))*($B15:$BM15<>\"\"),$B15:$BM15,\"\")),\"\")","v":7.5828754440515507},7.5416666666666679,6.6465612490958375,"P",null,39,4,{"$f":"IFERROR(_xlfn.STDEV.S(IF(($B$9:$BM$9=\"Sat\")+($B$9:$BM$9=\"Sun\"),$B15:$BM15,\"\")),\"\")","v":13.832329280830953},1.9500000000000002,13.555433606363744,"O"]
["06:00:00",289,309,83,48,328,331,315,315,291,86,58,310,346,"","","","","","","","","","","","","","","","","","","","","","","","","","","","","","","","","","","","","","","","","","","","","","","","","","","",null,null,319,338.5,315,302,300,84.5,53,null,318.625,7,{"$f":"IFERROR(_xlfn.STDEV.S(IF((($B$9:$BM$9=\"Mon\")+($B$9:$BM$9=\"Tue\")+($B$9:$BM$9=\"Wed\")+($B$9:$BM$9=\"Thu\"))*($B16:$BM16<>\"\"),$B16:$BM16,\"\")),\"\")","v":18.105510868504204},15.93125,13.412503690563389,"P",null,314.89999999999998,9,{"$f":"IFERROR(_xlfn.STDEV.S(IF((($B$9:$BM$9=\"Mon\")+($B$9:$BM$9=\"Tue\")+($B$9:$BM$9=\"Wed\")+($B$9:$BM$9=\"Thu\")+($B$9:$BM$9=\"Fri\"))*($B16:$BM16<>\"\"),$B16:$BM16,\"\")),\"\")","v":18.367392605133453},15.744999999999999,11.999809331989626,"P",null,318.5,5,{"$f":"IFERROR(_xlfn.STDEV.S(IF((($B$9:$BM$9=\"Tue\")+($B$9:$BM$9=\"Wed\")+($B$9:$BM$9=\"Thu\"))*($B16:$BM16<>\"\"),$B16:$BM16,\"\")),\"\")","v":21.241468875762806},15.925000000000001,18.618626264561993,"O",null,68.75,4,{"$f":"IFERROR(_xlfn.STDEV.S(IF(($B$9:$BM$9=\"Sat\")+($B$9:$BM$9=\"Sun\"),$B16:$BM16,\"\")),\"\")","v":18.679311193581704},3.4375,18.305388597718011,"O"]
["07:00:00",517,564,178,115,576,572,545,613,546,168,98,501,617,"","","","","","","","","","","","","","","","","","","","","","","","","","","","","","","","","","","","","","","","","","","","","","","","","","","",null,null,538.5,594.5,545,565,555,173,106.5,null,560.75,7,{"$f":"IFERROR(_xlfn.STDEV.S(IF((($B$9:$BM$9=\"Mon\")+($B$9:$BM$9=\"Tue\")+($B$9:$BM$9=\"Wed\")+($B$9:$BM$9=\"Thu\"))*($B17:$BM17<>\"\"),$B17:$BM17,\"\")),\"\")","v":44.62809279665295},28.037500000000001,33.060346304791381,"O",null,559.6,9,{"$f":"IFERROR(_xlfn.STDEV.S(IF((($B$9:$BM$9=\"Mon\")+($B$9:$BM$9=\"Tue\")+($B$9:$BM$9=\"Wed\")+($B$9:$BM$9=\"Thu\")+($B$9:$BM$9=\"Fri\"))*($B17:$BM17<>\"\"),$B17:$BM17,\"\")),\"\")","v":39.069738218273805},27.980000000000004,25.525093264408248,"P",null,568.16666666666663,5,{"$f":"IFERROR(_xlfn.STDEV.S(IF((($B$9:$BM$9=\"Tue\")+($B$9:$BM$9=\"Wed\")+($B$9:$BM$9=\"Thu\"))*($B17:$BM17<>\"\"),$B17:$BM17,\"\")),\"\")","v":43.176382432992227},28.408333333333331,37.845072423072423,"O",null,139.75,4,{"$f":"IFERROR(_xlfn.STDEV.S(IF(($B$9:$BM$9=\"Sat\")+($B$9:$BM$9=\"Sun\"),$B17:$BM17,\"\")),\"\")","v":39.22902836760894},6.9875000000000007,38.443741374506807,"O"]
["08:00:00",541,492,317,187,559,565,578,605,538,384,178,584,561,"","","","","","","","","","","","","","","","","","","","","","","","","","","","","","","","","","","","","","","","","","","","","","","","","","","",null,null,571.5,563,578,573,515,350.5,182.5,null,571.375,7,{"$f":"IFERROR(_xlfn.STDEV.S(IF((($B$9:$BM$9=\"Mon\")+($B$9:$BM$9=\"Tue\")+($B$9:$BM$9=\"Wed\")+($B$9:$BM$9=\"Thu\"))*($B18:$BM18<>\"\"),$B18:$BM18,\"\")),\"\")","v":20.62245655312951},28.568750000000001,15.277048885071533,"P",null,560.1,9,{"$f":"IFERROR(_xlfn.STDEV.S(IF((($B$9:$BM$9=\"Mon\")+($B$9:$BM$9=\"Tue\")+($B$9:$BM$9=\"Wed\")+($B$9:$BM$9=\"Thu\")+($B$9:$BM$9=\"Fri\"))*($B18:$BM18<>\"\"),$B18:$BM18,\"\")),\"\")","v":32.38226537954241},28.005000000000003,21.156024627240459,"P",null,571.33333333333337,5,{"$f":"IFERROR(_xlfn.STDEV.S(IF((($B$9:$BM$9=\"Tue\")+($B$9:$BM$9=\"Wed\")+($B$9:$BM$9=\"Thu\"))*($B18:$BM18<>\"\"),$B18:$BM18,\"\")),\"\")","v":23.643180835073778},28.56666666666667,20.723780932870408,"P",null,266.5,4,{"$f":"IFERROR(_xlfn.STDEV.S(IF(($B$9:$BM$9=\"Sat\")+($B$9:$BM$9=\"Sun\"),$B18:$BM18,\"\")),\"\")","v":100.8447651921837},13.325000000000001,98.826053903039238,"O"]
["09:00:00",440,464,420,300,469,419,446,438,465,428,279,438,408,"","","","","","","","","","","","","","","","","","","","","","","","","","","","","","","","","","","","","","","","","","","","","","","","","","","",null,null,453.5,413.5,446,439,464.5,424,289.5,null,438,7,{"$f":"IFERROR(_xlfn.STDEV.S(IF((($B$9:$BM$9=\"Mon\")+($B$9:$BM$9=\"Tue\")+($B$9:$BM$9=\"Wed\")+($B$9:$BM$9=\"Thu\"))*($B19:$BM19<>\"\"),$B19:$BM19,\"\")),\"\")","v":19.497252553702463},21.900000000000002,14.443501414107585,"P",null,443.3,9,{"$f":"IFERROR(_xlfn.STDEV.S(IF((($B$9:$BM$9=\"Mon\")+($B$9:$BM$9=\"Tue\")+($B$9:$BM$9=\"Wed\")+($B$9:$BM$9=\"Thu\")+($B$9:$BM$9=\"Fri\"))*($B19:$BM19<>\"\"),$B19:$BM19,\"\")),\"\")","v":20.826665599658529},22.165000000000003,13.606504831129998,"P",null,432.83333333333331,5,{"$f":"IFERROR(_xlfn.STDEV.S(IF((($B$9:$BM$9=\"Tue\")+($B$9:$BM$9=\"Wed\")+($B$9:$BM$9=\"Thu\"))*($B19:$BM19<>\"\"),$B19:$BM19,\"\")),\"\")","v":16.006248779773479},21.641666666666666,14.029837845547855,"P",null,356.75,4,{"$f":"IFERROR(_xlfn.STDEV.S(IF(($B$9:$BM$9=\"Sat\")+($B$9:$BM$9=\"Sun\"),$B19:$BM19,\"\")),\"\")","v":78.193669820516803},17.837500000000002,76.628388333614723,"O"]
["10:00:00",465,486,549,471,451,424,424,457,429,606,487,436,451,"","","","","","","","","","","","","","","","","","","","","","","","","","","","","","","","","","","","","","","","","","","","","","","","","","","",null,null,{"$f":"IF(COUNTIFS($B$9:$BM$9,BP$8,$B20:$BM20,\">=0\")=0,\"\",SUMIFS($B20:$BM20,$B$9:$BM$9,BP$8)/COUNTIFS($B$9:$BM$9,BP$8,$B20:$BM20,\">=0\"))","v":443.5},437.5,424,461,457.5,577.5,479,null,441.5,7,{"$f":"IFERROR(_xlfn.STDEV.S(IF((($B$9:$BM$9=\"Mon\")+($B$9:$BM$9=\"Tue\")+($B$9:$BM$9=\"Wed\")+($B$9:$BM$9=\"Thu\"))*($B20:$BM20<>\"\"),$B20:$BM20,\"\")),\"\")","v":16.186414056238647},22.075000000000003,11.990843000401005,"P",null,444.7,9,{"$f":"IFERROR(_xlfn.STDEV.S(IF((($B$9:$BM$9=\"Mon\")+($B$9:$BM$9=\"Tue\")+($B$9:$BM$9=\"Wed\")+($B$9:$BM$9=\"Thu\")+($B$9:$BM$9=\"Fri\"))*($B20:$BM20<>\"\"),$B20:$BM20,\"\")),\"\")","v":20.85665361461421},22.234999999999999,13.626096640890326,"P",null,440.83333333333331,5,{"$f":"IFERROR(_xlfn.STDEV.S(IF((($B$9:$BM$9=\"Tue\")+($B$9:$BM$9=\"Wed\")+($B$9:$BM$9=\"Thu\"))*($B20:$BM20<>\"\"),$B20:$BM20,\"\")),\"\")","v":19.0971202017477},22.041666666666668,16.739056316932249,"P",null,528.25,4,{"$f":"IFERROR(_xlfn.STDEV.S(IF(($B$9:$BM$9=\"Sat\")+($B$9:$BM$9=\"Sun\"),$B20:$BM20,\"\")),\"\")","v":61.791989772137939},26.412500000000001,60.55503724322886,"O"]
["11:00:00",504,496,623,571,543,484,463,473,546,603,540,503,457,"","","","","","","","","","","","","","","","","","","","","","","","","","","","","","","","","","","","","","","","","","","","","","","","","","","",null,null,523,470.5,463,488.5,521,613,555.5,null,486.25,7,{"$f":"IFERROR(_xlfn.STDEV.S(IF((($B$9:$BM$9=\"Mon\")+($B$9:$BM$9=\"Tue\")+($B$9:$BM$9=\"Wed\")+($B$9:$BM$9=\"Thu\"))*($B21:$BM21<>\"\"),$B21:$BM21,\"\")),\"\")","v":29.764952224930266},24.3125,22.049780007080358,"P",null,493.2,9,{"$f":"IFERROR(_xlfn.STDEV.S(IF((($B$9:$BM$9=\"Mon\")+($B$9:$BM$9=\"Tue\")+($B$9:$BM$9=\"Wed\")+($B$9:$BM$9=\"Thu\")+($B$9:$BM$9=\"Fri\"))*($B21:$BM21<>\"\"),$B21:$BM21,\"\")),\"\")","v":31.8241697107368},24.66,20.791408823644861,"P",null,474,5,{"$f":"IFERROR(_xlfn.STDEV.S(IF((($B$9:$BM$9=\"Tue\")+($B$9:$BM$9=\"Wed\")+($B$9:$BM$9=\"Thu\"))*($B21:$BM21<>\"\"),$B21:$BM21,\"\")),\"\")","v":18.619881847100963},23.700000000000003,16.320746141856702,"P",null,584.25,4,{"$f":"IFERROR(_xlfn.STDEV.S(IF(($B$9:$BM$9=\"Sat\")+($B$9:$BM$9=\"Sun\"),$B21:$BM21,\"\")),\"\")","v":36.454309301736423},29.212500000000002,35.724566656343427,"O"]
["12:00:00",565,537,645,564,484,465,499,515,538,632,590,484,519,"","","","","","","","","","","","","","","","","","","","","","","","","","","","","","","","","","","","","","","","","","","","","","","","","","","",null,null,484,492,499,540,537.5,638.5,577,null,503.75,7,{"$f":"IFERROR(_xlfn.STDEV.S(IF((($B$9:$BM$9=\"Mon\")+($B$9:$BM$9=\"Tue\")+($B$9:$BM$9=\"Wed\")+($B$9:$BM$9=\"Thu\"))*($B22:$BM22<>\"\"),$B22:$BM22,\"\")),\"\")","v":32.689739179428273},25.1875,24.216452690675123,"P",null,510.5,9,{"$f":"IFERROR(_xlfn.STDEV.S(IF((($B$9:$BM$9=\"Mon\")+($B$9:$BM$9=\"Tue\")+($B$9:$BM$9=\"Wed\")+($B$9:$BM$9=\"Thu\")+($B$9:$BM$9=\"Fri\"))*($B22:$BM22<>\"\"),$B22:$BM22,\"\")),\"\")","v":31.846419648752423},25.525000000000002,20.805945182701151,"P",null,510.33333333333331,5,{"$f":"IFERROR(_xlfn.STDEV.S(IF((($B$9:$BM$9=\"Tue\")+($B$9:$BM$9=\"Wed\")+($B$9:$BM$9=\"Thu\"))*($B22:$BM22<>\"\"),$B22:$BM22,\"\")),\"\")","v":36.204972034238615},25.516666666666666,31.734474068954906,"O",null,607.75,4,{"$f":"IFERROR(_xlfn.STDEV.S(IF(($B$9:$BM$9=\"Sat\")+($B$9:$BM$9=\"Sun\"),$B22:$BM22,\"\")),\"\")","v":37.437726070547249},30.387500000000003,36.688297380674413,"O"]
["13:00:00",516,548,565,557,511,504,458,510,493,563,507,433,254,"","","","","","","","","","","","","","","","","","","","","","","","","","","","","","","","","","","","","","","","","","","","","","","","","","","",null,null,472,379,458,513,520.5,564,532,null,455.5,7,{"$f":"IFERROR(_xlfn.STDEV.S(IF((($B$9:$BM$9=\"Mon\")+($B$9:$BM$9=\"Tue\")+($B$9:$BM$9=\"Wed\")+($B$9:$BM$9=\"Thu\"))*($B23:$BM23<>\"\"),$B23:$BM23,\"\")),\"\")","v":94.142495844382125},22.775000000000002,69.74045538522499,"O",null,468.5,9,{"$f":"IFERROR(_xlfn.STDEV.S(IF((($B$9:$BM$9=\"Mon\")+($B$9:$BM$9=\"Tue\")+($B$9:$BM$9=\"Wed\")+($B$9:$BM$9=\"Thu\")+($B$9:$BM$9=\"Fri\"))*($B23:$BM23<>\"\"),$B23:$BM23,\"\")),\"\")","v":87.559979442665465},23.425000000000001,57.204802064897265,"O",null,450,5,{"$f":"IFERROR(_xlfn.STDEV.S(IF((($B$9:$BM$9=\"Tue\")+($B$9:$BM$9=\"Wed\")+($B$9:$BM$9=\"Thu\"))*($B23:$BM23<>\"\"),$B23:$BM23,\"\")),\"\")","v":111.06214476589217},22.5,97.348473292083867,"O",null,548,4,{"$f":"IFERROR(_xlfn.STDEV.S(IF(($B$9:$BM$9=\"Sat\")+($B$9:$BM$9=\"Sun\"),$B23:$BM23,\"\")),\"\")","v":27.543904346818127},27.400000000000002,26.992530256689879,"P"]
["14:00:00",552,569,562,592,503,509,484,489,616,580,519,535,0,"","","","","","","","","","","","","","","","","","","","","","","","","","","","","","","","","","","","","","","","","","","","","","","","","","","",null,null,519,254.5,484,520.5,592.5,571,555.5,null,444.5,6,{"$f":"IFERROR(_xlfn.STDEV.S(IF((($B$9:$BM$9=\"Mon\")+($B$9:$BM$9=\"Tue\")+($B$9:$BM$9=\"Wed\")+($B$9:$BM$9=\"Thu\"))*($B24:$BM24<>\"\"),$B24:$BM24,\"\")),\"\")","v":195.03284216718347},22.225000000000001,156.05590820553223,"O",null,474.1,8,{"$f":"IFERROR(_xlfn.STDEV.S(IF((($B$9:$BM$9=\"Mon\")+($B$9:$BM$9=\"Tue\")+($B$9:$BM$9=\"Wed\")+($B$9:$BM$9=\"Thu\")+($B$9:$BM$9=\"Fri\"))*($B24:$BM24<>\"\"),$B24:$BM24,\"\")),\"\")","v":182.36364769328344},23.705000000000002,126.36923838023938,"O",null,419.66666666666669,4,{"$f":"IFERROR(_xlfn.STDEV.S(IF((($B$9:$BM$9=\"Tue\")+($B$9:$BM$9=\"Wed\")+($B$9:$BM$9=\"Thu\"))*($B24:$BM24<>\"\"),$B24:$BM24,\"\")),\"\")","v":228.98187701213388},20.983333333333334,224.3981160280812,"O",null,563.25,4,{"$f":"IFERROR(_xlfn.STDEV.S(IF(($B$9:$BM$9=\"Sat\")+($B$9:$BM$9=\"Sun\"),$B24:$BM24,\"\")),\"\")","v":31.972644557496334},28.162500000000001,31.332615911596687,"O"]
["15:00:00",582,651,569,506,554,554,554,567,590,571,476,534,0,"","","","","","","","","","","","","","","","","","","","","","","","","","","","","","","","","","","","","","","","","","","","","","","","","","","",null,null,544,277,554,574.5,620.5,570,491,null,487.375,6,{"$f":"IFERROR(_xlfn.STDEV.S(IF((($B$9:$BM$9=\"Mon\")+($B$9:$BM$9=\"Tue\")+($B$9:$BM$9=\"Wed\")+($B$9:$BM$9=\"Thu\"))*($B25:$BM25<>\"\"),$B25:$BM25,\"\")),\"\")","v":211.22060235010892},24.368750000000002,169.00857601823995,"O",null,514,8,{"$f":"IFERROR(_xlfn.STDEV.S(IF((($B$9:$BM$9=\"Mon\")+($B$9:$BM$9=\"Tue\")+($B$9:$BM$9=\"Wed\")+($B$9:$BM$9=\"Thu\")+($B$9:$BM$9=\"Fri\"))*($B25:$BM25<>\"\"),$B25:$BM25,\"\")),\"\")","v":194.03486227422573},25.700000000000003,134.45682884150619,"O",null,468.5,4,{"$f":"IFERROR(_xlfn.STDEV.S(IF((($B$9:$BM$9=\"Tue\")+($B$9:$BM$9=\"Wed\")+($B$9:$BM$9=\"Thu\"))*($B25:$BM25<>\"\"),$B25:$BM25,\"\")),\"\")","v":252.60403797247579},23.425000000000001,247.54740838772034,"O",null,530.5,4,{"$f":"IFERROR(_xlfn.STDEV.S(IF(($B$9:$BM$9=\"Sat\")+($B$9:$BM$9=\"Sun\"),$B25:$BM25,\"\")),\"\")","v":47.233462714478172},26.525000000000002,46.287942892746344,"O"]
["16:00:00",631,696,574,476,615,618,688,653,646,535,472,627,0,"","","","","","","","","","","","","","","","","","","","","","","","","","","","","","","","","","","","","","","","","","","","","","","","","","","",null,null,621,309,688,642,671,554.5,474,null,565,6,{"$f":"IFERROR(_xlfn.STDEV.S(IF((($B$9:$BM$9=\"Mon\")+($B$9:$BM$9=\"Tue\")+($B$9:$BM$9=\"Wed\")+($B$9:$BM$9=\"Thu\"))*($B26:$BM26<>\"\"),$B26:$BM26,\"\")),\"\")","v":242.7089183520437},28.25,194.20401334531567,"O",null,586.20000000000005,8,{"$f":"IFERROR(_xlfn.STDEV.S(IF((($B$9:$BM$9=\"Mon\")+($B$9:$BM$9=\"Tue\")+($B$9:$BM$9=\"Wed\")+($B$9:$BM$9=\"Thu\")+($B$9:$BM$9=\"Fri\"))*($B26:$BM26<>\"\"),$B26:$BM26,\"\")),\"\")","v":217.49968071496363},29.310000000000002,150.71681964885096,"O",null,546.33333333333337,4,{"$f":"IFERROR(_xlfn.STDEV.S(IF((($B$9:$BM$9=\"Tue\")+($B$9:$BM$9=\"Wed\")+($B$9:$BM$9=\"Thu\"))*($B26:$BM26<>\"\"),$B26:$BM26,\"\")),\"\")","v":290.78256481432993},27.31666666666667,284.96167718413523,"O",null,514.25,4,{"$f":"IFERROR(_xlfn.STDEV.S(IF(($B$9:$BM$9=\"Sat\")+($B$9:$BM$9=\"Sun\"),$B26:$BM26,\"\")),\"\")","v":49.155365932927403},25.712500000000002,48.171373437712404,"O"]
["17:00:00",646,594,481,378,625,634,641,648,630,503,345,635,0,"","","","","","","","","","","","","","","","","","","","","","","","","","","","","","","","","","","","","","","","","","","","","","","","","","","",null,null,630,317,641,647,612,492,361.5,null,558.75,6,{"$f":"IFERROR(_xlfn.STDEV.S(IF((($B$9:$BM$9=\"Mon\")+($B$9:$BM$9=\"Tue\")+($B$9:$BM$9=\"Wed\")+($B$9:$BM$9=\"Thu\"))*($B27:$BM27<>\"\"),$B27:$BM27,\"\")),\"\")","v":241.33103129657127},27.9375,193.1014943364296,"O",null,569.4,8,{"$f":"IFERROR(_xlfn.STDEV.S(IF((($B$9:$BM$9=\"Mon\")+($B$9:$BM$9=\"Tue\")+($B$9:$BM$9=\"Wed\")+($B$9:$BM$9=\"Thu\")+($B$9:$BM$9=\"Fri\"))*($B27:$BM27<>\"\"),$B27:$BM27,\"\")),\"\")","v":211.14693409514084},28.47,146.31467173108248,"O",null,535,4,{"$f":"IFERROR(_xlfn.STDEV.S(IF((($B$9:$BM$9=\"Tue\")+($B$9:$BM$9=\"Wed\")+($B$9:$BM$9=\"Thu\"))*($B27:$BM27<>\"\"),$B27:$BM27,\"\")),\"\")","v":287.27373705231048},26.75,281.52308916337904,"O",null,426.75,4,{"$f":"IFERROR(_xlfn.STDEV.S(IF(($B$9:$BM$9=\"Sat\")+($B$9:$BM$9=\"Sun\"),$B27:$BM27,\"\")),\"\")","v":77.064367036047642},21.337500000000002,75.521691941014552,"O"]
["18:00:00",433,478,391,277,469,462,503,441,493,375,280,500,0,"","","","","","","","","","","","","","","","","","","","","","","","","","","","","","","","","","","","","","","","","","","","","","","","","","","",null,null,484.5,231,503,437,485.5,383,278.5,null,413.875,6,{"$f":"IFERROR(_xlfn.STDEV.S(IF((($B$9:$BM$9=\"Mon\")+($B$9:$BM$9=\"Tue\")+($B$9:$BM$9=\"Wed\")+($B$9:$BM$9=\"Thu\"))*($B28:$BM28<>\"\"),$B28:$BM28,\"\")),\"\")","v":178.87372507948032},20.693750000000001,143.12615922120776,"O",null,428.2,8,{"$f":"IFERROR(_xlfn.STDEV.S(IF((($B$9:$BM$9=\"Mon\")+($B$9:$BM$9=\"Tue\")+($B$9:$BM$9=\"Wed\")+($B$9:$BM$9=\"Thu\")+($B$9:$BM$9=\"Fri\"))*($B28:$BM28<>\"\"),$B28:$BM28,\"\")),\"\")","v":159.35686716019214},21.41,110.4266458168469,"O",null,390.33333333333331,4,{"$f":"IFERROR(_xlfn.STDEV.S(IF((($B$9:$BM$9=\"Tue\")+($B$9:$BM$9=\"Wed\")+($B$9:$BM$9=\"Thu\"))*($B28:$BM28<>\"\"),$B28:$BM28,\"\")),\"\")","v":207.38780099128303},19.516666666666666,203.23631038793738,"O",null,330.75,4,{"$f":"IFERROR(_xlfn.STDEV.S(IF(($B$9:$BM$9=\"Sat\")+($B$9:$BM$9=\"Sun\"),$B28:$BM28,\"\")),\"\")","v":60.698023032055993},16.537500000000001,59.482969537806206,"O"]
["19:00:00",309,282,276,212,301,303,307,319,351,296,212,299,0,"","","","","","","","","","","","","","","","","","","","","","","","","","","","","","","","","","","","","","","","","","","","","","","","","","","",null,null,300,151.5,307,314,316.5,286,212,null,268.125,6,{"$f":"IFERROR(_xlfn.STDEV.S(IF((($B$9:$BM$9=\"Mon\")+($B$9:$BM$9=\"Tue\")+($B$9:$BM$9=\"Wed\")+($B$9:$BM$9=\"Thu\"))*($B29:$BM29<>\"\"),$B29:$BM29,\"\")),\"\")","v":115.97105550216274},13.40625,92.794465746597126,"O",null,277.8,8,{"$f":"IFERROR(_xlfn.STDEV.S(IF((($B$9:$BM$9=\"Mon\")+($B$9:$BM$9=\"Tue\")+($B$9:$BM$9=\"Wed\")+($B$9:$BM$9=\"Thu\")+($B$9:$BM$9=\"Fri\"))*($B29:$BM29<>\"\"),$B29:$BM29,\"\")),\"\")","v":104.64238040955385},13.89,72.512137599327218,"O",null,257.5,4,{"$f":"IFERROR(_xlfn.STDEV.S(IF((($B$9:$BM$9=\"Tue\")+($B$9:$BM$9=\"Wed\")+($B$9:$BM$9=\"Thu\"))*($B29:$BM29<>\"\"),$B29:$BM29,\"\")),\"\")","v":138.53808140724342},12.875,135.76482502273757,"O",null,249,4,{"$f":"IFERROR(_xlfn.STDEV.S(IF(($B$9:$BM$9=\"Sat\")+($B$9:$BM$9=\"Sun\"),$B29:$BM29,\"\")),\"\")","v":43.497126341863094},12.450000000000001,42.626400530520058,"O"]
["20:00:00",184,203,190,152,170,160,220,176,202,195,165,191,0,"","","","","","","","","","","","","","","","","","","","","","","","","","","","","","","","","","","","","","","","","","","","","","","","","","","",null,null,180.5,80,220,180,202.5,192.5,158.5,null,165.125,6,{"$f":"IFERROR(_xlfn.STDEV.S(IF((($B$9:$BM$9=\"Mon\")+($B$9:$BM$9=\"Tue\")+($B$9:$BM$9=\"Wed\")+($B$9:$BM$9=\"Thu\"))*($B30:$BM30<>\"\"),$B30:$BM30,\"\")),\"\")","v":71.927542906534981},8.2562499999999996,57.552963431921881,"O",null,172.6,8,{"$f":"IFERROR(_xlfn.STDEV.S(IF((($B$9:$BM$9=\"Mon\")+($B$9:$BM$9=\"Tue\")+($B$9:$BM$9=\"Wed\")+($B$9:$BM$9=\"Thu\")+($B$9:$BM$9=\"Fri\"))*($B30:$BM30<>\"\"),$B30:$BM30,\"\")),\"\")","v":65.404510547820777},8.6300000000000008,45.322180648971816,"O",null,160,4,{"$f":"IFERROR(_xlfn.STDEV.S(IF((($B$9:$BM$9=\"Tue\")+($B$9:$BM$9=\"Wed\")+($B$9:$BM$9=\"Thu\"))*($B30:$BM30<>\"\"),$B30:$BM30,\"\")),\"\")","v":85.603738236130781},8,83.890121942405315,"O",null,175.5,4,{"$f":"IFERROR(_xlfn.STDEV.S(IF(($B$9:$BM$9=\"Sat\")+($B$9:$BM$9=\"Sun\"),$B30:$BM30,\"\")),\"\")","v":20.436894741292441},8.7750000000000004,20.027788824384601,"O"]
["21:00:00",146,154,125,111,117,138,176,167,132,148,105,138,0,"","","","","","","","","","","","","","","","","","","","","","","","","","","","","","","","","","","","","","","","","","","","","","","","","","","",null,null,127.5,69,176,156.5,143,136.5,108,null,132.25,6,{"$f":"IFERROR(_xlfn.STDEV.S(IF((($B$9:$BM$9=\"Mon\")+($B$9:$BM$9=\"Tue\")+($B$9:$BM$9=\"Wed\")+($B$9:$BM$9=\"Thu\"))*($B31:$BM31<>\"\"),$B31:$BM31,\"\")),\"\")","v":58.915193286621744},6.6125000000000007,47.141106560745378,"O",null,134.4,8,{"$f":"IFERROR(_xlfn.STDEV.S(IF((($B$9:$BM$9=\"Mon\")+($B$9:$BM$9=\"Tue\")+($B$9:$BM$9=\"Wed\")+($B$9:$BM$9=\"Thu\")+($B$9:$BM$9=\"Fri\"))*($B31:$BM31<>\"\"),$B31:$BM31,\"\")),\"\")","v":51.86226416619742},6.7200000000000006,35.938055123683121,"O",null,133.83333333333334,4,{"$f":"IFERROR(_xlfn.STDEV.S(IF((($B$9:$BM$9=\"Tue\")+($B$9:$BM$9=\"Wed\")+($B$9:$BM$9=\"Thu\"))*($B31:$BM31<>\"\"),$B31:$BM31,\"\")),\"\")","v":71.762106992478977},6.6916666666666673,70.325572579984367,"O",null,122.25,4,{"$f":"IFERROR(_xlfn.STDEV.S(IF(($B$9:$BM$9=\"Sat\")+($B$9:$BM$9=\"Sun\"),$B31:$BM31,\"\")),\"\")","v":19.102792117035317},6.1125000000000007,18.720392276772433,"O"]
["22:00:00",109,113,138,53,73,119,108,134,132,120,62,63,0,"","","","","","","","","","","","","","","","","","","","","","","","","","","","","","","","","","","","","","","","","","","","","","","","","","","",null,null,68,59.5,108,121.5,122.5,129,57.5,null,89.25,6,{"$f":"IFERROR(_xlfn.STDEV.S(IF((($B$9:$BM$9=\"Mon\")+($B$9:$BM$9=\"Tue\")+($B$9:$BM$9=\"Wed\")+($B$9:$BM$9=\"Thu\"))*($B32:$BM32<>\"\"),$B32:$BM32,\"\")),\"\")","v":45.63937314372734},4.4625000000000004,36.518433237876252,"O",null,95.9,8,{"$f":"IFERROR(_xlfn.STDEV.S(IF((($B$9:$BM$9=\"Mon\")+($B$9:$BM$9=\"Tue\")+($B$9:$BM$9=\"Wed\")+($B$9:$BM$9=\"Thu\")+($B$9:$BM$9=\"Fri\"))*($B32:$BM32<>\"\"),$B32:$BM32,\"\")),\"\")","v":42.845977381520626},4.7950000000000008,29.690201955524607,"O",null,96.333333333333329,4,{"$f":"IFERROR(_xlfn.STDEV.S(IF((($B$9:$BM$9=\"Tue\")+($B$9:$BM$9=\"Wed\")+($B$9:$BM$9=\"Thu\"))*($B32:$BM32<>\"\"),$B32:$BM32,\"\")),\"\")","v":53.577047324390691},4.8166666666666664,52.5045415769019,"O",null,93.25,4,{"$f":"IFERROR(_xlfn.STDEV.S(IF(($B$9:$BM$9=\"Sat\")+($B$9:$BM$9=\"Sun\"),$B32:$BM32,\"\")),\"\")","v":42.09018096104284},4.6625000000000005,41.247619393208716,"O"]
["23:00:00",{"$f":"IF(B$8=\"\",\"\",SUMIFS(INDIRECT(\"'\"&TEXT(B$8,\"DD_MMM_YYYY\")&\"'!S$6:S$101\"),INDIRECT(\"'\"&TEXT(B$8,\"DD_MMM_YYYY\")&\"'!a$6:a$101\"),\">=\"&$A33))","v":48},{"$f":"IF(C$8=\"\",\"\",SUMIFS(INDIRECT(\"'\"&TEXT(C$8,\"DD_MMM_YYYY\")&\"'!S$6:S$101\"),INDIRECT(\"'\"&TEXT(C$8,\"DD_MMM_YYYY\")&\"'!a$6:a$101\"),\">=\"&$A33))","v":72},106,30,26,39,44,41,70,89,24,28,0,"","","","","","","","","","","","","","","","","","","","","","","","","","","","","","","","","","","","","","","","","","","","","","","","","","","",null,null,27,19.5,44,44.5,71,97.5,27,null,33.75,6,{"$f":"IFERROR(_xlfn.STDEV.S(IF((($B$9:$BM$9=\"Mon\")+($B$9:$BM$9=\"Tue\")+($B$9:$BM$9=\"Wed\")+($B$9:$BM$9=\"Thu\"))*($B33:$BM33<>\"\"),$B33:$BM33,\"\")),\"\")","v":16.357610723190248},1.6875,13.088574053039814,"O",null,41.2,8,{"$f":"IFERROR(_xlfn.STDEV.S(IF((($B$9:$BM$9=\"Mon\")+($B$9:$BM$9=\"Tue\")+($B$9:$BM$9=\"Wed\")+($B$9:$BM$9=\"Thu\")+($B$9:$BM$9=\"Fri\"))*($B33:$BM33<>\"\"),$B33:$BM33,\"\")),\"\")","v":22.189211592823913},2.06,15.376056602899428,"O",null,36,4,{"$f":"IFERROR(_xlfn.STDEV.S(IF((($B$9:$BM$9=\"Tue\")+($B$9:$BM$9=\"Wed\")+($B$9:$BM$9=\"Thu\"))*($B33:$BM33<>\"\"),$B33:$BM33,\"\")),\"\")","v":19.526904516589411},1.8,19.136014791033876,"O",null,62.25,4,{"$f":"IFERROR(_xlfn.STDEV.S(IF(($B$9:$BM$9=\"Sat\")+($B$9:$BM$9=\"Sun\"),$B33:$BM33,\"\")),\"\")","v":41.36322843621695},3.1125000000000003,40.535219009644109,"O"]
["TOTAL",{"$f":"SUM(B10:B33)","v":7706},{"$f":"SUM(C10:C33)","v":7933},6952,5784,7632,7541,7706,7802,7955,7015,5587,7486,3846,0,0,0,0,0,0,0,0,0,0,0,0,0,0,0,0,0,0,0,0,0,0,0,0,0,0,0,0,0,0,0,0,0,0,0,0,0,0,0,0,0,0,0,0,0,0,0,0,0,0,0]
[]
[]
["CAR",null,null,null,null,null,null,null,null,null,null,null,null,null,null,null,null,null,null,null,null,null,null,null,null,null,null,null,null,null,null,null,null,null,null,null,null,null,null,null,null,null,null,null,null,null,null,null,null,null,null,null,null,null,null,null,null,null,null,null,null,null,null,null,null,null,null,"STATISTICS"]
[null,{"$f":"'Site Plan'!$Q$3","v":"2016-04-07"},{"$f":"IF($B$8+COLUMN(B38)-1<='Site Plan'!$Q$4,$B$8+COLUMN(B38)-1,\"\")","v":"2016-04-08"},{"$f":"IF($B$8+COLUMN(C38)-1<='Site Plan'!$Q$4,$B$8+COLUMN(C38)-1,\"\")","v":"2016-04-09"},{"$f":"IF($B$8+COLUMN(D38)-1<='Site Plan'!$Q$4,$B$8+COLUMN(D38)-1,\"\")","v":"2016-04-10"},{"$f":"IF($B$8+COLUMN(E38)-1<='Site Plan'!$Q$4,$B$8+COLUMN(E38)-1,\"\")","v":"2016-04-11"},{"$f":"IF($B$8+COLUMN(F38)-1<='Site Plan'!$Q$4,$B$8+COLUMN(F38)-1,\"\")","v":"2016-04-12"},{"$f":"IF($B$8+COLUMN(G38)-1<='Site Plan'!$Q$4,$B$8+COLUMN(G38)-1,\"\")","v":"2016-04-13"},{"$f":"IF($B$8+COLUMN(H38)-1<='Site Plan'!$Q$4,$B$8+COLUMN(H38)-1,\"\")","v":"2016-04-14"},{"$f":"IF($B$8+COLUMN(I38)-1<='Site Plan'!$Q$4,$B$8+COLUMN(I38)-1,\"\")","v":"2016-04-15"},{"$f":"IF($B$8+COLUMN(J38)-1<='Site Plan'!$Q$4,$B$8+COLUMN(J38)-1,\"\")","v":"2016-04-16"},{"$f":"IF($B$8+COLUMN(K38)-1<='Site Plan'!$Q$4,$B$8+COLUMN(K38)-1,\"\")","v":"2016-04-17"},{"$f":"IF($B$8+COLUMN(L38)-1<='Site Plan'!$Q$4,$B$8+COLUMN(L38)-1,\"\")","v":"2016-04-18"},{"$f":"IF($B$8+COLUMN(M38)-1<='Site Plan'!$Q$4,$B$8+COLUMN(M38)-1,\"\")","v":"2016-04-19"},{"$f":"IF($B$8+COLUMN(N38)-1<='Site Plan'!$Q$4,$B$8+COLUMN(N38)-1,\"\")","v":""},{"$f":"IF($B$8+COLUMN(O38)-1<='Site Plan'!$Q$4,$B$8+COLUMN(O38)-1,\"\")","v":""},{"$f":"IF($B$8+COLUMN(P38)-1<='Site Plan'!$Q$4,$B$8+COLUMN(P38)-1,\"\")","v":""},{"$f":"IF($B$8+COLUMN(Q38)-1<='Site Plan'!$Q$4,$B$8+COLUMN(Q38)-1,\"\")","v":""},{"$f":"IF($B$8+COLUMN(R38)-1<='Site Plan'!$Q$4,$B$8+COLUMN(R38)-1,\"\")","v":""},{"$f":"IF($B$8+COLUMN(S38)-1<='Site Plan'!$Q$4,$B$8+COLUMN(S38)-1,\"\")","v":""},{"$f":"IF($B$8+COLUMN(T38)-1<='Site Plan'!$Q$4,$B$8+COLUMN(T38)-1,\"\")","v":""},{"$f":"IF($B$8+COLUMN(U38)-1<='Site Plan'!$Q$4,$B$8+COLUMN(U38)-1,\"\")","v":""},{"$f":"IF($B$8+COLUMN(V38)-1<='Site Plan'!$Q$4,$B$8+COLUMN(V38)-1,\"\")","v":""},{"$f":"IF($B$8+COLUMN(W38)-1<='Site Plan'!$Q$4,$B$8+COLUMN(W38)-1,\"\")","v":""},{"$f":"IF($B$8+COLUMN(X38)-1<='Site Plan'!$Q$4,$B$8+COLUMN(X38)-1,\"\")","v":""},{"$f":"IF($B$8+COLUMN(Y38)-1<='Site Plan'!$Q$4,$B$8+COLUMN(Y38)-1,\"\")","v":""},{"$f":"IF($B$8+COLUMN(Z38)-1<='Site Plan'!$Q$4,$B$8+COLUMN(Z38)-1,\"\")","v":""},{"$f":"IF($B$8+COLUMN(AA38)-1<='Site Plan'!$Q$4,$B$8+COLUMN(AA38)-1,\"\")","v":""},{"$f":"IF($B$8+COLUMN(AB38)-1<='Site Plan'!$Q$4,$B$8+COLUMN(AB38)-1,\"\")","v":""},{"$f":"IF($B$8+COLUMN(AC38)-1<='Site Plan'!$Q$4,$B$8+COLUMN(AC38)-1,\"\")","v":""},{"$f":"IF($B$8+COLUMN(AD38)-1<='Site Plan'!$Q$4,$B$8+COLUMN(AD38)-1,\"\")","v":""},{"$f":"IF($B$8+COLUMN(AE38)-1<='Site Plan'!$Q$4,$B$8+COLUMN(AE38)-1,\"\")","v":""},{"$f":"IF($B$8+COLUMN(AF38)-1<='Site Plan'!$Q$4,$B$8+COLUMN(AF38)-1,\"\")","v":""},{"$f":"IF($B$8+COLUMN(AG38)-1<='Site Plan'!$Q$4,$B$8+COLUMN(AG38)-1,\"\")","v":""},{"$f":"IF($B$8+COLUMN(AH38)-1<='Site Plan'!$Q$4,$B$8+COLUMN(AH38)-1,\"\")","v":""},{"$f":"IF($B$8+COLUMN(AI38)-1<='Site Plan'!$Q$4,$B$8+COLUMN(AI38)-1,\"\")","v":""},{"$f":"IF($B$8+COLUMN(AJ38)-1<='Site Plan'!$Q$4,$B$8+COLUMN(AJ38)-1,\"\")","v":""},{"$f":"IF($B$8+COLUMN(AK38)-1<='Site Plan'!$Q$4,$B$8+COLUMN(AK38)-1,\"\")","v":""},{"$f":"IF($B$8+COLUMN(AL38)-1<='Site Plan'!$Q$4,$B$8+COLUMN(AL38)-1,\"\")","v":""},{"$f":"IF($B$8+COLUMN(AM38)-1<='Site Plan'!$Q$4,$B$8+COLUMN(AM38)-1,\"\")","v":""},{"$f":"IF($B$8+COLUMN(AN38)-1<='Site Plan'!$Q$4,$B$8+COLUMN(AN38)-1,\"\")","v":""},{"$f":"IF($B$8+COLUMN(AO38)-1<='Site Plan'!$Q$4,$B$8+COLUMN(AO38)-1,\"\")","v":""},{"$f":"IF($B$8+COLUMN(AP38)-1<='Site Plan'!$Q$4,$B$8+COLUMN(AP38)-1,\"\")","v":""},{"$f":"IF($B$8+COLUMN(AQ38)-1<='Site Plan'!$Q$4,$B$8+COLUMN(AQ38)-1,\"\")","v":""},{"$f":"IF($B$8+COLUMN(AR38)-1<='Site Plan'!$Q$4,$B$8+COLUMN(AR38)-1,\"\")","v":""},{"$f":"IF($B$8+COLUMN(AS38)-1<='Site Plan'!$Q$4,$B$8+COLUMN(AS38)-1,\"\")","v":""},{"$f":"IF($B$8+COLUMN(AT38)-1<='Site Plan'!$Q$4,$B$8+COLUMN(AT38)-1,\"\")","v":""},{"$f":"IF($B$8+COLUMN(AU38)-1<='Site Plan'!$Q$4,$B$8+COLUMN(AU38)-1,\"\")","v":""},{"$f":"IF($B$8+COLUMN(AV38)-1<='Site Plan'!$Q$4,$B$8+COLUMN(AV38)-1,\"\")","v":""},{"$f":"IF($B$8+COLUMN(AW38)-1<='Site Plan'!$Q$4,$B$8+COLUMN(AW38)-1,\"\")","v":""},{"$f":"IF($B$8+COLUMN(AX38)-1<='Site Plan'!$Q$4,$B$8+COLUMN(AX38)-1,\"\")","v":""},{"$f":"IF($B$8+COLUMN(AY38)-1<='Site Plan'!$Q$4,$B$8+COLUMN(AY38)-1,\"\")","v":""},{"$f":"IF($B$8+COLUMN(AZ38)-1<='Site Plan'!$Q$4,$B$8+COLUMN(AZ38)-1,\"\")","v":""},{"$f":"IF($B$8+COLUMN(BA38)-1<='Site Plan'!$Q$4,$B$8+COLUMN(BA38)-1,\"\")","v":""},{"$f":"IF($B$8+COLUMN(BB38)-1<='Site Plan'!$Q$4,$B$8+COLUMN(BB38)-1,\"\")","v":""},{"$f":"IF($B$8+COLUMN(BC38)-1<='Site Plan'!$Q$4,$B$8+COLUMN(BC38)-1,\"\")","v":""},{"$f":"IF($B$8+COLUMN(BD38)-1<='Site Plan'!$Q$4,$B$8+COLUMN(BD38)-1,\"\")","v":""},{"$f":"IF($B$8+COLUMN(BE38)-1<='Site Plan'!$Q$4,$B$8+COLUMN(BE38)-1,\"\")","v":""},{"$f":"IF($B$8+COLUMN(BF38)-1<='Site Plan'!$Q$4,$B$8+COLUMN(BF38)-1,\"\")","v":""},{"$f":"IF($B$8+COLUMN(BG38)-1<='Site Plan'!$Q$4,$B$8+COLUMN(BG38)-1,\"\")","v":""},{"$f":"IF($B$8+COLUMN(BH38)-1<='Site Plan'!$Q$4,$B$8+COLUMN(BH38)-1,\"\")","v":""},{"$f":"IF($B$8+COLUMN(BI38)-1<='Site Plan'!$Q$4,$B$8+COLUMN(BI38)-1,\"\")","v":""},{"$f":"IF($B$8+COLUMN(BJ38)-1<='Site Plan'!$Q$4,$B$8+COLUMN(BJ38)-1,\"\")","v":""},{"$f":"IF($B$8+COLUMN(BK38)-1<='Site Plan'!$Q$4,$B$8+COLUMN(BK38)-1,\"\")","v":""},{"$f":"IF($B$8+COLUMN(BL38)-1<='Site Plan'!$Q$4,$B$8+COLUMN(BL38)-1,\"\")","v":""},null,null,"Mon","Tue","Wed","Thu","Fri","Sat","Sun",null,"Mon-Thu",null,null,null,null,null,null,"Mon-Fri",null,null,null,null,null,null,"Tue-Thu",null,null,null,null,null,null,"Sat-Sun"]
["TIME",{"$f":"IF(B38=\"\",\"\",CHOOSE(WEEKDAY(B38),\"Mon\",\"Tue\",\"Wed\",\"Thu\",\"Fri\",\"Sat\",\"Sun\"))","v":"Fri"},{"$f":"IF(C38=\"\",\"\",CHOOSE(WEEKDAY(C38),\"Mon\",\"Tue\",\"Wed\",\"Thu\",\"Fri\",\"Sat\",\"Sun\"))","v":"Sat"},"Sun","Mon",null,null,null,{"$f":"IF(I38=\"\",\"\",CHOOSE(WEEKDAY(I38),\"Mon\",\"Tue\",\"Wed\",\"Thu\",\"Fri\",\"Sat\",\"Sun\"))","v":"Fri"},"Sat","Sun","Mon","Tue","Wed","","","","","","","","","","","","","","","","","","","","","","","","","","","","","","","","","","","","","","","","","","","","","","","","","","","",null,null,"Mean","Mean","Mean","Mean","Mean","Mean","Mean",null,"Mean","Number of observations","Standard Deviation"," ± 5% interval of the mean","95% confidence interval","Meet WebTAG criteria?",null,"Mean","Number of observations","Standard Deviation"," ± 5% interval of the mean","95% confidence interval","Meet WebTAG criteria?",null,"Mean","Number of observations","Standard Deviation"," ± 5% interval of the mean","95% confidence interval","Meet WebTAG criteria?",null,"Mean","Number of observations","Standard Deviation"," ± 5% interval of the mean","95% confidence interval","Meet WebTAG criteria?"]
["00:00:00",{"$f":"IF(B$8=\"\",\"\",SUMIFS(INDIRECT(\"'\"&TEXT(B$8,\"DD_MMM_YYYY\")&\"'!L$6:L$101\"),INDIRECT(\"'\"&TEXT(B$8,\"DD_MMM_YYYY\")&\"'!a$6:a$101\"),\">=\"&$A40,INDIRECT(\"'\"&TEXT(B$8,\"DD_MMM_YYYY\")&\"'!a$6:a$101\"),\"<\"&$A41))","v":7},{"$f":"IF(C$8=\"\",\"\",SUMIFS(INDIRECT(\"'\"&TEXT(C$8,\"DD_MMM_YYYY\")&\"'!L$6:L$101\"),INDIRECT(\"'\"&TEXT(C$8,\"DD_MMM_YYYY\")&\"'!a$6:a$101\"),\">=\"&$A40,INDIRECT(\"'\"&TEXT(C$8,\"DD_MMM_YYYY\")&\"'!a$6:a$101\"),\"<\"&$A41))","v":5},27,28,6,6,10,8,8,15,53,1,7,"","","","","","","","","","","","","","","","","","","","","","","","","","","","","","","","","","","","","","","","","","","","","","","","","","","",null,null,{"$f":"IF(COUNTIFS($B$9:$BM$9,BP$8,$B40:$BM40,\">=0\")=0,\"\",SUMIFS($B40:$BM40,$B$9:$BM$9,BP$8)/COUNTIFS($B$9:$BM$9,BP$8,$B40:$BM40,\">=0\"))","v":3.5},6.5,10,7.5,6.5,21,40.5,null,{"$f":"IFERROR(AVERAGE(BP40:BS40),\"\")","v":6.875},{"$f":"IFERROR(COUNTIFS($B$9:$BM$9,BQ$8,$B40:$BM40,\">0\")+COUNTIFS($B$9:$BM$9,BR$8,$B40:$BM40,\">0\")+COUNTIFS($B$9:$BM$9,BS$8,$B40:$BM40,\">0\")+COUNTIFS($B$9:$BM$9,BP$8,$B40:$BM40,\">0\"),\"\")","v":7},{"$f":"IFERROR(_xlfn.STDEV.S(IF((($B$9:$BM$9=\"Mon\")+($B$9:$BM$9=\"Tue\")+($B$9:$BM$9=\"Wed\")+($B$9:$BM$9=\"Thu\"))*($B40:$BM40<>\"\"),$B40:$BM40,\"\")),\"\")","v":2.760262237369417},{"$f":"IFERROR(BX40*0.05,\"\")","v":0.34375},{"$f":"IFERROR(_xlfn.CONFIDENCE.NORM(0.05,BZ40,BY40),\"\")","v":2.0447933071053219},{"$f":"IF(BX40=\"\",\"\",IF(OR(BZ40=0,CB40<=CA40),\"P\",\"O\"))","v":"O"},null,{"$f":"IFERROR(AVERAGE(BP40:BT40),\"\")","v":6.8},{"$f":"IFERROR(COUNTIFS($B$9:$BM$9,BQ$8,$B40:$BM40,\">0\")+COUNTIFS($B$9:$BM$9,BR$8,$B40:$BM40,\">0\")+COUNTIFS($B$9:$BM$9,BS$8,$B40:$BM40,\">0\")+COUNTIFS($B$9:$BM$9,BP$8,$B40:$BM40,\">0\")+COUNTIFS($B$9:$BM$9,BT$8,$B40:$BM40,\">0\"),\"\")","v":9},{"$f":"IFERROR(_xlfn.STDEV.S(IF((($B$9:$BM$9=\"Mon\")+($B$9:$BM$9=\"Tue\")+($B$9:$BM$9=\"Wed\")+($B$9:$BM$9=\"Thu\")+($B$9:$BM$9=\"Fri\"))*($B40:$BM40<>\"\"),$B40:$BM40,\"\")),\"\")","v":2.5055493963954847},{"$f":"IFERROR(CE40*0.05,\"\")","v":0.34},{"$f":"IFERROR(_xlfn.CONFIDENCE.NORM(0.05,CG40,CF40),\"\")","v":1.6369288594737401},{"$f":"IF(CE40=\"\",\"\",IF(OR(CG40=0,CI40<=CH40),\"P\",\"O\"))","v":"O"},null,{"$f":"IFERROR(AVERAGE(BQ40:BS40),\"\")","v":8},{"$f":"IFERROR(COUNTIFS($B$9:$BM$9,BQ$8,$B40:$BM40,\">0\")+COUNTIFS($B$9:$BM$9,BR$8,$B40:$BM40,\">0\")+COUNTIFS($B$9:$BM$9,BS$8,$B40:$BM40,\">0\"),\"\")","v":5},{"$f":"IFERROR(_xlfn.STDEV.S(IF((($B$9:$BM$9=\"Tue\")+($B$9:$BM$9=\"Wed\")+($B$9:$BM$9=\"Thu\"))*($B40:$BM40<>\"\"),$B40:$BM40,\"\")),\"\")","v":1.5165750888103091},{"$f":"IFERROR(CL40*0.05,\"\")","v":0.4},{"$f":"IFERROR(_xlfn.CONFIDENCE.NORM(0.05,CN40,CM40),\"\")","v":1.3293122498191667},{"$f":"IF(CL40=\"\",\"\",IF(OR(CN40=0,CP40<=CO40),\"P\",\"O\"))","v":"O"},null,{"$f":"IFERROR(AVERAGE(BU40:BV40),\"\")","v":30.75},{"$f":"IFERROR(COUNTIFS($B$9:$BM$9,BU$8,$B40:$BM40,\">0\")+COUNTIFS($B$9:$BM$9,BV$8,$B40:$BM40,\">0\"),\"\")","v":4},{"$f":"IFERROR(_xlfn.STDEV.S(IF((($B$9:$BM$9=\"Sat\")+($B$9:$BM$9=\"Sun\"))*($B40:$BM40<>\"\"),$B40:$BM40,\"\")),\"\")","v":15.96610994158147},{"$f":"IFERROR(CS40*0.05,\"\")","v":1.5375000000000001},{"$f":"IFERROR(_xlfn.CONFIDENCE.NORM(0.05,CU40,CT40),\"\")","v":15.64650022935329},{"$f":"IF(CS40=\"\",\"\",IF(OR(CU40=0,CW40<=CV40),\"P\",\"O\"))","v":"O"}]
["01:00:00",{"$f":"IF(B$8=\"\",\"\",SUMIFS(INDIRECT(\"'\"&TEXT(B$8,\"DD_MMM_YYYY\")&\"'!L$6:L$101\"),INDIRECT(\"'\"&TEXT(B$8,\"DD_MMM_YYYY\")&\"'!a$6:a$101\"),\">=\"&$A41,INDIRECT(\"'\"&TEXT(B$8,\"DD_MMM_YYYY\")&\"'!a$6:a$101\"),\"<\"&$A42))","v":2},3,11,13,3,2,2,2,1,7,15,5,2,"","","","","","","","","","","","","","","","","","","","","","","","","","","","","","","","","","","","","","","","","","","","","","","","","","","",null,null,4,2,2,2,2,9,14,null,{"$f":"IFERROR(AVERAGE(BP41:BS41),\"\")","v":2.5},{"$f":"IFERROR(COUNTIFS($B$9:$BM$9,BQ$8,$B41:$BM41,\">0\")+COUNTIFS($B$9:$BM$9,BR$8,$B41:$BM41,\">0\")+COUNTIFS($B$9:$BM$9,BS$8,$B41:$BM41,\">0\")+COUNTIFS($B$9:$BM$9,BP$8,$B41:$BM41,\">0\"),\"\")","v":7},{"$f":"IFERROR(_xlfn.STDEV.S(IF((($B$9:$BM$9=\"Mon\")+($B$9:$BM$9=\"Tue\")+($B$9:$BM$9=\"Wed\")+($B$9:$BM$9=\"Thu\"))*($B41:$BM41<>\"\"),$B41:$BM41,\"\")),\"\")","v":1.1338934190276817},{"$f":"IFERROR(BX41*0.05,\"\")","v":0.125},{"$f":"IFERROR(_xlfn.CONFIDENCE.NORM(0.05,BZ41,BY41),\"\")","v":0.83998456480288008},{"$f":"IF(BX41=\"\",\"\",IF(OR(BZ41=0,CB41<=CA41),\"P\",\"O\"))","v":"O"},null,{"$f":"IFERROR(AVERAGE(BP41:BT41),\"\")","v":2.4},{"$f":"IFERROR(COUNTIFS($B$9:$BM$9,BQ$8,$B41:$BM41,\">0\")+COUNTIFS($B$9:$BM$9,BR$8,$B41:$BM41,\">0\")+COUNTIFS($B$9:$BM$9,BS$8,$B41:$BM41,\">0\")+COUNTIFS($B$9:$BM$9,BP$8,$B41:$BM41,\">0\")+COUNTIFS($B$9:$BM$9,BT$8,$B41:$BM41,\">0\"),\"\")","v":9},{"$f":"IFERROR(_xlfn.STDEV.S(IF((($B$9:$BM$9=\"Mon\")+($B$9:$BM$9=\"Tue\")+($B$9:$BM$9=\"Wed\")+($B$9:$BM$9=\"Thu\")+($B$9:$BM$9=\"Fri\"))*($B41:$BM41<>\"\"),$B41:$BM41,\"\")),\"\")","v":1.1303883305208779},{"$f":"IFERROR(CE41*0.05,\"\")","v":0.12},{"$f":"IFERROR(_xlfn.CONFIDENCE.NORM(0.05,CG41,CF41),\"\")","v":0.73850680545509295},{"$f":"IF(CE41=\"\",\"\",IF(OR(CG41=0,CI41<=CH41),\"P\",\"O\"))","v":"O"},null,{"$f":"IFERROR(AVERAGE(BQ41:BS41),\"\")","v":2},{"$f":"IFERROR(COUNTIFS($B$9:$BM$9,BQ$8,$B41:$BM41,\">0\")+COUNTIFS($B$9:$BM$9,BR$8,$B41:$BM41,\">0\")+COUNTIFS($B$9:$BM$9,BS$8,$B41:$BM41,\">0\"),\"\")","v":5},{"$f":"IFERROR(_xlfn.STDEV.S(IF((($B$9:$BM$9=\"Tue\")+($B$9:$BM$9=\"Wed\")+($B$9:$BM$9=\"Thu\"))*($B41:$BM41<>\"\"),$B41:$BM41,\"\")),\"\")","v":0},{"$f":"IFERROR(CL41*0.05,\"\")","v":0.1},{"$f":"IFERROR(_xlfn.CONFIDENCE.NORM(0.05,CN41,CM41),\"\")","v":""},{"$f":"IF(CL41=\"\",\"\",IF(OR(CN41=0,CP41<=CO41),\"P\",\"O\"))","v":"P"},null,{"$f":"IFERROR(AVERAGE(BU41:BV41),\"\")","v":11.5},{"$f":"IFERROR(COUNTIFS($B$9:$BM$9,BU$8,$B41:$BM41,\">0\")+COUNTIFS($B$9:$BM$9,BV$8,$B41:$BM41,\">0\"),\"\")","v":4},{"$f":"IFERROR(_xlfn.STDEV.S(IF(($B$9:$BM$9=\"Sat\")+($B$9:$BM$9=\"Sun\"),$B41:$BM41,\"\")),\"\")","v":3.415650255319866},{"$f":"IFERROR(CS41*0.05,\"\")","v":0.57500000000000007},{"$f":"IFERROR(_xlfn.CONFIDENCE.NORM(0.05,CU41,CT41),\"\")","v":3.347275742105988},{"$f":"IF(CS41=\"\",\"\",IF(OR(CU41=0,CW41<=CV41),\"P\",\"O\"))","v":"O"}]
["02:00:00",3,2,3,10,2,4,6,2,6,4,9,9,2,"","","","","","","","","","","","","","","","","","","","","","","","","","","","","","","","","","","","","","","","","","","","","","","","","","","",null,null,5.5,3,6,2.5,4,3.5,9.5,null,4.25,7,{"$f":"IFERROR(_xlfn.STDEV.S(IF((($B$9:$BM$9=\"Mon\")+($B$9:$BM$9=\"Tue\")+($B$9:$BM$9=\"Wed\")+($B$9:$BM$9=\"Thu\"))*($B42:$BM42<>\"\"),$B42:$BM42,\"\")),\"\")","v":2.6457513110645907},0.21250000000000002,1.9599639845400536,"O",null,4.2,9,{"$f":"IFERROR(_xlfn.STDEV.S(IF((($B$9:$BM$9=\"Mon\")+($B$9:$BM$9=\"Tue\")+($B$9:$BM$9=\"Wed\")+($B$9:$BM$9=\"Thu\")+($B$9:$BM$9=\"Fri\"))*($B42:$BM42<>\"\"),$B42:$BM42,\"\")),\"\")","v":2.5},0.21000000000000002,1.6333033204500447,"O",null,3.8333333333333335,5,{"$f":"IFERROR(_xlfn.STDEV.S(IF((($B$9:$BM$9=\"Tue\")+($B$9:$BM$9=\"Wed\")+($B$9:$BM$9=\"Thu\"))*($B42:$BM42<>\"\"),$B42:$BM42,\"\")),\"\")","v":1.6733200530681513},0.19166666666666668,1.4667027441130358,"O",null,6.5,4,{"$f":"IFERROR(_xlfn.STDEV.S(IF(($B$9:$BM$9=\"Sat\")+($B$9:$BM$9=\"Sun\"),$B42:$BM42,\"\")),\"\")","v":3.5118845842842465},0.32500000000000001,3.4415836515292706,"O"]
["03:00:00",3,5,8,8,13,11,9,4,8,14,9,7,7,"","","","","","","","","","","","","","","","","","","","","","","","","","","","","","","","","","","","","","","","","","","","","","","","","","","",null,null,10,9,9,3.5,6.5,11,8.5,null,7.875,7,{"$f":"IFERROR(_xlfn.STDEV.S(IF((($B$9:$BM$9=\"Mon\")+($B$9:$BM$9=\"Tue\")+($B$9:$BM$9=\"Wed\")+($B$9:$BM$9=\"Thu\"))*($B43:$BM43<>\"\"),$B43:$BM43,\"\")),\"\")","v":3.5923198500080566},0.39375000000000004,2.6611788861331234,"O",null,7.6,9,{"$f":"IFERROR(_xlfn.STDEV.S(IF((($B$9:$BM$9=\"Mon\")+($B$9:$BM$9=\"Tue\")+($B$9:$BM$9=\"Wed\")+($B$9:$BM$9=\"Thu\")+($B$9:$BM$9=\"Fri\"))*($B43:$BM43<>\"\"),$B43:$BM43,\"\")),\"\")","v":3.2446537223219645},0.38,2.1198014793516249,"O",null,7.166666666666667,5,{"$f":"IFERROR(_xlfn.STDEV.S(IF((($B$9:$BM$9=\"Tue\")+($B$9:$BM$9=\"Wed\")+($B$9:$BM$9=\"Thu\"))*($B43:$BM43<>\"\"),$B43:$BM43,\"\")),\"\")","v":3.3466401061363027},0.35833333333333339,2.9334054882260716,"O",null,9.75,4,{"$f":"IFERROR(_xlfn.STDEV.S(IF(($B$9:$BM$9=\"Sat\")+($B$9:$BM$9=\"Sun\"),$B43:$BM43,\"\")),\"\")","v":2.8722813232690143},0.48750000000000004,2.8147839735371574,"O"]
["04:00:00",12,16,12,14,{"$f":"IF(F$8=\"\",\"\",SUMIFS(INDIRECT(\"'\"&TEXT(F$8,\"DD_MMM_YYYY\")&\"'!L$6:L$101\"),INDIRECT(\"'\"&TEXT(F$8,\"DD_MMM_YYYY\")&\"'!a$6:a$101\"),\">=\"&$A44,INDIRECT(\"'\"&TEXT(F$8,\"DD_MMM_YYYY\")&\"'!a$6:a$101\"),\"<\"&$A45))","v":26},{"$f":"IF(G$8=\"\",\"\",SUMIFS(INDIRECT(\"'\"&TEXT(G$8,\"DD_MMM_YYYY\")&\"'!L$6:L$101\"),INDIRECT(\"'\"&TEXT(G$8,\"DD_MMM_YYYY\")&\"'!a$6:a$101\"),\">=\"&$A44,INDIRECT(\"'\"&TEXT(G$8,\"DD_MMM_YYYY\")&\"'!a$6:a$101\"),\"<\"&$A45))","v":24},{"$f":"IF(H$8=\"\",\"\",SUMIFS(INDIRECT(\"'\"&TEXT(H$8,\"DD_MMM_YYYY\")&\"'!L$6:L$101\"),INDIRECT(\"'\"&TEXT(H$8,\"DD_MMM_YYYY\")&\"'!a$6:a$101\"),\">=\"&$A44,INDIRECT(\"'\"&TEXT(H$8,\"DD_MMM_YYYY\")&\"'!a$6:a$101\"),\"<\"&$A45))","v":14},{"$f":"IF(I$8=\"\",\"\",SUMIFS(INDIRECT(\"'\"&TEXT(I$8,\"DD_MMM_YYYY\")&\"'!L$6:L$101\"),INDIRECT(\"'\"&TEXT(I$8,\"DD_MMM_YYYY\")&\"'!a$6:a$101\"),\">=\"&$A44,INDIRECT(\"'\"&TEXT(I$8,\"DD_MMM_YYYY\")&\"'!a$6:a$101\"),\"<\"&$A45))","v":17},{"$f":"IF(J$8=\"\",\"\",SUMIFS(INDIRECT(\"'\"&TEXT(J$8,\"DD_MMM_YYYY\")&\"'!L$6:L$101\"),INDIRECT(\"'\"&TEXT(J$8,\"DD_MMM_YYYY\")&\"'!a$6:a$101\"),\">=\"&$A44,INDIRECT(\"'\"&TEXT(J$8,\"DD_MMM_YYYY\")&\"'!a$6:a$101\"),\"<\"&$A45))","v":16},{"$f":"IF(K$8=\"\",\"\",SUMIFS(INDIRECT(\"'\"&TEXT(K$8,\"DD_MMM_YYYY\")&\"'!L$6:L$101\"),INDIRECT(\"'\"&TEXT(K$8,\"DD_MMM_YYYY\")&\"'!a$6:a$101\"),\">=\"&$A44,INDIRECT(\"'\"&TEXT(K$8,\"DD_MMM_YYYY\")&\"'!a$6:a$101\"),\"<\"&$A45))","v":6},{"$f":"IF(L$8=\"\",\"\",SUMIFS(INDIRECT(\"'\"&TEXT(L$8,\"DD_MMM_YYYY\")&\"'!L$6:L$101\"),INDIRECT(\"'\"&TEXT(L$8,\"DD_MMM_YYYY\")&\"'!a$6:a$101\"),\">=\"&$A44,INDIRECT(\"'\"&TEXT(L$8,\"DD_MMM_YYYY\")&\"'!a$6:a$101\"),\"<\"&$A45))","v":14},{"$f":"IF(M$8=\"\",\"\",SUMIFS(INDIRECT(\"'\"&TEXT(M$8,\"DD_MMM_YYYY\")&\"'!L$6:L$101\"),INDIRECT(\"'\"&TEXT(M$8,\"DD_MMM_YYYY\")&\"'!a$6:a$101\"),\">=\"&$A44,INDIRECT(\"'\"&TEXT(M$8,\"DD_MMM_YYYY\")&\"'!a$6:a$101\"),\"<\"&$A45))","v":25},{"$f":"IF(N$8=\"\",\"\",SUMIFS(INDIRECT(\"'\"&TEXT(N$8,\"DD_MMM_YYYY\")&\"'!L$6:L$101\"),INDIRECT(\"'\"&TEXT(N$8,\"DD_MMM_YYYY\")&\"'!a$6:a$101\"),\">=\"&$A44,INDIRECT(\"'\"&TEXT(N$8,\"DD_MMM_YYYY\")&\"'!a$6:a$101\"),\"<\"&$A45))","v":15},{"$f":"IF(O$8=\"\",\"\",SUMIFS(INDIRECT(\"'\"&TEXT(O$8,\"DD_MMM_YYYY\")&\"'!L$6:L$101\"),INDIRECT(\"'\"&TEXT(O$8,\"DD_MMM_YYYY\")&\"'!a$6:a$101\"),\">=\"&$A44,INDIRECT(\"'\"&TEXT(O$8,\"DD_MMM_YYYY\")&\"'!a$6:a$101\"),\"<\"&$A45))","v":""},{"$f":"IF(P$8=\"\",\"\",SUMIFS(INDIRECT(\"'\"&TEXT(P$8,\"DD_MMM_YYYY\")&\"'!L$6:L$101\"),INDIRECT(\"'\"&TEXT(P$8,\"DD_MMM_YYYY\")&\"'!a$6:a$101\"),\">=\"&$A44,INDIRECT(\"'\"&TEXT(P$8,\"DD_MMM_YYYY\")&\"'!a$6:a$101\"),\"<\"&$A45))","v":""},{"$f":"IF(Q$8=\"\",\"\",SUMIFS(INDIRECT(\"'\"&TEXT(Q$8,\"DD_MMM_YYYY\")&\"'!L$6:L$101\"),INDIRECT(\"'\"&TEXT(Q$8,\"DD_MMM_YYYY\")&\"'!a$6:a$101\"),\">=\"&$A44,INDIRECT(\"'\"&TEXT(Q$8,\"DD_MMM_YYYY\")&\"'!a$6:a$101\"),\"<\"&$A45))","v":""},{"$f":"IF(R$8=\"\",\"\",SUMIFS(INDIRECT(\"'\"&TEXT(R$8,\"DD_MMM_YYYY\")&\"'!L$6:L$101\"),INDIRECT(\"'\"&TEXT(R$8,\"DD_MMM_YYYY\")&\"'!a$6:a$101\"),\">=\"&$A44,INDIRECT(\"'\"&TEXT(R$8,\"DD_MMM_YYYY\")&\"'!a$6:a$101\"),\"<\"&$A45))","v":""},{"$f":"IF(S$8=\"\",\"\",SUMIFS(INDIRECT(\"'\"&TEXT(S$8,\"DD_MMM_YYYY\")&\"'!L$6:L$101\"),INDIRECT(\"'\"&TEXT(S$8,\"DD_MMM_YYYY\")&\"'!a$6:a$101\"),\">=\"&$A44,INDIRECT(\"'\"&TEXT(S$8,\"DD_MMM_YYYY\")&\"'!a$6:a$101\"),\"<\"&$A45))","v":""},{"$f":"IF(T$8=\"\",\"\",SUMIFS(INDIRECT(\"'\"&TEXT(T$8,\"DD_MMM_YYYY\")&\"'!L$6:L$101\"),INDIRECT(\"'\"&TEXT(T$8,\"DD_MMM_YYYY\")&\"'!a$6:a$101\"),\">=\"&$A44,INDIRECT(\"'\"&TEXT(T$8,\"DD_MMM_YYYY\")&\"'!a$6:a$101\"),\"<\"&$A45))","v":""},{"$f":"IF(U$8=\"\",\"\",SUMIFS(INDIRECT(\"'\"&TEXT(U$8,\"DD_MMM_YYYY\")&\"'!L$6:L$101\"),INDIRECT(\"'\"&TEXT(U$8,\"DD_MMM_YYYY\")&\"'!a$6:a$101\"),\">=\"&$A44,INDIRECT(\"'\"&TEXT(U$8,\"DD_MMM_YYYY\")&\"'!a$6:a$101\"),\"<\"&$A45))","v":""},{"$f":"IF(V$8=\"\",\"\",SUMIFS(INDIRECT(\"'\"&TEXT(V$8,\"DD_MMM_YYYY\")&\"'!L$6:L$101\"),INDIRECT(\"'\"&TEXT(V$8,\"DD_MMM_YYYY\")&\"'!a$6:a$101\"),\">=\"&$A44,INDIRECT(\"'\"&TEXT(V$8,\"DD_MMM_YYYY\")&\"'!a$6:a$101\"),\"<\"&$A45))","v":""},{"$f":"IF(W$8=\"\",\"\",SUMIFS(INDIRECT(\"'\"&TEXT(W$8,\"DD_MMM_YYYY\")&\"'!L$6:L$101\"),INDIRECT(\"'\"&TEXT(W$8,\"DD_MMM_YYYY\")&\"'!a$6:a$101\"),\">=\"&$A44,INDIRECT(\"'\"&TEXT(W$8,\"DD_MMM_YYYY\")&\"'!a$6:a$101\"),\"<\"&$A45))","v":""},{"$f":"IF(X$8=\"\",\"\",SUMIFS(INDIRECT(\"'\"&TEXT(X$8,\"DD_MMM_YYYY\")&\"'!L$6:L$101\"),INDIRECT(\"'\"&TEXT(X$8,\"DD_MMM_YYYY\")&\"'!a$6:a$101\"),\">=\"&$A44,INDIRECT(\"'\"&TEXT(X$8,\"DD_MMM_YYYY\")&\"'!a$6:a$101\"),\"<\"&$A45))","v":""},{"$f":"IF(Y$8=\"\",\"\",SUMIFS(INDIRECT(\"'\"&TEXT(Y$8,\"DD_MMM_YYYY\")&\"'!L$6:L$101\"),INDIRECT(\"'\"&TEXT(Y$8,\"DD_MMM_YYYY\")&\"'!a$6:a$101\"),\">=\"&$A44,INDIRECT(\"'\"&TEXT(Y$8,\"DD_MMM_YYYY\")&\"'!a$6:a$101\"),\"<\"&$A45))","v":""},{"$f":"IF(Z$8=\"\",\"\",SUMIFS(INDIRECT(\"'\"&TEXT(Z$8,\"DD_MMM_YYYY\")&\"'!L$6:L$101\"),INDIRECT(\"'\"&TEXT(Z$8,\"DD_MMM_YYYY\")&\"'!a$6:a$101\"),\">=\"&$A44,INDIRECT(\"'\"&TEXT(Z$8,\"DD_MMM_YYYY\")&\"'!a$6:a$101\"),\"<\"&$A45))","v":""},{"$f":"IF(AA$8=\"\",\"\",SUMIFS(INDIRECT(\"'\"&TEXT(AA$8,\"DD_MMM_YYYY\")&\"'!L$6:L$101\"),INDIRECT(\"'\"&TEXT(AA$8,\"DD_MMM_YYYY\")&\"'!a$6:a$101\"),\">=\"&$A44,INDIRECT(\"'\"&TEXT(AA$8,\"DD_MMM_YYYY\")&\"'!a$6:a$101\"),\"<\"&$A45))","v":""},{"$f":"IF(AB$8=\"\",\"\",SUMIFS(INDIRECT(\"'\"&TEXT(AB$8,\"DD_MMM_YYYY\")&\"'!L$6:L$101\"),INDIRECT(\"'\"&TEXT(AB$8,\"DD_MMM_YYYY\")&\"'!a$6:a$101\"),\">=\"&$A44,INDIRECT(\"'\"&TEXT(AB$8,\"DD_MMM_YYYY\")&\"'!a$6:a$101\"),\"<\"&$A45))","v":""},{"$f":"IF(AC$8=\"\",\"\",SUMIFS(INDIRECT(\"'\"&TEXT(AC$8,\"DD_MMM_YYYY\")&\"'!L$6:L$101\"),INDIRECT(\"'\"&TEXT(AC$8,\"DD_MMM_YYYY\")&\"'!a$6:a$101\"),\">=\"&$A44,INDIRECT(\"'\"&TEXT(AC$8,\"DD_MMM_YYYY\")&\"'!a$6:a$101\"),\"<\"&$A45))","v":""},{"$f":"IF(AD$8=\"\",\"\",SUMIFS(INDIRECT(\"'\"&TEXT(AD$8,\"DD_MMM_YYYY\")&\"'!L$6:L$101\"),INDIRECT(\"'\"&TEXT(AD$8,\"DD_MMM_YYYY\")&\"'!a$6:a$101\"),\">=\"&$A44,INDIRECT(\"'\"&TEXT(AD$8,\"DD_MMM_YYYY\")&\"'!a$6:a$101\"),\"<\"&$A45))","v":""},{"$f":"IF(AE$8=\"\",\"\",SUMIFS(INDIRECT(\"'\"&TEXT(AE$8,\"DD_MMM_YYYY\")&\"'!L$6:L$101\"),INDIRECT(\"'\"&TEXT(AE$8,\"DD_MMM_YYYY\")&\"'!a$6:a$101\"),\">=\"&$A44,INDIRECT(\"'\"&TEXT(AE$8,\"DD_MMM_YYYY\")&\"'!a$6:a$101\"),\"<\"&$A45))","v":""},{"$f":"IF(AF$8=\"\",\"\",SUMIFS(INDIRECT(\"'\"&TEXT(AF$8,\"DD_MMM_YYYY\")&\"'!L$6:L$101\"),INDIRECT(\"'\"&TEXT(AF$8,\"DD_MMM_YYYY\")&\"'!a$6:a$101\"),\">=\"&$A44,INDIRECT(\"'\"&TEXT(AF$8,\"DD_MMM_YYYY\")&\"'!a$6:a$101\"),\"<\"&$A45))","v":""},{"$f":"IF(AG$8=\"\",\"\",SUMIFS(INDIRECT(\"'\"&TEXT(AG$8,\"DD_MMM_YYYY\")&\"'!L$6:L$101\"),INDIRECT(\"'\"&TEXT(AG$8,\"DD_MMM_YYYY\")&\"'!a$6:a$101\"),\">=\"&$A44,INDIRECT(\"'\"&TEXT(AG$8,\"DD_MMM_YYYY\")&\"'!a$6:a$101\"),\"<\"&$A45))","v":""},{"$f":"IF(AH$8=\"\",\"\",SUMIFS(INDIRECT(\"'\"&TEXT(AH$8,\"DD_MMM_YYYY\")&\"'!L$6:L$101\"),INDIRECT(\"'\"&TEXT(AH$8,\"DD_MMM_YYYY\")&\"'!a$6:a$101\"),\">=\"&$A44,INDIRECT(\"'\"&TEXT(AH$8,\"DD_MMM_YYYY\")&\"'!a$6:a$101\"),\"<\"&$A45))","v":""},{"$f":"IF(AI$8=\"\",\"\",SUMIFS(INDIRECT(\"'\"&TEXT(AI$8,\"DD_MMM_YYYY\")&\"'!L$6:L$101\"),INDIRECT(\"'\"&TEXT(AI$8,\"DD_MMM_YYYY\")&\"'!a$6:a$101\"),\">=\"&$A44,INDIRECT(\"'\"&TEXT(AI$8,\"DD_MMM_YYYY\")&\"'!a$6:a$101\"),\"<\"&$A45))","v":""},{"$f":"IF(AJ$8=\"\",\"\",SUMIFS(INDIRECT(\"'\"&TEXT(AJ$8,\"DD_MMM_YYYY\")&\"'!L$6:L$101\"),INDIRECT(\"'\"&TEXT(AJ$8,\"DD_MMM_YYYY\")&\"'!a$6:a$101\"),\">=\"&$A44,INDIRECT(\"'\"&TEXT(AJ$8,\"DD_MMM_YYYY\")&\"'!a$6:a$101\"),\"<\"&$A45))","v":""},{"$f":"IF(AK$8=\"\",\"\",SUMIFS(INDIRECT(\"'\"&TEXT(AK$8,\"DD_MMM_YYYY\")&\"'!L$6:L$101\"),INDIRECT(\"'\"&TEXT(AK$8,\"DD_MMM_YYYY\")&\"'!a$6:a$101\"),\">=\"&$A44,INDIRECT(\"'\"&TEXT(AK$8,\"DD_MMM_YYYY\")&\"'!a$6:a$101\"),\"<\"&$A45))","v":""},{"$f":"IF(AL$8=\"\",\"\",SUMIFS(INDIRECT(\"'\"&TEXT(AL$8,\"DD_MMM_YYYY\")&\"'!L$6:L$101\"),INDIRECT(\"'\"&TEXT(AL$8,\"DD_MMM_YYYY\")&\"'!a$6:a$101\"),\">=\"&$A44,INDIRECT(\"'\"&TEXT(AL$8,\"DD_MMM_YYYY\")&\"'!a$6:a$101\"),\"<\"&$A45))","v":""},{"$f":"IF(AM$8=\"\",\"\",SUMIFS(INDIRECT(\"'\"&TEXT(AM$8,\"DD_MMM_YYYY\")&\"'!L$6:L$101\"),INDIRECT(\"'\"&TEXT(AM$8,\"DD_MMM_YYYY\")&\"'!a$6:a$101\"),\">=\"&$A44,INDIRECT(\"'\"&TEXT(AM$8,\"DD_MMM_YYYY\")&\"'!a$6:a$101\"),\"<\"&$A45))","v":""},{"$f":"IF(AN$8=\"\",\"\",SUMIFS(INDIRECT(\"'\"&TEXT(AN$8,\"DD_MMM_YYYY\")&\"'!L$6:L$101\"),INDIRECT(\"'\"&TEXT(AN$8,\"DD_MMM_YYYY\")&\"'!a$6:a$101\"),\">=\"&$A44,INDIRECT(\"'\"&TEXT(AN$8,\"DD_MMM_YYYY\")&\"'!a$6:a$101\"),\"<\"&$A45))","v":""},{"$f":"IF(AO$8=\"\",\"\",SUMIFS(INDIRECT(\"'\"&TEXT(AO$8,\"DD_MMM_YYYY\")&\"'!L$6:L$101\"),INDIRECT(\"'\"&TEXT(AO$8,\"DD_MMM_YYYY\")&\"'!a$6:a$101\"),\">=\"&$A44,INDIRECT(\"'\"&TEXT(AO$8,\"DD_MMM_YYYY\")&\"'!a$6:a$101\"),\"<\"&$A45))","v":""},{"$f":"IF(AP$8=\"\",\"\",SUMIFS(INDIRECT(\"'\"&TEXT(AP$8,\"DD_MMM_YYYY\")&\"'!L$6:L$101\"),INDIRECT(\"'\"&TEXT(AP$8,\"DD_MMM_YYYY\")&\"'!a$6:a$101\"),\">=\"&$A44,INDIRECT(\"'\"&TEXT(AP$8,\"DD_MMM_YYYY\")&\"'!a$6:a$101\"),\"<\"&$A45))","v":""},{"$f":"IF(AQ$8=\"\",\"\",SUMIFS(INDIRECT(\"'\"&TEXT(AQ$8,\"DD_MMM_YYYY\")&\"'!L$6:L$101\"),INDIRECT(\"'\"&TEXT(AQ$8,\"DD_MMM_YYYY\")&\"'!a$6:a$101\"),\">=\"&$A44,INDIRECT(\"'\"&TEXT(AQ$8,\"DD_MMM_YYYY\")&\"'!a$6:a$101\"),\"<\"&$A45))","v":""},{"$f":"IF(AR$8=\"\",\"\",SUMIFS(INDIRECT(\"'\"&TEXT(AR$8,\"DD_MMM_YYYY\")&\"'!L$6:L$101\"),INDIRECT(\"'\"&TEXT(AR$8,\"DD_MMM_YYYY\")&\"'!a$6:a$101\"),\">=\"&$A44,INDIRECT(\"'\"&TEXT(AR$8,\"DD_MMM_YYYY\")&\"'!a$6:a$101\"),\"<\"&$A45))","v":""},{"$f":"IF(AS$8=\"\",\"\",SUMIFS(INDIRECT(\"'\"&TEXT(AS$8,\"DD_MMM_YYYY\")&\"'!L$6:L$101\"),INDIRECT(\"'\"&TEXT(AS$8,\"DD_MMM_YYYY\")&\"'!a$6:a$101\"),\">=\"&$A44,INDIRECT(\"'\"&TEXT(AS$8,\"DD_MMM_YYYY\")&\"'!a$6:a$101\"),\"<\"&$A45))","v":""},{"$f":"IF(AT$8=\"\",\"\",SUMIFS(INDIRECT(\"'\"&TEXT(AT$8,\"DD_MMM_YYYY\")&\"'!L$6:L$101\"),INDIRECT(\"'\"&TEXT(AT$8,\"DD_MMM_YYYY\")&\"'!a$6:a$101\"),\">=\"&$A44,INDIRECT(\"'\"&TEXT(AT$8,\"DD_MMM_YYYY\")&\"'!a$6:a$101\"),\"<\"&$A45))","v":""},{"$f":"IF(AU$8=\"\",\"\",SUMIFS(INDIRECT(\"'\"&TEXT(AU$8,\"DD_MMM_YYYY\")&\"'!L$6:L$101\"),INDIRECT(\"'\"&TEXT(AU$8,\"DD_MMM_YYYY\")&\"'!a$6:a$101\"),\">=\"&$A44,INDIRECT(\"'\"&TEXT(AU$8,\"DD_MMM_YYYY\")&\"'!a$6:a$101\"),\"<\"&$A45))","v":""},{"$f":"IF(AV$8=\"\",\"\",SUMIFS(INDIRECT(\"'\"&TEXT(AV$8,\"DD_MMM_YYYY\")&\"'!L$6:L$101\"),INDIRECT(\"'\"&TEXT(AV$8,\"DD_MMM_YYYY\")&\"'!a$6:a$101\"),\">=\"&$A44,INDIRECT(\"'\"&TEXT(AV$8,\"DD_MMM_YYYY\")&\"'!a$6:a$101\"),\"<\"&$A45))","v":""},{"$f":"IF(AW$8=\"\",\"\",SUMIFS(INDIRECT(\"'\"&TEXT(AW$8,\"DD_MMM_YYYY\")&\"'!L$6:L$101\"),INDIRECT(\"'\"&TEXT(AW$8,\"DD_MMM_YYYY\")&\"'!a$6:a$101\"),\">=\"&$A44,INDIRECT(\"'\"&TEXT(AW$8,\"DD_MMM_YYYY\")&\"'!a$6:a$101\"),\"<\"&$A45))","v":""},{"$f":"IF(AX$8=\"\",\"\",SUMIFS(INDIRECT(\"'\"&TEXT(AX$8,\"DD_MMM_YYYY\")&\"'!L$6:L$101\"),INDIRECT(\"'\"&TEXT(AX$8,\"DD_MMM_YYYY\")&\"'!a$6:a$101\"),\">=\"&$A44,INDIRECT(\"'\"&TEXT(AX$8,\"DD_MMM_YYYY\")&\"'!a$6:a$101\"),\"<\"&$A45))","v":""},{"$f":"IF(AY$8=\"\",\"\",SUMIFS(INDIRECT(\"'\"&TEXT(AY$8,\"DD_MMM_YYYY\")&\"'!L$6:L$101\"),INDIRECT(\"'\"&TEXT(AY$8,\"DD_MMM_YYYY\")&\"'!a$6:a$101\"),\">=\"&$A44,INDIRECT(\"'\"&TEXT(AY$8,\"DD_MMM_YYYY\")&\"'!a$6:a$101\"),\"<\"&$A45))","v":""},{"$f":"IF(AZ$8=\"\",\"\",SUMIFS(INDIRECT(\"'\"&TEXT(AZ$8,\"DD_MMM_YYYY\")&\"'!L$6:L$101\"),INDIRECT(\"'\"&TEXT(AZ$8,\"DD_MMM_YYYY\")&\"'!a$6:a$101\"),\">=\"&$A44,INDIRECT(\"'\"&TEXT(AZ$8,\"DD_MMM_YYYY\")&\"'!a$6:a$101\"),\"<\"&$A45))","v":""},{"$f":"IF(BA$8=\"\",\"\",SUMIFS(INDIRECT(\"'\"&TEXT(BA$8,\"DD_MMM_YYYY\")&\"'!L$6:L$101\"),INDIRECT(\"'\"&TEXT(BA$8,\"DD_MMM_YYYY\")&\"'!a$6:a$101\"),\">=\"&$A44,INDIRECT(\"'\"&TEXT(BA$8,\"DD_MMM_YYYY\")&\"'!a$6:a$101\"),\"<\"&$A45))","v":""},{"$f":"IF(BB$8=\"\",\"\",SUMIFS(INDIRECT(\"'\"&TEXT(BB$8,\"DD_MMM_YYYY\")&\"'!L$6:L$101\"),INDIRECT(\"'\"&TEXT(BB$8,\"DD_MMM_YYYY\")&\"'!a$6:a$101\"),\">=\"&$A44,INDIRECT(\"'\"&TEXT(BB$8,\"DD_MMM_YYYY\")&\"'!a$6:a$101\"),\"<\"&$A45))","v":""},{"$f":"IF(BC$8=\"\",\"\",SUMIFS(INDIRECT(\"'\"&TEXT(BC$8,\"DD_MMM_YYYY\")&\"'!L$6:L$101\"),INDIRECT(\"'\"&TEXT(BC$8,\"DD_MMM_YYYY\")&\"'!a$6:a$101\"),\">=\"&$A44,INDIRECT(\"'\"&TEXT(BC$8,\"DD_MMM_YYYY\")&\"'!a$6:a$101\"),\"<\"&$A45))","v":""},{"$f":"IF(BD$8=\"\",\"\",SUMIFS(INDIRECT(\"'\"&TEXT(BD$8,\"DD_MMM_YYYY\")&\"'!L$6:L$101\"),INDIRECT(\"'\"&TEXT(BD$8,\"DD_MMM_YYYY\")&\"'!a$6:a$101\"),\">=\"&$A44,INDIRECT(\"'\"&TEXT(BD$8,\"DD_MMM_YYYY\")&\"'!a$6:a$101\"),\"<\"&$A45))","v":""},{"$f":"IF(BE$8=\"\",\"\",SUMIFS(INDIRECT(\"'\"&TEXT(BE$8,\"DD_MMM_YYYY\")&\"'!L$6:L$101\"),INDIRECT(\"'\"&TEXT(BE$8,\"DD_MMM_YYYY\")&\"'!a$6:a$101\"),\">=\"&$A44,INDIRECT(\"'\"&TEXT(BE$8,\"DD_MMM_YYYY\")&\"'!a$6:a$101\"),\"<\"&$A45))","v":""},{"$f":"IF(BF$8=\"\",\"\",SUMIFS(INDIRECT(\"'\"&TEXT(BF$8,\"DD_MMM_YYYY\")&\"'!L$6:L$101\"),INDIRECT(\"'\"&TEXT(BF$8,\"DD_MMM_YYYY\")&\"'!a$6:a$101\"),\">=\"&$A44,INDIRECT(\"'\"&TEXT(BF$8,\"DD_MMM_YYYY\")&\"'!a$6:a$101\"),\"<\"&$A45))","v":""},{"$f":"IF(BG$8=\"\",\"\",SUMIFS(INDIRECT(\"'\"&TEXT(BG$8,\"DD_MMM_YYYY\")&\"'!L$6:L$101\"),INDIRECT(\"'\"&TEXT(BG$8,\"DD_MMM_YYYY\")&\"'!a$6:a$101\"),\">=\"&$A44,INDIRECT(\"'\"&TEXT(BG$8,\"DD_MMM_YYYY\")&\"'!a$6:a$101\"),\"<\"&$A45))","v":""},{"$f":"IF(BH$8=\"\",\"\",SUMIFS(INDIRECT(\"'\"&TEXT(BH$8,\"DD_MMM_YYYY\")&\"'!L$6:L$101\"),INDIRECT(\"'\"&TEXT(BH$8,\"DD_MMM_YYYY\")&\"'!a$6:a$101\"),\">=\"&$A44,INDIRECT(\"'\"&TEXT(BH$8,\"DD_MMM_YYYY\")&\"'!a$6:a$101\"),\"<\"&$A45))","v":""},{"$f":"IF(BI$8=\"\",\"\",SUMIFS(INDIRECT(\"'\"&TEXT(BI$8,\"DD_MMM_YYYY\")&\"'!L$6:L$101\"),INDIRECT(\"'\"&TEXT(BI$8,\"DD_MMM_YYYY\")&\"'!a$6:a$101\"),\">=\"&$A44,INDIRECT(\"'\"&TEXT(BI$8,\"DD_MMM_YYYY\")&\"'!a$6:a$101\"),\"<\"&$A45))","v":""},{"$f":"IF(BJ$8=\"\",\"\",SUMIFS(INDIRECT(\"'\"&TEXT(BJ$8,\"DD_MMM_YYYY\")&\"'!L$6:L$101\"),INDIRECT(\"'\"&TEXT(BJ$8,\"DD_MMM_YYYY\")&\"'!a$6:a$101\"),\">=\"&$A44,INDIRECT(\"'\"&TEXT(BJ$8,\"DD_MMM_YYYY\")&\"'!a$6:a$101\"),\"<\"&$A45))","v":""},{"$f":"IF(BK$8=\"\",\"\",SUMIFS(INDIRECT(\"'\"&TEXT(BK$8,\"DD_MMM_YYYY\")&\"'!L$6:L$101\"),INDIRECT(\"'\"&TEXT(BK$8,\"DD_MMM_YYYY\")&\"'!a$6:a$101\"),\">=\"&$A44,INDIRECT(\"'\"&TEXT(BK$8,\"DD_MMM_YYYY\")&\"'!a$6:a$101\"),\"<\"&$A45))","v":""},{"$f":"IF(BL$8=\"\",\"\",SUMIFS(INDIRECT(\"'\"&TEXT(BL$8,\"DD_MMM_YYYY\")&\"'!L$6:L$101\"),INDIRECT(\"'\"&TEXT(BL$8,\"DD_MMM_YYYY\")&\"'!a$6:a$101\"),\">=\"&$A44,INDIRECT(\"'\"&TEXT(BL$8,\"DD_MMM_YYYY\")&\"'!a$6:a$101\"),\"<\"&$A45))","v":""},{"$f":"IF(BM$8=\"\",\"\",SUMIFS(INDIRECT(\"'\"&TEXT(BM$8,\"DD_MMM_YYYY\")&\"'!L$6:L$101\"),INDIRECT(\"'\"&TEXT(BM$8,\"DD_MMM_YYYY\")&\"'!a$6:a$101\"),\">=\"&$A44,INDIRECT(\"'\"&TEXT(BM$8,\"DD_MMM_YYYY\")&\"'!a$6:a$101\"),\"<\"&$A45))","v":""},null,null,25.5,19.5,14,14.5,16,9,14,null,18.375,7,{"$f":"IFERROR(_xlfn.STDEV.S(IF((($B$9:$BM$9=\"Mon\")+($B$9:$BM$9=\"Tue\")+($B$9:$BM$9=\"Wed\")+($B$9:$BM$9=\"Thu\"))*($B44:$BM44<>\"\"),$B44:$BM44,\"\")),\"\")","v":5.8309518948453007},0.91875000000000007,4.3195502395437977,"O",null,17.899999999999999,9,{"$f":"IFERROR(_xlfn.STDEV.S(IF((($B$9:$BM$9=\"Mon\")+($B$9:$BM$9=\"Tue\")+($B$9:$BM$9=\"Wed\")+($B$9:$BM$9=\"Thu\")+($B$9:$BM$9=\"Fri\"))*($B44:$BM44<>\"\"),$B44:$BM44,\"\")),\"\")","v":5.2201532544552753},0.89500000000000002,3.4104374575039635,"O",null,16,5,{"$f":"IFERROR(_xlfn.STDEV.S(IF((($B$9:$BM$9=\"Tue\")+($B$9:$BM$9=\"Wed\")+($B$9:$BM$9=\"Thu\"))*($B44:$BM44<>\"\"),$B44:$BM44,\"\")),\"\")","v":4.6151923036857321},0.8,4.0453200832761027,"O",null,11.5,4,{"$f":"IFERROR(_xlfn.STDEV.S(IF(($B$9:$BM$9=\"Sat\")+($B$9:$BM$9=\"Sun\"),$B44:$BM44,\"\")),\"\")","v":3.7859388972001824},0.57500000000000007,3.710151943090823,"O"]
["05:00:00",49,{"$f":"IF(C$8=\"\",\"\",SUMIFS(INDIRECT(\"'\"&TEXT(C$8,\"DD_MMM_YYYY\")&\"'!L$6:L$101\"),INDIRECT(\"'\"&TEXT(C$8,\"DD_MMM_YYYY\")&\"'!a$6:a$101\"),\">=\"&$A45,INDIRECT(\"'\"&TEXT(C$8,\"DD_MMM_YYYY\")&\"'!a$6:a$101\"),\"<\"&$A46))","v":63},{"$f":"IF(D$8=\"\",\"\",SUMIFS(INDIRECT(\"'\"&TEXT(D$8,\"DD_MMM_YYYY\")&\"'!L$6:L$101\"),INDIRECT(\"'\"&TEXT(D$8,\"DD_MMM_YYYY\")&\"'!a$6:a$101\"),\">=\"&$A45,INDIRECT(\"'\"&TEXT(D$8,\"DD_MMM_YYYY\")&\"'!a$6:a$101\"),\"<\"&$A46))","v":22},{"$f":"IF(E$8=\"\",\"\",SUMIFS(INDIRECT(\"'\"&TEXT(E$8,\"DD_MMM_YYYY\")&\"'!L$6:L$101\"),INDIRECT(\"'\"&TEXT(E$8,\"DD_MMM_YYYY\")&\"'!a$6:a$101\"),\">=\"&$A45,INDIRECT(\"'\"&TEXT(E$8,\"DD_MMM_YYYY\")&\"'!a$6:a$101\"),\"<\"&$A46))","v":13},64,56,73,63,61,24,15,67,64,"","","","","","","","","","","","","","","","","","","","","","","","","","","","","","","","","","","","","","","","","","","","","","","","","","","",null,null,65.5,60,73,56,62,23,14,null,63.625,7,{"$f":"IFERROR(_xlfn.STDEV.S(IF((($B$9:$BM$9=\"Mon\")+($B$9:$BM$9=\"Tue\")+($B$9:$BM$9=\"Wed\")+($B$9:$BM$9=\"Thu\"))*($B45:$BM45<>\"\"),$B45:$BM45,\"\")),\"\")","v":7.739816658342888},3.1812500000000004,5.7336310611866388,"O",null,63.3,9,{"$f":"IFERROR(_xlfn.STDEV.S(IF((($B$9:$BM$9=\"Mon\")+($B$9:$BM$9=\"Tue\")+($B$9:$BM$9=\"Wed\")+($B$9:$BM$9=\"Thu\")+($B$9:$BM$9=\"Fri\"))*($B45:$BM45<>\"\"),$B45:$BM45,\"\")),\"\")","v":6.7226813433662276},3.165,4.3920711041790499,"O",null,63,5,{"$f":"IFERROR(_xlfn.STDEV.S(IF((($B$9:$BM$9=\"Tue\")+($B$9:$BM$9=\"Wed\")+($B$9:$BM$9=\"Thu\"))*($B45:$BM45<>\"\"),$B45:$BM45,\"\")),\"\")","v":9.0277350426338945},3.1500000000000004,7.913013255221693,"O",null,18.5,4,{"$f":"IFERROR(_xlfn.STDEV.S(IF(($B$9:$BM$9=\"Sat\")+($B$9:$BM$9=\"Sun\"),$B45:$BM45,\"\")),\"\")","v":5.3229064742237702},0.92500000000000004,5.216352491276834,"O"]
["06:00:00",124,143,47,30,152,151,163,159,133,46,38,160,168,"","","","","","","","","","","","","","","","","","","","","","","","","","","","","","","","","","","","","","","","","","","","","","","","","","","",null,null,156,159.5,163,141.5,138,46.5,34,null,155,7,{"$f":"IFERROR(_xlfn.STDEV.S(IF((($B$9:$BM$9=\"Mon\")+($B$9:$BM$9=\"Tue\")+($B$9:$BM$9=\"Wed\")+($B$9:$BM$9=\"Thu\"))*($B46:$BM46<>\"\"),$B46:$BM46,\"\")),\"\")","v":14.438704598273022},7.75,10.696145506072137,"O",null,151.6,9,{"$f":"IFERROR(_xlfn.STDEV.S(IF((($B$9:$BM$9=\"Mon\")+($B$9:$BM$9=\"Tue\")+($B$9:$BM$9=\"Wed\")+($B$9:$BM$9=\"Thu\")+($B$9:$BM$9=\"Fri\"))*($B46:$BM46<>\"\"),$B46:$BM46,\"\")),\"\")","v":14.543039572248988},7.58,9.5012779291162683,"O",null,154.66666666666666,5,{"$f":"IFERROR(_xlfn.STDEV.S(IF((($B$9:$BM$9=\"Tue\")+($B$9:$BM$9=\"Wed\")+($B$9:$BM$9=\"Thu\"))*($B46:$BM46<>\"\"),$B46:$BM46,\"\")),\"\")","v":17.363755354185336},7.7333333333333334,15.219722957000746,"O",null,40.25,4,{"$f":"IFERROR(_xlfn.STDEV.S(IF(($B$9:$BM$9=\"Sat\")+($B$9:$BM$9=\"Sun\"),$B46:$BM46,\"\")),\"\")","v":7.932002689527196},2.0125000000000002,7.7732197983740727,"O"]
["07:00:00",270,307,94,62,329,327,335,358,349,100,63,313,342,"","","","","","","","","","","","","","","","","","","","","","","","","","","","","","","","","","","","","","","","","","","","","","","","","","","",null,null,321,334.5,335,314,328,97,62.5,null,326.125,7,{"$f":"IFERROR(_xlfn.STDEV.S(IF((($B$9:$BM$9=\"Mon\")+($B$9:$BM$9=\"Tue\")+($B$9:$BM$9=\"Wed\")+($B$9:$BM$9=\"Thu\"))*($B47:$BM47<>\"\"),$B47:$BM47,\"\")),\"\")","v":27.889236701808887},16.306250000000002,20.660256035123471,"O",null,326.5,9,{"$f":"IFERROR(_xlfn.STDEV.S(IF((($B$9:$BM$9=\"Mon\")+($B$9:$BM$9=\"Tue\")+($B$9:$BM$9=\"Wed\")+($B$9:$BM$9=\"Thu\")+($B$9:$BM$9=\"Fri\"))*($B47:$BM47<>\"\"),$B47:$BM47,\"\")),\"\")","v":26.372860629400403},16.324999999999999,17.229952334306372,"O",null,327.83333333333331,5,{"$f":"IFERROR(_xlfn.STDEV.S(IF((($B$9:$BM$9=\"Tue\")+($B$9:$BM$9=\"Wed\")+($B$9:$BM$9=\"Thu\"))*($B47:$BM47<>\"\"),$B47:$BM47,\"\")),\"\")","v":33.530583054876928},16.391666666666666,29.390311846274791,"O",null,79.75,4,{"$f":"IFERROR(_xlfn.STDEV.S(IF(($B$9:$BM$9=\"Sat\")+($B$9:$BM$9=\"Sun\"),$B47:$BM47,\"\")),\"\")","v":20.072784228070272},3.9875000000000003,19.670967078230678,"O"]
["08:00:00",321,283,188,99,342,358,375,354,334,233,107,350,347,"","","","","","","","","","","","","","","","","","","","","","","","","","","","","","","","","","","","","","","","","","","","","","","","","","","",null,null,346,352.5,375,337.5,308.5,210.5,103,null,352.75,7,{"$f":"IFERROR(_xlfn.STDEV.S(IF((($B$9:$BM$9=\"Mon\")+($B$9:$BM$9=\"Tue\")+($B$9:$BM$9=\"Wed\")+($B$9:$BM$9=\"Thu\"))*($B48:$BM48<>\"\"),$B48:$BM48,\"\")),\"\")","v":16.420080621575753},17.637499999999999,12.163942433645781,"P",null,343.9,9,{"$f":"IFERROR(_xlfn.STDEV.S(IF((($B$9:$BM$9=\"Mon\")+($B$9:$BM$9=\"Tue\")+($B$9:$BM$9=\"Wed\")+($B$9:$BM$9=\"Thu\")+($B$9:$BM$9=\"Fri\"))*($B48:$BM48<>\"\"),$B48:$BM48,\"\")),\"\")","v":26.320672061666237},17.195,17.195856429918475,"O",null,355,5,{"$f":"IFERROR(_xlfn.STDEV.S(IF((($B$9:$BM$9=\"Tue\")+($B$9:$BM$9=\"Wed\")+($B$9:$BM$9=\"Thu\"))*($B48:$BM48<>\"\"),$B48:$BM48,\"\")),\"\")","v":19.685019685029527},17.75,17.254363465622095,"P",null,156.75,4,{"$f":"IFERROR(_xlfn.STDEV.S(IF(($B$9:$BM$9=\"Sat\")+($B$9:$BM$9=\"Sun\"),$B48:$BM48,\"\")),\"\")","v":64.809335747251723},7.8375000000000004,63.511981963288811,"O"]
["09:00:00",267,268,244,191,294,221,267,248,260,272,173,236,203,"","","","","","","","","","","","","","","","","","","","","","","","","","","","","","","","","","","","","","","","","","","","","","","","","","","",null,null,265,212,267,257.5,264,258,182,null,250.375,7,{"$f":"IFERROR(_xlfn.STDEV.S(IF((($B$9:$BM$9=\"Mon\")+($B$9:$BM$9=\"Tue\")+($B$9:$BM$9=\"Wed\")+($B$9:$BM$9=\"Thu\"))*($B49:$BM49<>\"\"),$B49:$BM49,\"\")),\"\")","v":30.919249667480614},12.518750000000001,22.90487980628826,"O",null,253.1,9,{"$f":"IFERROR(_xlfn.STDEV.S(IF((($B$9:$BM$9=\"Mon\")+($B$9:$BM$9=\"Tue\")+($B$9:$BM$9=\"Wed\")+($B$9:$BM$9=\"Thu\")+($B$9:$BM$9=\"Fri\"))*($B49:$BM49<>\"\"),$B49:$BM49,\"\")),\"\")","v":27.762884896526533},12.655000000000001,18.138084834707673,"O",null,245.5,5,{"$f":"IFERROR(_xlfn.STDEV.S(IF((($B$9:$BM$9=\"Tue\")+($B$9:$BM$9=\"Wed\")+($B$9:$BM$9=\"Thu\"))*($B49:$BM49<>\"\"),$B49:$BM49,\"\")),\"\")","v":28.481572990268585},12.275,24.964740717047558,"O",null,220,4,{"$f":"IFERROR(_xlfn.STDEV.S(IF(($B$9:$BM$9=\"Sat\")+($B$9:$BM$9=\"Sun\"),$B49:$BM49,\"\")),\"\")","v":45.934736311423407},11,45.015214404867052,"O"]
["10:00:00",283,288,353,290,280,259,241,263,224,417,307,248,278,"","","","","","","","","","","","","","","","","","","","","","","","","","","","","","","","","","","","","","","","","","","","","","","","","","","",null,null,{"$f":"IF(COUNTIFS($B$9:$BM$9,BP$8,$B50:$BM50,\">=0\")=0,\"\",SUMIFS($B50:$BM50,$B$9:$BM$9,BP$8)/COUNTIFS($B$9:$BM$9,BP$8,$B50:$BM50,\">=0\"))","v":264},268.5,241,273,256,385,298.5,null,261.625,7,{"$f":"IFERROR(_xlfn.STDEV.S(IF((($B$9:$BM$9=\"Mon\")+($B$9:$BM$9=\"Tue\")+($B$9:$BM$9=\"Wed\")+($B$9:$BM$9=\"Thu\"))*($B50:$BM50<>\"\"),$B50:$BM50,\"\")),\"\")","v":16.440368435218058},13.081250000000001,12.178971580148586,"P",null,260.5,9,{"$f":"IFERROR(_xlfn.STDEV.S(IF((($B$9:$BM$9=\"Mon\")+($B$9:$BM$9=\"Tue\")+($B$9:$BM$9=\"Wed\")+($B$9:$BM$9=\"Thu\")+($B$9:$BM$9=\"Fri\"))*($B50:$BM50<>\"\"),$B50:$BM50,\"\")),\"\")","v":21.748563170931547},13.025,14.20880017684002,"O",null,260.83333333333331,5,{"$f":"IFERROR(_xlfn.STDEV.S(IF((($B$9:$BM$9=\"Tue\")+($B$9:$BM$9=\"Wed\")+($B$9:$BM$9=\"Thu\"))*($B50:$BM50<>\"\"),$B50:$BM50,\"\")),\"\")","v":16.649324310613927},13.041666666666666,14.593508043622757,"O",null,341.75,4,{"$f":"IFERROR(_xlfn.STDEV.S(IF(($B$9:$BM$9=\"Sat\")+($B$9:$BM$9=\"Sun\"),$B50:$BM50,\"\")),\"\")","v":56.788349744174347},17.087500000000002,55.651560120023042,"O"]
["11:00:00",320,308,430,385,337,283,279,270,346,406,355,288,269,"","","","","","","","","","","","","","","","","","","","","","","","","","","","","","","","","","","","","","","","","","","","","","","","","","","",null,null,312.5,276,279,295,327,418,370,null,290.625,7,{"$f":"IFERROR(_xlfn.STDEV.S(IF((($B$9:$BM$9=\"Mon\")+($B$9:$BM$9=\"Tue\")+($B$9:$BM$9=\"Wed\")+($B$9:$BM$9=\"Thu\"))*($B51:$BM51<>\"\"),$B51:$BM51,\"\")),\"\")","v":26.100538217402629},14.53125,19.335194003035888,"O",null,297.89999999999998,9,{"$f":"IFERROR(_xlfn.STDEV.S(IF((($B$9:$BM$9=\"Mon\")+($B$9:$BM$9=\"Tue\")+($B$9:$BM$9=\"Wed\")+($B$9:$BM$9=\"Thu\")+($B$9:$BM$9=\"Fri\"))*($B51:$BM51<>\"\"),$B51:$BM51,\"\")),\"\")","v":28.905016865589268},14.895,18.884264009692597,"O",null,283.33333333333331,5,{"$f":"IFERROR(_xlfn.STDEV.S(IF((($B$9:$BM$9=\"Tue\")+($B$9:$BM$9=\"Wed\")+($B$9:$BM$9=\"Thu\"))*($B51:$BM51<>\"\"),$B51:$BM51,\"\")),\"\")","v":20.873428084528907},14.166666666666666,18.296030215193841,"O",null,394,4,{"$f":"IFERROR(_xlfn.STDEV.S(IF(($B$9:$BM$9=\"Sat\")+($B$9:$BM$9=\"Sun\"),$B51:$BM51,\"\")),\"\")","v":31.843366656181317},19.700000000000003,31.205925896309509,"O"]
["12:00:00",363,337,454,372,292,283,290,320,338,418,389,285,319,"","","","","","","","","","","","","","","","","","","","","","","","","","","","","","","","","","","","","","","","","","","","","","","","","","","",null,null,288.5,301,290,341.5,337.5,436,380.5,null,305.25,7,{"$f":"IFERROR(_xlfn.STDEV.S(IF((($B$9:$BM$9=\"Mon\")+($B$9:$BM$9=\"Tue\")+($B$9:$BM$9=\"Wed\")+($B$9:$BM$9=\"Thu\"))*($B52:$BM52<>\"\"),$B52:$BM52,\"\")),\"\")","v":28.930129293737714},15.262500000000001,21.431345889042564,"O",null,311.7,9,{"$f":"IFERROR(_xlfn.STDEV.S(IF((($B$9:$BM$9=\"Mon\")+($B$9:$BM$9=\"Tue\")+($B$9:$BM$9=\"Wed\")+($B$9:$BM$9=\"Thu\")+($B$9:$BM$9=\"Fri\"))*($B52:$BM52<>\"\"),$B52:$BM52,\"\")),\"\")","v":28.348035401260368},15.585000000000001,18.520376139645588,"O",null,310.83333333333331,5,{"$f":"IFERROR(_xlfn.STDEV.S(IF((($B$9:$BM$9=\"Tue\")+($B$9:$BM$9=\"Wed\")+($B$9:$BM$9=\"Thu\"))*($B52:$BM52<>\"\"),$B52:$BM52,\"\")),\"\")","v":31.599050618649922},15.541666666666666,27.697280128067021,"O",null,408.25,4,{"$f":"IFERROR(_xlfn.STDEV.S(IF(($B$9:$BM$9=\"Sat\")+($B$9:$BM$9=\"Sun\"),$B52:$BM52,\"\")),\"\")","v":35.929328781187479},20.412500000000001,35.210095199912921,"O"]
["13:00:00",318,362,364,362,310,298,277,309,321,360,330,267,143,"","","","","","","","","","","","","","","","","","","","","","","","","","","","","","","","","","","","","","","","","","","","","","","","","","","",null,null,288.5,220.5,277,313.5,341.5,362,346,null,274.875,7,{"$f":"IFERROR(_xlfn.STDEV.S(IF((($B$9:$BM$9=\"Mon\")+($B$9:$BM$9=\"Tue\")+($B$9:$BM$9=\"Wed\")+($B$9:$BM$9=\"Thu\"))*($B53:$BM53<>\"\"),$B53:$BM53,\"\")),\"\")","v":60.895695367453683},13.74375,45.111333493285393,"O",null,288.2,9,{"$f":"IFERROR(_xlfn.STDEV.S(IF((($B$9:$BM$9=\"Mon\")+($B$9:$BM$9=\"Tue\")+($B$9:$BM$9=\"Wed\")+($B$9:$BM$9=\"Thu\")+($B$9:$BM$9=\"Fri\"))*($B53:$BM53<>\"\"),$B53:$BM53,\"\")),\"\")","v":61.296637573179993},14.41,40.046400672279141,"O",null,270.33333333333331,5,{"$f":"IFERROR(_xlfn.STDEV.S(IF((($B$9:$BM$9=\"Tue\")+($B$9:$BM$9=\"Wed\")+($B$9:$BM$9=\"Thu\"))*($B53:$BM53<>\"\"),$B53:$BM53,\"\")),\"\")","v":72.079816869911653},13.516666666666666,63.179584207109684,"O",null,354,4,{"$f":"IFERROR(_xlfn.STDEV.S(IF(($B$9:$BM$9=\"Sat\")+($B$9:$BM$9=\"Sun\"),$B53:$BM53,\"\")),\"\")","v":16.083117442419759},17.7,15.761165473135334,"P"]
["14:00:00",330,340,369,389,311,305,288,289,366,368,339,317,0,"","","","","","","","","","","","","","","","","","","","","","","","","","","","","","","","","","","","","","","","","","","","","","","","","","","",null,null,314,152.5,288,309.5,353,368.5,364,null,266,6,{"$f":"IFERROR(_xlfn.STDEV.S(IF((($B$9:$BM$9=\"Mon\")+($B$9:$BM$9=\"Tue\")+($B$9:$BM$9=\"Wed\")+($B$9:$BM$9=\"Thu\"))*($B54:$BM54<>\"\"),$B54:$BM54,\"\")),\"\")","v":116.86377906410036},13.3,93.508780241974421,"O",null,283.39999999999998,8,{"$f":"IFERROR(_xlfn.STDEV.S(IF((($B$9:$BM$9=\"Mon\")+($B$9:$BM$9=\"Tue\")+($B$9:$BM$9=\"Wed\")+($B$9:$BM$9=\"Thu\")+($B$9:$BM$9=\"Fri\"))*($B54:$BM54<>\"\"),$B54:$BM54,\"\")),\"\")","v":108.92709080440508},14.17,75.48123586055479,"O",null,250,4,{"$f":"IFERROR(_xlfn.STDEV.S(IF((($B$9:$BM$9=\"Tue\")+($B$9:$BM$9=\"Wed\")+($B$9:$BM$9=\"Thu\"))*($B54:$BM54<>\"\"),$B54:$BM54,\"\")),\"\")","v":136.56610121109853},12.5,133.83231994140246,"O",null,366.25,4,{"$f":"IFERROR(_xlfn.STDEV.S(IF(($B$9:$BM$9=\"Sat\")+($B$9:$BM$9=\"Sun\"),$B54:$BM54,\"\")),\"\")","v":20.581140234042753},18.3125,20.169146809746021,"O"]
["15:00:00",364,406,381,315,323,343,350,356,377,363,300,333,0,"","","","","","","","","","","","","","","","","","","","","","","","","","","","","","","","","","","","","","","","","","","","","","","","","","","",null,null,328,171.5,350,360,391.5,372,307.5,null,302.375,6,{"$f":"IFERROR(_xlfn.STDEV.S(IF((($B$9:$BM$9=\"Mon\")+($B$9:$BM$9=\"Tue\")+($B$9:$BM$9=\"Wed\")+($B$9:$BM$9=\"Thu\"))*($B55:$BM55<>\"\"),$B55:$BM55,\"\")),\"\")","v":131.06087280707536},15.11875,104.86861242880101,"O",null,320.2,8,{"$f":"IFERROR(_xlfn.STDEV.S(IF((($B$9:$BM$9=\"Mon\")+($B$9:$BM$9=\"Tue\")+($B$9:$BM$9=\"Wed\")+($B$9:$BM$9=\"Thu\")+($B$9:$BM$9=\"Fri\"))*($B55:$BM55<>\"\"),$B55:$BM55,\"\")),\"\")","v":121.34500859578489},16.010000000000002,84.086255739321373,"O",null,293.83333333333331,4,{"$f":"IFERROR(_xlfn.STDEV.S(IF((($B$9:$BM$9=\"Tue\")+($B$9:$BM$9=\"Wed\")+($B$9:$BM$9=\"Thu\"))*($B55:$BM55<>\"\"),$B55:$BM55,\"\")),\"\")","v":158.16700035089494},14.691666666666666,155.00081211524406,"O",null,339.75,4,{"$f":"IFERROR(_xlfn.STDEV.S(IF(($B$9:$BM$9=\"Sat\")+($B$9:$BM$9=\"Sun\"),$B55:$BM55,\"\")),\"\")","v":38.448016853928891},16.987500000000001,37.678364155344802,"O"]
["16:00:00",379,462,368,291,398,374,421,381,408,334,303,396,0,"","","","","","","","","","","","","","","","","","","","","","","","","","","","","","","","","","","","","","","","","","","","","","","","","","","",null,null,397,187,421,380,435,351,297,null,346.25,6,{"$f":"IFERROR(_xlfn.STDEV.S(IF((($B$9:$BM$9=\"Mon\")+($B$9:$BM$9=\"Tue\")+($B$9:$BM$9=\"Wed\")+($B$9:$BM$9=\"Thu\"))*($B56:$BM56<>\"\"),$B56:$BM56,\"\")),\"\")","v":148.81852163273356},17.3125,119.07742969408763,"O",null,364,8,{"$f":"IFERROR(_xlfn.STDEV.S(IF((($B$9:$BM$9=\"Mon\")+($B$9:$BM$9=\"Tue\")+($B$9:$BM$9=\"Wed\")+($B$9:$BM$9=\"Thu\")+($B$9:$BM$9=\"Fri\"))*($B56:$BM56<>\"\"),$B56:$BM56,\"\")),\"\")","v":136.80186402238823},18.2,94.797113263396199,"O",null,329.33333333333331,4,{"$f":"IFERROR(_xlfn.STDEV.S(IF((($B$9:$BM$9=\"Tue\")+($B$9:$BM$9=\"Wed\")+($B$9:$BM$9=\"Thu\"))*($B56:$BM56<>\"\"),$B56:$BM56,\"\")),\"\")","v":174.86709238733283},16.466666666666665,171.36660158020527,"O",null,324,4,{"$f":"IFERROR(_xlfn.STDEV.S(IF(($B$9:$BM$9=\"Sat\")+($B$9:$BM$9=\"Sun\"),$B56:$BM56,\"\")),\"\")","v":34.477045503735766},16.2,33.786883740335348,"O"]
["17:00:00",429,375,273,251,425,429,413,444,421,312,220,429,0,"","","","","","","","","","","","","","","","","","","","","","","","","","","","","","","","","","","","","","","","","","","","","","","","","","","",null,null,427,214.5,413,436.5,398,292.5,235.5,null,372.75,6,{"$f":"IFERROR(_xlfn.STDEV.S(IF((($B$9:$BM$9=\"Mon\")+($B$9:$BM$9=\"Tue\")+($B$9:$BM$9=\"Wed\")+($B$9:$BM$9=\"Thu\"))*($B57:$BM57<>\"\"),$B57:$BM57,\"\")),\"\")","v":162.08536845337605},18.637499999999999,129.69292299569426,"O",null,377.8,8,{"$f":"IFERROR(_xlfn.STDEV.S(IF((($B$9:$BM$9=\"Mon\")+($B$9:$BM$9=\"Tue\")+($B$9:$BM$9=\"Wed\")+($B$9:$BM$9=\"Thu\")+($B$9:$BM$9=\"Fri\"))*($B57:$BM57<>\"\"),$B57:$BM57,\"\")),\"\")","v":141.50215938674265},18.89,98.054191923912128,"O",null,354.66666666666669,4,{"$f":"IFERROR(_xlfn.STDEV.S(IF((($B$9:$BM$9=\"Tue\")+($B$9:$BM$9=\"Wed\")+($B$9:$BM$9=\"Thu\"))*($B57:$BM57<>\"\"),$B57:$BM57,\"\")),\"\")","v":192.05598142208433},17.733333333333334,188.21140330138945,"O",null,264,4,{"$f":"IFERROR(_xlfn.STDEV.S(IF(($B$9:$BM$9=\"Sat\")+($B$9:$BM$9=\"Sun\"),$B57:$BM57,\"\")),\"\")","v":38.686776379877749},13.200000000000001,37.91234419125761,"O"]
["18:00:00",266,316,258,182,309,298,307,282,323,233,163,307,0,"","","","","","","","","","","","","","","","","","","","","","","","","","","","","","","","","","","","","","","","","","","","","","","","","","","",null,null,308,149,307,274,319.5,245.5,172.5,null,259.5,6,{"$f":"IFERROR(_xlfn.STDEV.S(IF((($B$9:$BM$9=\"Mon\")+($B$9:$BM$9=\"Tue\")+($B$9:$BM$9=\"Wed\")+($B$9:$BM$9=\"Thu\"))*($B58:$BM58<>\"\"),$B58:$BM58,\"\")),\"\")","v":112.55474858295153},12.975000000000001,90.060901116854694,"O",null,271.5,8,{"$f":"IFERROR(_xlfn.STDEV.S(IF((($B$9:$BM$9=\"Mon\")+($B$9:$BM$9=\"Tue\")+($B$9:$BM$9=\"Wed\")+($B$9:$BM$9=\"Thu\")+($B$9:$BM$9=\"Fri\"))*($B58:$BM58<>\"\"),$B58:$BM58,\"\")),\"\")","v":101.8419254422155},13.575000000000001,70.571556974750592,"O",null,243.33333333333334,4,{"$f":"IFERROR(_xlfn.STDEV.S(IF((($B$9:$BM$9=\"Tue\")+($B$9:$BM$9=\"Wed\")+($B$9:$BM$9=\"Thu\"))*($B58:$BM58<>\"\"),$B58:$BM58,\"\")),\"\")","v":129.85684425551085},12.166666666666668,127.25736894341411,"O",null,209,4,{"$f":"IFERROR(_xlfn.STDEV.S(IF(($B$9:$BM$9=\"Sat\")+($B$9:$BM$9=\"Sun\"),$B58:$BM58,\"\")),\"\")","v":44.052998384521644},10.450000000000001,43.171145122331794,"O"]
["19:00:00",192,163,157,124,186,183,189,197,216,190,123,184,0,"","","","","","","","","","","","","","","","","","","","","","","","","","","","","","","","","","","","","","","","","","","","","","","","","","","",null,null,185,91.5,189,194.5,189.5,173.5,123.5,null,165,6,{"$f":"IFERROR(_xlfn.STDEV.S(IF((($B$9:$BM$9=\"Mon\")+($B$9:$BM$9=\"Tue\")+($B$9:$BM$9=\"Wed\")+($B$9:$BM$9=\"Thu\"))*($B59:$BM59<>\"\"),$B59:$BM59,\"\")),\"\")","v":71.411617035458931},8.25,57.140144342158088,"O",null,169.9,8,{"$f":"IFERROR(_xlfn.STDEV.S(IF((($B$9:$BM$9=\"Mon\")+($B$9:$BM$9=\"Tue\")+($B$9:$BM$9=\"Wed\")+($B$9:$BM$9=\"Thu\")+($B$9:$BM$9=\"Fri\"))*($B59:$BM59<>\"\"),$B59:$BM59,\"\")),\"\")","v":64.435583682034306},8.495000000000001,44.650760924567507,"O",null,158.33333333333334,4,{"$f":"IFERROR(_xlfn.STDEV.S(IF((($B$9:$BM$9=\"Tue\")+($B$9:$BM$9=\"Wed\")+($B$9:$BM$9=\"Thu\"))*($B59:$BM59<>\"\"),$B59:$BM59,\"\")),\"\")","v":85.233209490198135},7.9166666666666679,83.527010443772923,"O",null,148.5,4,{"$f":"IFERROR(_xlfn.STDEV.S(IF(($B$9:$BM$9=\"Sat\")+($B$9:$BM$9=\"Sun\"),$B59:$BM59,\"\")),\"\")","v":31.859064644147981},7.4250000000000007,31.221309641831713,"O"]
["20:00:00",118,118,125,99,95,94,128,100,126,129,110,118,0,"","","","","","","","","","","","","","","","","","","","","","","","","","","","","","","","","","","","","","","","","","","","","","","","","","","",null,null,106.5,47,128,109,122,127,104.5,null,97.625,6,{"$f":"IFERROR(_xlfn.STDEV.S(IF((($B$9:$BM$9=\"Mon\")+($B$9:$BM$9=\"Tue\")+($B$9:$BM$9=\"Wed\")+($B$9:$BM$9=\"Thu\"))*($B60:$BM60<>\"\"),$B60:$BM60,\"\")),\"\")","v":43.161380444846316},4.8812500000000005,34.535662557546061,"O",null,102.5,8,{"$f":"IFERROR(_xlfn.STDEV.S(IF((($B$9:$BM$9=\"Mon\")+($B$9:$BM$9=\"Tue\")+($B$9:$BM$9=\"Wed\")+($B$9:$BM$9=\"Thu\")+($B$9:$BM$9=\"Fri\"))*($B60:$BM60<>\"\"),$B60:$BM60,\"\")),\"\")","v":39.515819616958474},5.125,27.382562764727378,"O",null,94.666666666666671,4,{"$f":"IFERROR(_xlfn.STDEV.S(IF((($B$9:$BM$9=\"Tue\")+($B$9:$BM$9=\"Wed\")+($B$9:$BM$9=\"Thu\"))*($B60:$BM60<>\"\"),$B60:$BM60,\"\")),\"\")","v":51.048996072400875},4.7333333333333334,50.027096874416181,"O",null,115.75,4,{"$f":"IFERROR(_xlfn.STDEV.S(IF(($B$9:$BM$9=\"Sat\")+($B$9:$BM$9=\"Sun\"),$B60:$BM60,\"\")),\"\")","v":13.841363131329707},5.7875000000000005,13.564286617173384,"O"]
["21:00:00",102,93,75,77,81,89,102,112,77,101,68,103,0,"","","","","","","","","","","","","","","","","","","","","","","","","","","","","","","","","","","","","","","","","","","","","","","","","","","",null,null,92,44.5,102,107,85,88,72.5,null,86.375,6,{"$f":"IFERROR(_xlfn.STDEV.S(IF((($B$9:$BM$9=\"Mon\")+($B$9:$BM$9=\"Tue\")+($B$9:$BM$9=\"Wed\")+($B$9:$BM$9=\"Thu\"))*($B61:$BM61<>\"\"),$B61:$BM61,\"\")),\"\")","v":38.476956616606138},4.3187500000000005,30.787411715213516,"O",null,86.1,8,{"$f":"IFERROR(_xlfn.STDEV.S(IF((($B$9:$BM$9=\"Mon\")+($B$9:$BM$9=\"Tue\")+($B$9:$BM$9=\"Wed\")+($B$9:$BM$9=\"Thu\")+($B$9:$BM$9=\"Fri\"))*($B61:$BM61<>\"\"),$B61:$BM61,\"\")),\"\")","v":33.563372893676821},4.3049999999999997,23.257803425710502,"O",null,84.5,4,{"$f":"IFERROR(_xlfn.STDEV.S(IF((($B$9:$BM$9=\"Tue\")+($B$9:$BM$9=\"Wed\")+($B$9:$BM$9=\"Thu\"))*($B61:$BM61<>\"\"),$B61:$BM61,\"\")),\"\")","v":46.010868281309364},4.2250000000000005,45.089822364391331,"O",null,80.25,4,{"$f":"IFERROR(_xlfn.STDEV.S(IF(($B$9:$BM$9=\"Sat\")+($B$9:$BM$9=\"Sun\"),$B61:$BM61,\"\")),\"\")","v":14.361406616345072},4.0125000000000002,14.073919867685788,"O"]
["22:00:00",57,65,88,29,50,74,67,77,78,78,46,36,0,"","","","","","","","","","","","","","","","","","","","","","","","","","","","","","","","","","","","","","","","","","","","","","","","","","","",null,null,43,37,67,67,71.5,83,37.5,null,53.5,6,{"$f":"IFERROR(_xlfn.STDEV.S(IF((($B$9:$BM$9=\"Mon\")+($B$9:$BM$9=\"Tue\")+($B$9:$BM$9=\"Wed\")+($B$9:$BM$9=\"Thu\"))*($B62:$BM62<>\"\"),$B62:$BM62,\"\")),\"\")","v":26.838139173305482},2.6750000000000003,21.47458928812852,"O",null,57.1,8,{"$f":"IFERROR(_xlfn.STDEV.S(IF((($B$9:$BM$9=\"Mon\")+($B$9:$BM$9=\"Tue\")+($B$9:$BM$9=\"Wed\")+($B$9:$BM$9=\"Thu\")+($B$9:$BM$9=\"Fri\"))*($B62:$BM62<>\"\"),$B62:$BM62,\"\")),\"\")","v":25.059928172283335},2.8550000000000004,17.36532514594785,"O",null,57,4,{"$f":"IFERROR(_xlfn.STDEV.S(IF((($B$9:$BM$9=\"Tue\")+($B$9:$BM$9=\"Wed\")+($B$9:$BM$9=\"Thu\"))*($B62:$BM62<>\"\"),$B62:$BM62,\"\")),\"\")","v":31.693847983480957},2.85,31.05940028955504,"O",null,60.25,4,{"$f":"IFERROR(_xlfn.STDEV.S(IF(($B$9:$BM$9=\"Sat\")+($B$9:$BM$9=\"Sun\"),$B62:$BM62,\"\")),\"\")","v":27.47574688096152},3.0125000000000002,26.925737167511645,"O"]
["23:00:00",{"$f":"IF(B$8=\"\",\"\",SUMIFS(INDIRECT(\"'\"&TEXT(B$8,\"DD_MMM_YYYY\")&\"'!L$6:L$101\"),INDIRECT(\"'\"&TEXT(B$8,\"DD_MMM_YYYY\")&\"'!a$6:a$101\"),\">=\"&$A63))","v":24},{"$f":"IF(C$8=\"\",\"\",SUMIFS(INDIRECT(\"'\"&TEXT(C$8,\"DD_MMM_YYYY\")&\"'!L$6:L$101\"),INDIRECT(\"'\"&TEXT(C$8,\"DD_MMM_YYYY\")&\"'!a$6:a$101\"),\">=\"&$A63))","v":50},70,23,16,25,33,29,42,53,13,14,0,"","","","","","","","","","","","","","","","","","","","","","","","","","","","","","","","","","","","","","","","","","","","","","","","","","","",null,null,15,12.5,33,26.5,46,61.5,18,null,21.75,6,{"$f":"IFERROR(_xlfn.STDEV.S(IF((($B$9:$BM$9=\"Mon\")+($B$9:$BM$9=\"Tue\")+($B$9:$BM$9=\"Wed\")+($B$9:$BM$9=\"Thu\"))*($B63:$BM63<>\"\"),$B63:$BM63,\"\")),\"\")","v":11.126972805283735},1.0875000000000001,8.9032689438957782,"O",null,26.6,8,{"$f":"IFERROR(_xlfn.STDEV.S(IF((($B$9:$BM$9=\"Mon\")+($B$9:$BM$9=\"Tue\")+($B$9:$BM$9=\"Wed\")+($B$9:$BM$9=\"Thu\")+($B$9:$BM$9=\"Fri\"))*($B63:$BM63<>\"\"),$B63:$BM63,\"\")),\"\")","v":15.061909278411919},1.33,10.437178835479484,"O",null,24,4,{"$f":"IFERROR(_xlfn.STDEV.S(IF((($B$9:$BM$9=\"Tue\")+($B$9:$BM$9=\"Wed\")+($B$9:$BM$9=\"Thu\"))*($B63:$BM63<>\"\"),$B63:$BM63,\"\")),\"\")","v":12.911235417263526},1.2000000000000002,12.652778206877242,"O",null,39.75,4,{"$f":"IFERROR(_xlfn.STDEV.S(IF(($B$9:$BM$9=\"Sat\")+($B$9:$BM$9=\"Sun\"),$B63:$BM63,\"\")),\"\")","v":26.373913879690541},1.9875,25.845960667777248,"O"]
["TOTAL",{"$f":"SUM(B40:B63)","v":4603},{"$f":"SUM(C40:C63)","v":4778},4421,3657,4644,4497,4639,4644,4839,4483,3562,4498,2166,0,0,0,0,0,0,0,0,0,0,0,0,0,0,0,0,0,0,0,0,0,0,0,0,0,0,0,0,0,0,0,0,0,0,0,0,0,0,0,0,0,0,0,0,0,0,0,0,0,0,0]
[]
[]
["LGV",null,null,null,null,null,null,null,null,null,null,null,null,null,null,null,null,null,null,null,null,null,null,null,null,null,null,null,null,null,null,null,null,null,null,null,null,null,null,null,null,null,null,null,null,null,null,null,null,null,null,null,null,null,null,null,null,null,null,null,null,null,null,null,null,null,null,"STATISTICS"]
[null,{"$f":"'Site Plan'!$Q$3","v":"2016-04-07"},{"$f":"IF($B$8+COLUMN(B68)-1<='Site Plan'!$Q$4,$B$8+COLUMN(B68)-1,\"\")","v":"2016-04-08"},{"$f":"IF($B$8+COLUMN(C68)-1<='Site Plan'!$Q$4,$B$8+COLUMN(C68)-1,\"\")","v":"2016-04-09"},{"$f":"IF($B$8+COLUMN(D68)-1<='Site Plan'!$Q$4,$B$8+COLUMN(D68)-1,\"\")","v":"2016-04-10"},{"$f":"IF($B$8+COLUMN(E68)-1<='Site Plan'!$Q$4,$B$8+COLUMN(E68)-1,\"\")","v":"2016-04-11"},{"$f":"IF($B$8+COLUMN(F68)-1<='Site Plan'!$Q$4,$B$8+COLUMN(F68)-1,\"\")","v":"2016-04-12"},{"$f":"IF($B$8+COLUMN(G68)-1<='Site Plan'!$Q$4,$B$8+COLUMN(G68)-1,\"\")","v":"2016-04-13"},{"$f":"IF($B$8+COLUMN(H68)-1<='Site Plan'!$Q$4,$B$8+COLUMN(H68)-1,\"\")","v":"2016-04-14"},{"$f":"IF($B$8+COLUMN(I68)-1<='Site Plan'!$Q$4,$B$8+COLUMN(I68)-1,\"\")","v":"2016-04-15"},{"$f":"IF($B$8+COLUMN(J68)-1<='Site Plan'!$Q$4,$B$8+COLUMN(J68)-1,\"\")","v":"2016-04-16"},{"$f":"IF($B$8+COLUMN(K68)-1<='Site Plan'!$Q$4,$B$8+COLUMN(K68)-1,\"\")","v":"2016-04-17"},{"$f":"IF($B$8+COLUMN(L68)-1<='Site Plan'!$Q$4,$B$8+COLUMN(L68)-1,\"\")","v":"2016-04-18"},{"$f":"IF($B$8+COLUMN(M68)-1<='Site Plan'!$Q$4,$B$8+COLUMN(M68)-1,\"\")","v":"2016-04-19"},{"$f":"IF($B$8+COLUMN(N68)-1<='Site Plan'!$Q$4,$B$8+COLUMN(N68)-1,\"\")","v":""},{"$f":"IF($B$8+COLUMN(O68)-1<='Site Plan'!$Q$4,$B$8+COLUMN(O68)-1,\"\")","v":""},{"$f":"IF($B$8+COLUMN(P68)-1<='Site Plan'!$Q$4,$B$8+COLUMN(P68)-1,\"\")","v":""},{"$f":"IF($B$8+COLUMN(Q68)-1<='Site Plan'!$Q$4,$B$8+COLUMN(Q68)-1,\"\")","v":""},{"$f":"IF($B$8+COLUMN(R68)-1<='Site Plan'!$Q$4,$B$8+COLUMN(R68)-1,\"\")","v":""},{"$f":"IF($B$8+COLUMN(S68)-1<='Site Plan'!$Q$4,$B$8+COLUMN(S68)-1,\"\")","v":""},{"$f":"IF($B$8+COLUMN(T68)-1<='Site Plan'!$Q$4,$B$8+COLUMN(T68)-1,\"\")","v":""},{"$f":"IF($B$8+COLUMN(U68)-1<='Site Plan'!$Q$4,$B$8+COLUMN(U68)-1,\"\")","v":""},{"$f":"IF($B$8+COLUMN(V68)-1<='Site Plan'!$Q$4,$B$8+COLUMN(V68)-1,\"\")","v":""},{"$f":"IF($B$8+COLUMN(W68)-1<='Site Plan'!$Q$4,$B$8+COLUMN(W68)-1,\"\")","v":""},{"$f":"IF($B$8+COLUMN(X68)-1<='Site Plan'!$Q$4,$B$8+COLUMN(X68)-1,\"\")","v":""},{"$f":"IF($B$8+COLUMN(Y68)-1<='Site Plan'!$Q$4,$B$8+COLUMN(Y68)-1,\"\")","v":""},{"$f":"IF($B$8+COLUMN(Z68)-1<='Site Plan'!$Q$4,$B$8+COLUMN(Z68)-1,\"\")","v":""},{"$f":"IF($B$8+COLUMN(AA68)-1<='Site Plan'!$Q$4,$B$8+COLUMN(AA68)-1,\"\")","v":""},{"$f":"IF($B$8+COLUMN(AB68)-1<='Site Plan'!$Q$4,$B$8+COLUMN(AB68)-1,\"\")","v":""},{"$f":"IF($B$8+COLUMN(AC68)-1<='Site Plan'!$Q$4,$B$8+COLUMN(AC68)-1,\"\")","v":""},{"$f":"IF($B$8+COLUMN(AD68)-1<='Site Plan'!$Q$4,$B$8+COLUMN(AD68)-1,\"\")","v":""},{"$f":"IF($B$8+COLUMN(AE68)-1<='Site Plan'!$Q$4,$B$8+COLUMN(AE68)-1,\"\")","v":""},{"$f":"IF($B$8+COLUMN(AF68)-1<='Site Plan'!$Q$4,$B$8+COLUMN(AF68)-1,\"\")","v":""},{"$f":"IF($B$8+COLUMN(AG68)-1<='Site Plan'!$Q$4,$B$8+COLUMN(AG68)-1,\"\")","v":""},{"$f":"IF($B$8+COLUMN(AH68)-1<='Site Plan'!$Q$4,$B$8+COLUMN(AH68)-1,\"\")","v":""},{"$f":"IF($B$8+COLUMN(AI68)-1<='Site Plan'!$Q$4,$B$8+COLUMN(AI68)-1,\"\")","v":""},{"$f":"IF($B$8+COLUMN(AJ68)-1<='Site Plan'!$Q$4,$B$8+COLUMN(AJ68)-1,\"\")","v":""},{"$f":"IF($B$8+COLUMN(AK68)-1<='Site Plan'!$Q$4,$B$8+COLUMN(AK68)-1,\"\")","v":""},{"$f":"IF($B$8+COLUMN(AL68)-1<='Site Plan'!$Q$4,$B$8+COLUMN(AL68)-1,\"\")","v":""},{"$f":"IF($B$8+COLUMN(AM68)-1<='Site Plan'!$Q$4,$B$8+COLUMN(AM68)-1,\"\")","v":""},{"$f":"IF($B$8+COLUMN(AN68)-1<='Site Plan'!$Q$4,$B$8+COLUMN(AN68)-1,\"\")","v":""},{"$f":"IF($B$8+COLUMN(AO68)-1<='Site Plan'!$Q$4,$B$8+COLUMN(AO68)-1,\"\")","v":""},{"$f":"IF($B$8+COLUMN(AP68)-1<='Site Plan'!$Q$4,$B$8+COLUMN(AP68)-1,\"\")","v":""},{"$f":"IF($B$8+COLUMN(AQ68)-1<='Site Plan'!$Q$4,$B$8+COLUMN(AQ68)-1,\"\")","v":""},{"$f":"IF($B$8+COLUMN(AR68)-1<='Site Plan'!$Q$4,$B$8+COLUMN(AR68)-1,\"\")","v":""},{"$f":"IF($B$8+COLUMN(AS68)-1<='Site Plan'!$Q$4,$B$8+COLUMN(AS68)-1,\"\")","v":""},{"$f":"IF($B$8+COLUMN(AT68)-1<='Site Plan'!$Q$4,$B$8+COLUMN(AT68)-1,\"\")","v":""},{"$f":"IF($B$8+COLUMN(AU68)-1<='Site Plan'!$Q$4,$B$8+COLUMN(AU68)-1,\"\")","v":""},{"$f":"IF($B$8+COLUMN(AV68)-1<='Site Plan'!$Q$4,$B$8+COLUMN(AV68)-1,\"\")","v":""},{"$f":"IF($B$8+COLUMN(AW68)-1<='Site Plan'!$Q$4,$B$8+COLUMN(AW68)-1,\"\")","v":""},{"$f":"IF($B$8+COLUMN(AX68)-1<='Site Plan'!$Q$4,$B$8+COLUMN(AX68)-1,\"\")","v":""},{"$f":"IF($B$8+COLUMN(AY68)-1<='Site Plan'!$Q$4,$B$8+COLUMN(AY68)-1,\"\")","v":""},{"$f":"IF($B$8+COLUMN(AZ68)-1<='Site Plan'!$Q$4,$B$8+COLUMN(AZ68)-1,\"\")","v":""},{"$f":"IF($B$8+COLUMN(BA68)-1<='Site Plan'!$Q$4,$B$8+COLUMN(BA68)-1,\"\")","v":""},{"$f":"IF($B$8+COLUMN(BB68)-1<='Site Plan'!$Q$4,$B$8+COLUMN(BB68)-1,\"\")","v":""},{"$f":"IF($B$8+COLUMN(BC68)-1<='Site Plan'!$Q$4,$B$8+COLUMN(BC68)-1,\"\")","v":""},{"$f":"IF($B$8+COLUMN(BD68)-1<='Site Plan'!$Q$4,$B$8+COLUMN(BD68)-1,\"\")","v":""},{"$f":"IF($B$8+COLUMN(BE68)-1<='Site Plan'!$Q$4,$B$8+COLUMN(BE68)-1,\"\")","v":""},{"$f":"IF($B$8+COLUMN(BF68)-1<='Site Plan'!$Q$4,$B$8+COLUMN(BF68)-1,\"\")","v":""},{"$f":"IF($B$8+COLUMN(BG68)-1<='Site Plan'!$Q$4,$B$8+COLUMN(BG68)-1,\"\")","v":""},{"$f":"IF($B$8+COLUMN(BH68)-1<='Site Plan'!$Q$4,$B$8+COLUMN(BH68)-1,\"\")","v":""},{"$f":"IF($B$8+COLUMN(BI68)-1<='Site Plan'!$Q$4,$B$8+COLUMN(BI68)-1,\"\")","v":""},{"$f":"IF($B$8+COLUMN(BJ68)-1<='Site Plan'!$Q$4,$B$8+COLUMN(BJ68)-1,\"\")","v":""},{"$f":"IF($B$8+COLUMN(BK68)-1<='Site Plan'!$Q$4,$B$8+COLUMN(BK68)-1,\"\")","v":""},{"$f":"IF($B$8+COLUMN(BL68)-1<='Site Plan'!$Q$4,$B$8+COLUMN(BL68)-1,\"\")","v":""},null,null,"Mon","Tue","Wed","Thu","Fri","Sat","Sun",null,"Mon-Thu",null,null,null,null,null,null,"Mon-Fri",null,null,null,null,null,null,"Tue-Thu",null,null,null,null,null,null,"Sat-Sun"]
["TIME",{"$f":"IF(B68=\"\",\"\",CHOOSE(WEEKDAY(B68),\"Mon\",\"Tue\",\"Wed\",\"Thu\",\"Fri\",\"Sat\",\"Sun\"))","v":"Fri"},{"$f":"IF(C68=\"\",\"\",CHOOSE(WEEKDAY(C68),\"Mon\",\"Tue\",\"Wed\",\"Thu\",\"Fri\",\"Sat\",\"Sun\"))","v":"Sat"},"Sun","Mon",null,null,null,{"$f":"IF(I68=\"\",\"\",CHOOSE(WEEKDAY(I68),\"Mon\",\"Tue\",\"Wed\",\"Thu\",\"Fri\",\"Sat\",\"Sun\"))","v":"Fri"},"Sat","Sun","Mon","Tue","Wed","","","","","","","","","","","","","","","","","","","","","","","","","","","","","","","","","","","","","","","","","","","","","","","","","","","",null,null,"Mean","Mean","Mean","Mean","Mean","Mean","Mean",null,"Mean","Number of observations","Standard Deviation"," ± 5% interval of the mean","95% confidence interval","Meet WebTAG criteria?",null,"Mean","Number of observations","Standard Deviation"," ± 5% interval of the mean","95% confidence interval","Meet WebTAG criteria?",null,"Mean","Number of observations","Standard Deviation"," ± 5% interval of the mean","95% confidence interval","Meet WebTAG criteria?",null,"Mean","Number of observations","Standard Deviation"," ± 5% interval of the mean","95% confidence interval","Meet WebTAG criteria?"]
["00:00:00",{"$f":"IF(B$8=\"\",\"\",SUMIFS(INDIRECT(\"'\"&TEXT(B$8,\"DD_MMM_YYYY\")&\"'!M$6:M$101\"),INDIRECT(\"'\"&TEXT(B$8,\"DD_MMM_YYYY\")&\"'!a$6:a$101\"),\">=\"&$A70,INDIRECT(\"'\"&TEXT(B$8,\"DD_MMM_YYYY\")&\"'!a$6:a$101\"),\"<\"&$A71))","v":6},{"$f":"IF(C$8=\"\",\"\",SUMIFS(INDIRECT(\"'\"&TEXT(C$8,\"DD_MMM_YYYY\")&\"'!M$6:M$101\"),INDIRECT(\"'\"&TEXT(C$8,\"DD_MMM_YYYY\")&\"'!a$6:a$101\"),\">=\"&$A70,INDIRECT(\"'\"&TEXT(C$8,\"DD_MMM_YYYY\")&\"'!a$6:a$101\"),\"<\"&$A71))","v":8},17,33,6,6,5,4,12,8,29,4,3,"","","","","","","","","","","","","","","","","","","","","","","","","","","","","","","","","","","","","","","","","","","","","","","","","","","",null,null,{"$f":"IF(COUNTIFS($B$9:$BM$9,BP$8,$B70:$BM70,\">=0\")=0,\"\",SUMIFS($B70:$BM70,$B$9:$BM$9,BP$8)/COUNTIFS($B$9:$BM$9,BP$8,$B70:$BM70,\">=0\"))","v":5},4.5,5,5,10,12.5,31,null,{"$f":"IFERROR(AVERAGE(BP70:BS70),\"\")","v":4.875},{"$f":"IFERROR(COUNTIFS($B$9:$BM$9,BQ$8,$B70:$BM70,\">0\")+COUNTIFS($B$9:$BM$9,BR$8,$B70:$BM70,\">0\")+COUNTIFS($B$9:$BM$9,BS$8,$B70:$BM70,\">0\")+COUNTIFS($B$9:$BM$9,BP$8,$B70:$BM70,\">0\"),\"\")","v":7},{"$f":"IFERROR(_xlfn.STDEV.S(IF((($B$9:$BM$9=\"Mon\")+($B$9:$BM$9=\"Tue\")+($B$9:$BM$9=\"Wed\")+($B$9:$BM$9=\"Thu\"))*($B70:$BM70<>\"\"),$B70:$BM70,\"\")),\"\")","v":1.2149857925879122},{"$f":"IFERROR(BX70*0.05,\"\")","v":0.24375000000000002},{"$f":"IFERROR(_xlfn.CONFIDENCE.NORM(0.05,BZ70,BY70),\"\")","v":0.90005753195373706},{"$f":"IF(BX70=\"\",\"\",IF(OR(BZ70=0,CB70<=CA70),\"P\",\"O\"))","v":"O"},null,{"$f":"IFERROR(AVERAGE(BP70:BT70),\"\")","v":5.9},{"$f":"IFERROR(COUNTIFS($B$9:$BM$9,BQ$8,$B70:$BM70,\">0\")+COUNTIFS($B$9:$BM$9,BR$8,$B70:$BM70,\">0\")+COUNTIFS($B$9:$BM$9,BS$8,$B70:$BM70,\">0\")+COUNTIFS($B$9:$BM$9,BP$8,$B70:$BM70,\">0\")+COUNTIFS($B$9:$BM$9,BT$8,$B70:$BM70,\">0\"),\"\")","v":9},{"$f":"IFERROR(_xlfn.STDEV.S(IF((($B$9:$BM$9=\"Mon\")+($B$9:$BM$9=\"Tue\")+($B$9:$BM$9=\"Wed\")+($B$9:$BM$9=\"Thu\")+($B$9:$BM$9=\"Fri\"))*($B70:$BM70<>\"\"),$B70:$BM70,\"\")),\"\")","v":2.6925824035672519},{"$f":"IFERROR(CE70*0.05,\"\")","v":0.29500000000000004},{"$f":"IFERROR(_xlfn.CONFIDENCE.NORM(0.05,CG70,CF70),\"\")","v":1.759121512132702},{"$f":"IF(CE70=\"\",\"\",IF(OR(CG70=0,CI70<=CH70),\"P\",\"O\"))","v":"O"},null,{"$f":"IFERROR(AVERAGE(BQ70:BS70),\"\")","v":4.833333333333333},{"$f":"IFERROR(COUNTIFS($B$9:$BM$9,BQ$8,$B70:$BM70,\">0\")+COUNTIFS($B$9:$BM$9,BR$8,$B70:$BM70,\">0\")+COUNTIFS($B$9:$BM$9,BS$8,$B70:$BM70,\">0\"),\"\")","v":5},{"$f":"IFERROR(_xlfn.STDEV.S(IF((($B$9:$BM$9=\"Tue\")+($B$9:$BM$9=\"Wed\")+($B$9:$BM$9=\"Thu\"))*($B70:$BM70<>\"\"),$B70:$BM70,\"\")),\"\")","v":1.3038404810405295},{"$f":"IFERROR(CL70*0.05,\"\")","v":0.24166666666666667},{"$f":"IFERROR(_xlfn.CONFIDENCE.NORM(0.05,CN70,CM70),\"\")","v":1.1428455709482368},{"$f":"IF(CL70=\"\",\"\",IF(OR(CN70=0,CP70<=CO70),\"P\",\"O\"))","v":"O"},null,{"$f":"IFERROR(AVERAGE(BU70:BV70),\"\")","v":21.75},{"$f":"IFERROR(COUNTIFS($B$9:$BM$9,BU$8,$B70:$BM70,\">0\")+COUNTIFS($B$9:$BM$9,BV$8,$B70:$BM70,\">0\"),\"\")","v":4},{"$f":"IFERROR(_xlfn.STDEV.S(IF((($B$9:$BM$9=\"Sat\")+($B$9:$BM$9=\"Sun\"))*($B70:$BM70<>\"\"),$B70:$BM70,\"\")),\"\")","v":11.412712210513327},{"$f":"IFERROR(CS70*0.05,\"\")","v":1.0875000000000001},{"$f":"IFERROR(_xlfn.CONFIDENCE.NORM(0.05,CU70,CT70),\"\")","v":11.184252449263312},{"$f":"IF(CS70=\"\",\"\",IF(OR(CU70=0,CW70<=CV70),\"P\",\"O\"))","v":"O"}]
["01:00:00",{"$f":"IF(B$8=\"\",\"\",SUMIFS(INDIRECT(\"'\"&TEXT(B$8,\"DD_MMM_YYYY\")&\"'!M$6:M$101\"),INDIRECT(\"'\"&TEXT(B$8,\"DD_MMM_YYYY\")&\"'!a$6:a$101\"),\">=\"&$A71,INDIRECT(\"'\"&TEXT(B$8,\"DD_MMM_YYYY\")&\"'!a$6:a$101\"),\"<\"&$A72))","v":4},3,10,10,2,6,5,5,3,3,8,3,2,"","","","","","","","","","","","","","","","","","","","","","","","","","","","","","","","","","","","","","","","","","","","","","","","","","","",null,null,2.5,4,5,4.5,3,6.5,9,null,{"$f":"IFERROR(AVERAGE(BP71:BS71),\"\")","v":4},{"$f":"IFERROR(COUNTIFS($B$9:$BM$9,BQ$8,$B71:$BM71,\">0\")+COUNTIFS($B$9:$BM$9,BR$8,$B71:$BM71,\">0\")+COUNTIFS($B$9:$BM$9,BS$8,$B71:$BM71,\">0\")+COUNTIFS($B$9:$BM$9,BP$8,$B71:$BM71,\">0\"),\"\")","v":7},{"$f":"IFERROR(_xlfn.STDEV.S(IF((($B$9:$BM$9=\"Mon\")+($B$9:$BM$9=\"Tue\")+($B$9:$BM$9=\"Wed\")+($B$9:$BM$9=\"Thu\"))*($B71:$BM71<>\"\"),$B71:$BM71,\"\")),\"\")","v":1.5735915849388864},{"$f":"IFERROR(BX71*0.05,\"\")","v":0.2},{"$f":"IFERROR(_xlfn.CONFIDENCE.NORM(0.05,BZ71,BY71),\"\")","v":1.1657115390843413},{"$f":"IF(BX71=\"\",\"\",IF(OR(BZ71=0,CB71<=CA71),\"P\",\"O\"))","v":"O"},null,{"$f":"IFERROR(AVERAGE(BP71:BT71),\"\")","v":3.8},{"$f":"IFERROR(COUNTIFS($B$9:$BM$9,BQ$8,$B71:$BM71,\">0\")+COUNTIFS($B$9:$BM$9,BR$8,$B71:$BM71,\">0\")+COUNTIFS($B$9:$BM$9,BS$8,$B71:$BM71,\">0\")+COUNTIFS($B$9:$BM$9,BP$8,$B71:$BM71,\">0\")+COUNTIFS($B$9:$BM$9,BT$8,$B71:$BM71,\">0\"),\"\")","v":9},{"$f":"IFERROR(_xlfn.STDEV.S(IF((($B$9:$BM$9=\"Mon\")+($B$9:$BM$9=\"Tue\")+($B$9:$BM$9=\"Wed\")+($B$9:$BM$9=\"Thu\")+($B$9:$BM$9=\"Fri\"))*($B71:$BM71<>\"\"),$B71:$BM71,\"\")),\"\")","v":1.4142135623730951},{"$f":"IFERROR(CE71*0.05,\"\")","v":0.19},{"$f":"IFERROR(_xlfn.CONFIDENCE.NORM(0.05,CG71,CF71),\"\")","v":0.92393588289978512},{"$f":"IF(CE71=\"\",\"\",IF(OR(CG71=0,CI71<=CH71),\"P\",\"O\"))","v":"O"},null,{"$f":"IFERROR(AVERAGE(BQ71:BS71),\"\")","v":4.5},{"$f":"IFERROR(COUNTIFS($B$9:$BM$9,BQ$8,$B71:$BM71,\">0\")+COUNTIFS($B$9:$BM$9,BR$8,$B71:$BM71,\">0\")+COUNTIFS($B$9:$BM$9,BS$8,$B71:$BM71,\">0\"),\"\")","v":5},{"$f":"IFERROR(_xlfn.STDEV.S(IF((($B$9:$BM$9=\"Tue\")+($B$9:$BM$9=\"Wed\")+($B$9:$BM$9=\"Thu\"))*($B71:$BM71<>\"\"),$B71:$BM71,\"\")),\"\")","v":1.5165750888103104},{"$f":"IFERROR(CL71*0.05,\"\")","v":0.22500000000000001},{"$f":"IFERROR(_xlfn.CONFIDENCE.NORM(0.05,CN71,CM71),\"\")","v":1.3293122498191676},{"$f":"IF(CL71=\"\",\"\",IF(OR(CN71=0,CP71<=CO71),\"P\",\"O\"))","v":"O"},null,{"$f":"IFERROR(AVERAGE(BU71:BV71),\"\")","v":7.75},{"$f":"IFERROR(COUNTIFS($B$9:$BM$9,BU$8,$B71:$BM71,\">0\")+COUNTIFS($B$9:$BM$9,BV$8,$B71:$BM71,\">0\"),\"\")","v":4},{"$f":"IFERROR(_xlfn.STDEV.S(IF(($B$9:$BM$9=\"Sat\")+($B$9:$BM$9=\"Sun\"),$B71:$BM71,\"\")),\"\")","v":3.3040379335998349},{"$f":"IFERROR(CS71*0.05,\"\")","v":0.38750000000000001},{"$f":"IFERROR(_xlfn.CONFIDENCE.NORM(0.05,CU71,CT71),\"\")","v":3.2378976767049088},{"$f":"IF(CS71=\"\",\"\",IF(OR(CU71=0,CW71<=CV71),\"P\",\"O\"))","v":"O"}]
["02:00:00",5,6,0,12,4,8,2,7,3,9,8,3,8,"","","","","","","","","","","","","","","","","","","","","","","","","","","","","","","","","","","","","","","","","","","","","","","","","","","",null,null,3.5,8,2,6,4.5,4.5,10,null,4.875,7,{"$f":"IFERROR(_xlfn.STDEV.S(IF((($B$9:$BM$9=\"Mon\")+($B$9:$BM$9=\"Tue\")+($B$9:$BM$9=\"Wed\")+($B$9:$BM$9=\"Thu\"))*($B72:$BM72<>\"\"),$B72:$BM72,\"\")),\"\")","v":2.429971585175823},0.24375000000000002,1.800115063907473,"O",null,4.8,9,{"$f":"IFERROR(_xlfn.STDEV.S(IF((($B$9:$BM$9=\"Mon\")+($B$9:$BM$9=\"Tue\")+($B$9:$BM$9=\"Wed\")+($B$9:$BM$9=\"Thu\")+($B$9:$BM$9=\"Fri\"))*($B72:$BM72<>\"\"),$B72:$BM72,\"\")),\"\")","v":2.2607766610417559},0.24,1.4770136109101859,"O",null,5.333333333333333,5,{"$f":"IFERROR(_xlfn.STDEV.S(IF((($B$9:$BM$9=\"Tue\")+($B$9:$BM$9=\"Wed\")+($B$9:$BM$9=\"Thu\"))*($B72:$BM72<>\"\"),$B72:$BM72,\"\")),\"\")","v":2.5495097567963922},0.26666666666666666,2.2347027692519554,"O",null,7.25,3,{"$f":"IFERROR(_xlfn.STDEV.S(IF(($B$9:$BM$9=\"Sat\")+($B$9:$BM$9=\"Sun\"),$B72:$BM72,\"\")),\"\")","v":5.123475382979799},0.36250000000000004,5.7976516522703898,"O"]
["03:00:00",7,8,5,7,5,5,9,10,5,10,10,5,4,"","","","","","","","","","","","","","","","","","","","","","","","","","","","","","","","","","","","","","","","","","","","","","","","","","","",null,null,5,4.5,9,8.5,6.5,7.5,8.5,null,6.75,7,{"$f":"IFERROR(_xlfn.STDEV.S(IF((($B$9:$BM$9=\"Mon\")+($B$9:$BM$9=\"Tue\")+($B$9:$BM$9=\"Wed\")+($B$9:$BM$9=\"Thu\"))*($B73:$BM73<>\"\"),$B73:$BM73,\"\")),\"\")","v":2.2990681342044406},0.33750000000000002,1.7031422122706057,"O",null,6.7,9,{"$f":"IFERROR(_xlfn.STDEV.S(IF((($B$9:$BM$9=\"Mon\")+($B$9:$BM$9=\"Tue\")+($B$9:$BM$9=\"Wed\")+($B$9:$BM$9=\"Thu\")+($B$9:$BM$9=\"Fri\"))*($B73:$BM73<>\"\"),$B73:$BM73,\"\")),\"\")","v":2.1278575558006176},0.33500000000000002,1.3901747245335461,"O",null,7.333333333333333,5,{"$f":"IFERROR(_xlfn.STDEV.S(IF((($B$9:$BM$9=\"Tue\")+($B$9:$BM$9=\"Wed\")+($B$9:$BM$9=\"Thu\"))*($B73:$BM73<>\"\"),$B73:$BM73,\"\")),\"\")","v":2.5495097567963922},0.3666666666666667,2.2347027692519554,"O",null,8,4,{"$f":"IFERROR(_xlfn.STDEV.S(IF(($B$9:$BM$9=\"Sat\")+($B$9:$BM$9=\"Sun\"),$B73:$BM73,\"\")),\"\")","v":2.4494897427831779},0.4,2.400455838177654,"O"]
["04:00:00",28,25,11,13,{"$f":"IF(F$8=\"\",\"\",SUMIFS(INDIRECT(\"'\"&TEXT(F$8,\"DD_MMM_YYYY\")&\"'!M$6:M$101\"),INDIRECT(\"'\"&TEXT(F$8,\"DD_MMM_YYYY\")&\"'!a$6:a$101\"),\">=\"&$A74,INDIRECT(\"'\"&TEXT(F$8,\"DD_MMM_YYYY\")&\"'!a$6:a$101\"),\"<\"&$A75))","v":26},{"$f":"IF(G$8=\"\",\"\",SUMIFS(INDIRECT(\"'\"&TEXT(G$8,\"DD_MMM_YYYY\")&\"'!M$6:M$101\"),INDIRECT(\"'\"&TEXT(G$8,\"DD_MMM_YYYY\")&\"'!a$6:a$101\"),\">=\"&$A74,INDIRECT(\"'\"&TEXT(G$8,\"DD_MMM_YYYY\")&\"'!a$6:a$101\"),\"<\"&$A75))","v":18},{"$f":"IF(H$8=\"\",\"\",SUMIFS(INDIRECT(\"'\"&TEXT(H$8,\"DD_MMM_YYYY\")&\"'!M$6:M$101\"),INDIRECT(\"'\"&TEXT(H$8,\"DD_MMM_YYYY\")&\"'!a$6:a$101\"),\">=\"&$A74,INDIRECT(\"'\"&TEXT(H$8,\"DD_MMM_YYYY\")&\"'!a$6:a$101\"),\"<\"&$A75))","v":24},{"$f":"IF(I$8=\"\",\"\",SUMIFS(INDIRECT(\"'\"&TEXT(I$8,\"DD_MMM_YYYY\")&\"'!M$6:M$101\"),INDIRECT(\"'\"&TEXT(I$8,\"DD_MMM_YYYY\")&\"'!a$6:a$101\"),\">=\"&$A74,INDIRECT(\"'\"&TEXT(I$8,\"DD_MMM_YYYY\")&\"'!a$6:a$101\"),\"<\"&$A75))","v":21},{"$f":"IF(J$8=\"\",\"\",SUMIFS(INDIRECT(\"'\"&TEXT(J$8,\"DD_MMM_YYYY\")&\"'!M$6:M$101\"),INDIRECT(\"'\"&TEXT(J$8,\"DD_MMM_YYYY\")&\"'!a$6:a$101\"),\">=\"&$A74,INDIRECT(\"'\"&TEXT(J$8,\"DD_MMM_YYYY\")&\"'!a$6:a$101\"),\"<\"&$A75))","v":28},{"$f":"IF(K$8=\"\",\"\",SUMIFS(INDIRECT(\"'\"&TEXT(K$8,\"DD_MMM_YYYY\")&\"'!M$6:M$101\"),INDIRECT(\"'\"&TEXT(K$8,\"DD_MMM_YYYY\")&\"'!a$6:a$101\"),\">=\"&$A74,INDIRECT(\"'\"&TEXT(K$8,\"DD_MMM_YYYY\")&\"'!a$6:a$101\"),\"<\"&$A75))","v":8},{"$f":"IF(L$8=\"\",\"\",SUMIFS(INDIRECT(\"'\"&TEXT(L$8,\"DD_MMM_YYYY\")&\"'!M$6:M$101\"),INDIRECT(\"'\"&TEXT(L$8,\"DD_MMM_YYYY\")&\"'!a$6:a$101\"),\">=\"&$A74,INDIRECT(\"'\"&TEXT(L$8,\"DD_MMM_YYYY\")&\"'!a$6:a$101\"),\"<\"&$A75))","v":9},{"$f":"IF(M$8=\"\",\"\",SUMIFS(INDIRECT(\"'\"&TEXT(M$8,\"DD_MMM_YYYY\")&\"'!M$6:M$101\"),INDIRECT(\"'\"&TEXT(M$8,\"DD_MMM_YYYY\")&\"'!a$6:a$101\"),\">=\"&$A74,INDIRECT(\"'\"&TEXT(M$8,\"DD_MMM_YYYY\")&\"'!a$6:a$101\"),\"<\"&$A75))","v":25},{"$f":"IF(N$8=\"\",\"\",SUMIFS(INDIRECT(\"'\"&TEXT(N$8,\"DD_MMM_YYYY\")&\"'!M$6:M$101\"),INDIRECT(\"'\"&TEXT(N$8,\"DD_MMM_YYYY\")&\"'!a$6:a$101\"),\">=\"&$A74,INDIRECT(\"'\"&TEXT(N$8,\"DD_MMM_YYYY\")&\"'!a$6:a$101\"),\"<\"&$A75))","v":25},{"$f":"IF(O$8=\"\",\"\",SUMIFS(INDIRECT(\"'\"&TEXT(O$8,\"DD_MMM_YYYY\")&\"'!M$6:M$101\"),INDIRECT(\"'\"&TEXT(O$8,\"DD_MMM_YYYY\")&\"'!a$6:a$101\"),\">=\"&$A74,INDIRECT(\"'\"&TEXT(O$8,\"DD_MMM_YYYY\")&\"'!a$6:a$101\"),\"<\"&$A75))","v":""},{"$f":"IF(P$8=\"\",\"\",SUMIFS(INDIRECT(\"'\"&TEXT(P$8,\"DD_MMM_YYYY\")&\"'!M$6:M$101\"),INDIRECT(\"'\"&TEXT(P$8,\"DD_MMM_YYYY\")&\"'!a$6:a$101\"),\">=\"&$A74,INDIRECT(\"'\"&TEXT(P$8,\"DD_MMM_YYYY\")&\"'!a$6:a$101\"),\"<\"&$A75))","v":""},{"$f":"IF(Q$8=\"\",\"\",SUMIFS(INDIRECT(\"'\"&TEXT(Q$8,\"DD_MMM_YYYY\")&\"'!M$6:M$101\"),INDIRECT(\"'\"&TEXT(Q$8,\"DD_MMM_YYYY\")&\"'!a$6:a$101\"),\">=\"&$A74,INDIRECT(\"'\"&TEXT(Q$8,\"DD_MMM_YYYY\")&\"'!a$6:a$101\"),\"<\"&$A75))","v":""},{"$f":"IF(R$8=\"\",\"\",SUMIFS(INDIRECT(\"'\"&TEXT(R$8,\"DD_MMM_YYYY\")&\"'!M$6:M$101\"),INDIRECT(\"'\"&TEXT(R$8,\"DD_MMM_YYYY\")&\"'!a$6:a$101\"),\">=\"&$A74,INDIRECT(\"'\"&TEXT(R$8,\"DD_MMM_YYYY\")&\"'!a$6:a$101\"),\"<\"&$A75))","v":""},{"$f":"IF(S$8=\"\",\"\",SUMIFS(INDIRECT(\"'\"&TEXT(S$8,\"DD_MMM_YYYY\")&\"'!M$6:M$101\"),INDIRECT(\"'\"&TEXT(S$8,\"DD_MMM_YYYY\")&\"'!a$6:a$101\"),\">=\"&$A74,INDIRECT(\"'\"&TEXT(S$8,\"DD_MMM_YYYY\")&\"'!a$6:a$101\"),\"<\"&$A75))","v":""},{"$f":"IF(T$8=\"\",\"\",SUMIFS(INDIRECT(\"'\"&TEXT(T$8,\"DD_MMM_YYYY\")&\"'!M$6:M$101\"),INDIRECT(\"'\"&TEXT(T$8,\"DD_MMM_YYYY\")&\"'!a$6:a$101\"),\">=\"&$A74,INDIRECT(\"'\"&TEXT(T$8,\"DD_MMM_YYYY\")&\"'!a$6:a$101\"),\"<\"&$A75))","v":""},{"$f":"IF(U$8=\"\",\"\",SUMIFS(INDIRECT(\"'\"&TEXT(U$8,\"DD_MMM_YYYY\")&\"'!M$6:M$101\"),INDIRECT(\"'\"&TEXT(U$8,\"DD_MMM_YYYY\")&\"'!a$6:a$101\"),\">=\"&$A74,INDIRECT(\"'\"&TEXT(U$8,\"DD_MMM_YYYY\")&\"'!a$6:a$101\"),\"<\"&$A75))","v":""},{"$f":"IF(V$8=\"\",\"\",SUMIFS(INDIRECT(\"'\"&TEXT(V$8,\"DD_MMM_YYYY\")&\"'!M$6:M$101\"),INDIRECT(\"'\"&TEXT(V$8,\"DD_MMM_YYYY\")&\"'!a$6:a$101\"),\">=\"&$A74,INDIRECT(\"'\"&TEXT(V$8,\"DD_MMM_YYYY\")&\"'!a$6:a$101\"),\"<\"&$A75))","v":""},{"$f":"IF(W$8=\"\",\"\",SUMIFS(INDIRECT(\"'\"&TEXT(W$8,\"DD_MMM_YYYY\")&\"'!M$6:M$101\"),INDIRECT(\"'\"&TEXT(W$8,\"DD_MMM_YYYY\")&\"'!a$6:a$101\"),\">=\"&$A74,INDIRECT(\"'\"&TEXT(W$8,\"DD_MMM_YYYY\")&\"'!a$6:a$101\"),\"<\"&$A75))","v":""},{"$f":"IF(X$8=\"\",\"\",SUMIFS(INDIRECT(\"'\"&TEXT(X$8,\"DD_MMM_YYYY\")&\"'!M$6:M$101\"),INDIRECT(\"'\"&TEXT(X$8,\"DD_MMM_YYYY\")&\"'!a$6:a$101\"),\">=\"&$A74,INDIRECT(\"'\"&TEXT(X$8,\"DD_MMM_YYYY\")&\"'!a$6:a$101\"),\"<\"&$A75))","v":""},{"$f":"IF(Y$8=\"\",\"\",SUMIFS(INDIRECT(\"'\"&TEXT(Y$8,\"DD_MMM_YYYY\")&\"'!M$6:M$101\"),INDIRECT(\"'\"&TEXT(Y$8,\"DD_MMM_YYYY\")&\"'!a$6:a$101\"),\">=\"&$A74,INDIRECT(\"'\"&TEXT(Y$8,\"DD_MMM_YYYY\")&\"'!a$6:a$101\"),\"<\"&$A75))","v":""},{"$f":"IF(Z$8=\"\",\"\",SUMIFS(INDIRECT(\"'\"&TEXT(Z$8,\"DD_MMM_YYYY\")&\"'!M$6:M$101\"),INDIRECT(\"'\"&TEXT(Z$8,\"DD_MMM_YYYY\")&\"'!a$6:a$101\"),\">=\"&$A74,INDIRECT(\"'\"&TEXT(Z$8,\"DD_MMM_YYYY\")&\"'!a$6:a$101\"),\"<\"&$A75))","v":""},{"$f":"IF(AA$8=\"\",\"\",SUMIFS(INDIRECT(\"'\"&TEXT(AA$8,\"DD_MMM_YYYY\")&\"'!M$6:M$101\"),INDIRECT(\"'\"&TEXT(AA$8,\"DD_MMM_YYYY\")&\"'!a$6:a$101\"),\">=\"&$A74,INDIRECT(\"'\"&TEXT(AA$8,\"DD_MMM_YYYY\")&\"'!a$6:a$101\"),\"<\"&$A75))","v":""},{"$f":"IF(AB$8=\"\",\"\",SUMIFS(INDIRECT(\"'\"&TEXT(AB$8,\"DD_MMM_YYYY\")&\"'!M$6:M$101\"),INDIRECT(\"'\"&TEXT(AB$8,\"DD_MMM_YYYY\")&\"'!a$6:a$101\"),\">=\"&$A74,INDIRECT(\"'\"&TEXT(AB$8,\"DD_MMM_YYYY\")&\"'!a$6:a$101\"),\"<\"&$A75))","v":""},{"$f":"IF(AC$8=\"\",\"\",SUMIFS(INDIRECT(\"'\"&TEXT(AC$8,\"DD_MMM_YYYY\")&\"'!M$6:M$101\"),INDIRECT(\"'\"&TEXT(AC$8,\"DD_MMM_YYYY\")&\"'!a$6:a$101\"),\">=\"&$A74,INDIRECT(\"'\"&TEXT(AC$8,\"DD_MMM_YYYY\")&\"'!a$6:a$101\"),\"<\"&$A75))","v":""},{"$f":"IF(AD$8=\"\",\"\",SUMIFS(INDIRECT(\"'\"&TEXT(AD$8,\"DD_MMM_YYYY\")&\"'!M$6:M$101\"),INDIRECT(\"'\"&TEXT(AD$8,\"DD_MMM_YYYY\")&\"'!a$6:a$101\"),\">=\"&$A74,INDIRECT(\"'\"&TEXT(AD$8,\"DD_MMM_YYYY\")&\"'!a$6:a$101\"),\"<\"&$A75))","v":""},{"$f":"IF(AE$8=\"\",\"\",SUMIFS(INDIRECT(\"'\"&TEXT(AE$8,\"DD_MMM_YYYY\")&\"'!M$6:M$101\"),INDIRECT(\"'\"&TEXT(AE$8,\"DD_MMM_YYYY\")&\"'!a$6:a$101\"),\">=\"&$A74,INDIRECT(\"'\"&TEXT(AE$8,\"DD_MMM_YYYY\")&\"'!a$6:a$101\"),\"<\"&$A75))","v":""},{"$f":"IF(AF$8=\"\",\"\",SUMIFS(INDIRECT(\"'\"&TEXT(AF$8,\"DD_MMM_YYYY\")&\"'!M$6:M$101\"),INDIRECT(\"'\"&TEXT(AF$8,\"DD_MMM_YYYY\")&\"'!a$6:a$101\"),\">=\"&$A74,INDIRECT(\"'\"&TEXT(AF$8,\"DD_MMM_YYYY\")&\"'!a$6:a$101\"),\"<\"&$A75))","v":""},{"$f":"IF(AG$8=\"\",\"\",SUMIFS(INDIRECT(\"'\"&TEXT(AG$8,\"DD_MMM_YYYY\")&\"'!M$6:M$101\"),INDIRECT(\"'\"&TEXT(AG$8,\"DD_MMM_YYYY\")&\"'!a$6:a$101\"),\">=\"&$A74,INDIRECT(\"'\"&TEXT(AG$8,\"DD_MMM_YYYY\")&\"'!a$6:a$101\"),\"<\"&$A75))","v":""},{"$f":"IF(AH$8=\"\",\"\",SUMIFS(INDIRECT(\"'\"&TEXT(AH$8,\"DD_MMM_YYYY\")&\"'!M$6:M$101\"),INDIRECT(\"'\"&TEXT(AH$8,\"DD_MMM_YYYY\")&\"'!a$6:a$101\"),\">=\"&$A74,INDIRECT(\"'\"&TEXT(AH$8,\"DD_MMM_YYYY\")&\"'!a$6:a$101\"),\"<\"&$A75))","v":""},{"$f":"IF(AI$8=\"\",\"\",SUMIFS(INDIRECT(\"'\"&TEXT(AI$8,\"DD_MMM_YYYY\")&\"'!M$6:M$101\"),INDIRECT(\"'\"&TEXT(AI$8,\"DD_MMM_YYYY\")&\"'!a$6:a$101\"),\">=\"&$A74,INDIRECT(\"'\"&TEXT(AI$8,\"DD_MMM_YYYY\")&\"'!a$6:a$101\"),\"<\"&$A75))","v":""},{"$f":"IF(AJ$8=\"\",\"\",SUMIFS(INDIRECT(\"'\"&TEXT(AJ$8,\"DD_MMM_YYYY\")&\"'!M$6:M$101\"),INDIRECT(\"'\"&TEXT(AJ$8,\"DD_MMM_YYYY\")&\"'!a$6:a$101\"),\">=\"&$A74,INDIRECT(\"'\"&TEXT(AJ$8,\"DD_MMM_YYYY\")&\"'!a$6:a$101\"),\"<\"&$A75))","v":""},{"$f":"IF(AK$8=\"\",\"\",SUMIFS(INDIRECT(\"'\"&TEXT(AK$8,\"DD_MMM_YYYY\")&\"'!M$6:M$101\"),INDIRECT(\"'\"&TEXT(AK$8,\"DD_MMM_YYYY\")&\"'!a$6:a$101\"),\">=\"&$A74,INDIRECT(\"'\"&TEXT(AK$8,\"DD_MMM_YYYY\")&\"'!a$6:a$101\"),\"<\"&$A75))","v":""},{"$f":"IF(AL$8=\"\",\"\",SUMIFS(INDIRECT(\"'\"&TEXT(AL$8,\"DD_MMM_YYYY\")&\"'!M$6:M$101\"),INDIRECT(\"'\"&TEXT(AL$8,\"DD_MMM_YYYY\")&\"'!a$6:a$101\"),\">=\"&$A74,INDIRECT(\"'\"&TEXT(AL$8,\"DD_MMM_YYYY\")&\"'!a$6:a$101\"),\"<\"&$A75))","v":""},{"$f":"IF(AM$8=\"\",\"\",SUMIFS(INDIRECT(\"'\"&TEXT(AM$8,\"DD_MMM_YYYY\")&\"'!M$6:M$101\"),INDIRECT(\"'\"&TEXT(AM$8,\"DD_MMM_YYYY\")&\"'!a$6:a$101\"),\">=\"&$A74,INDIRECT(\"'\"&TEXT(AM$8,\"DD_MMM_YYYY\")&\"'!a$6:a$101\"),\"<\"&$A75))","v":""},{"$f":"IF(AN$8=\"\",\"\",SUMIFS(INDIRECT(\"'\"&TEXT(AN$8,\"DD_MMM_YYYY\")&\"'!M$6:M$101\"),INDIRECT(\"'\"&TEXT(AN$8,\"DD_MMM_YYYY\")&\"'!a$6:a$101\"),\">=\"&$A74,INDIRECT(\"'\"&TEXT(AN$8,\"DD_MMM_YYYY\")&\"'!a$6:a$101\"),\"<\"&$A75))","v":""},{"$f":"IF(AO$8=\"\",\"\",SUMIFS(INDIRECT(\"'\"&TEXT(AO$8,\"DD_MMM_YYYY\")&\"'!M$6:M$101\"),INDIRECT(\"'\"&TEXT(AO$8,\"DD_MMM_YYYY\")&\"'!a$6:a$101\"),\">=\"&$A74,INDIRECT(\"'\"&TEXT(AO$8,\"DD_MMM_YYYY\")&\"'!a$6:a$101\"),\"<\"&$A75))","v":""},{"$f":"IF(AP$8=\"\",\"\",SUMIFS(INDIRECT(\"'\"&TEXT(AP$8,\"DD_MMM_YYYY\")&\"'!M$6:M$101\"),INDIRECT(\"'\"&TEXT(AP$8,\"DD_MMM_YYYY\")&\"'!a$6:a$101\"),\">=\"&$A74,INDIRECT(\"'\"&TEXT(AP$8,\"DD_MMM_YYYY\")&\"'!a$6:a$101\"),\"<\"&$A75))","v":""},{"$f":"IF(AQ$8=\"\",\"\",SUMIFS(INDIRECT(\"'\"&TEXT(AQ$8,\"DD_MMM_YYYY\")&\"'!M$6:M$101\"),INDIRECT(\"'\"&TEXT(AQ$8,\"DD_MMM_YYYY\")&\"'!a$6:a$101\"),\">=\"&$A74,INDIRECT(\"'\"&TEXT(AQ$8,\"DD_MMM_YYYY\")&\"'!a$6:a$101\"),\"<\"&$A75))","v":""},{"$f":"IF(AR$8=\"\",\"\",SUMIFS(INDIRECT(\"'\"&TEXT(AR$8,\"DD_MMM_YYYY\")&\"'!M$6:M$101\"),INDIRECT(\"'\"&TEXT(AR$8,\"DD_MMM_YYYY\")&\"'!a$6:a$101\"),\">=\"&$A74,INDIRECT(\"'\"&TEXT(AR$8,\"DD_MMM_YYYY\")&\"'!a$6:a$101\"),\"<\"&$A75))","v":""},{"$f":"IF(AS$8=\"\",\"\",SUMIFS(INDIRECT(\"'\"&TEXT(AS$8,\"DD_MMM_YYYY\")&\"'!M$6:M$101\"),INDIRECT(\"'\"&TEXT(AS$8,\"DD_MMM_YYYY\")&\"'!a$6:a$101\"),\">=\"&$A74,INDIRECT(\"'\"&TEXT(AS$8,\"DD_MMM_YYYY\")&\"'!a$6:a$101\"),\"<\"&$A75))","v":""},{"$f":"IF(AT$8=\"\",\"\",SUMIFS(INDIRECT(\"'\"&TEXT(AT$8,\"DD_MMM_YYYY\")&\"'!M$6:M$101\"),INDIRECT(\"'\"&TEXT(AT$8,\"DD_MMM_YYYY\")&\"'!a$6:a$101\"),\">=\"&$A74,INDIRECT(\"'\"&TEXT(AT$8,\"DD_MMM_YYYY\")&\"'!a$6:a$101\"),\"<\"&$A75))","v":""},{"$f":"IF(AU$8=\"\",\"\",SUMIFS(INDIRECT(\"'\"&TEXT(AU$8,\"DD_MMM_YYYY\")&\"'!M$6:M$101\"),INDIRECT(\"'\"&TEXT(AU$8,\"DD_MMM_YYYY\")&\"'!a$6:a$101\"),\">=\"&$A74,INDIRECT(\"'\"&TEXT(AU$8,\"DD_MMM_YYYY\")&\"'!a$6:a$101\"),\"<\"&$A75))","v":""},{"$f":"IF(AV$8=\"\",\"\",SUMIFS(INDIRECT(\"'\"&TEXT(AV$8,\"DD_MMM_YYYY\")&\"'!M$6:M$101\"),INDIRECT(\"'\"&TEXT(AV$8,\"DD_MMM_YYYY\")&\"'!a$6:a$101\"),\">=\"&$A74,INDIRECT(\"'\"&TEXT(AV$8,\"DD_MMM_YYYY\")&\"'!a$6:a$101\"),\"<\"&$A75))","v":""},{"$f":"IF(AW$8=\"\",\"\",SUMIFS(INDIRECT(\"'\"&TEXT(AW$8,\"DD_MMM_YYYY\")&\"'!M$6:M$101\"),INDIRECT(\"'\"&TEXT(AW$8,\"DD_MMM_YYYY\")&\"'!a$6:a$101\"),\">=\"&$A74,INDIRECT(\"'\"&TEXT(AW$8,\"DD_MMM_YYYY\")&\"'!a$6:a$101\"),\"<\"&$A75))","v":""},{"$f":"IF(AX$8=\"\",\"\",SUMIFS(INDIRECT(\"'\"&TEXT(AX$8,\"DD_MMM_YYYY\")&\"'!M$6:M$101\"),INDIRECT(\"'\"&TEXT(AX$8,\"DD_MMM_YYYY\")&\"'!a$6:a$101\"),\">=\"&$A74,INDIRECT(\"'\"&TEXT(AX$8,\"DD_MMM_YYYY\")&\"'!a$6:a$101\"),\"<\"&$A75))","v":""},{"$f":"IF(AY$8=\"\",\"\",SUMIFS(INDIRECT(\"'\"&TEXT(AY$8,\"DD_MMM_YYYY\")&\"'!M$6:M$101\"),INDIRECT(\"'\"&TEXT(AY$8,\"DD_MMM_YYYY\")&\"'!a$6:a$101\"),\">=\"&$A74,INDIRECT(\"'\"&TEXT(AY$8,\"DD_MMM_YYYY\")&\"'!a$6:a$101\"),\"<\"&$A75))","v":""},{"$f":"IF(AZ$8=\"\",\"\",SUMIFS(INDIRECT(\"'\"&TEXT(AZ$8,\"DD_MMM_YYYY\")&\"'!M$6:M$101\"),INDIRECT(\"'\"&TEXT(AZ$8,\"DD_MMM_YYYY\")&\"'!a$6:a$101\"),\">=\"&$A74,INDIRECT(\"'\"&TEXT(AZ$8,\"DD_MMM_YYYY\")&\"'!a$6:a$101\"),\"<\"&$A75))","v":""},{"$f":"IF(BA$8=\"\",\"\",SUMIFS(INDIRECT(\"'\"&TEXT(BA$8,\"DD_MMM_YYYY\")&\"'!M$6:M$101\"),INDIRECT(\"'\"&TEXT(BA$8,\"DD_MMM_YYYY\")&\"'!a$6:a$101\"),\">=\"&$A74,INDIRECT(\"'\"&TEXT(BA$8,\"DD_MMM_YYYY\")&\"'!a$6:a$101\"),\"<\"&$A75))","v":""},{"$f":"IF(BB$8=\"\",\"\",SUMIFS(INDIRECT(\"'\"&TEXT(BB$8,\"DD_MMM_YYYY\")&\"'!M$6:M$101\"),INDIRECT(\"'\"&TEXT(BB$8,\"DD_MMM_YYYY\")&\"'!a$6:a$101\"),\">=\"&$A74,INDIRECT(\"'\"&TEXT(BB$8,\"DD_MMM_YYYY\")&\"'!a$6:a$101\"),\"<\"&$A75))","v":""},{"$f":"IF(BC$8=\"\",\"\",SUMIFS(INDIRECT(\"'\"&TEXT(BC$8,\"DD_MMM_YYYY\")&\"'!M$6:M$101\"),INDIRECT(\"'\"&TEXT(BC$8,\"DD_MMM_YYYY\")&\"'!a$6:a$101\"),\">=\"&$A74,INDIRECT(\"'\"&TEXT(BC$8,\"DD_MMM_YYYY\")&\"'!a$6:a$101\"),\"<\"&$A75))","v":""},{"$f":"IF(BD$8=\"\",\"\",SUMIFS(INDIRECT(\"'\"&TEXT(BD$8,\"DD_MMM_YYYY\")&\"'!M$6:M$101\"),INDIRECT(\"'\"&TEXT(BD$8,\"DD_MMM_YYYY\")&\"'!a$6:a$101\"),\">=\"&$A74,INDIRECT(\"'\"&TEXT(BD$8,\"DD_MMM_YYYY\")&\"'!a$6:a$101\"),\"<\"&$A75))","v":""},{"$f":"IF(BE$8=\"\",\"\",SUMIFS(INDIRECT(\"'\"&TEXT(BE$8,\"DD_MMM_YYYY\")&\"'!M$6:M$101\"),INDIRECT(\"'\"&TEXT(BE$8,\"DD_MMM_YYYY\")&\"'!a$6:a$101\"),\">=\"&$A74,INDIRECT(\"'\"&TEXT(BE$8,\"DD_MMM_YYYY\")&\"'!a$6:a$101\"),\"<\"&$A75))","v":""},{"$f":"IF(BF$8=\"\",\"\",SUMIFS(INDIRECT(\"'\"&TEXT(BF$8,\"DD_MMM_YYYY\")&\"'!M$6:M$101\"),INDIRECT(\"'\"&TEXT(BF$8,\"DD_MMM_YYYY\")&\"'!a$6:a$101\"),\">=\"&$A74,INDIRECT(\"'\"&TEXT(BF$8,\"DD_MMM_YYYY\")&\"'!a$6:a$101\"),\"<\"&$A75))","v":""},{"$f":"IF(BG$8=\"\",\"\",SUMIFS(INDIRECT(\"'\"&TEXT(BG$8,\"DD_MMM_YYYY\")&\"'!M$6:M$101\"),INDIRECT(\"'\"&TEXT(BG$8,\"DD_MMM_YYYY\")&\"'!a$6:a$101\"),\">=\"&$A74,INDIRECT(\"'\"&TEXT(BG$8,\"DD_MMM_YYYY\")&\"'!a$6:a$101\"),\"<\"&$A75))","v":""},{"$f":"IF(BH$8=\"\",\"\",SUMIFS(INDIRECT(\"'\"&TEXT(BH$8,\"DD_MMM_YYYY\")&\"'!M$6:M$101\"),INDIRECT(\"'\"&TEXT(BH$8,\"DD_MMM_YYYY\")&\"'!a$6:a$101\"),\">=\"&$A74,INDIRECT(\"'\"&TEXT(BH$8,\"DD_MMM_YYYY\")&\"'!a$6:a$101\"),\"<\"&$A75))","v":""},{"$f":"IF(BI$8=\"\",\"\",SUMIFS(INDIRECT(\"'\"&TEXT(BI$8,\"DD_MMM_YYYY\")&\"'!M$6:M$101\"),INDIRECT(\"'\"&TEXT(BI$8,\"DD_MMM_YYYY\")&\"'!a$6:a$101\"),\">=\"&$A74,INDIRECT(\"'\"&TEXT(BI$8,\"DD_MMM_YYYY\")&\"'!a$6:a$101\"),\"<\"&$A75))","v":""},{"$f":"IF(BJ$8=\"\",\"\",SUMIFS(INDIRECT(\"'\"&TEXT(BJ$8,\"DD_MMM_YYYY\")&\"'!M$6:M$101\"),INDIRECT(\"'\"&TEXT(BJ$8,\"DD_MMM_YYYY\")&\"'!a$6:a$101\"),\">=\"&$A74,INDIRECT(\"'\"&TEXT(BJ$8,\"DD_MMM_YYYY\")&\"'!a$6:a$101\"),\"<\"&$A75))","v":""},{"$f":"IF(BK$8=\"\",\"\",SUMIFS(INDIRECT(\"'\"&TEXT(BK$8,\"DD_MMM_YYYY\")&\"'!M$6:M$101\"),INDIRECT(\"'\"&TEXT(BK$8,\"DD_MMM_YYYY\")&\"'!a$6:a$101\"),\">=\"&$A74,INDIRECT(\"'\"&TEXT(BK$8,\"DD_MMM_YYYY\")&\"'!a$6:a$101\"),\"<\"&$A75))","v":""},{"$f":"IF(BL$8=\"\",\"\",SUMIFS(INDIRECT(\"'\"&TEXT(BL$8,\"DD_MMM_YYYY\")&\"'!M$6:M$101\"),INDIRECT(\"'\"&TEXT(BL$8,\"DD_MMM_YYYY\")&\"'!a$6:a$101\"),\">=\"&$A74,INDIRECT(\"'\"&TEXT(BL$8,\"DD_MMM_YYYY\")&\"'!a$6:a$101\"),\"<\"&$A75))","v":""},{"$f":"IF(BM$8=\"\",\"\",SUMIFS(INDIRECT(\"'\"&TEXT(BM$8,\"DD_MMM_YYYY\")&\"'!M$6:M$101\"),INDIRECT(\"'\"&TEXT(BM$8,\"DD_MMM_YYYY\")&\"'!a$6:a$101\"),\">=\"&$A74,INDIRECT(\"'\"&TEXT(BM$8,\"DD_MMM_YYYY\")&\"'!a$6:a$101\"),\"<\"&$A75))","v":""},null,null,25.5,21.5,24,24.5,26.5,9.5,11,null,23.875,7,{"$f":"IFERROR(_xlfn.STDEV.S(IF((($B$9:$BM$9=\"Mon\")+($B$9:$BM$9=\"Tue\")+($B$9:$BM$9=\"Wed\")+($B$9:$BM$9=\"Thu\"))*($B74:$BM74<>\"\"),$B74:$BM74,\"\")),\"\")","v":3.3380918415851157},1.1937500000000001,2.4728476025818309,"O",null,24.4,9,{"$f":"IFERROR(_xlfn.STDEV.S(IF((($B$9:$BM$9=\"Mon\")+($B$9:$BM$9=\"Tue\")+($B$9:$BM$9=\"Wed\")+($B$9:$BM$9=\"Thu\")+($B$9:$BM$9=\"Fri\"))*($B74:$BM74<>\"\"),$B74:$BM74,\"\")),\"\")","v":3.2058973436118987},1.22,2.0944811105373167,"O",null,23.333333333333332,5,{"$f":"IFERROR(_xlfn.STDEV.S(IF((($B$9:$BM$9=\"Tue\")+($B$9:$BM$9=\"Wed\")+($B$9:$BM$9=\"Thu\"))*($B74:$BM74<>\"\"),$B74:$BM74,\"\")),\"\")","v":3.8340579025361685},1.1666666666666667,3.360638173448721,"O",null,10.25,4,{"$f":"IFERROR(_xlfn.STDEV.S(IF(($B$9:$BM$9=\"Sat\")+($B$9:$BM$9=\"Sun\"),$B74:$BM74,\"\")),\"\")","v":2.2173557826083452},0.51250000000000007,2.1729687374119906,"O"]
["05:00:00",79,{"$f":"IF(C$8=\"\",\"\",SUMIFS(INDIRECT(\"'\"&TEXT(C$8,\"DD_MMM_YYYY\")&\"'!M$6:M$101\"),INDIRECT(\"'\"&TEXT(C$8,\"DD_MMM_YYYY\")&\"'!a$6:a$101\"),\">=\"&$A75,INDIRECT(\"'\"&TEXT(C$8,\"DD_MMM_YYYY\")&\"'!a$6:a$101\"),\"<\"&$A76))","v":56},{"$f":"IF(D$8=\"\",\"\",SUMIFS(INDIRECT(\"'\"&TEXT(D$8,\"DD_MMM_YYYY\")&\"'!M$6:M$101\"),INDIRECT(\"'\"&TEXT(D$8,\"DD_MMM_YYYY\")&\"'!a$6:a$101\"),\">=\"&$A75,INDIRECT(\"'\"&TEXT(D$8,\"DD_MMM_YYYY\")&\"'!a$6:a$101\"),\"<\"&$A76))","v":28},{"$f":"IF(E$8=\"\",\"\",SUMIFS(INDIRECT(\"'\"&TEXT(E$8,\"DD_MMM_YYYY\")&\"'!M$6:M$101\"),INDIRECT(\"'\"&TEXT(E$8,\"DD_MMM_YYYY\")&\"'!a$6:a$101\"),\">=\"&$A75,INDIRECT(\"'\"&TEXT(E$8,\"DD_MMM_YYYY\")&\"'!a$6:a$101\"),\"<\"&$A76))","v":18},76,73,77,76,77,21,7,80,73,"","","","","","","","","","","","","","","","","","","","","","","","","","","","","","","","","","","","","","","","","","","","","","","","","","","",null,null,78,73,77,77.5,66.5,24.5,12.5,null,76.375,7,{"$f":"IFERROR(_xlfn.STDEV.S(IF((($B$9:$BM$9=\"Mon\")+($B$9:$BM$9=\"Tue\")+($B$9:$BM$9=\"Wed\")+($B$9:$BM$9=\"Thu\"))*($B75:$BM75<>\"\"),$B75:$BM75,\"\")),\"\")","v":2.6903708365381971},3.8187500000000001,1.9930179841997369,"P",null,74.400000000000006,9,{"$f":"IFERROR(_xlfn.STDEV.S(IF((($B$9:$BM$9=\"Mon\")+($B$9:$BM$9=\"Tue\")+($B$9:$BM$9=\"Wed\")+($B$9:$BM$9=\"Thu\")+($B$9:$BM$9=\"Fri\"))*($B75:$BM75<>\"\"),$B75:$BM75,\"\")),\"\")","v":7.1840873540841024},3.7200000000000006,4.6935174919314964,"O",null,75.833333333333329,5,{"$f":"IFERROR(_xlfn.STDEV.S(IF((($B$9:$BM$9=\"Tue\")+($B$9:$BM$9=\"Wed\")+($B$9:$BM$9=\"Thu\"))*($B75:$BM75<>\"\"),$B75:$BM75,\"\")),\"\")","v":2.6076809620810595},3.7916666666666665,2.285691141896474,"P",null,18.5,4,{"$f":"IFERROR(_xlfn.STDEV.S(IF(($B$9:$BM$9=\"Sat\")+($B$9:$BM$9=\"Sun\"),$B75:$BM75,\"\")),\"\")","v":8.736894948054104},0.92500000000000004,8.5619997174479927,"O"]
["06:00:00",142,146,26,14,156,161,134,135,138,34,19,134,151,"","","","","","","","","","","","","","","","","","","","","","","","","","","","","","","","","","","","","","","","","","","","","","","","","","","",null,null,145,156,134,138.5,142,30,16.5,null,143.375,7,{"$f":"IFERROR(_xlfn.STDEV.S(IF((($B$9:$BM$9=\"Mon\")+($B$9:$BM$9=\"Tue\")+($B$9:$BM$9=\"Wed\")+($B$9:$BM$9=\"Thu\"))*($B76:$BM76<>\"\"),$B76:$BM76,\"\")),\"\")","v":11.279986491042232},7.1687500000000002,8.3561773837485891,"O",null,143.1,9,{"$f":"IFERROR(_xlfn.STDEV.S(IF((($B$9:$BM$9=\"Mon\")+($B$9:$BM$9=\"Tue\")+($B$9:$BM$9=\"Wed\")+($B$9:$BM$9=\"Thu\")+($B$9:$BM$9=\"Fri\"))*($B76:$BM76<>\"\"),$B76:$BM76,\"\")),\"\")","v":10.042963263455219},7.1550000000000002,6.5612820981436899,"P",null,142.83333333333334,5,{"$f":"IFERROR(_xlfn.STDEV.S(IF((($B$9:$BM$9=\"Tue\")+($B$9:$BM$9=\"Wed\")+($B$9:$BM$9=\"Thu\"))*($B76:$BM76<>\"\"),$B76:$BM76,\"\")),\"\")","v":11.414902540100814},7.1416666666666675,10.005419374883235,"O",null,23.25,4,{"$f":"IFERROR(_xlfn.STDEV.S(IF(($B$9:$BM$9=\"Sat\")+($B$9:$BM$9=\"Sun\"),$B76:$BM76,\"\")),\"\")","v":8.6938675704966499},1.1625000000000001,8.5198336622670841,"O"]
["07:00:00",221,225,76,49,217,217,187,218,180,61,33,168,248,"","","","","","","","","","","","","","","","","","","","","","","","","","","","","","","","","","","","","","","","","","","","","","","","","","","",null,null,192.5,232.5,187,219.5,202.5,68.5,41,null,207.875,7,{"$f":"IFERROR(_xlfn.STDEV.S(IF((($B$9:$BM$9=\"Mon\")+($B$9:$BM$9=\"Tue\")+($B$9:$BM$9=\"Wed\")+($B$9:$BM$9=\"Thu\"))*($B77:$BM77<>\"\"),$B77:$BM77,\"\")),\"\")","v":25.867795753462644},10.393750000000001,19.162779141106956,"O",null,206.8,9,{"$f":"IFERROR(_xlfn.STDEV.S(IF((($B$9:$BM$9=\"Mon\")+($B$9:$BM$9=\"Tue\")+($B$9:$BM$9=\"Wed\")+($B$9:$BM$9=\"Thu\")+($B$9:$BM$9=\"Fri\"))*($B77:$BM77<>\"\"),$B77:$BM77,\"\")),\"\")","v":25.337718918639855},10.340000000000002,16.553672176977756,"O",null,213,5,{"$f":"IFERROR(_xlfn.STDEV.S(IF((($B$9:$BM$9=\"Tue\")+($B$9:$BM$9=\"Wed\")+($B$9:$BM$9=\"Thu\"))*($B77:$BM77<>\"\"),$B77:$BM77,\"\")),\"\")","v":21.626372788796552},10.65,18.9560032202922,"O",null,54.75,4,{"$f":"IFERROR(_xlfn.STDEV.S(IF(($B$9:$BM$9=\"Sat\")+($B$9:$BM$9=\"Sun\"),$B77:$BM77,\"\")),\"\")","v":18.227726133558185},2.7375000000000003,17.862843370916782,"O"]
["08:00:00",191,184,117,78,192,188,174,217,187,136,68,194,188,"","","","","","","","","","","","","","","","","","","","","","","","","","","","","","","","","","","","","","","","","","","","","","","","","","","",null,null,193,188,174,204,185.5,126.5,73,null,189.75,7,{"$f":"IFERROR(_xlfn.STDEV.S(IF((($B$9:$BM$9=\"Mon\")+($B$9:$BM$9=\"Tue\")+($B$9:$BM$9=\"Wed\")+($B$9:$BM$9=\"Thu\"))*($B78:$BM78<>\"\"),$B78:$BM78,\"\")),\"\")","v":12.819256348686274},9.4875000000000007,9.4964634986429175,"O",null,188.9,9,{"$f":"IFERROR(_xlfn.STDEV.S(IF((($B$9:$BM$9=\"Mon\")+($B$9:$BM$9=\"Tue\")+($B$9:$BM$9=\"Wed\")+($B$9:$BM$9=\"Thu\")+($B$9:$BM$9=\"Fri\"))*($B78:$BM78<>\"\"),$B78:$BM78,\"\")),\"\")","v":11.490334102095455},9.4450000000000003,7.5068803368131558,"P",null,188.66666666666666,5,{"$f":"IFERROR(_xlfn.STDEV.S(IF((($B$9:$BM$9=\"Tue\")+($B$9:$BM$9=\"Wed\")+($B$9:$BM$9=\"Thu\"))*($B78:$BM78<>\"\"),$B78:$BM78,\"\")),\"\")","v":15.662056059151364},9.4333333333333336,13.728145167620193,"O",null,99.75,4,{"$f":"IFERROR(_xlfn.STDEV.S(IF(($B$9:$BM$9=\"Sat\")+($B$9:$BM$9=\"Sun\"),$B78:$BM78,\"\")),\"\")","v":32.107891034240581},4.9875000000000007,31.465155023324016,"O"]
["09:00:00",146,171,171,101,149,173,156,155,176,141,96,178,178,"","","","","","","","","","","","","","","","","","","","","","","","","","","","","","","","","","","","","","","","","","","","","","","","","","","",null,null,163.5,175.5,156,150.5,173.5,156,98.5,null,161.375,7,{"$f":"IFERROR(_xlfn.STDEV.S(IF((($B$9:$BM$9=\"Mon\")+($B$9:$BM$9=\"Tue\")+($B$9:$BM$9=\"Wed\")+($B$9:$BM$9=\"Thu\"))*($B79:$BM79<>\"\"),$B79:$BM79,\"\")),\"\")","v":13.801311186847084},8.0687499999999996,10.223966535526609,"O",null,163.80000000000001,9,{"$f":"IFERROR(_xlfn.STDEV.S(IF((($B$9:$BM$9=\"Mon\")+($B$9:$BM$9=\"Tue\")+($B$9:$BM$9=\"Wed\")+($B$9:$BM$9=\"Thu\")+($B$9:$BM$9=\"Fri\"))*($B79:$BM79<>\"\"),$B79:$BM79,\"\")),\"\")","v":13.019216566291536},8.1900000000000013,8.5057318589528776,"O",null,160.66666666666666,5,{"$f":"IFERROR(_xlfn.STDEV.S(IF((($B$9:$BM$9=\"Tue\")+($B$9:$BM$9=\"Wed\")+($B$9:$BM$9=\"Thu\"))*($B79:$BM79<>\"\"),$B79:$BM79,\"\")),\"\")","v":13.390294993016397},8.0333333333333332,11.736895386348609,"O",null,127.25,4,{"$f":"IFERROR(_xlfn.STDEV.S(IF(($B$9:$BM$9=\"Sat\")+($B$9:$BM$9=\"Sun\"),$B79:$BM79,\"\")),\"\")","v":35.443617196894564},6.3625000000000007,34.734106593868916,"O"]
["10:00:00",160,175,184,170,147,139,153,168,182,178,168,156,143,"","","","","","","","","","","","","","","","","","","","","","","","","","","","","","","","","","","","","","","","","","","","","","","","","","","",null,null,{"$f":"IF(COUNTIFS($B$9:$BM$9,BP$8,$B80:$BM80,\">=0\")=0,\"\",SUMIFS($B80:$BM80,$B$9:$BM$9,BP$8)/COUNTIFS($B$9:$BM$9,BP$8,$B80:$BM80,\">=0\"))","v":151.5},141,153,164,178.5,181,169,null,152.375,7,{"$f":"IFERROR(_xlfn.STDEV.S(IF((($B$9:$BM$9=\"Mon\")+($B$9:$BM$9=\"Tue\")+($B$9:$BM$9=\"Wed\")+($B$9:$BM$9=\"Thu\"))*($B80:$BM80<>\"\"),$B80:$BM80,\"\")),\"\")","v":10.094788848943889},7.6187500000000004,7.4781868170010872,"P",null,157.6,9,{"$f":"IFERROR(_xlfn.STDEV.S(IF((($B$9:$BM$9=\"Mon\")+($B$9:$BM$9=\"Tue\")+($B$9:$BM$9=\"Wed\")+($B$9:$BM$9=\"Thu\")+($B$9:$BM$9=\"Fri\"))*($B80:$BM80<>\"\"),$B80:$BM80,\"\")),\"\")","v":14.598325626972127},7.88,9.537397487817822,"O",null,152.66666666666666,5,{"$f":"IFERROR(_xlfn.STDEV.S(IF((($B$9:$BM$9=\"Tue\")+($B$9:$BM$9=\"Wed\")+($B$9:$BM$9=\"Thu\"))*($B80:$BM80<>\"\"),$B80:$BM80,\"\")),\"\")","v":11.928956366757319},7.6333333333333329,10.45599914101731,"O",null,175,4,{"$f":"IFERROR(_xlfn.STDEV.S(IF(($B$9:$BM$9=\"Sat\")+($B$9:$BM$9=\"Sun\"),$B80:$BM80,\"\")),\"\")","v":7.3936910042729442},8.75,7.2456840405963749,"P"]
["11:00:00",165,162,188,183,170,178,158,173,169,191,176,186,159,"","","","","","","","","","","","","","","","","","","","","","","","","","","","","","","","","","","","","","","","","","","","","","","","","","","",null,null,178,168.5,158,169,165.5,189.5,179.5,null,168.375,7,{"$f":"IFERROR(_xlfn.STDEV.S(IF((($B$9:$BM$9=\"Mon\")+($B$9:$BM$9=\"Tue\")+($B$9:$BM$9=\"Wed\")+($B$9:$BM$9=\"Thu\"))*($B81:$BM81<>\"\"),$B81:$BM81,\"\")),\"\")","v":10.155927192672127},8.4187500000000011,7.5234779036125348,"P",null,167.8,9,{"$f":"IFERROR(_xlfn.STDEV.S(IF((($B$9:$BM$9=\"Mon\")+($B$9:$BM$9=\"Tue\")+($B$9:$BM$9=\"Wed\")+($B$9:$BM$9=\"Thu\")+($B$9:$BM$9=\"Fri\"))*($B81:$BM81<>\"\"),$B81:$BM81,\"\")),\"\")","v":9.171210994798404},8.39,5.9917477481408756,"P",null,165.16666666666666,5,{"$f":"IFERROR(_xlfn.STDEV.S(IF((($B$9:$BM$9=\"Tue\")+($B$9:$BM$9=\"Wed\")+($B$9:$BM$9=\"Thu\"))*($B81:$BM81<>\"\"),$B81:$BM81,\"\")),\"\")","v":8.7349871207689826},8.2583333333333329,7.6564131030001459,"P",null,184.5,4,{"$f":"IFERROR(_xlfn.STDEV.S(IF(($B$9:$BM$9=\"Sat\")+($B$9:$BM$9=\"Sun\"),$B81:$BM81,\"\")),\"\")","v":6.5574385243020004},9.2249999999999996,6.4261716692336988,"P"]
["12:00:00",174,186,186,185,177,163,181,165,175,207,197,173,180,"","","","","","","","","","","","","","","","","","","","","","","","","","","","","","","","","","","","","","","","","","","","","","","","","","","",null,null,175,171.5,181,169.5,180.5,196.5,191,null,174.25,7,{"$f":"IFERROR(_xlfn.STDEV.S(IF((($B$9:$BM$9=\"Mon\")+($B$9:$BM$9=\"Tue\")+($B$9:$BM$9=\"Wed\")+($B$9:$BM$9=\"Thu\"))*($B82:$BM82<>\"\"),$B82:$BM82,\"\")),\"\")","v":6.9931939701942989},8.7125000000000004,5.1805353969449026,"P",null,175.5,9,{"$f":"IFERROR(_xlfn.STDEV.S(IF((($B$9:$BM$9=\"Mon\")+($B$9:$BM$9=\"Tue\")+($B$9:$BM$9=\"Wed\")+($B$9:$BM$9=\"Thu\")+($B$9:$BM$9=\"Fri\"))*($B82:$BM82<>\"\"),$B82:$BM82,\"\")),\"\")","v":7.3729987868648887},8.7750000000000004,4.8169373601042293,"P",null,174,5,{"$f":"IFERROR(_xlfn.STDEV.S(IF((($B$9:$BM$9=\"Tue\")+($B$9:$BM$9=\"Wed\")+($B$9:$BM$9=\"Thu\"))*($B82:$BM82<>\"\"),$B82:$BM82,\"\")),\"\")","v":8.3246621553069637},8.7000000000000011,7.2967540218113784,"P",null,193.75,4,{"$f":"IFERROR(_xlfn.STDEV.S(IF(($B$9:$BM$9=\"Sat\")+($B$9:$BM$9=\"Sun\"),$B82:$BM82,\"\")),\"\")","v":10.372238588334406},9.6875,10.164607036096003,"O"]
["13:00:00",178,161,194,178,172,171,153,171,146,200,171,138,94,"","","","","","","","","","","","","","","","","","","","","","","","","","","","","","","","","","","","","","","","","","","","","","","","","","","",null,null,155,132.5,153,174.5,153.5,197,174.5,null,153.75,7,{"$f":"IFERROR(_xlfn.STDEV.S(IF((($B$9:$BM$9=\"Mon\")+($B$9:$BM$9=\"Tue\")+($B$9:$BM$9=\"Wed\")+($B$9:$BM$9=\"Thu\"))*($B83:$BM83<>\"\"),$B83:$BM83,\"\")),\"\")","v":29.818498572913679},7.6875,22.089446967883607,"O",null,153.69999999999999,9,{"$f":"IFERROR(_xlfn.STDEV.S(IF((($B$9:$BM$9=\"Mon\")+($B$9:$BM$9=\"Tue\")+($B$9:$BM$9=\"Wed\")+($B$9:$BM$9=\"Thu\")+($B$9:$BM$9=\"Fri\"))*($B83:$BM83<>\"\"),$B83:$BM83,\"\")),\"\")","v":26.094912232932405},7.6849999999999996,17.048362718760394,"O",null,153.33333333333334,5,{"$f":"IFERROR(_xlfn.STDEV.S(IF((($B$9:$BM$9=\"Tue\")+($B$9:$BM$9=\"Wed\")+($B$9:$BM$9=\"Thu\"))*($B83:$BM83<>\"\"),$B83:$BM83,\"\")),\"\")","v":34.471727545917965},7.6666666666666679,30.215246206611738,"O",null,185.75,4,{"$f":"IFERROR(_xlfn.STDEV.S(IF(($B$9:$BM$9=\"Sat\")+($B$9:$BM$9=\"Sun\"),$B83:$BM83,\"\")),\"\")","v":13.524668819112232},9.2874999999999996,13.253931894145916,"O"]
["14:00:00",194,208,188,193,172,179,169,180,228,200,171,183,0,"","","","","","","","","","","","","","","","","","","","","","","","","","","","","","","","","","","","","","","","","","","","","","","","","","","",null,null,177.5,89.5,169,187,218,194,182,null,155.75,6,{"$f":"IFERROR(_xlfn.STDEV.S(IF((($B$9:$BM$9=\"Mon\")+($B$9:$BM$9=\"Tue\")+($B$9:$BM$9=\"Wed\")+($B$9:$BM$9=\"Thu\"))*($B84:$BM84<>\"\"),$B84:$BM84,\"\")),\"\")","v":68.32136945209399},7.7875000000000005,54.66747672452383,"O",null,168.2,8,{"$f":"IFERROR(_xlfn.STDEV.S(IF((($B$9:$BM$9=\"Mon\")+($B$9:$BM$9=\"Tue\")+($B$9:$BM$9=\"Wed\")+($B$9:$BM$9=\"Thu\")+($B$9:$BM$9=\"Fri\"))*($B84:$BM84<>\"\"),$B84:$BM84,\"\")),\"\")","v":65.771278770532575},8.41,45.576333390224924,"O",null,148.5,4,{"$f":"IFERROR(_xlfn.STDEV.S(IF((($B$9:$BM$9=\"Tue\")+($B$9:$BM$9=\"Wed\")+($B$9:$BM$9=\"Thu\"))*($B84:$BM84<>\"\"),$B84:$BM84,\"\")),\"\")","v":81.211452394351369},7.4250000000000007,79.585760912558897,"O",null,188,4,{"$f":"IFERROR(_xlfn.STDEV.S(IF(($B$9:$BM$9=\"Sat\")+($B$9:$BM$9=\"Sun\"),$B84:$BM84,\"\")),\"\")","v":12.355835328567093},9.4,12.10849612144956,"O"]
["15:00:00",186,211,181,186,204,182,183,190,195,205,166,183,0,"","","","","","","","","","","","","","","","","","","","","","","","","","","","","","","","","","","","","","","","","","","","","","","","","","","",null,null,193.5,91,183,188,203,193,176,null,163.875,6,{"$f":"IFERROR(_xlfn.STDEV.S(IF((($B$9:$BM$9=\"Mon\")+($B$9:$BM$9=\"Tue\")+($B$9:$BM$9=\"Wed\")+($B$9:$BM$9=\"Thu\"))*($B85:$BM85<>\"\"),$B85:$BM85,\"\")),\"\")","v":71.466608919663926},8.1937499999999996,57.184146205322172,"O",null,171.7,8,{"$f":"IFERROR(_xlfn.STDEV.S(IF((($B$9:$BM$9=\"Mon\")+($B$9:$BM$9=\"Tue\")+($B$9:$BM$9=\"Wed\")+($B$9:$BM$9=\"Thu\")+($B$9:$BM$9=\"Fri\"))*($B85:$BM85<>\"\"),$B85:$BM85,\"\")),\"\")","v":64.709178466256063},8.5849999999999991,44.840348953455035,"O",null,154,4,{"$f":"IFERROR(_xlfn.STDEV.S(IF((($B$9:$BM$9=\"Tue\")+($B$9:$BM$9=\"Wed\")+($B$9:$BM$9=\"Thu\"))*($B85:$BM85<>\"\"),$B85:$BM85,\"\")),\"\")","v":82.904764639916806},7.7,81.245176420503341,"O",null,184.5,4,{"$f":"IFERROR(_xlfn.STDEV.S(IF(($B$9:$BM$9=\"Sat\")+($B$9:$BM$9=\"Sun\"),$B85:$BM85,\"\")),\"\")","v":16.093476939431081},9.2249999999999996,15.771317593655404,"O"]
["16:00:00",228,213,197,180,199,222,246,249,220,190,162,209,0,"","","","","","","","","","","","","","","","","","","","","","","","","","","","","","","","","","","","","","","","","","","","","","","","","","","",null,null,204,111,246,238.5,216.5,193.5,171,null,199.875,6,{"$f":"IFERROR(_xlfn.STDEV.S(IF((($B$9:$BM$9=\"Mon\")+($B$9:$BM$9=\"Tue\")+($B$9:$BM$9=\"Wed\")+($B$9:$BM$9=\"Thu\"))*($B86:$BM86<>\"\"),$B86:$BM86,\"\")),\"\")","v":87.131537125800577},9.9937500000000004,69.718468994340341,"O",null,203.2,8,{"$f":"IFERROR(_xlfn.STDEV.S(IF((($B$9:$BM$9=\"Mon\")+($B$9:$BM$9=\"Tue\")+($B$9:$BM$9=\"Wed\")+($B$9:$BM$9=\"Thu\")+($B$9:$BM$9=\"Fri\"))*($B86:$BM86<>\"\"),$B86:$BM86,\"\")),\"\")","v":76.169401847315186},10.16,52.781732659310748,"O",null,198.5,4,{"$f":"IFERROR(_xlfn.STDEV.S(IF((($B$9:$BM$9=\"Tue\")+($B$9:$BM$9=\"Wed\")+($B$9:$BM$9=\"Thu\"))*($B86:$BM86<>\"\"),$B86:$BM86,\"\")),\"\")","v":106.2779375035101},9.9250000000000007,104.15046492903923,"O",null,182.25,4,{"$f":"IFERROR(_xlfn.STDEV.S(IF(($B$9:$BM$9=\"Sat\")+($B$9:$BM$9=\"Sun\"),$B86:$BM86,\"\")),\"\")","v":15.195942440884233},9.1125000000000007,14.891749947638385,"O"]
["17:00:00",207,210,198,123,192,193,217,195,204,183,121,197,0,"","","","","","","","","","","","","","","","","","","","","","","","","","","","","","","","","","","","","","","","","","","","","","","","","","","",null,null,194.5,96.5,217,201,207,190.5,122,null,177.25,6,{"$f":"IFERROR(_xlfn.STDEV.S(IF((($B$9:$BM$9=\"Mon\")+($B$9:$BM$9=\"Tue\")+($B$9:$BM$9=\"Wed\")+($B$9:$BM$9=\"Thu\"))*($B87:$BM87<>\"\"),$B87:$BM87,\"\")),\"\")","v":76.188050556626322},8.8625000000000007,60.962016919342652,"O",null,183.2,8,{"$f":"IFERROR(_xlfn.STDEV.S(IF((($B$9:$BM$9=\"Mon\")+($B$9:$BM$9=\"Tue\")+($B$9:$BM$9=\"Wed\")+($B$9:$BM$9=\"Thu\")+($B$9:$BM$9=\"Fri\"))*($B87:$BM87<>\"\"),$B87:$BM87,\"\")),\"\")","v":67.821661567509395},9.16,46.997150070080401,"O",null,171.5,4,{"$f":"IFERROR(_xlfn.STDEV.S(IF((($B$9:$BM$9=\"Tue\")+($B$9:$BM$9=\"Wed\")+($B$9:$BM$9=\"Thu\"))*($B87:$BM87<>\"\"),$B87:$BM87,\"\")),\"\")","v":91.300602407651198},8.5750000000000011,89.472946242903632,"O",null,156.25,4,{"$f":"IFERROR(_xlfn.STDEV.S(IF(($B$9:$BM$9=\"Sat\")+($B$9:$BM$9=\"Sun\"),$B87:$BM87,\"\")),\"\")","v":40.02811511925087},7.8125,39.226832001377453,"O"]
["18:00:00",159,156,130,93,155,157,184,153,162,139,112,182,0,"","","","","","","","","","","","","","","","","","","","","","","","","","","","","","","","","","","","","","","","","","","","","","","","","","","",null,null,168.5,78.5,184,156,159,134.5,102.5,null,146.75,6,{"$f":"IFERROR(_xlfn.STDEV.S(IF((($B$9:$BM$9=\"Mon\")+($B$9:$BM$9=\"Tue\")+($B$9:$BM$9=\"Wed\")+($B$9:$BM$9=\"Thu\"))*($B88:$BM88<>\"\"),$B88:$BM88,\"\")),\"\")","v":63.678507998793293},7.3375000000000004,50.952482097381946,"O",null,149.19999999999999,8,{"$f":"IFERROR(_xlfn.STDEV.S(IF((($B$9:$BM$9=\"Mon\")+($B$9:$BM$9=\"Tue\")+($B$9:$BM$9=\"Wed\")+($B$9:$BM$9=\"Thu\")+($B$9:$BM$9=\"Fri\"))*($B88:$BM88<>\"\"),$B88:$BM88,\"\")),\"\")","v":55.709065689526689},7.46,38.60370359503122,"O",null,139.5,4,{"$f":"IFERROR(_xlfn.STDEV.S(IF((($B$9:$BM$9=\"Tue\")+($B$9:$BM$9=\"Wed\")+($B$9:$BM$9=\"Thu\"))*($B88:$BM88<>\"\"),$B88:$BM88,\"\")),\"\")","v":74.015538909069619},6.9750000000000005,72.53389527904973,"O",null,118.5,4,{"$f":"IFERROR(_xlfn.STDEV.S(IF(($B$9:$BM$9=\"Sat\")+($B$9:$BM$9=\"Sun\"),$B88:$BM88,\"\")),\"\")","v":20.371548787463361},5.9250000000000007,19.963750966364394,"O"]
["19:00:00",111,113,114,85,110,113,115,116,131,101,88,109,0,"","","","","","","","","","","","","","","","","","","","","","","","","","","","","","","","","","","","","","","","","","","","","","","","","","","",null,null,109.5,56.5,115,113.5,122,107.5,86.5,null,98.625,6,{"$f":"IFERROR(_xlfn.STDEV.S(IF((($B$9:$BM$9=\"Mon\")+($B$9:$BM$9=\"Tue\")+($B$9:$BM$9=\"Wed\")+($B$9:$BM$9=\"Thu\"))*($B89:$BM89<>\"\"),$B89:$BM89,\"\")),\"\")","v":42.535139534719939},4.9312500000000004,34.034574674606546,"O",null,103.3,8,{"$f":"IFERROR(_xlfn.STDEV.S(IF((($B$9:$BM$9=\"Mon\")+($B$9:$BM$9=\"Tue\")+($B$9:$BM$9=\"Wed\")+($B$9:$BM$9=\"Thu\")+($B$9:$BM$9=\"Fri\"))*($B89:$BM89<>\"\"),$B89:$BM89,\"\")),\"\")","v":38.803994639727492},5.165,26.889302285621355,"O",null,95,4,{"$f":"IFERROR(_xlfn.STDEV.S(IF((($B$9:$BM$9=\"Tue\")+($B$9:$BM$9=\"Wed\")+($B$9:$BM$9=\"Thu\"))*($B89:$BM89<>\"\"),$B89:$BM89,\"\")),\"\")","v":50.906777544841709},4.75,49.887725278441039,"O",null,97,4,{"$f":"IFERROR(_xlfn.STDEV.S(IF(($B$9:$BM$9=\"Sat\")+($B$9:$BM$9=\"Sun\"),$B89:$BM89,\"\")),\"\")","v":13.291601358251256},4.8500000000000005,13.02552997951806,"O"]
["20:00:00",64,84,64,52,72,66,90,73,72,63,55,71,0,"","","","","","","","","","","","","","","","","","","","","","","","","","","","","","","","","","","","","","","","","","","","","","","","","","","",null,null,71.5,33,90,68.5,78,63.5,53.5,null,65.75,6,{"$f":"IFERROR(_xlfn.STDEV.S(IF((($B$9:$BM$9=\"Mon\")+($B$9:$BM$9=\"Tue\")+($B$9:$BM$9=\"Wed\")+($B$9:$BM$9=\"Thu\"))*($B90:$BM90<>\"\"),$B90:$BM90,\"\")),\"\")","v":28.721155302403176},3.2875000000000001,22.981288308286935,"O",null,68.2,8,{"$f":"IFERROR(_xlfn.STDEV.S(IF((($B$9:$BM$9=\"Mon\")+($B$9:$BM$9=\"Tue\")+($B$9:$BM$9=\"Wed\")+($B$9:$BM$9=\"Thu\")+($B$9:$BM$9=\"Fri\"))*($B90:$BM90<>\"\"),$B90:$BM90,\"\")),\"\")","v":25.994123267470368},3.41,18.012677423502058,"O",null,63.833333333333336,4,{"$f":"IFERROR(_xlfn.STDEV.S(IF((($B$9:$BM$9=\"Tue\")+($B$9:$BM$9=\"Wed\")+($B$9:$BM$9=\"Thu\"))*($B90:$BM90<>\"\"),$B90:$BM90,\"\")),\"\")","v":34.319090897050295},3.1916666666666669,33.632091070187492,"O",null,58.5,4,{"$f":"IFERROR(_xlfn.STDEV.S(IF(($B$9:$BM$9=\"Sat\")+($B$9:$BM$9=\"Sun\"),$B90:$BM90,\"\")),\"\")","v":5.9160797830996161},2.9250000000000003,5.7976516522703898,"O"]
["21:00:00",42,61,50,32,35,47,74,55,55,47,36,32,0,"","","","","","","","","","","","","","","","","","","","","","","","","","","","","","","","","","","","","","","","","","","","","","","","","","","",null,null,33.5,23.5,74,48.5,58,48.5,34,null,44.875,6,{"$f":"IFERROR(_xlfn.STDEV.S(IF((($B$9:$BM$9=\"Mon\")+($B$9:$BM$9=\"Tue\")+($B$9:$BM$9=\"Wed\")+($B$9:$BM$9=\"Thu\"))*($B91:$BM91<>\"\"),$B91:$BM91,\"\")),\"\")","v":22.801420172979618},2.2437499999999999,18.244600724323554,"O",null,47.5,8,{"$f":"IFERROR(_xlfn.STDEV.S(IF((($B$9:$BM$9=\"Mon\")+($B$9:$BM$9=\"Tue\")+($B$9:$BM$9=\"Wed\")+($B$9:$BM$9=\"Thu\")+($B$9:$BM$9=\"Fri\"))*($B91:$BM91<>\"\"),$B91:$BM91,\"\")),\"\")","v":21.219749710535652},2.375,14.70426613778716,"O",null,48.666666666666664,4,{"$f":"IFERROR(_xlfn.STDEV.S(IF((($B$9:$BM$9=\"Tue\")+($B$9:$BM$9=\"Wed\")+($B$9:$BM$9=\"Thu\"))*($B91:$BM91<>\"\"),$B91:$BM91,\"\")),\"\")","v":27.245183060497137},2.4333333333333336,26.699788775387571,"O",null,41.25,4,{"$f":"IFERROR(_xlfn.STDEV.S(IF(($B$9:$BM$9=\"Sat\")+($B$9:$BM$9=\"Sun\"),$B91:$BM91,\"\")),\"\")","v":8.6168439698070429},2.0625,8.4443519206114726,"O"]
["22:00:00",51,46,48,23,22,43,40,56,53,41,15,24,0,"","","","","","","","","","","","","","","","","","","","","","","","","","","","","","","","","","","","","","","","","","","","","","","","","","","",null,null,23,21.5,40,53.5,49.5,44.5,19,null,34.5,6,{"$f":"IFERROR(_xlfn.STDEV.S(IF((($B$9:$BM$9=\"Mon\")+($B$9:$BM$9=\"Tue\")+($B$9:$BM$9=\"Wed\")+($B$9:$BM$9=\"Thu\"))*($B92:$BM92<>\"\"),$B92:$BM92,\"\")),\"\")","v":19.533853397919945},1.7250000000000001,15.630050810381116,"O",null,37.5,8,{"$f":"IFERROR(_xlfn.STDEV.S(IF((($B$9:$BM$9=\"Mon\")+($B$9:$BM$9=\"Tue\")+($B$9:$BM$9=\"Wed\")+($B$9:$BM$9=\"Thu\")+($B$9:$BM$9=\"Fri\"))*($B92:$BM92<>\"\"),$B92:$BM92,\"\")),\"\")","v":18.376464416324602},1.875,12.734006156305014,"O",null,38.333333333333336,4,{"$f":"IFERROR(_xlfn.STDEV.S(IF((($B$9:$BM$9=\"Tue\")+($B$9:$BM$9=\"Wed\")+($B$9:$BM$9=\"Thu\"))*($B92:$BM92<>\"\"),$B92:$BM92,\"\")),\"\")","v":22.169799277395363},1.916666666666667,21.726004064088507,"O",null,31.75,4,{"$f":"IFERROR(_xlfn.STDEV.S(IF(($B$9:$BM$9=\"Sat\")+($B$9:$BM$9=\"Sun\"),$B92:$BM92,\"\")),\"\")","v":15.348724159790395},1.5875000000000001,15.041473280914484,"O"]
["23:00:00",{"$f":"IF(B$8=\"\",\"\",SUMIFS(INDIRECT(\"'\"&TEXT(B$8,\"DD_MMM_YYYY\")&\"'!M$6:M$101\"),INDIRECT(\"'\"&TEXT(B$8,\"DD_MMM_YYYY\")&\"'!a$6:a$101\"),\">=\"&$A93))","v":24},{"$f":"IF(C$8=\"\",\"\",SUMIFS(INDIRECT(\"'\"&TEXT(C$8,\"DD_MMM_YYYY\")&\"'!M$6:M$101\"),INDIRECT(\"'\"&TEXT(C$8,\"DD_MMM_YYYY\")&\"'!a$6:a$101\"),\">=\"&$A93))","v":22},35,6,9,13,11,12,26,36,9,13,0,"","","","","","","","","","","","","","","","","","","","","","","","","","","","","","","","","","","","","","","","","","","","","","","","","","","",null,null,11,6.5,11,18,24,35.5,7.5,null,11.625,6,{"$f":"IFERROR(_xlfn.STDEV.S(IF((($B$9:$BM$9=\"Mon\")+($B$9:$BM$9=\"Tue\")+($B$9:$BM$9=\"Wed\")+($B$9:$BM$9=\"Thu\"))*($B93:$BM93<>\"\"),$B93:$BM93,\"\")),\"\")","v":7.0643302516772177},0.58125000000000004,5.6525375984845327,"O",null,14.1,8,{"$f":"IFERROR(_xlfn.STDEV.S(IF((($B$9:$BM$9=\"Mon\")+($B$9:$BM$9=\"Tue\")+($B$9:$BM$9=\"Wed\")+($B$9:$BM$9=\"Thu\")+($B$9:$BM$9=\"Fri\"))*($B93:$BM93<>\"\"),$B93:$BM93,\"\")),\"\")","v":8.232726023485645},0.70500000000000007,5.704883240385934,"O",null,11.833333333333334,4,{"$f":"IFERROR(_xlfn.STDEV.S(IF((($B$9:$BM$9=\"Tue\")+($B$9:$BM$9=\"Wed\")+($B$9:$BM$9=\"Thu\"))*($B93:$BM93<>\"\"),$B93:$BM93,\"\")),\"\")","v":8.5146931829632013},0.59166666666666667,8.3442459890082947,"O",null,21.5,4,{"$f":"IFERROR(_xlfn.STDEV.S(IF(($B$9:$BM$9=\"Sat\")+($B$9:$BM$9=\"Sun\"),$B93:$BM93,\"\")),\"\")","v":16.217274740226856},1.075,15.892637209117895,"O"]
["TOTAL",{"$f":"SUM(B70:B93)","v":2772},{"$f":"SUM(C70:C93)","v":2840},2418,2024,2669,2721,2747,2804,2827,2412,1934,2650,1456,0,0,0,0,0,0,0,0,0,0,0,0,0,0,0,0,0,0,0,0,0,0,0,0,0,0,0,0,0,0,0,0,0,0,0,0,0,0,0,0,0,0,0,0,0,0,0,0,0,0,0]
[]
[]
["HGV",null,null,null,null,null,null,null,null,null,null,null,null,null,null,null,null,null,null,null,null,null,null,null,null,null,null,null,null,null,null,null,null,null,null,null,null,null,null,null,null,null,null,null,null,null,null,null,null,null,null,null,null,null,null,null,null,null,null,null,null,null,null,null,null,null,null,"STATISTICS"]
[null,{"$f":"'Site Plan'!$Q$3","v":"2016-04-07"},{"$f":"IF($B$8+COLUMN(B98)-1<='Site Plan'!$Q$4,$B$8+COLUMN(B98)-1,\"\")","v":"2016-04-08"},{"$f":"IF($B$8+COLUMN(C98)-1<='Site Plan'!$Q$4,$B$8+COLUMN(C98)-1,\"\")","v":"2016-04-09"},{"$f":"IF($B$8+COLUMN(D98)-1<='Site Plan'!$Q$4,$B$8+COLUMN(D98)-1,\"\")","v":"2016-04-10"},{"$f":"IF($B$8+COLUMN(E98)-1<='Site Plan'!$Q$4,$B$8+COLUMN(E98)-1,\"\")","v":"2016-04-11"},{"$f":"IF($B$8+COLUMN(F98)-1<='Site Plan'!$Q$4,$B$8+COLUMN(F98)-1,\"\")","v":"2016-04-12"},{"$f":"IF($B$8+COLUMN(G98)-1<='Site Plan'!$Q$4,$B$8+COLUMN(G98)-1,\"\")","v":"2016-04-13"},{"$f":"IF($B$8+COLUMN(H98)-1<='Site Plan'!$Q$4,$B$8+COLUMN(H98)-1,\"\")","v":"2016-04-14"},{"$f":"IF($B$8+COLUMN(I98)-1<='Site Plan'!$Q$4,$B$8+COLUMN(I98)-1,\"\")","v":"2016-04-15"},{"$f":"IF($B$8+COLUMN(J98)-1<='Site Plan'!$Q$4,$B$8+COLUMN(J98)-1,\"\")","v":"2016-04-16"},{"$f":"IF($B$8+COLUMN(K98)-1<='Site Plan'!$Q$4,$B$8+COLUMN(K98)-1,\"\")","v":"2016-04-17"},{"$f":"IF($B$8+COLUMN(L98)-1<='Site Plan'!$Q$4,$B$8+COLUMN(L98)-1,\"\")","v":"2016-04-18"},{"$f":"IF($B$8+COLUMN(M98)-1<='Site Plan'!$Q$4,$B$8+COLUMN(M98)-1,\"\")","v":"2016-04-19"},{"$f":"IF($B$8+COLUMN(N98)-1<='Site Plan'!$Q$4,$B$8+COLUMN(N98)-1,\"\")","v":""},{"$f":"IF($B$8+COLUMN(O98)-1<='Site Plan'!$Q$4,$B$8+COLUMN(O98)-1,\"\")","v":""},{"$f":"IF($B$8+COLUMN(P98)-1<='Site Plan'!$Q$4,$B$8+COLUMN(P98)-1,\"\")","v":""},{"$f":"IF($B$8+COLUMN(Q98)-1<='Site Plan'!$Q$4,$B$8+COLUMN(Q98)-1,\"\")","v":""},{"$f":"IF($B$8+COLUMN(R98)-1<='Site Plan'!$Q$4,$B$8+COLUMN(R98)-1,\"\")","v":""},{"$f":"IF($B$8+COLUMN(S98)-1<='Site Plan'!$Q$4,$B$8+COLUMN(S98)-1,\"\")","v":""},{"$f":"IF($B$8+COLUMN(T98)-1<='Site Plan'!$Q$4,$B$8+COLUMN(T98)-1,\"\")","v":""},{"$f":"IF($B$8+COLUMN(U98)-1<='Site Plan'!$Q$4,$B$8+COLUMN(U98)-1,\"\")","v":""},{"$f":"IF($B$8+COLUMN(V98)-1<='Site Plan'!$Q$4,$B$8+COLUMN(V98)-1,\"\")","v":""},{"$f":"IF($B$8+COLUMN(W98)-1<='Site Plan'!$Q$4,$B$8+COLUMN(W98)-1,\"\")","v":""},{"$f":"IF($B$8+COLUMN(X98)-1<='Site Plan'!$Q$4,$B$8+COLUMN(X98)-1,\"\")","v":""},{"$f":"IF($B$8+COLUMN(Y98)-1<='Site Plan'!$Q$4,$B$8+COLUMN(Y98)-1,\"\")","v":""},{"$f":"IF($B$8+COLUMN(Z98)-1<='Site Plan'!$Q$4,$B$8+COLUMN(Z98)-1,\"\")","v":""},{"$f":"IF($B$8+COLUMN(AA98)-1<='Site Plan'!$Q$4,$B$8+COLUMN(AA98)-1,\"\")","v":""},{"$f":"IF($B$8+COLUMN(AB98)-1<='Site Plan'!$Q$4,$B$8+COLUMN(AB98)-1,\"\")","v":""},{"$f":"IF($B$8+COLUMN(AC98)-1<='Site Plan'!$Q$4,$B$8+COLUMN(AC98)-1,\"\")","v":""},{"$f":"IF($B$8+COLUMN(AD98)-1<='Site Plan'!$Q$4,$B$8+COLUMN(AD98)-1,\"\")","v":""},{"$f":"IF($B$8+COLUMN(AE98)-1<='Site Plan'!$Q$4,$B$8+COLUMN(AE98)-1,\"\")","v":""},{"$f":"IF($B$8+COLUMN(AF98)-1<='Site Plan'!$Q$4,$B$8+COLUMN(AF98)-1,\"\")","v":""},{"$f":"IF($B$8+COLUMN(AG98)-1<='Site Plan'!$Q$4,$B$8+COLUMN(AG98)-1,\"\")","v":""},{"$f":"IF($B$8+COLUMN(AH98)-1<='Site Plan'!$Q$4,$B$8+COLUMN(AH98)-1,\"\")","v":""},{"$f":"IF($B$8+COLUMN(AI98)-1<='Site Plan'!$Q$4,$B$8+COLUMN(AI98)-1,\"\")","v":""},{"$f":"IF($B$8+COLUMN(AJ98)-1<='Site Plan'!$Q$4,$B$8+COLUMN(AJ98)-1,\"\")","v":""},{"$f":"IF($B$8+COLUMN(AK98)-1<='Site Plan'!$Q$4,$B$8+COLUMN(AK98)-1,\"\")","v":""},{"$f":"IF($B$8+COLUMN(AL98)-1<='Site Plan'!$Q$4,$B$8+COLUMN(AL98)-1,\"\")","v":""},{"$f":"IF($B$8+COLUMN(AM98)-1<='Site Plan'!$Q$4,$B$8+COLUMN(AM98)-1,\"\")","v":""},{"$f":"IF($B$8+COLUMN(AN98)-1<='Site Plan'!$Q$4,$B$8+COLUMN(AN98)-1,\"\")","v":""},{"$f":"IF($B$8+COLUMN(AO98)-1<='Site Plan'!$Q$4,$B$8+COLUMN(AO98)-1,\"\")","v":""},{"$f":"IF($B$8+COLUMN(AP98)-1<='Site Plan'!$Q$4,$B$8+COLUMN(AP98)-1,\"\")","v":""},{"$f":"IF($B$8+COLUMN(AQ98)-1<='Site Plan'!$Q$4,$B$8+COLUMN(AQ98)-1,\"\")","v":""},{"$f":"IF($B$8+COLUMN(AR98)-1<='Site Plan'!$Q$4,$B$8+COLUMN(AR98)-1,\"\")","v":""},{"$f":"IF($B$8+COLUMN(AS98)-1<='Site Plan'!$Q$4,$B$8+COLUMN(AS98)-1,\"\")","v":""},{"$f":"IF($B$8+COLUMN(AT98)-1<='Site Plan'!$Q$4,$B$8+COLUMN(AT98)-1,\"\")","v":""},{"$f":"IF($B$8+COLUMN(AU98)-1<='Site Plan'!$Q$4,$B$8+COLUMN(AU98)-1,\"\")","v":""},{"$f":"IF($B$8+COLUMN(AV98)-1<='Site Plan'!$Q$4,$B$8+COLUMN(AV98)-1,\"\")","v":""},{"$f":"IF($B$8+COLUMN(AW98)-1<='Site Plan'!$Q$4,$B$8+COLUMN(AW98)-1,\"\")","v":""},{"$f":"IF($B$8+COLUMN(AX98)-1<='Site Plan'!$Q$4,$B$8+COLUMN(AX98)-1,\"\")","v":""},{"$f":"IF($B$8+COLUMN(AY98)-1<='Site Plan'!$Q$4,$B$8+COLUMN(AY98)-1,\"\")","v":""},{"$f":"IF($B$8+COLUMN(AZ98)-1<='Site Plan'!$Q$4,$B$8+COLUMN(AZ98)-1,\"\")","v":""},{"$f":"IF($B$8+COLUMN(BA98)-1<='Site Plan'!$Q$4,$B$8+COLUMN(BA98)-1,\"\")","v":""},{"$f":"IF($B$8+COLUMN(BB98)-1<='Site Plan'!$Q$4,$B$8+COLUMN(BB98)-1,\"\")","v":""},{"$f":"IF($B$8+COLUMN(BC98)-1<='Site Plan'!$Q$4,$B$8+COLUMN(BC98)-1,\"\")","v":""},{"$f":"IF($B$8+COLUMN(BD98)-1<='Site Plan'!$Q$4,$B$8+COLUMN(BD98)-1,\"\")","v":""},{"$f":"IF($B$8+COLUMN(BE98)-1<='Site Plan'!$Q$4,$B$8+COLUMN(BE98)-1,\"\")","v":""},{"$f":"IF($B$8+COLUMN(BF98)-1<='Site Plan'!$Q$4,$B$8+COLUMN(BF98)-1,\"\")","v":""},{"$f":"IF($B$8+COLUMN(BG98)-1<='Site Plan'!$Q$4,$B$8+COLUMN(BG98)-1,\"\")","v":""},{"$f":"IF($B$8+COLUMN(BH98)-1<='Site Plan'!$Q$4,$B$8+COLUMN(BH98)-1,\"\")","v":""},{"$f":"IF($B$8+COLUMN(BI98)-1<='Site Plan'!$Q$4,$B$8+COLUMN(BI98)-1,\"\")","v":""},{"$f":"IF($B$8+COLUMN(BJ98)-1<='Site Plan'!$Q$4,$B$8+COLUMN(BJ98)-1,\"\")","v":""},{"$f":"IF($B$8+COLUMN(BK98)-1<='Site Plan'!$Q$4,$B$8+COLUMN(BK98)-1,\"\")","v":""},{"$f":"IF($B$8+COLUMN(BL98)-1<='Site Plan'!$Q$4,$B$8+COLUMN(BL98)-1,\"\")","v":""},null,null,"Mon","Tue","Wed","Thu","Fri","Sat","Sun",null,"Mon-Thu",null,null,null,null,null,null,"Mon-Fri",null,null,null,null,null,null,"Tue-Thu",null,null,null,null,null,null,"Sat-Sun"]
["TIME",{"$f":"IF(B98=\"\",\"\",CHOOSE(WEEKDAY(B98),\"Mon\",\"Tue\",\"Wed\",\"Thu\",\"Fri\",\"Sat\",\"Sun\"))","v":"Fri"},{"$f":"IF(C98=\"\",\"\",CHOOSE(WEEKDAY(C98),\"Mon\",\"Tue\",\"Wed\",\"Thu\",\"Fri\",\"Sat\",\"Sun\"))","v":"Sat"},"Sun","Mon",null,null,null,{"$f":"IF(I98=\"\",\"\",CHOOSE(WEEKDAY(I98),\"Mon\",\"Tue\",\"Wed\",\"Thu\",\"Fri\",\"Sat\",\"Sun\"))","v":"Fri"},"Sat","Sun","Mon","Tue","Wed","","","","","","","","","","","","","","","","","","","","","","","","","","","","","","","","","","","","","","","","","","","","","","","","","","","",null,null,"Mean","Mean","Mean","Mean","Mean","Mean","Mean",null,"Mean","Number of observations","Standard Deviation"," ± 5% interval of the mean","95% confidence interval","Meet WebTAG criteria?",null,"Mean","Number of observations","Standard Deviation"," ± 5% interval of the mean","95% confidence interval","Meet WebTAG criteria?",null,"Mean","Number of observations","Standard Deviation"," ± 5% interval of the mean","95% confidence interval","Meet WebTAG criteria?",null,"Mean","Number of observations","Standard Deviation"," ± 5% interval of the mean","95% confidence interval","Meet WebTAG criteria?"]
["00:00:00",{"$f":"IF(B$8=\"\",\"\",SUMIFS(INDIRECT(\"'\"&TEXT(B$8,\"DD_MMM_YYYY\")&\"'!T$6:T$101\"),INDIRECT(\"'\"&TEXT(B$8,\"DD_MMM_YYYY\")&\"'!a$6:a$101\"),\">=\"&$A100,INDIRECT(\"'\"&TEXT(B$8,\"DD_MMM_YYYY\")&\"'!a$6:a$101\"),\"<\"&$A101))","v":2},{"$f":"IF(C$8=\"\",\"\",SUMIFS(INDIRECT(\"'\"&TEXT(C$8,\"DD_MMM_YYYY\")&\"'!T$6:T$101\"),INDIRECT(\"'\"&TEXT(C$8,\"DD_MMM_YYYY\")&\"'!a$6:a$101\"),\">=\"&$A100,INDIRECT(\"'\"&TEXT(C$8,\"DD_MMM_YYYY\")&\"'!a$6:a$101\"),\"<\"&$A101))","v":0},1,0,1,0,1,0,0,0,3,0,1,"","","","","","","","","","","","","","","","","","","","","","","","","","","","","","","","","","","","","","","","","","","","","","","","","","","",null,null,{"$f":"IF(COUNTIFS($B$9:$BM$9,BP$8,$B100:$BM100,\">=0\")=0,\"\",SUMIFS($B100:$BM100,$B$9:$BM$9,BP$8)/COUNTIFS($B$9:$BM$9,BP$8,$B100:$BM100,\">=0\"))","v":0.5},0.5,1,1,0,0.5,1.5,null,{"$f":"IFERROR(AVERAGE(BP100:BS100),\"\")","v":0.75},{"$f":"IFERROR(COUNTIFS($B$9:$BM$9,BQ$8,$B100:$BM100,\">0\")+COUNTIFS($B$9:$BM$9,BR$8,$B100:$BM100,\">0\")+COUNTIFS($B$9:$BM$9,BS$8,$B100:$BM100,\">0\")+COUNTIFS($B$9:$BM$9,BP$8,$B100:$BM100,\">0\"),\"\")","v":4},{"$f":"IFERROR(_xlfn.STDEV.S(IF((($B$9:$BM$9=\"Mon\")+($B$9:$BM$9=\"Tue\")+($B$9:$BM$9=\"Wed\")+($B$9:$BM$9=\"Thu\"))*($B100:$BM100<>\"\"),$B100:$BM100,\"\")),\"\")","v":0.7559289460184544},{"$f":"IFERROR(BX100*0.05,\"\")","v":3.7500000000000006E-2},{"$f":"IFERROR(_xlfn.CONFIDENCE.NORM(0.05,BZ100,BY100),\"\")","v":0.74079675453374649},{"$f":"IF(BX100=\"\",\"\",IF(OR(BZ100=0,CB100<=CA100),\"P\",\"O\"))","v":"O"},null,{"$f":"IFERROR(AVERAGE(BP100:BT100),\"\")","v":0.6},{"$f":"IFERROR(COUNTIFS($B$9:$BM$9,BQ$8,$B100:$BM100,\">0\")+COUNTIFS($B$9:$BM$9,BR$8,$B100:$BM100,\">0\")+COUNTIFS($B$9:$BM$9,BS$8,$B100:$BM100,\">0\")+COUNTIFS($B$9:$BM$9,BP$8,$B100:$BM100,\">0\")+COUNTIFS($B$9:$BM$9,BT$8,$B100:$BM100,\">0\"),\"\")","v":4},{"$f":"IFERROR(_xlfn.STDEV.S(IF((($B$9:$BM$9=\"Mon\")+($B$9:$BM$9=\"Tue\")+($B$9:$BM$9=\"Wed\")+($B$9:$BM$9=\"Thu\")+($B$9:$BM$9=\"Fri\"))*($B100:$BM100<>\"\"),$B100:$BM100,\"\")),\"\")","v":0.72648315725677892},{"$f":"IFERROR(CE100*0.05,\"\")","v":0.03},{"$f":"IFERROR(_xlfn.CONFIDENCE.NORM(0.05,CG100,CF100),\"\")","v":0.71194041179911738},{"$f":"IF(CE100=\"\",\"\",IF(OR(CG100=0,CI100<=CH100),\"P\",\"O\"))","v":"O"},null,{"$f":"IFERROR(AVERAGE(BQ100:BS100),\"\")","v":0.83333333333333337},{"$f":"IFERROR(COUNTIFS($B$9:$BM$9,BQ$8,$B100:$BM100,\">0\")+COUNTIFS($B$9:$BM$9,BR$8,$B100:$BM100,\">0\")+COUNTIFS($B$9:$BM$9,BS$8,$B100:$BM100,\">0\"),\"\")","v":3},{"$f":"IFERROR(_xlfn.STDEV.S(IF((($B$9:$BM$9=\"Tue\")+($B$9:$BM$9=\"Wed\")+($B$9:$BM$9=\"Thu\"))*($B100:$BM100<>\"\"),$B100:$BM100,\"\")),\"\")","v":0.83666002653407556},{"$f":"IFERROR(CL100*0.05,\"\")","v":4.1666666666666671E-2},{"$f":"IFERROR(_xlfn.CONFIDENCE.NORM(0.05,CN100,CM100),\"\")","v":0.94675255029775107},{"$f":"IF(CL100=\"\",\"\",IF(OR(CN100=0,CP100<=CO100),\"P\",\"O\"))","v":"O"},null,{"$f":"IFERROR(AVERAGE(BU100:BV100),\"\")","v":1},{"$f":"IFERROR(COUNTIFS($B$9:$BM$9,BU$8,$B100:$BM100,\">0\")+COUNTIFS($B$9:$BM$9,BV$8,$B100:$BM100,\">0\"),\"\")","v":2},{"$f":"IFERROR(_xlfn.STDEV.S(IF((($B$9:$BM$9=\"Sat\")+($B$9:$BM$9=\"Sun\"))*($B100:$BM100<>\"\"),$B100:$BM100,\"\")),\"\")","v":1.4142135623730951},{"$f":"IFERROR(CS100*0.05,\"\")","v":0.05},{"$f":"IFERROR(_xlfn.CONFIDENCE.NORM(0.05,CU100,CT100),\"\")","v":1.9599639845400536},{"$f":"IF(CS100=\"\",\"\",IF(OR(CU100=0,CW100<=CV100),\"P\",\"O\"))","v":"O"}]
["01:00:00",{"$f":"IF(B$8=\"\",\"\",SUMIFS(INDIRECT(\"'\"&TEXT(B$8,\"DD_MMM_YYYY\")&\"'!T$6:T$101\"),INDIRECT(\"'\"&TEXT(B$8,\"DD_MMM_YYYY\")&\"'!a$6:a$101\"),\">=\"&$A101,INDIRECT(\"'\"&TEXT(B$8,\"DD_MMM_YYYY\")&\"'!a$6:a$101\"),\"<\"&$A102))","v":0},1,0,1,1,1,0,1,1,0,1,0,0,"","","","","","","","","","","","","","","","","","","","","","","","","","","","","","","","","","","","","","","","","","","","","","","","","","","",null,null,0.5,0.5,0,0.5,1,0,1,null,{"$f":"IFERROR(AVERAGE(BP101:BS101),\"\")","v":0.375},{"$f":"IFERROR(COUNTIFS($B$9:$BM$9,BQ$8,$B101:$BM101,\">0\")+COUNTIFS($B$9:$BM$9,BR$8,$B101:$BM101,\">0\")+COUNTIFS($B$9:$BM$9,BS$8,$B101:$BM101,\">0\")+COUNTIFS($B$9:$BM$9,BP$8,$B101:$BM101,\">0\"),\"\")","v":3},{"$f":"IFERROR(_xlfn.STDEV.S(IF((($B$9:$BM$9=\"Mon\")+($B$9:$BM$9=\"Tue\")+($B$9:$BM$9=\"Wed\")+($B$9:$BM$9=\"Thu\"))*($B101:$BM101<>\"\"),$B101:$BM101,\"\")),\"\")","v":0.53452248382484879},{"$f":"IFERROR(BX101*0.05,\"\")","v":1.8750000000000003E-2},{"$f":"IFERROR(_xlfn.CONFIDENCE.NORM(0.05,BZ101,BY101),\"\")","v":0.60485801723916},{"$f":"IF(BX101=\"\",\"\",IF(OR(BZ101=0,CB101<=CA101),\"P\",\"O\"))","v":"O"},null,{"$f":"IFERROR(AVERAGE(BP101:BT101),\"\")","v":0.5},{"$f":"IFERROR(COUNTIFS($B$9:$BM$9,BQ$8,$B101:$BM101,\">0\")+COUNTIFS($B$9:$BM$9,BR$8,$B101:$BM101,\">0\")+COUNTIFS($B$9:$BM$9,BS$8,$B101:$BM101,\">0\")+COUNTIFS($B$9:$BM$9,BP$8,$B101:$BM101,\">0\")+COUNTIFS($B$9:$BM$9,BT$8,$B101:$BM101,\">0\"),\"\")","v":5},{"$f":"IFERROR(_xlfn.STDEV.S(IF((($B$9:$BM$9=\"Mon\")+($B$9:$BM$9=\"Tue\")+($B$9:$BM$9=\"Wed\")+($B$9:$BM$9=\"Thu\")+($B$9:$BM$9=\"Fri\"))*($B101:$BM101<>\"\"),$B101:$BM101,\"\")),\"\")","v":0.52704627669472992},{"$f":"IFERROR(CE101*0.05,\"\")","v":2.5000000000000001E-2},{"$f":"IFERROR(_xlfn.CONFIDENCE.NORM(0.05,CG101,CF101),\"\")","v":0.46196794144989251},{"$f":"IF(CE101=\"\",\"\",IF(OR(CG101=0,CI101<=CH101),\"P\",\"O\"))","v":"O"},null,{"$f":"IFERROR(AVERAGE(BQ101:BS101),\"\")","v":0.33333333333333331},{"$f":"IFERROR(COUNTIFS($B$9:$BM$9,BQ$8,$B101:$BM101,\">0\")+COUNTIFS($B$9:$BM$9,BR$8,$B101:$BM101,\">0\")+COUNTIFS($B$9:$BM$9,BS$8,$B101:$BM101,\">0\"),\"\")","v":2},{"$f":"IFERROR(_xlfn.STDEV.S(IF((($B$9:$BM$9=\"Tue\")+($B$9:$BM$9=\"Wed\")+($B$9:$BM$9=\"Thu\"))*($B101:$BM101<>\"\"),$B101:$BM101,\"\")),\"\")","v":0.54772255750516607},{"$f":"IFERROR(CL101*0.05,\"\")","v":1.6666666666666666E-2},{"$f":"IFERROR(_xlfn.CONFIDENCE.NORM(0.05,CN101,CM101),\"\")","v":0.7590907871289958},{"$f":"IF(CL101=\"\",\"\",IF(OR(CN101=0,CP101<=CO101),\"P\",\"O\"))","v":"O"},null,{"$f":"IFERROR(AVERAGE(BU101:BV101),\"\")","v":0.5},{"$f":"IFERROR(COUNTIFS($B$9:$BM$9,BU$8,$B101:$BM101,\">0\")+COUNTIFS($B$9:$BM$9,BV$8,$B101:$BM101,\">0\"),\"\")","v":2},{"$f":"IFERROR(_xlfn.STDEV.S(IF(($B$9:$BM$9=\"Sat\")+($B$9:$BM$9=\"Sun\"),$B101:$BM101,\"\")),\"\")","v":0.57735026918962573},{"$f":"IFERROR(CS101*0.05,\"\")","v":2.5000000000000001E-2},{"$f":"IFERROR(_xlfn.CONFIDENCE.NORM(0.05,CU101,CT101),\"\")","v":0.80015194605921802},{"$f":"IF(CS101=\"\",\"\",IF(OR(CU101=0,CW101<=CV101),\"P\",\"O\"))","v":"O"}]
["02:00:00",1,2,0,1,3,2,0,1,0,0,0,0,1,"","","","","","","","","","","","","","","","","","","","","","","","","","","","","","","","","","","","","","","","","","","","","","","","","","","",null,null,1.5,1.5,0,1,1,0,0.5,null,1,5,{"$f":"IFERROR(_xlfn.STDEV.S(IF((($B$9:$BM$9=\"Mon\")+($B$9:$BM$9=\"Tue\")+($B$9:$BM$9=\"Wed\")+($B$9:$BM$9=\"Thu\"))*($B102:$BM102<>\"\"),$B102:$BM102,\"\")),\"\")","v":1.0690449676496976},0.05,0.93704201103492213,"O",null,1,6,{"$f":"IFERROR(_xlfn.STDEV.S(IF((($B$9:$BM$9=\"Mon\")+($B$9:$BM$9=\"Tue\")+($B$9:$BM$9=\"Wed\")+($B$9:$BM$9=\"Thu\")+($B$9:$BM$9=\"Fri\"))*($B102:$BM102<>\"\"),$B102:$BM102,\"\")),\"\")","v":1.0540925533894598},0.05,0.84343420792110668,"O",null,0.83333333333333337,4,{"$f":"IFERROR(_xlfn.STDEV.S(IF((($B$9:$BM$9=\"Tue\")+($B$9:$BM$9=\"Wed\")+($B$9:$BM$9=\"Thu\"))*($B102:$BM102<>\"\"),$B102:$BM102,\"\")),\"\")","v":0.70710678118654757},4.1666666666666671E-2,0.69295191217483876,"O",null,0.25,1,{"$f":"IFERROR(_xlfn.STDEV.S(IF(($B$9:$BM$9=\"Sat\")+($B$9:$BM$9=\"Sun\"),$B102:$BM102,\"\")),\"\")","v":0.5},1.2500000000000001E-2,0.9799819922700268,"O"]
["03:00:00",1,1,2,0,0,1,1,1,3,0,0,0,1,"","","","","","","","","","","","","","","","","","","","","","","","","","","","","","","","","","","","","","","","","","","","","","","","","","","",null,null,0,1,1,1,2,1,0,null,0.75,5,{"$f":"IFERROR(_xlfn.STDEV.S(IF((($B$9:$BM$9=\"Mon\")+($B$9:$BM$9=\"Tue\")+($B$9:$BM$9=\"Wed\")+($B$9:$BM$9=\"Thu\"))*($B103:$BM103<>\"\"),$B103:$BM103,\"\")),\"\")","v":0.48795003647426655},3.7500000000000006E-2,0.42769920564485964,"O",null,1,7,{"$f":"IFERROR(_xlfn.STDEV.S(IF((($B$9:$BM$9=\"Mon\")+($B$9:$BM$9=\"Tue\")+($B$9:$BM$9=\"Wed\")+($B$9:$BM$9=\"Thu\")+($B$9:$BM$9=\"Fri\"))*($B103:$BM103<>\"\"),$B103:$BM103,\"\")),\"\")","v":0.8660254037844386},0.05,0.64154880846728946,"O",null,1,5,{"$f":"IFERROR(_xlfn.STDEV.S(IF((($B$9:$BM$9=\"Tue\")+($B$9:$BM$9=\"Wed\")+($B$9:$BM$9=\"Thu\"))*($B103:$BM103<>\"\"),$B103:$BM103,\"\")),\"\")","v":0},0.05,"","P",null,0.5,1,{"$f":"IFERROR(_xlfn.STDEV.S(IF(($B$9:$BM$9=\"Sat\")+($B$9:$BM$9=\"Sun\"),$B103:$BM103,\"\")),\"\")","v":1},2.5000000000000001E-2,1.9599639845400536,"O"]
["04:00:00",5,6,0,0,{"$f":"IF(F$8=\"\",\"\",SUMIFS(INDIRECT(\"'\"&TEXT(F$8,\"DD_MMM_YYYY\")&\"'!T$6:T$101\"),INDIRECT(\"'\"&TEXT(F$8,\"DD_MMM_YYYY\")&\"'!a$6:a$101\"),\">=\"&$A104,INDIRECT(\"'\"&TEXT(F$8,\"DD_MMM_YYYY\")&\"'!a$6:a$101\"),\"<\"&$A105))","v":8},{"$f":"IF(G$8=\"\",\"\",SUMIFS(INDIRECT(\"'\"&TEXT(G$8,\"DD_MMM_YYYY\")&\"'!T$6:T$101\"),INDIRECT(\"'\"&TEXT(G$8,\"DD_MMM_YYYY\")&\"'!a$6:a$101\"),\">=\"&$A104,INDIRECT(\"'\"&TEXT(G$8,\"DD_MMM_YYYY\")&\"'!a$6:a$101\"),\"<\"&$A105))","v":6},{"$f":"IF(H$8=\"\",\"\",SUMIFS(INDIRECT(\"'\"&TEXT(H$8,\"DD_MMM_YYYY\")&\"'!T$6:T$101\"),INDIRECT(\"'\"&TEXT(H$8,\"DD_MMM_YYYY\")&\"'!a$6:a$101\"),\">=\"&$A104,INDIRECT(\"'\"&TEXT(H$8,\"DD_MMM_YYYY\")&\"'!a$6:a$101\"),\"<\"&$A105))","v":5},{"$f":"IF(I$8=\"\",\"\",SUMIFS(INDIRECT(\"'\"&TEXT(I$8,\"DD_MMM_YYYY\")&\"'!T$6:T$101\"),INDIRECT(\"'\"&TEXT(I$8,\"DD_MMM_YYYY\")&\"'!a$6:a$101\"),\">=\"&$A104,INDIRECT(\"'\"&TEXT(I$8,\"DD_MMM_YYYY\")&\"'!a$6:a$101\"),\"<\"&$A105))","v":6},{"$f":"IF(J$8=\"\",\"\",SUMIFS(INDIRECT(\"'\"&TEXT(J$8,\"DD_MMM_YYYY\")&\"'!T$6:T$101\"),INDIRECT(\"'\"&TEXT(J$8,\"DD_MMM_YYYY\")&\"'!a$6:a$101\"),\">=\"&$A104,INDIRECT(\"'\"&TEXT(J$8,\"DD_MMM_YYYY\")&\"'!a$6:a$101\"),\"<\"&$A105))","v":2},{"$f":"IF(K$8=\"\",\"\",SUMIFS(INDIRECT(\"'\"&TEXT(K$8,\"DD_MMM_YYYY\")&\"'!T$6:T$101\"),INDIRECT(\"'\"&TEXT(K$8,\"DD_MMM_YYYY\")&\"'!a$6:a$101\"),\">=\"&$A104,INDIRECT(\"'\"&TEXT(K$8,\"DD_MMM_YYYY\")&\"'!a$6:a$101\"),\"<\"&$A105))","v":2},{"$f":"IF(L$8=\"\",\"\",SUMIFS(INDIRECT(\"'\"&TEXT(L$8,\"DD_MMM_YYYY\")&\"'!T$6:T$101\"),INDIRECT(\"'\"&TEXT(L$8,\"DD_MMM_YYYY\")&\"'!a$6:a$101\"),\">=\"&$A104,INDIRECT(\"'\"&TEXT(L$8,\"DD_MMM_YYYY\")&\"'!a$6:a$101\"),\"<\"&$A105))","v":0},{"$f":"IF(M$8=\"\",\"\",SUMIFS(INDIRECT(\"'\"&TEXT(M$8,\"DD_MMM_YYYY\")&\"'!T$6:T$101\"),INDIRECT(\"'\"&TEXT(M$8,\"DD_MMM_YYYY\")&\"'!a$6:a$101\"),\">=\"&$A104,INDIRECT(\"'\"&TEXT(M$8,\"DD_MMM_YYYY\")&\"'!a$6:a$101\"),\"<\"&$A105))","v":1},{"$f":"IF(N$8=\"\",\"\",SUMIFS(INDIRECT(\"'\"&TEXT(N$8,\"DD_MMM_YYYY\")&\"'!T$6:T$101\"),INDIRECT(\"'\"&TEXT(N$8,\"DD_MMM_YYYY\")&\"'!a$6:a$101\"),\">=\"&$A104,INDIRECT(\"'\"&TEXT(N$8,\"DD_MMM_YYYY\")&\"'!a$6:a$101\"),\"<\"&$A105))","v":6},{"$f":"IF(O$8=\"\",\"\",SUMIFS(INDIRECT(\"'\"&TEXT(O$8,\"DD_MMM_YYYY\")&\"'!T$6:T$101\"),INDIRECT(\"'\"&TEXT(O$8,\"DD_MMM_YYYY\")&\"'!a$6:a$101\"),\">=\"&$A104,INDIRECT(\"'\"&TEXT(O$8,\"DD_MMM_YYYY\")&\"'!a$6:a$101\"),\"<\"&$A105))","v":""},{"$f":"IF(P$8=\"\",\"\",SUMIFS(INDIRECT(\"'\"&TEXT(P$8,\"DD_MMM_YYYY\")&\"'!T$6:T$101\"),INDIRECT(\"'\"&TEXT(P$8,\"DD_MMM_YYYY\")&\"'!a$6:a$101\"),\">=\"&$A104,INDIRECT(\"'\"&TEXT(P$8,\"DD_MMM_YYYY\")&\"'!a$6:a$101\"),\"<\"&$A105))","v":""},{"$f":"IF(Q$8=\"\",\"\",SUMIFS(INDIRECT(\"'\"&TEXT(Q$8,\"DD_MMM_YYYY\")&\"'!T$6:T$101\"),INDIRECT(\"'\"&TEXT(Q$8,\"DD_MMM_YYYY\")&\"'!a$6:a$101\"),\">=\"&$A104,INDIRECT(\"'\"&TEXT(Q$8,\"DD_MMM_YYYY\")&\"'!a$6:a$101\"),\"<\"&$A105))","v":""},{"$f":"IF(R$8=\"\",\"\",SUMIFS(INDIRECT(\"'\"&TEXT(R$8,\"DD_MMM_YYYY\")&\"'!T$6:T$101\"),INDIRECT(\"'\"&TEXT(R$8,\"DD_MMM_YYYY\")&\"'!a$6:a$101\"),\">=\"&$A104,INDIRECT(\"'\"&TEXT(R$8,\"DD_MMM_YYYY\")&\"'!a$6:a$101\"),\"<\"&$A105))","v":""},{"$f":"IF(S$8=\"\",\"\",SUMIFS(INDIRECT(\"'\"&TEXT(S$8,\"DD_MMM_YYYY\")&\"'!T$6:T$101\"),INDIRECT(\"'\"&TEXT(S$8,\"DD_MMM_YYYY\")&\"'!a$6:a$101\"),\">=\"&$A104,INDIRECT(\"'\"&TEXT(S$8,\"DD_MMM_YYYY\")&\"'!a$6:a$101\"),\"<\"&$A105))","v":""},{"$f":"IF(T$8=\"\",\"\",SUMIFS(INDIRECT(\"'\"&TEXT(T$8,\"DD_MMM_YYYY\")&\"'!T$6:T$101\"),INDIRECT(\"'\"&TEXT(T$8,\"DD_MMM_YYYY\")&\"'!a$6:a$101\"),\">=\"&$A104,INDIRECT(\"'\"&TEXT(T$8,\"DD_MMM_YYYY\")&\"'!a$6:a$101\"),\"<\"&$A105))","v":""},{"$f":"IF(U$8=\"\",\"\",SUMIFS(INDIRECT(\"'\"&TEXT(U$8,\"DD_MMM_YYYY\")&\"'!T$6:T$101\"),INDIRECT(\"'\"&TEXT(U$8,\"DD_MMM_YYYY\")&\"'!a$6:a$101\"),\">=\"&$A104,INDIRECT(\"'\"&TEXT(U$8,\"DD_MMM_YYYY\")&\"'!a$6:a$101\"),\"<\"&$A105))","v":""},{"$f":"IF(V$8=\"\",\"\",SUMIFS(INDIRECT(\"'\"&TEXT(V$8,\"DD_MMM_YYYY\")&\"'!T$6:T$101\"),INDIRECT(\"'\"&TEXT(V$8,\"DD_MMM_YYYY\")&\"'!a$6:a$101\"),\">=\"&$A104,INDIRECT(\"'\"&TEXT(V$8,\"DD_MMM_YYYY\")&\"'!a$6:a$101\"),\"<\"&$A105))","v":""},{"$f":"IF(W$8=\"\",\"\",SUMIFS(INDIRECT(\"'\"&TEXT(W$8,\"DD_MMM_YYYY\")&\"'!T$6:T$101\"),INDIRECT(\"'\"&TEXT(W$8,\"DD_MMM_YYYY\")&\"'!a$6:a$101\"),\">=\"&$A104,INDIRECT(\"'\"&TEXT(W$8,\"DD_MMM_YYYY\")&\"'!a$6:a$101\"),\"<\"&$A105))","v":""},{"$f":"IF(X$8=\"\",\"\",SUMIFS(INDIRECT(\"'\"&TEXT(X$8,\"DD_MMM_YYYY\")&\"'!T$6:T$101\"),INDIRECT(\"'\"&TEXT(X$8,\"DD_MMM_YYYY\")&\"'!a$6:a$101\"),\">=\"&$A104,INDIRECT(\"'\"&TEXT(X$8,\"DD_MMM_YYYY\")&\"'!a$6:a$101\"),\"<\"&$A105))","v":""},{"$f":"IF(Y$8=\"\",\"\",SUMIFS(INDIRECT(\"'\"&TEXT(Y$8,\"DD_MMM_YYYY\")&\"'!T$6:T$101\"),INDIRECT(\"'\"&TEXT(Y$8,\"DD_MMM_YYYY\")&\"'!a$6:a$101\"),\">=\"&$A104,INDIRECT(\"'\"&TEXT(Y$8,\"DD_MMM_YYYY\")&\"'!a$6:a$101\"),\"<\"&$A105))","v":""},{"$f":"IF(Z$8=\"\",\"\",SUMIFS(INDIRECT(\"'\"&TEXT(Z$8,\"DD_MMM_YYYY\")&\"'!T$6:T$101\"),INDIRECT(\"'\"&TEXT(Z$8,\"DD_MMM_YYYY\")&\"'!a$6:a$101\"),\">=\"&$A104,INDIRECT(\"'\"&TEXT(Z$8,\"DD_MMM_YYYY\")&\"'!a$6:a$101\"),\"<\"&$A105))","v":""},{"$f":"IF(AA$8=\"\",\"\",SUMIFS(INDIRECT(\"'\"&TEXT(AA$8,\"DD_MMM_YYYY\")&\"'!T$6:T$101\"),INDIRECT(\"'\"&TEXT(AA$8,\"DD_MMM_YYYY\")&\"'!a$6:a$101\"),\">=\"&$A104,INDIRECT(\"'\"&TEXT(AA$8,\"DD_MMM_YYYY\")&\"'!a$6:a$101\"),\"<\"&$A105))","v":""},{"$f":"IF(AB$8=\"\",\"\",SUMIFS(INDIRECT(\"'\"&TEXT(AB$8,\"DD_MMM_YYYY\")&\"'!T$6:T$101\"),INDIRECT(\"'\"&TEXT(AB$8,\"DD_MMM_YYYY\")&\"'!a$6:a$101\"),\">=\"&$A104,INDIRECT(\"'\"&TEXT(AB$8,\"DD_MMM_YYYY\")&\"'!a$6:a$101\"),\"<\"&$A105))","v":""},{"$f":"IF(AC$8=\"\",\"\",SUMIFS(INDIRECT(\"'\"&TEXT(AC$8,\"DD_MMM_YYYY\")&\"'!T$6:T$101\"),INDIRECT(\"'\"&TEXT(AC$8,\"DD_MMM_YYYY\")&\"'!a$6:a$101\"),\">=\"&$A104,INDIRECT(\"'\"&TEXT(AC$8,\"DD_MMM_YYYY\")&\"'!a$6:a$101\"),\"<\"&$A105))","v":""},{"$f":"IF(AD$8=\"\",\"\",SUMIFS(INDIRECT(\"'\"&TEXT(AD$8,\"DD_MMM_YYYY\")&\"'!T$6:T$101\"),INDIRECT(\"'\"&TEXT(AD$8,\"DD_MMM_YYYY\")&\"'!a$6:a$101\"),\">=\"&$A104,INDIRECT(\"'\"&TEXT(AD$8,\"DD_MMM_YYYY\")&\"'!a$6:a$101\"),\"<\"&$A105))","v":""},{"$f":"IF(AE$8=\"\",\"\",SUMIFS(INDIRECT(\"'\"&TEXT(AE$8,\"DD_MMM_YYYY\")&\"'!T$6:T$101\"),INDIRECT(\"'\"&TEXT(AE$8,\"DD_MMM_YYYY\")&\"'!a$6:a$101\"),\">=\"&$A104,INDIRECT(\"'\"&TEXT(AE$8,\"DD_MMM_YYYY\")&\"'!a$6:a$101\"),\"<\"&$A105))","v":""},{"$f":"IF(AF$8=\"\",\"\",SUMIFS(INDIRECT(\"'\"&TEXT(AF$8,\"DD_MMM_YYYY\")&\"'!T$6:T$101\"),INDIRECT(\"'\"&TEXT(AF$8,\"DD_MMM_YYYY\")&\"'!a$6:a$101\"),\">=\"&$A104,INDIRECT(\"'\"&TEXT(AF$8,\"DD_MMM_YYYY\")&\"'!a$6:a$101\"),\"<\"&$A105))","v":""},{"$f":"IF(AG$8=\"\",\"\",SUMIFS(INDIRECT(\"'\"&TEXT(AG$8,\"DD_MMM_YYYY\")&\"'!T$6:T$101\"),INDIRECT(\"'\"&TEXT(AG$8,\"DD_MMM_YYYY\")&\"'!a$6:a$101\"),\">=\"&$A104,INDIRECT(\"'\"&TEXT(AG$8,\"DD_MMM_YYYY\")&\"'!a$6:a$101\"),\"<\"&$A105))","v":""},{"$f":"IF(AH$8=\"\",\"\",SUMIFS(INDIRECT(\"'\"&TEXT(AH$8,\"DD_MMM_YYYY\")&\"'!T$6:T$101\"),INDIRECT(\"'\"&TEXT(AH$8,\"DD_MMM_YYYY\")&\"'!a$6:a$101\"),\">=\"&$A104,INDIRECT(\"'\"&TEXT(AH$8,\"DD_MMM_YYYY\")&\"'!a$6:a$101\"),\"<\"&$A105))","v":""},{"$f":"IF(AI$8=\"\",\"\",SUMIFS(INDIRECT(\"'\"&TEXT(AI$8,\"DD_MMM_YYYY\")&\"'!T$6:T$101\"),INDIRECT(\"'\"&TEXT(AI$8,\"DD_MMM_YYYY\")&\"'!a$6:a$101\"),\">=\"&$A104,INDIRECT(\"'\"&TEXT(AI$8,\"DD_MMM_YYYY\")&\"'!a$6:a$101\"),\"<\"&$A105))","v":""},{"$f":"IF(AJ$8=\"\",\"\",SUMIFS(INDIRECT(\"'\"&TEXT(AJ$8,\"DD_MMM_YYYY\")&\"'!T$6:T$101\"),INDIRECT(\"'\"&TEXT(AJ$8,\"DD_MMM_YYYY\")&\"'!a$6:a$101\"),\">=\"&$A104,INDIRECT(\"'\"&TEXT(AJ$8,\"DD_MMM_YYYY\")&\"'!a$6:a$101\"),\"<\"&$A105))","v":""},{"$f":"IF(AK$8=\"\",\"\",SUMIFS(INDIRECT(\"'\"&TEXT(AK$8,\"DD_MMM_YYYY\")&\"'!T$6:T$101\"),INDIRECT(\"'\"&TEXT(AK$8,\"DD_MMM_YYYY\")&\"'!a$6:a$101\"),\">=\"&$A104,INDIRECT(\"'\"&TEXT(AK$8,\"DD_MMM_YYYY\")&\"'!a$6:a$101\"),\"<\"&$A105))","v":""},{"$f":"IF(AL$8=\"\",\"\",SUMIFS(INDIRECT(\"'\"&TEXT(AL$8,\"DD_MMM_YYYY\")&\"'!T$6:T$101\"),INDIRECT(\"'\"&TEXT(AL$8,\"DD_MMM_YYYY\")&\"'!a$6:a$101\"),\">=\"&$A104,INDIRECT(\"'\"&TEXT(AL$8,\"DD_MMM_YYYY\")&\"'!a$6:a$101\"),\"<\"&$A105))","v":""},{"$f":"IF(AM$8=\"\",\"\",SUMIFS(INDIRECT(\"'\"&TEXT(AM$8,\"DD_MMM_YYYY\")&\"'!T$6:T$101\"),INDIRECT(\"'\"&TEXT(AM$8,\"DD_MMM_YYYY\")&\"'!a$6:a$101\"),\">=\"&$A104,INDIRECT(\"'\"&TEXT(AM$8,\"DD_MMM_YYYY\")&\"'!a$6:a$101\"),\"<\"&$A105))","v":""},{"$f":"IF(AN$8=\"\",\"\",SUMIFS(INDIRECT(\"'\"&TEXT(AN$8,\"DD_MMM_YYYY\")&\"'!T$6:T$101\"),INDIRECT(\"'\"&TEXT(AN$8,\"DD_MMM_YYYY\")&\"'!a$6:a$101\"),\">=\"&$A104,INDIRECT(\"'\"&TEXT(AN$8,\"DD_MMM_YYYY\")&\"'!a$6:a$101\"),\"<\"&$A105))","v":""},{"$f":"IF(AO$8=\"\",\"\",SUMIFS(INDIRECT(\"'\"&TEXT(AO$8,\"DD_MMM_YYYY\")&\"'!T$6:T$101\"),INDIRECT(\"'\"&TEXT(AO$8,\"DD_MMM_YYYY\")&\"'!a$6:a$101\"),\">=\"&$A104,INDIRECT(\"'\"&TEXT(AO$8,\"DD_MMM_YYYY\")&\"'!a$6:a$101\"),\"<\"&$A105))","v":""},{"$f":"IF(AP$8=\"\",\"\",SUMIFS(INDIRECT(\"'\"&TEXT(AP$8,\"DD_MMM_YYYY\")&\"'!T$6:T$101\"),INDIRECT(\"'\"&TEXT(AP$8,\"DD_MMM_YYYY\")&\"'!a$6:a$101\"),\">=\"&$A104,INDIRECT(\"'\"&TEXT(AP$8,\"DD_MMM_YYYY\")&\"'!a$6:a$101\"),\"<\"&$A105))","v":""},{"$f":"IF(AQ$8=\"\",\"\",SUMIFS(INDIRECT(\"'\"&TEXT(AQ$8,\"DD_MMM_YYYY\")&\"'!T$6:T$101\"),INDIRECT(\"'\"&TEXT(AQ$8,\"DD_MMM_YYYY\")&\"'!a$6:a$101\"),\">=\"&$A104,INDIRECT(\"'\"&TEXT(AQ$8,\"DD_MMM_YYYY\")&\"'!a$6:a$101\"),\"<\"&$A105))","v":""},{"$f":"IF(AR$8=\"\",\"\",SUMIFS(INDIRECT(\"'\"&TEXT(AR$8,\"DD_MMM_YYYY\")&\"'!T$6:T$101\"),INDIRECT(\"'\"&TEXT(AR$8,\"DD_MMM_YYYY\")&\"'!a$6:a$101\"),\">=\"&$A104,INDIRECT(\"'\"&TEXT(AR$8,\"DD_MMM_YYYY\")&\"'!a$6:a$101\"),\"<\"&$A105))","v":""},{"$f":"IF(AS$8=\"\",\"\",SUMIFS(INDIRECT(\"'\"&TEXT(AS$8,\"DD_MMM_YYYY\")&\"'!T$6:T$101\"),INDIRECT(\"'\"&TEXT(AS$8,\"DD_MMM_YYYY\")&\"'!a$6:a$101\"),\">=\"&$A104,INDIRECT(\"'\"&TEXT(AS$8,\"DD_MMM_YYYY\")&\"'!a$6:a$101\"),\"<\"&$A105))","v":""},{"$f":"IF(AT$8=\"\",\"\",SUMIFS(INDIRECT(\"'\"&TEXT(AT$8,\"DD_MMM_YYYY\")&\"'!T$6:T$101\"),INDIRECT(\"'\"&TEXT(AT$8,\"DD_MMM_YYYY\")&\"'!a$6:a$101\"),\">=\"&$A104,INDIRECT(\"'\"&TEXT(AT$8,\"DD_MMM_YYYY\")&\"'!a$6:a$101\"),\"<\"&$A105))","v":""},{"$f":"IF(AU$8=\"\",\"\",SUMIFS(INDIRECT(\"'\"&TEXT(AU$8,\"DD_MMM_YYYY\")&\"'!T$6:T$101\"),INDIRECT(\"'\"&TEXT(AU$8,\"DD_MMM_YYYY\")&\"'!a$6:a$101\"),\">=\"&$A104,INDIRECT(\"'\"&TEXT(AU$8,\"DD_MMM_YYYY\")&\"'!a$6:a$101\"),\"<\"&$A105))","v":""},{"$f":"IF(AV$8=\"\",\"\",SUMIFS(INDIRECT(\"'\"&TEXT(AV$8,\"DD_MMM_YYYY\")&\"'!T$6:T$101\"),INDIRECT(\"'\"&TEXT(AV$8,\"DD_MMM_YYYY\")&\"'!a$6:a$101\"),\">=\"&$A104,INDIRECT(\"'\"&TEXT(AV$8,\"DD_MMM_YYYY\")&\"'!a$6:a$101\"),\"<\"&$A105))","v":""},{"$f":"IF(AW$8=\"\",\"\",SUMIFS(INDIRECT(\"'\"&TEXT(AW$8,\"DD_MMM_YYYY\")&\"'!T$6:T$101\"),INDIRECT(\"'\"&TEXT(AW$8,\"DD_MMM_YYYY\")&\"'!a$6:a$101\"),\">=\"&$A104,INDIRECT(\"'\"&TEXT(AW$8,\"DD_MMM_YYYY\")&\"'!a$6:a$101\"),\"<\"&$A105))","v":""},{"$f":"IF(AX$8=\"\",\"\",SUMIFS(INDIRECT(\"'\"&TEXT(AX$8,\"DD_MMM_YYYY\")&\"'!T$6:T$101\"),INDIRECT(\"'\"&TEXT(AX$8,\"DD_MMM_YYYY\")&\"'!a$6:a$101\"),\">=\"&$A104,INDIRECT(\"'\"&TEXT(AX$8,\"DD_MMM_YYYY\")&\"'!a$6:a$101\"),\"<\"&$A105))","v":""},{"$f":"IF(AY$8=\"\",\"\",SUMIFS(INDIRECT(\"'\"&TEXT(AY$8,\"DD_MMM_YYYY\")&\"'!T$6:T$101\"),INDIRECT(\"'\"&TEXT(AY$8,\"DD_MMM_YYYY\")&\"'!a$6:a$101\"),\">=\"&$A104,INDIRECT(\"'\"&TEXT(AY$8,\"DD_MMM_YYYY\")&\"'!a$6:a$101\"),\"<\"&$A105))","v":""},{"$f":"IF(AZ$8=\"\",\"\",SUMIFS(INDIRECT(\"'\"&TEXT(AZ$8,\"DD_MMM_YYYY\")&\"'!T$6:T$101\"),INDIRECT(\"'\"&TEXT(AZ$8,\"DD_MMM_YYYY\")&\"'!a$6:a$101\"),\">=\"&$A104,INDIRECT(\"'\"&TEXT(AZ$8,\"DD_MMM_YYYY\")&\"'!a$6:a$101\"),\"<\"&$A105))","v":""},{"$f":"IF(BA$8=\"\",\"\",SUMIFS(INDIRECT(\"'\"&TEXT(BA$8,\"DD_MMM_YYYY\")&\"'!T$6:T$101\"),INDIRECT(\"'\"&TEXT(BA$8,\"DD_MMM_YYYY\")&\"'!a$6:a$101\"),\">=\"&$A104,INDIRECT(\"'\"&TEXT(BA$8,\"DD_MMM_YYYY\")&\"'!a$6:a$101\"),\"<\"&$A105))","v":""},{"$f":"IF(BB$8=\"\",\"\",SUMIFS(INDIRECT(\"'\"&TEXT(BB$8,\"DD_MMM_YYYY\")&\"'!T$6:T$101\"),INDIRECT(\"'\"&TEXT(BB$8,\"DD_MMM_YYYY\")&\"'!a$6:a$101\"),\">=\"&$A104,INDIRECT(\"'\"&TEXT(BB$8,\"DD_MMM_YYYY\")&\"'!a$6:a$101\"),\"<\"&$A105))","v":""},{"$f":"IF(BC$8=\"\",\"\",SUMIFS(INDIRECT(\"'\"&TEXT(BC$8,\"DD_MMM_YYYY\")&\"'!T$6:T$101\"),INDIRECT(\"'\"&TEXT(BC$8,\"DD_MMM_YYYY\")&\"'!a$6:a$101\"),\">=\"&$A104,INDIRECT(\"'\"&TEXT(BC$8,\"DD_MMM_YYYY\")&\"'!a$6:a$101\"),\"<\"&$A105))","v":""},{"$f":"IF(BD$8=\"\",\"\",SUMIFS(INDIRECT(\"'\"&TEXT(BD$8,\"DD_MMM_YYYY\")&\"'!T$6:T$101\"),INDIRECT(\"'\"&TEXT(BD$8,\"DD_MMM_YYYY\")&\"'!a$6:a$101\"),\">=\"&$A104,INDIRECT(\"'\"&TEXT(BD$8,\"DD_MMM_YYYY\")&\"'!a$6:a$101\"),\"<\"&$A105))","v":""},{"$f":"IF(BE$8=\"\",\"\",SUMIFS(INDIRECT(\"'\"&TEXT(BE$8,\"DD_MMM_YYYY\")&\"'!T$6:T$101\"),INDIRECT(\"'\"&TEXT(BE$8,\"DD_MMM_YYYY\")&\"'!a$6:a$101\"),\">=\"&$A104,INDIRECT(\"'\"&TEXT(BE$8,\"DD_MMM_YYYY\")&\"'!a$6:a$101\"),\"<\"&$A105))","v":""},{"$f":"IF(BF$8=\"\",\"\",SUMIFS(INDIRECT(\"'\"&TEXT(BF$8,\"DD_MMM_YYYY\")&\"'!T$6:T$101\"),INDIRECT(\"'\"&TEXT(BF$8,\"DD_MMM_YYYY\")&\"'!a$6:a$101\"),\">=\"&$A104,INDIRECT(\"'\"&TEXT(BF$8,\"DD_MMM_YYYY\")&\"'!a$6:a$101\"),\"<\"&$A105))","v":""},{"$f":"IF(BG$8=\"\",\"\",SUMIFS(INDIRECT(\"'\"&TEXT(BG$8,\"DD_MMM_YYYY\")&\"'!T$6:T$101\"),INDIRECT(\"'\"&TEXT(BG$8,\"DD_MMM_YYYY\")&\"'!a$6:a$101\"),\">=\"&$A104,INDIRECT(\"'\"&TEXT(BG$8,\"DD_MMM_YYYY\")&\"'!a$6:a$101\"),\"<\"&$A105))","v":""},{"$f":"IF(BH$8=\"\",\"\",SUMIFS(INDIRECT(\"'\"&TEXT(BH$8,\"DD_MMM_YYYY\")&\"'!T$6:T$101\"),INDIRECT(\"'\"&TEXT(BH$8,\"DD_MMM_YYYY\")&\"'!a$6:a$101\"),\">=\"&$A104,INDIRECT(\"'\"&TEXT(BH$8,\"DD_MMM_YYYY\")&\"'!a$6:a$101\"),\"<\"&$A105))","v":""},{"$f":"IF(BI$8=\"\",\"\",SUMIFS(INDIRECT(\"'\"&TEXT(BI$8,\"DD_MMM_YYYY\")&\"'!T$6:T$101\"),INDIRECT(\"'\"&TEXT(BI$8,\"DD_MMM_YYYY\")&\"'!a$6:a$101\"),\">=\"&$A104,INDIRECT(\"'\"&TEXT(BI$8,\"DD_MMM_YYYY\")&\"'!a$6:a$101\"),\"<\"&$A105))","v":""},{"$f":"IF(BJ$8=\"\",\"\",SUMIFS(INDIRECT(\"'\"&TEXT(BJ$8,\"DD_MMM_YYYY\")&\"'!T$6:T$101\"),INDIRECT(\"'\"&TEXT(BJ$8,\"DD_MMM_YYYY\")&\"'!a$6:a$101\"),\">=\"&$A104,INDIRECT(\"'\"&TEXT(BJ$8,\"DD_MMM_YYYY\")&\"'!a$6:a$101\"),\"<\"&$A105))","v":""},{"$f":"IF(BK$8=\"\",\"\",SUMIFS(INDIRECT(\"'\"&TEXT(BK$8,\"DD_MMM_YYYY\")&\"'!T$6:T$101\"),INDIRECT(\"'\"&TEXT(BK$8,\"DD_MMM_YYYY\")&\"'!a$6:a$101\"),\">=\"&$A104,INDIRECT(\"'\"&TEXT(BK$8,\"DD_MMM_YYYY\")&\"'!a$6:a$101\"),\"<\"&$A105))","v":""},{"$f":"IF(BL$8=\"\",\"\",SUMIFS(INDIRECT(\"'\"&TEXT(BL$8,\"DD_MMM_YYYY\")&\"'!T$6:T$101\"),INDIRECT(\"'\"&TEXT(BL$8,\"DD_MMM_YYYY\")&\"'!a$6:a$101\"),\">=\"&$A104,INDIRECT(\"'\"&TEXT(BL$8,\"DD_MMM_YYYY\")&\"'!a$6:a$101\"),\"<\"&$A105))","v":""},{"$f":"IF(BM$8=\"\",\"\",SUMIFS(INDIRECT(\"'\"&TEXT(BM$8,\"DD_MMM_YYYY\")&\"'!T$6:T$101\"),INDIRECT(\"'\"&TEXT(BM$8,\"DD_MMM_YYYY\")&\"'!a$6:a$101\"),\">=\"&$A104,INDIRECT(\"'\"&TEXT(BM$8,\"DD_MMM_YYYY\")&\"'!a$6:a$101\"),\"<\"&$A105))","v":""},null,null,4.5,6,5,5.5,4,1,0,null,5.25,7,{"$f":"IFERROR(_xlfn.STDEV.S(IF((($B$9:$BM$9=\"Mon\")+($B$9:$BM$9=\"Tue\")+($B$9:$BM$9=\"Wed\")+($B$9:$BM$9=\"Thu\"))*($B104:$BM104<>\"\"),$B104:$BM104,\"\")),\"\")","v":2.1380899352993947},0.26250000000000001,1.5838900849710598,"O",null,5,9,{"$f":"IFERROR(_xlfn.STDEV.S(IF((($B$9:$BM$9=\"Mon\")+($B$9:$BM$9=\"Tue\")+($B$9:$BM$9=\"Wed\")+($B$9:$BM$9=\"Thu\")+($B$9:$BM$9=\"Fri\"))*($B104:$BM104<>\"\"),$B104:$BM104,\"\")),\"\")","v":2.179449471770337},0.25,1.423880823598235,"O",null,5.5,5,{"$f":"IFERROR(_xlfn.STDEV.S(IF((($B$9:$BM$9=\"Tue\")+($B$9:$BM$9=\"Wed\")+($B$9:$BM$9=\"Thu\"))*($B104:$BM104<>\"\"),$B104:$BM104,\"\")),\"\")","v":0.54772255750516619},0.27500000000000002,0.48009116763553089,"O",null,0.5,1,{"$f":"IFERROR(_xlfn.STDEV.S(IF(($B$9:$BM$9=\"Sat\")+($B$9:$BM$9=\"Sun\"),$B104:$BM104,\"\")),\"\")","v":1},2.5000000000000001E-2,1.9599639845400536,"O"]
["05:00:00",15,{"$f":"IF(C$8=\"\",\"\",SUMIFS(INDIRECT(\"'\"&TEXT(C$8,\"DD_MMM_YYYY\")&\"'!T$6:T$101\"),INDIRECT(\"'\"&TEXT(C$8,\"DD_MMM_YYYY\")&\"'!a$6:a$101\"),\">=\"&$A105,INDIRECT(\"'\"&TEXT(C$8,\"DD_MMM_YYYY\")&\"'!a$6:a$101\"),\"<\"&$A106))","v":15},{"$f":"IF(D$8=\"\",\"\",SUMIFS(INDIRECT(\"'\"&TEXT(D$8,\"DD_MMM_YYYY\")&\"'!T$6:T$101\"),INDIRECT(\"'\"&TEXT(D$8,\"DD_MMM_YYYY\")&\"'!a$6:a$101\"),\">=\"&$A105,INDIRECT(\"'\"&TEXT(D$8,\"DD_MMM_YYYY\")&\"'!a$6:a$101\"),\"<\"&$A106))","v":3},{"$f":"IF(E$8=\"\",\"\",SUMIFS(INDIRECT(\"'\"&TEXT(E$8,\"DD_MMM_YYYY\")&\"'!T$6:T$101\"),INDIRECT(\"'\"&TEXT(E$8,\"DD_MMM_YYYY\")&\"'!a$6:a$101\"),\">=\"&$A105,INDIRECT(\"'\"&TEXT(E$8,\"DD_MMM_YYYY\")&\"'!a$6:a$101\"),\"<\"&$A106))","v":3},12,12,10,13,13,2,0,12,12,"","","","","","","","","","","","","","","","","","","","","","","","","","","","","","","","","","","","","","","","","","","","","","","","","","","",null,null,12,12,10,14,14,2.5,1.5,null,12,7,{"$f":"IFERROR(_xlfn.STDEV.S(IF((($B$9:$BM$9=\"Mon\")+($B$9:$BM$9=\"Tue\")+($B$9:$BM$9=\"Wed\")+($B$9:$BM$9=\"Thu\"))*($B105:$BM105<>\"\"),$B105:$BM105,\"\")),\"\")","v":1.4960264830861858},0.60000000000000009,1.1082515633667813,"O",null,12.4,9,{"$f":"IFERROR(_xlfn.STDEV.S(IF((($B$9:$BM$9=\"Mon\")+($B$9:$BM$9=\"Tue\")+($B$9:$BM$9=\"Wed\")+($B$9:$BM$9=\"Thu\")+($B$9:$BM$9=\"Fri\"))*($B105:$BM105<>\"\"),$B105:$BM105,\"\")),\"\")","v":1.5811388300841898},0.62000000000000011,1.0329917205076025,"O",null,12,5,{"$f":"IFERROR(_xlfn.STDEV.S(IF((($B$9:$BM$9=\"Tue\")+($B$9:$BM$9=\"Wed\")+($B$9:$BM$9=\"Thu\"))*($B105:$BM105<>\"\"),$B105:$BM105,\"\")),\"\")","v":1.8165902124584981},0.60000000000000009,1.5922822682106743,"O",null,2,3,{"$f":"IFERROR(_xlfn.STDEV.S(IF(($B$9:$BM$9=\"Sat\")+($B$9:$BM$9=\"Sun\"),$B105:$BM105,\"\")),\"\")","v":1.4142135623730951},0.1,1.6003038921184365,"O"]
["06:00:00",23,20,10,4,20,19,18,21,20,6,1,16,27,"","","","","","","","","","","","","","","","","","","","","","","","","","","","","","","","","","","","","","","","","","","","","","","","","","","",null,null,18,23,18,22,20,8,2.5,null,20.25,7,{"$f":"IFERROR(_xlfn.STDEV.S(IF((($B$9:$BM$9=\"Mon\")+($B$9:$BM$9=\"Tue\")+($B$9:$BM$9=\"Wed\")+($B$9:$BM$9=\"Thu\"))*($B106:$BM106<>\"\"),$B106:$BM106,\"\")),\"\")","v":3.5989416433697508},1.0125,2.6660842891646594,"O",null,20.2,9,{"$f":"IFERROR(_xlfn.STDEV.S(IF((($B$9:$BM$9=\"Mon\")+($B$9:$BM$9=\"Tue\")+($B$9:$BM$9=\"Wed\")+($B$9:$BM$9=\"Thu\")+($B$9:$BM$9=\"Fri\"))*($B106:$BM106<>\"\"),$B106:$BM106,\"\")),\"\")","v":3.1269438398822853},1.01,2.0428991026162198,"O",null,21,5,{"$f":"IFERROR(_xlfn.STDEV.S(IF((($B$9:$BM$9=\"Tue\")+($B$9:$BM$9=\"Wed\")+($B$9:$BM$9=\"Thu\"))*($B106:$BM106<>\"\"),$B106:$BM106,\"\")),\"\")","v":3.5777087639996572},1.05,3.1359423752640803,"O",null,5.25,4,{"$f":"IFERROR(_xlfn.STDEV.S(IF(($B$9:$BM$9=\"Sat\")+($B$9:$BM$9=\"Sun\"),$B106:$BM106,\"\")),\"\")","v":3.7749172176353749},0.26250000000000001,3.6993508955927412,"O"]
["07:00:00",26,32,8,4,30,28,23,37,17,7,2,20,27,"","","","","","","","","","","","","","","","","","","","","","","","","","","","","","","","","","","","","","","","","","","","","","","","","","","",null,null,25,27.5,23,31.5,24.5,7.5,3,null,26.75,7,{"$f":"IFERROR(_xlfn.STDEV.S(IF((($B$9:$BM$9=\"Mon\")+($B$9:$BM$9=\"Tue\")+($B$9:$BM$9=\"Wed\")+($B$9:$BM$9=\"Thu\"))*($B107:$BM107<>\"\"),$B107:$BM107,\"\")),\"\")","v":5.4072262055600424},1.3375000000000001,4.0056556241087042,"O",null,26.3,9,{"$f":"IFERROR(_xlfn.STDEV.S(IF((($B$9:$BM$9=\"Mon\")+($B$9:$BM$9=\"Tue\")+($B$9:$BM$9=\"Wed\")+($B$9:$BM$9=\"Thu\")+($B$9:$BM$9=\"Fri\"))*($B107:$BM107<>\"\"),$B107:$BM107,\"\")),\"\")","v":6.1237243569579451},1.3150000000000002,4.0007597302960907,"O",null,27.333333333333332,5,{"$f":"IFERROR(_xlfn.STDEV.S(IF((($B$9:$BM$9=\"Tue\")+($B$9:$BM$9=\"Wed\")+($B$9:$BM$9=\"Thu\"))*($B107:$BM107<>\"\"),$B107:$BM107,\"\")),\"\")","v":5.2630789467763108},1.3666666666666667,4.6132073296834895,"O",null,5.25,4,{"$f":"IFERROR(_xlfn.STDEV.S(IF(($B$9:$BM$9=\"Sat\")+($B$9:$BM$9=\"Sun\"),$B107:$BM107,\"\")),\"\")","v":2.753785273643051},0.26250000000000001,2.6986599787485779,"O"]
["08:00:00",29,25,12,10,25,19,29,34,17,15,3,40,26,"","","","","","","","","","","","","","","","","","","","","","","","","","","","","","","","","","","","","","","","","","","","","","","","","","","",null,null,32.5,22.5,29,31.5,21,13.5,6.5,null,28.875,7,{"$f":"IFERROR(_xlfn.STDEV.S(IF((($B$9:$BM$9=\"Mon\")+($B$9:$BM$9=\"Tue\")+($B$9:$BM$9=\"Wed\")+($B$9:$BM$9=\"Thu\"))*($B108:$BM108<>\"\"),$B108:$BM108,\"\")),\"\")","v":6.7188434378884878},1.4437500000000001,4.9772974130081522,"O",null,27.3,9,{"$f":"IFERROR(_xlfn.STDEV.S(IF((($B$9:$BM$9=\"Mon\")+($B$9:$BM$9=\"Tue\")+($B$9:$BM$9=\"Wed\")+($B$9:$BM$9=\"Thu\")+($B$9:$BM$9=\"Fri\"))*($B108:$BM108<>\"\"),$B108:$BM108,\"\")),\"\")","v":7.0612400547716181},1.3650000000000002,4.613258731181336,"O",null,27.666666666666668,5,{"$f":"IFERROR(_xlfn.STDEV.S(IF((($B$9:$BM$9=\"Tue\")+($B$9:$BM$9=\"Wed\")+($B$9:$BM$9=\"Thu\"))*($B108:$BM108<>\"\"),$B108:$BM108,\"\")),\"\")","v":5.5045435778091498},1.3833333333333335,4.8248565215357804,"O",null,10,4,{"$f":"IFERROR(_xlfn.STDEV.S(IF(($B$9:$BM$9=\"Sat\")+($B$9:$BM$9=\"Sun\"),$B108:$BM108,\"\")),\"\")","v":5.0990195135927845},0.5,4.9969473015543997,"O"]
["09:00:00",27,25,5,8,26,25,23,35,29,15,10,24,27,"","","","","","","","","","","","","","","","","","","","","","","","","","","","","","","","","","","","","","","","","","","","","","","","","","","",null,null,25,26,23,31,27,10,9,null,26.25,7,{"$f":"IFERROR(_xlfn.STDEV.S(IF((($B$9:$BM$9=\"Mon\")+($B$9:$BM$9=\"Tue\")+($B$9:$BM$9=\"Wed\")+($B$9:$BM$9=\"Thu\"))*($B109:$BM109<>\"\"),$B109:$BM109,\"\")),\"\")","v":3.9460649476951835},1.3125,2.9232321064319704,"O",null,26.4,9,{"$f":"IFERROR(_xlfn.STDEV.S(IF((($B$9:$BM$9=\"Mon\")+($B$9:$BM$9=\"Tue\")+($B$9:$BM$9=\"Wed\")+($B$9:$BM$9=\"Thu\")+($B$9:$BM$9=\"Fri\"))*($B109:$BM109<>\"\"),$B109:$BM109,\"\")),\"\")","v":3.5629263877386603},1.32,2.3277357998450547,"O",null,26.666666666666668,5,{"$f":"IFERROR(_xlfn.STDEV.S(IF((($B$9:$BM$9=\"Tue\")+($B$9:$BM$9=\"Wed\")+($B$9:$BM$9=\"Thu\"))*($B109:$BM109<>\"\"),$B109:$BM109,\"\")),\"\")","v":4.5607017003965469},1.3333333333333335,3.9975578412435153,"O",null,9.5,4,{"$f":"IFERROR(_xlfn.STDEV.S(IF(($B$9:$BM$9=\"Sat\")+($B$9:$BM$9=\"Sun\"),$B109:$BM109,\"\")),\"\")","v":4.2031734043061642},0.47500000000000003,4.1190342466083454,"O"]
["10:00:00",22,23,12,11,24,26,30,26,23,11,12,32,30,"","","","","","","","","","","","","","","","","","","","","","","","","","","","","","","","","","","","","","","","","","","","","","","","","","","",null,null,{"$f":"IF(COUNTIFS($B$9:$BM$9,BP$8,$B110:$BM110,\">=0\")=0,\"\",SUMIFS($B110:$BM110,$B$9:$BM$9,BP$8)/COUNTIFS($B$9:$BM$9,BP$8,$B110:$BM110,\">=0\"))","v":28},28,30,24,23,11.5,11.5,null,27.5,7,{"$f":"IFERROR(_xlfn.STDEV.S(IF((($B$9:$BM$9=\"Mon\")+($B$9:$BM$9=\"Tue\")+($B$9:$BM$9=\"Wed\")+($B$9:$BM$9=\"Thu\"))*($B110:$BM110<>\"\"),$B110:$BM110,\"\")),\"\")","v":3.6253078686998692},1.375,2.685616303318517,"O",null,26.6,9,{"$f":"IFERROR(_xlfn.STDEV.S(IF((($B$9:$BM$9=\"Mon\")+($B$9:$BM$9=\"Tue\")+($B$9:$BM$9=\"Wed\")+($B$9:$BM$9=\"Thu\")+($B$9:$BM$9=\"Fri\"))*($B110:$BM110<>\"\"),$B110:$BM110,\"\")),\"\")","v":3.6324157862838962},1.33,2.3731347059970593,"O",null,27.333333333333332,5,{"$f":"IFERROR(_xlfn.STDEV.S(IF((($B$9:$BM$9=\"Tue\")+($B$9:$BM$9=\"Wed\")+($B$9:$BM$9=\"Thu\"))*($B110:$BM110<>\"\"),$B110:$BM110,\"\")),\"\")","v":3.3466401061363089},1.3666666666666667,2.9334054882260774,"O",null,11.5,4,{"$f":"IFERROR(_xlfn.STDEV.S(IF(($B$9:$BM$9=\"Sat\")+($B$9:$BM$9=\"Sun\"),$B110:$BM110,\"\")),\"\")","v":0.57735026918962573},0.57500000000000007,0.56579286703808573,"P"]
["11:00:00",19,26,5,3,36,23,26,30,31,6,9,29,29,"","","","","","","","","","","","","","","","","","","","","","","","","","","","","","","","","","","","","","","","","","","","","","","","","","","",null,null,32.5,26,26,24.5,28.5,5.5,6,null,27.25,7,{"$f":"IFERROR(_xlfn.STDEV.S(IF((($B$9:$BM$9=\"Mon\")+($B$9:$BM$9=\"Tue\")+($B$9:$BM$9=\"Wed\")+($B$9:$BM$9=\"Thu\"))*($B111:$BM111<>\"\"),$B111:$BM111,\"\")),\"\")","v":5.4423384329759896},1.3625,4.0316666482228891,"O",null,27.5,9,{"$f":"IFERROR(_xlfn.STDEV.S(IF((($B$9:$BM$9=\"Mon\")+($B$9:$BM$9=\"Tue\")+($B$9:$BM$9=\"Wed\")+($B$9:$BM$9=\"Thu\")+($B$9:$BM$9=\"Fri\"))*($B111:$BM111<>\"\"),$B111:$BM111,\"\")),\"\")","v":4.8989794855663558},1.375,3.2006077842368721,"O",null,25.5,5,{"$f":"IFERROR(_xlfn.STDEV.S(IF((($B$9:$BM$9=\"Tue\")+($B$9:$BM$9=\"Wed\")+($B$9:$BM$9=\"Thu\"))*($B111:$BM111<>\"\"),$B111:$BM111,\"\")),\"\")","v":4.5055521304275192},1.2750000000000001,3.9492180000625576,"O",null,5.75,4,{"$f":"IFERROR(_xlfn.STDEV.S(IF(($B$9:$BM$9=\"Sat\")+($B$9:$BM$9=\"Sun\"),$B111:$BM111,\"\")),\"\")","v":2.5},0.28750000000000003,2.4499549806750669,"O"]
["12:00:00",28,14,5,7,15,19,28,30,25,7,4,26,20,"","","","","","","","","","","","","","","","","","","","","","","","","","","","","","","","","","","","","","","","","","","","","","","","","","","",null,null,20.5,19.5,28,29,19.5,6,5.5,null,24.25,7,{"$f":"IFERROR(_xlfn.STDEV.S(IF((($B$9:$BM$9=\"Mon\")+($B$9:$BM$9=\"Tue\")+($B$9:$BM$9=\"Wed\")+($B$9:$BM$9=\"Thu\"))*($B112:$BM112<>\"\"),$B112:$BM112,\"\")),\"\")","v":5.6778600932125176},1.2125000000000001,4.2061403297485089,"O",null,23.3,9,{"$f":"IFERROR(_xlfn.STDEV.S(IF((($B$9:$BM$9=\"Mon\")+($B$9:$BM$9=\"Tue\")+($B$9:$BM$9=\"Wed\")+($B$9:$BM$9=\"Thu\")+($B$9:$BM$9=\"Fri\"))*($B112:$BM112<>\"\"),$B112:$BM112,\"\")),\"\")","v":5.9324905768525635},1.165,3.8758226230847574,"O",null,25.5,5,{"$f":"IFERROR(_xlfn.STDEV.S(IF((($B$9:$BM$9=\"Tue\")+($B$9:$BM$9=\"Wed\")+($B$9:$BM$9=\"Thu\"))*($B112:$BM112<>\"\"),$B112:$BM112,\"\")),\"\")","v":5.0990195135927845},1.2750000000000001,4.4694055385039109,"O",null,5.75,4,{"$f":"IFERROR(_xlfn.STDEV.S(IF(($B$9:$BM$9=\"Sat\")+($B$9:$BM$9=\"Sun\"),$B112:$BM112,\"\")),\"\")","v":1.5},0.28750000000000003,1.4699729884050403,"O"]
["13:00:00",20,25,7,17,29,35,28,30,26,3,6,28,17,"","","","","","","","","","","","","","","","","","","","","","","","","","","","","","","","","","","","","","","","","","","","","","","","","","","",null,null,28.5,26,28,25,25.5,5,11.5,null,26.875,7,{"$f":"IFERROR(_xlfn.STDEV.S(IF((($B$9:$BM$9=\"Mon\")+($B$9:$BM$9=\"Tue\")+($B$9:$BM$9=\"Wed\")+($B$9:$BM$9=\"Thu\"))*($B113:$BM113<>\"\"),$B113:$BM113,\"\")),\"\")","v":6.156684327197711},1.34375,4.560851768276847,"O",null,26.6,9,{"$f":"IFERROR(_xlfn.STDEV.S(IF((($B$9:$BM$9=\"Mon\")+($B$9:$BM$9=\"Tue\")+($B$9:$BM$9=\"Wed\")+($B$9:$BM$9=\"Thu\")+($B$9:$BM$9=\"Fri\"))*($B113:$BM113<>\"\"),$B113:$BM113,\"\")),\"\")","v":5.3644923131436988},1.33,3.5047372430345374,"O",null,26.333333333333332,5,{"$f":"IFERROR(_xlfn.STDEV.S(IF((($B$9:$BM$9=\"Tue\")+($B$9:$BM$9=\"Wed\")+($B$9:$BM$9=\"Thu\"))*($B113:$BM113<>\"\"),$B113:$BM113,\"\")),\"\")","v":7.3824115301167001},1.3166666666666667,6.4708501099597378,"O",null,8.25,4,{"$f":"IFERROR(_xlfn.STDEV.S(IF(($B$9:$BM$9=\"Sat\")+($B$9:$BM$9=\"Sun\"),$B113:$BM113,\"\")),\"\")","v":6.0759087111860612},0.41250000000000003,5.9542811236389275,"O"]
["14:00:00",28,21,5,10,20,25,27,20,22,12,9,35,0,"","","","","","","","","","","","","","","","","","","","","","","","","","","","","","","","","","","","","","","","","","","","","","","","","","","",null,null,27.5,12.5,27,24,21.5,8.5,9.5,null,22.75,6,{"$f":"IFERROR(_xlfn.STDEV.S(IF((($B$9:$BM$9=\"Mon\")+($B$9:$BM$9=\"Tue\")+($B$9:$BM$9=\"Wed\")+($B$9:$BM$9=\"Thu\"))*($B114:$BM114<>\"\"),$B114:$BM114,\"\")),\"\")","v":11.036735197037382},1.1375,8.8310651460497311,"O",null,22.5,8,{"$f":"IFERROR(_xlfn.STDEV.S(IF((($B$9:$BM$9=\"Mon\")+($B$9:$BM$9=\"Tue\")+($B$9:$BM$9=\"Wed\")+($B$9:$BM$9=\"Thu\")+($B$9:$BM$9=\"Fri\"))*($B114:$BM114<>\"\"),$B114:$BM114,\"\")),\"\")","v":9.5655632348544959},1.125,6.6284753346217586,"O",null,21.166666666666668,4,{"$f":"IFERROR(_xlfn.STDEV.S(IF((($B$9:$BM$9=\"Tue\")+($B$9:$BM$9=\"Wed\")+($B$9:$BM$9=\"Thu\"))*($B114:$BM114<>\"\"),$B114:$BM114,\"\")),\"\")","v":11.597413504743201},1.0583333333333333,11.365256391557557,"O",null,9,4,{"$f":"IFERROR(_xlfn.STDEV.S(IF(($B$9:$BM$9=\"Sat\")+($B$9:$BM$9=\"Sun\"),$B114:$BM114,\"\")),\"\")","v":2.9439202887759488},0.45,2.8849888696788071,"O"]
["15:00:00",32,34,7,5,27,29,21,21,18,3,10,18,0,"","","","","","","","","","","","","","","","","","","","","","","","","","","","","","","","","","","","","","","","","","","","","","","","","","","",null,null,22.5,14.5,21,26.5,26,5,7.5,null,21.125,6,{"$f":"IFERROR(_xlfn.STDEV.S(IF((($B$9:$BM$9=\"Mon\")+($B$9:$BM$9=\"Tue\")+($B$9:$BM$9=\"Wed\")+($B$9:$BM$9=\"Thu\"))*($B115:$BM115<>\"\"),$B115:$BM115,\"\")),\"\")","v":10.574002260711115},1.0562500000000001,8.4608084865425717,"O",null,22.1,8,{"$f":"IFERROR(_xlfn.STDEV.S(IF((($B$9:$BM$9=\"Mon\")+($B$9:$BM$9=\"Tue\")+($B$9:$BM$9=\"Wed\")+($B$9:$BM$9=\"Thu\")+($B$9:$BM$9=\"Fri\"))*($B115:$BM115<>\"\"),$B115:$BM115,\"\")),\"\")","v":10.219806477837261},1.1050000000000002,7.0818344408741334,"O",null,20.666666666666668,4,{"$f":"IFERROR(_xlfn.STDEV.S(IF((($B$9:$BM$9=\"Tue\")+($B$9:$BM$9=\"Wed\")+($B$9:$BM$9=\"Thu\"))*($B115:$BM115<>\"\"),$B115:$BM115,\"\")),\"\")","v":12.501999840025594},1.0333333333333334,12.251734710587838,"O",null,6.25,4,{"$f":"IFERROR(_xlfn.STDEV.S(IF(($B$9:$BM$9=\"Sat\")+($B$9:$BM$9=\"Sun\"),$B115:$BM115,\"\")),\"\")","v":2.9860788111948193},0.3125,2.9263034624700124,"O"]
["16:00:00",24,21,9,5,18,22,21,23,18,11,7,22,0,"","","","","","","","","","","","","","","","","","","","","","","","","","","","","","","","","","","","","","","","","","","","","","","","","","","",null,null,20,11,21,23.5,19.5,10,6,null,18.875,6,{"$f":"IFERROR(_xlfn.STDEV.S(IF((($B$9:$BM$9=\"Mon\")+($B$9:$BM$9=\"Tue\")+($B$9:$BM$9=\"Wed\")+($B$9:$BM$9=\"Thu\"))*($B116:$BM116<>\"\"),$B116:$BM116,\"\")),\"\")","v":8.4035140042155962},0.94375000000000009,6.7240880842090025,"O",null,19,8,{"$f":"IFERROR(_xlfn.STDEV.S(IF((($B$9:$BM$9=\"Mon\")+($B$9:$BM$9=\"Tue\")+($B$9:$BM$9=\"Wed\")+($B$9:$BM$9=\"Thu\")+($B$9:$BM$9=\"Fri\"))*($B116:$BM116<>\"\"),$B116:$BM116,\"\")),\"\")","v":7.3276493123268702},0.95000000000000007,5.0777086027235461,"O",null,18.5,4,{"$f":"IFERROR(_xlfn.STDEV.S(IF((($B$9:$BM$9=\"Tue\")+($B$9:$BM$9=\"Wed\")+($B$9:$BM$9=\"Thu\"))*($B116:$BM116<>\"\"),$B116:$BM116,\"\")),\"\")","v":10.124228365658293},0.92500000000000004,9.9215614839745321,"O",null,8,4,{"$f":"IFERROR(_xlfn.STDEV.S(IF(($B$9:$BM$9=\"Sat\")+($B$9:$BM$9=\"Sun\"),$B116:$BM116,\"\")),\"\")","v":2.5819888974716112},0.4,2.5303026237633195,"O"]
["17:00:00",10,9,10,4,8,12,11,9,5,8,4,9,0,"","","","","","","","","","","","","","","","","","","","","","","","","","","","","","","","","","","","","","","","","","","","","","","","","","","",null,null,8.5,6,11,9.5,7,9,4,null,8.75,6,{"$f":"IFERROR(_xlfn.STDEV.S(IF((($B$9:$BM$9=\"Mon\")+($B$9:$BM$9=\"Tue\")+($B$9:$BM$9=\"Wed\")+($B$9:$BM$9=\"Thu\"))*($B117:$BM117<>\"\"),$B117:$BM117,\"\")),\"\")","v":3.9520940802374152},0.4375,3.1622757693110835,"O",null,8.4,8,{"$f":"IFERROR(_xlfn.STDEV.S(IF((($B$9:$BM$9=\"Mon\")+($B$9:$BM$9=\"Tue\")+($B$9:$BM$9=\"Wed\")+($B$9:$BM$9=\"Thu\")+($B$9:$BM$9=\"Fri\"))*($B117:$BM117<>\"\"),$B117:$BM117,\"\")),\"\")","v":3.6209268304000721},0.42000000000000004,2.5091281709709081,"O",null,8.8333333333333339,4,{"$f":"IFERROR(_xlfn.STDEV.S(IF((($B$9:$BM$9=\"Tue\")+($B$9:$BM$9=\"Wed\")+($B$9:$BM$9=\"Thu\"))*($B117:$BM117<>\"\"),$B117:$BM117,\"\")),\"\")","v":4.8270073544588676},0.44166666666666671,4.7303802839246725,"O",null,6.5,4,{"$f":"IFERROR(_xlfn.STDEV.S(IF(($B$9:$BM$9=\"Sat\")+($B$9:$BM$9=\"Sun\"),$B117:$BM117,\"\")),\"\")","v":3},0.32500000000000001,2.9399459768100806,"O"]
["18:00:00",8,6,3,2,5,7,12,6,8,3,5,11,0,"","","","","","","","","","","","","","","","","","","","","","","","","","","","","","","","","","","","","","","","","","","","","","","","","","","",null,null,8,3.5,12,7,7,3,3.5,null,7.625,6,{"$f":"IFERROR(_xlfn.STDEV.S(IF((($B$9:$BM$9=\"Mon\")+($B$9:$BM$9=\"Tue\")+($B$9:$BM$9=\"Wed\")+($B$9:$BM$9=\"Thu\"))*($B118:$BM118<>\"\"),$B118:$BM118,\"\")),\"\")","v":4},0.38125000000000003,3.200607784236873,"O",null,7.5,8,{"$f":"IFERROR(_xlfn.STDEV.S(IF((($B$9:$BM$9=\"Mon\")+($B$9:$BM$9=\"Tue\")+($B$9:$BM$9=\"Wed\")+($B$9:$BM$9=\"Thu\")+($B$9:$BM$9=\"Fri\"))*($B118:$BM118<>\"\"),$B118:$BM118,\"\")),\"\")","v":3.5},0.375,2.4253316926119357,"O",null,7.5,4,{"$f":"IFERROR(_xlfn.STDEV.S(IF((($B$9:$BM$9=\"Tue\")+($B$9:$BM$9=\"Wed\")+($B$9:$BM$9=\"Thu\"))*($B118:$BM118<>\"\"),$B118:$BM118,\"\")),\"\")","v":4.3358966777357599},0.375,4.2491006645244802,"O",null,3.25,4,{"$f":"IFERROR(_xlfn.STDEV.S(IF(($B$9:$BM$9=\"Sat\")+($B$9:$BM$9=\"Sun\"),$B118:$BM118,\"\")),\"\")","v":1.2583057392117916},0.16250000000000001,1.2331169651975802,"O"]
["19:00:00",6,6,5,3,5,7,3,6,4,5,1,6,0,"","","","","","","","","","","","","","","","","","","","","","","","","","","","","","","","","","","","","","","","","","","","","","","","","","","",null,null,5.5,3.5,3,6,5,5,2,null,4.5,6,{"$f":"IFERROR(_xlfn.STDEV.S(IF((($B$9:$BM$9=\"Mon\")+($B$9:$BM$9=\"Tue\")+($B$9:$BM$9=\"Wed\")+($B$9:$BM$9=\"Thu\"))*($B119:$BM119<>\"\"),$B119:$BM119,\"\")),\"\")","v":2.429971585175823},0.22500000000000001,1.9443464927470382,"O",null,4.5999999999999996,8,{"$f":"IFERROR(_xlfn.STDEV.S(IF((($B$9:$BM$9=\"Mon\")+($B$9:$BM$9=\"Tue\")+($B$9:$BM$9=\"Wed\")+($B$9:$BM$9=\"Thu\")+($B$9:$BM$9=\"Fri\"))*($B119:$BM119<>\"\"),$B119:$BM119,\"\")),\"\")","v":2.1666666666666665},0.22999999999999998,1.5013958097121505,"O",null,4.166666666666667,4,{"$f":"IFERROR(_xlfn.STDEV.S(IF((($B$9:$BM$9=\"Tue\")+($B$9:$BM$9=\"Wed\")+($B$9:$BM$9=\"Thu\"))*($B119:$BM119<>\"\"),$B119:$BM119,\"\")),\"\")","v":2.8809720581775866},0.20833333333333337,2.823300737247151,"O",null,3.5,4,{"$f":"IFERROR(_xlfn.STDEV.S(IF(($B$9:$BM$9=\"Sat\")+($B$9:$BM$9=\"Sun\"),$B119:$BM119,\"\")),\"\")","v":1.9148542155126762},0.17500000000000002,1.8765226490247717,"O"]
["20:00:00",2,1,1,1,3,0,2,3,4,3,0,2,0,"","","","","","","","","","","","","","","","","","","","","","","","","","","","","","","","","","","","","","","","","","","","","","","","","","","",null,null,2.5,0,2,2.5,2.5,2,0.5,null,1.75,5,{"$f":"IFERROR(_xlfn.STDEV.S(IF((($B$9:$BM$9=\"Mon\")+($B$9:$BM$9=\"Tue\")+($B$9:$BM$9=\"Wed\")+($B$9:$BM$9=\"Thu\"))*($B120:$BM120<>\"\"),$B120:$BM120,\"\")),\"\")","v":1.2535663410560174},8.7500000000000008E-2,1.0987791540437095,"O",null,1.9,7,{"$f":"IFERROR(_xlfn.STDEV.S(IF((($B$9:$BM$9=\"Mon\")+($B$9:$BM$9=\"Tue\")+($B$9:$BM$9=\"Wed\")+($B$9:$BM$9=\"Thu\")+($B$9:$BM$9=\"Fri\"))*($B120:$BM120<>\"\"),$B120:$BM120,\"\")),\"\")","v":1.3642254619787415},9.5000000000000001E-2,1.0106137946861526,"O",null,1.5,3,{"$f":"IFERROR(_xlfn.STDEV.S(IF((($B$9:$BM$9=\"Tue\")+($B$9:$BM$9=\"Wed\")+($B$9:$BM$9=\"Thu\"))*($B120:$BM120<>\"\"),$B120:$BM120,\"\")),\"\")","v":1.3416407864998738},7.5000000000000011E-2,1.5181815742579918,"O",null,1.25,3,{"$f":"IFERROR(_xlfn.STDEV.S(IF(($B$9:$BM$9=\"Sat\")+($B$9:$BM$9=\"Sun\"),$B120:$BM120,\"\")),\"\")","v":1.2583057392117916},6.25E-2,1.4238808235982348,"O"]
["21:00:00",2,0,0,2,1,2,0,0,0,0,1,3,0,"","","","","","","","","","","","","","","","","","","","","","","","","","","","","","","","","","","","","","","","","","","","","","","","","","","",null,null,2,1,0,1,0,0,1.5,null,1,4,{"$f":"IFERROR(_xlfn.STDEV.S(IF((($B$9:$BM$9=\"Mon\")+($B$9:$BM$9=\"Tue\")+($B$9:$BM$9=\"Wed\")+($B$9:$BM$9=\"Thu\"))*($B121:$BM121<>\"\"),$B121:$BM121,\"\")),\"\")","v":1.2149857925879117},0.05,1.1906641976000794,"O",null,0.8,4,{"$f":"IFERROR(_xlfn.STDEV.S(IF((($B$9:$BM$9=\"Mon\")+($B$9:$BM$9=\"Tue\")+($B$9:$BM$9=\"Wed\")+($B$9:$BM$9=\"Thu\")+($B$9:$BM$9=\"Fri\"))*($B121:$BM121<>\"\"),$B121:$BM121,\"\")),\"\")","v":1.1666666666666667},4.0000000000000008E-2,1.1433123243150314,"O",null,0.66666666666666663,2,{"$f":"IFERROR(_xlfn.STDEV.S(IF((($B$9:$BM$9=\"Tue\")+($B$9:$BM$9=\"Wed\")+($B$9:$BM$9=\"Thu\"))*($B121:$BM121<>\"\"),$B121:$BM121,\"\")),\"\")","v":1.0954451150103321},3.3333333333333333E-2,1.5181815742579916,"O",null,0.75,2,{"$f":"IFERROR(_xlfn.STDEV.S(IF(($B$9:$BM$9=\"Sat\")+($B$9:$BM$9=\"Sun\"),$B121:$BM121,\"\")),\"\")","v":0.9574271077563381},3.7500000000000006E-2,1.3269018901755596,"O"]
["22:00:00",1,2,2,1,1,2,1,1,1,1,1,3,0,"","","","","","","","","","","","","","","","","","","","","","","","","","","","","","","","","","","","","","","","","","","","","","","","","","","",null,null,2,1,1,1,1.5,1.5,1,null,1.25,6,{"$f":"IFERROR(_xlfn.STDEV.S(IF((($B$9:$BM$9=\"Mon\")+($B$9:$BM$9=\"Tue\")+($B$9:$BM$9=\"Wed\")+($B$9:$BM$9=\"Thu\"))*($B122:$BM122<>\"\"),$B122:$BM122,\"\")),\"\")","v":0.95118973121134187},6.25E-2,0.7610963145002998,"O",null,1.3,8,{"$f":"IFERROR(_xlfn.STDEV.S(IF((($B$9:$BM$9=\"Mon\")+($B$9:$BM$9=\"Tue\")+($B$9:$BM$9=\"Wed\")+($B$9:$BM$9=\"Thu\")+($B$9:$BM$9=\"Fri\"))*($B122:$BM122<>\"\"),$B122:$BM122,\"\")),\"\")","v":0.8660254037844386},6.5000000000000002E-2,0.60011395954441349,"O",null,1,4,{"$f":"IFERROR(_xlfn.STDEV.S(IF((($B$9:$BM$9=\"Tue\")+($B$9:$BM$9=\"Wed\")+($B$9:$BM$9=\"Thu\"))*($B122:$BM122<>\"\"),$B122:$BM122,\"\")),\"\")","v":0.70710678118654757},0.05,0.69295191217483876,"O",null,1.25,4,{"$f":"IFERROR(_xlfn.STDEV.S(IF(($B$9:$BM$9=\"Sat\")+($B$9:$BM$9=\"Sun\"),$B122:$BM122,\"\")),\"\")","v":0.5},6.25E-2,0.4899909961350134,"O"]
["23:00:00",{"$f":"IF(B$8=\"\",\"\",SUMIFS(INDIRECT(\"'\"&TEXT(B$8,\"DD_MMM_YYYY\")&\"'!T$6:T$101\"),INDIRECT(\"'\"&TEXT(B$8,\"DD_MMM_YYYY\")&\"'!a$6:a$101\"),\">=\"&$A123))","v":0},{"$f":"IF(C$8=\"\",\"\",SUMIFS(INDIRECT(\"'\"&TEXT(C$8,\"DD_MMM_YYYY\")&\"'!T$6:T$101\"),INDIRECT(\"'\"&TEXT(C$8,\"DD_MMM_YYYY\")&\"'!a$6:a$101\"),\">=\"&$A123))","v":0},1,1,1,1,0,0,2,0,2,1,0,"","","","","","","","","","","","","","","","","","","","","","","","","","","","","","","","","","","","","","","","","","","","","","","","","","","",null,null,1,0.5,0,0,1,0.5,1.5,null,0.375,3,{"$f":"IFERROR(_xlfn.STDEV.S(IF((($B$9:$BM$9=\"Mon\")+($B$9:$BM$9=\"Tue\")+($B$9:$BM$9=\"Wed\")+($B$9:$BM$9=\"Thu\"))*($B123:$BM123<>\"\"),$B123:$BM123,\"\")),\"\")","v":0.53452248382484879},1.8750000000000003E-2,0.60485801723916,"O",null,0.5,4,{"$f":"IFERROR(_xlfn.STDEV.S(IF((($B$9:$BM$9=\"Mon\")+($B$9:$BM$9=\"Tue\")+($B$9:$BM$9=\"Wed\")+($B$9:$BM$9=\"Thu\")+($B$9:$BM$9=\"Fri\"))*($B123:$BM123<>\"\"),$B123:$BM123,\"\")),\"\")","v":0.72648315725677892},2.5000000000000001E-2,0.71194041179911738,"O",null,0.16666666666666666,1,{"$f":"IFERROR(_xlfn.STDEV.S(IF((($B$9:$BM$9=\"Tue\")+($B$9:$BM$9=\"Wed\")+($B$9:$BM$9=\"Thu\"))*($B123:$BM123<>\"\"),$B123:$BM123,\"\")),\"\")","v":0.44721359549995793},8.3333333333333332E-3,0.8765225405765813,"O",null,1,3,{"$f":"IFERROR(_xlfn.STDEV.S(IF(($B$9:$BM$9=\"Sat\")+($B$9:$BM$9=\"Sun\"),$B123:$BM123,\"\")),\"\")","v":0.81649658092772603},0.05,0.92393588289978512,"O"]
["TOTAL",{"$f":"SUM(B100:B123)","v":331},{"$f":"SUM(C100:C123)","v":315},113,103,319,323,320,354,289,120,91,338,224,0,0,0,0,0,0,0,0,0,0,0,0,0,0,0,0,0,0,0,0,0,0,0,0,0,0,0,0,0,0,0,0,0,0,0,0,0,0,0,0,0,0,0,0,0,0,0,0,0,0,0]

{"sheet":"at a glance_for the report","index":20,"n_rows":113,"n_cols":22,"rows_kept":113,"cut":false,"hidden":false,"merged":[[86,1,86,7],[86,8,86,14],[86,15,86,21],[1,1,1,7],[29,1,29,7],[29,8,29,14],[29,15,29,21],[58,1,58,7]]}
[{"$f":"UPPER('1hr_summary_dir 1'!A5)","v":"DIRECTION 1"},null,{"$f":"'1hr_summary_dir 1'!B5","v":"Eastbound"}]
[null,"Mean values. CAR + LGV + HGV"]
["TIME",{"$f":"'1hr_summary_dir 1'!BP8","v":"Mon"},{"$f":"'1hr_summary_dir 1'!BQ8","v":"Tue"},{"$f":"'1hr_summary_dir 1'!BR8","v":"Wed"},{"$f":"'1hr_summary_dir 1'!BS8","v":"Thu"},{"$f":"'1hr_summary_dir 1'!BT8","v":"Fri"},{"$f":"'1hr_summary_dir 1'!BU8","v":"Sat"},{"$f":"'1hr_summary_dir 1'!BV8","v":"Sun"}]
["00:00:00",{"$f":"'1hr_summary_dir 1'!BP10","v":15},{"$f":"'1hr_summary_dir 1'!BQ10","v":24.5},{"$f":"'1hr_summary_dir 1'!BR10","v":23},{"$f":"'1hr_summary_dir 1'!BS10","v":23.5},{"$f":"'1hr_summary_dir 1'!BT10","v":29.5},{"$f":"'1hr_summary_dir 1'!BU10","v":47},{"$f":"'1hr_summary_dir 1'!BV10","v":79.5}]
["01:00:00",{"$f":"'1hr_summary_dir 1'!BP11","v":11},{"$f":"'1hr_summary_dir 1'!BQ11","v":10.5},{"$f":"'1hr_summary_dir 1'!BR11","v":10},{"$f":"'1hr_summary_dir 1'!BS11","v":10.5},{"$f":"'1hr_summary_dir 1'!BT11","v":17},{"$f":"'1hr_summary_dir 1'!BU11","v":17.5},{"$f":"'1hr_summary_dir 1'!BV11","v":39.5}]
["02:00:00",{"$f":"'1hr_summary_dir 1'!BP12","v":11},{"$f":"'1hr_summary_dir 1'!BQ12","v":10.5},{"$f":"'1hr_summary_dir 1'!BR12","v":13},{"$f":"'1hr_summary_dir 1'!BS12","v":9.5},{"$f":"'1hr_summary_dir 1'!BT12","v":10},{"$f":"'1hr_summary_dir 1'!BU12","v":9.5},{"$f":"'1hr_summary_dir 1'!BV12","v":20}]
["03:00:00",{"$f":"'1hr_summary_dir 1'!BP13","v":11.5},{"$f":"'1hr_summary_dir 1'!BQ13","v":7.5},{"$f":"'1hr_summary_dir 1'!BR13","v":9},{"$f":"'1hr_summary_dir 1'!BS13","v":8.5},{"$f":"'1hr_summary_dir 1'!BT13","v":9},{"$f":"'1hr_summary_dir 1'!BU13","v":10},{"$f":"'1hr_summary_dir 1'!BV13","v":14.5}]
["04:00:00",{"$f":"'1hr_summary_dir 1'!BP14","v":16},{"$f":"'1hr_summary_dir 1'!BQ14","v":14.5},{"$f":"'1hr_summary_dir 1'!BR14","v":19},{"$f":"'1hr_summary_dir 1'!BS14","v":23.5},{"$f":"'1hr_summary_dir 1'!BT14","v":21.5},{"$f":"'1hr_summary_dir 1'!BU14","v":14},{"$f":"'1hr_summary_dir 1'!BV14","v":12}]
["05:00:00",{"$f":"'1hr_summary_dir 1'!BP15","v":77.5},{"$f":"'1hr_summary_dir 1'!BQ15","v":78.5},{"$f":"'1hr_summary_dir 1'!BR15","v":79},{"$f":"'1hr_summary_dir 1'!BS15","v":72.5},{"$f":"'1hr_summary_dir 1'!BT15","v":73},{"$f":"'1hr_summary_dir 1'!BU15","v":46},{"$f":"'1hr_summary_dir 1'!BV15","v":29.5}]
["06:00:00",{"$f":"'1hr_summary_dir 1'!BP16","v":222.5},{"$f":"'1hr_summary_dir 1'!BQ16","v":225.5},{"$f":"'1hr_summary_dir 1'!BR16","v":240},{"$f":"'1hr_summary_dir 1'!BS16","v":220.5},{"$f":"'1hr_summary_dir 1'!BT16","v":206.5},{"$f":"'1hr_summary_dir 1'!BU16","v":89},{"$f":"'1hr_summary_dir 1'!BV16","v":46}]
["07:00:00",{"$f":"'1hr_summary_dir 1'!BP17","v":542.5},{"$f":"'1hr_summary_dir 1'!BQ17","v":578.5},{"$f":"'1hr_summary_dir 1'!BR17","v":592},{"$f":"'1hr_summary_dir 1'!BS17","v":526.5},{"$f":"'1hr_summary_dir 1'!BT17","v":507.5},{"$f":"'1hr_summary_dir 1'!BU17","v":209.5},{"$f":"'1hr_summary_dir 1'!BV17","v":88}]
["08:00:00",{"$f":"'1hr_summary_dir 1'!BP18","v":588.5},{"$f":"'1hr_summary_dir 1'!BQ18","v":598},{"$f":"'1hr_summary_dir 1'!BR18","v":607},{"$f":"'1hr_summary_dir 1'!BS18","v":603},{"$f":"'1hr_summary_dir 1'!BT18","v":607.5},{"$f":"'1hr_summary_dir 1'!BU18","v":448.5},{"$f":"'1hr_summary_dir 1'!BV18","v":200.5}]
["09:00:00",{"$f":"'1hr_summary_dir 1'!BP19","v":519.5},{"$f":"'1hr_summary_dir 1'!BQ19","v":556.5},{"$f":"'1hr_summary_dir 1'!BR19","v":505},{"$f":"'1hr_summary_dir 1'!BS19","v":569},{"$f":"'1hr_summary_dir 1'!BT19","v":556.5},{"$f":"'1hr_summary_dir 1'!BU19","v":565},{"$f":"'1hr_summary_dir 1'!BV19","v":408}]
["10:00:00",{"$f":"'1hr_summary_dir 1'!BP20","v":489},{"$f":"'1hr_summary_dir 1'!BQ20","v":502.5},{"$f":"'1hr_summary_dir 1'!BR20","v":509},{"$f":"'1hr_summary_dir 1'!BS20","v":563.5},{"$f":"'1hr_summary_dir 1'!BT20","v":588},{"$f":"'1hr_summary_dir 1'!BU20","v":706.5},{"$f":"'1hr_summary_dir 1'!BV20","v":593}]
["11:00:00",{"$f":"'1hr_summary_dir 1'!BP21","v":488.5},{"$f":"'1hr_summary_dir 1'!BQ21","v":485},{"$f":"'1hr_summary_dir 1'!BR21","v":496},{"$f":"'1hr_summary_dir 1'!BS21","v":548.5},{"$f":"'1hr_summary_dir 1'!BT21","v":559.5},{"$f":"'1hr_summary_dir 1'!BU21","v":667.5},{"$f":"'1hr_summary_dir 1'!BV21","v":621.5}]
["12:00:00",{"$f":"'1hr_summary_dir 1'!BP22","v":513},{"$f":"'1hr_summary_dir 1'!BQ22","v":479.5},{"$f":"'1hr_summary_dir 1'!BR22","v":532},{"$f":"'1hr_summary_dir 1'!BS22","v":525.5},{"$f":"'1hr_summary_dir 1'!BT22","v":585},{"$f":"'1hr_summary_dir 1'!BU22","v":685},{"$f":"'1hr_summary_dir 1'!BV22","v":565}]
["13:00:00",{"$f":"'1hr_summary_dir 1'!BP23","v":539},{"$f":"'1hr_summary_dir 1'!BQ23","v":384},{"$f":"'1hr_summary_dir 1'!BR23","v":506},{"$f":"'1hr_summary_dir 1'!BS23","v":546},{"$f":"'1hr_summary_dir 1'!BT23","v":591},{"$f":"'1hr_summary_dir 1'!BU23","v":608.5},{"$f":"'1hr_summary_dir 1'!BV23","v":546.5}]
["14:00:00",{"$f":"'1hr_summary_dir 1'!BP24","v":520.5},{"$f":"'1hr_summary_dir 1'!BQ24","v":250},{"$f":"'1hr_summary_dir 1'!BR24","v":532},{"$f":"'1hr_summary_dir 1'!BS24","v":510},{"$f":"'1hr_summary_dir 1'!BT24","v":621},{"$f":"'1hr_summary_dir 1'!BU24","v":581},{"$f":"'1hr_summary_dir 1'!BV24","v":487.5},null,null,"TOP 5 busiest hours"]
["15:00:00",{"$f":"'1hr_summary_dir 1'!BP25","v":597.5},{"$f":"'1hr_summary_dir 1'!BQ25","v":283.5},{"$f":"'1hr_summary_dir 1'!BR25","v":535},{"$f":"'1hr_summary_dir 1'!BS25","v":549},{"$f":"'1hr_summary_dir 1'!BT25","v":632.5},{"$f":"'1hr_summary_dir 1'!BU25","v":463.5},{"$f":"'1hr_summary_dir 1'!BV25","v":405.5},null,null,{"$f":"B3","v":"Mon"},"Tue","Wed","Thu","Fri","Sat","Sun",null,"Busiest day of the week",null,null,{"$f":"INDEX(B3:H3,MATCH(LARGE(B28:H28,1),B28:H28,0))","v":"Fri"}]
["16:00:00",{"$f":"'1hr_summary_dir 1'!BP26","v":634},{"$f":"'1hr_summary_dir 1'!BQ26","v":315.5},{"$f":"'1hr_summary_dir 1'!BR26","v":629},{"$f":"'1hr_summary_dir 1'!BS26","v":655.5},{"$f":"'1hr_summary_dir 1'!BT26","v":701},{"$f":"'1hr_summary_dir 1'!BU26","v":435.5},{"$f":"'1hr_summary_dir 1'!BV26","v":347.5},null,null,{"$f":"'rolling hour totals_dir 1'!BP108","v":"16:45:00"},{"$f":"'rolling hour totals_dir 1'!BQ108","v":"16:30:00"},{"$f":"'rolling hour totals_dir 1'!BR108","v":"16:45:00"},{"$f":"'rolling hour totals_dir 1'!BS108","v":"16:30:00"},{"$f":"'rolling hour totals_dir 1'!BT108","v":"16:30:00"},{"$f":"'rolling hour totals_dir 1'!BU108","v":"10:15:00"},{"$f":"'rolling hour totals_dir 1'!BV108","v":"11:15:00"},null,"Maximum flow on any day",null,null,{"$f":"LARGE(B4:H27,1)","v":751}]
["17:00:00",{"$f":"'1hr_summary_dir 1'!BP27","v":751},{"$f":"'1hr_summary_dir 1'!BQ27","v":337.5},{"$f":"'1hr_summary_dir 1'!BR27","v":737},{"$f":"'1hr_summary_dir 1'!BS27","v":695},{"$f":"'1hr_summary_dir 1'!BT27","v":706},{"$f":"'1hr_summary_dir 1'!BU27","v":404.5},{"$f":"'1hr_summary_dir 1'!BV27","v":296},null,null,{"$f":"'rolling hour totals_dir 1'!BP109","v":"16:30:00"},{"$f":"'rolling hour totals_dir 1'!BQ109","v":"16:45:00"},{"$f":"'rolling hour totals_dir 1'!BR109","v":"16:30:00"},{"$f":"'rolling hour totals_dir 1'!BS109","v":"16:45:00"},{"$f":"'rolling hour totals_dir 1'!BT109","v":"16:15:00"},{"$f":"'rolling hour totals_dir 1'!BU109","v":"10:00:00"},{"$f":"'rolling hour totals_dir 1'!BV109","v":"11:30:00"},null,"Average Mon-Fri flow",null,null,{"$f":"AVERAGE(B28:F28)","v":7609.5}]
["18:00:00",{"$f":"'1hr_summary_dir 1'!BP28","v":446.5},{"$f":"'1hr_summary_dir 1'!BQ28","v":222},{"$f":"'1hr_summary_dir 1'!BR28","v":571},{"$f":"'1hr_summary_dir 1'!BS28","v":540},{"$f":"'1hr_summary_dir 1'!BT28","v":529.5},{"$f":"'1hr_summary_dir 1'!BU28","v":369},{"$f":"'1hr_summary_dir 1'!BV28","v":253},null,null,{"$f":"'rolling hour totals_dir 1'!BP110","v":"17:00:00"},{"$f":"'rolling hour totals_dir 1'!BQ110","v":"16:15:00"},{"$f":"'rolling hour totals_dir 1'!BR110","v":"17:00:00"},{"$f":"'rolling hour totals_dir 1'!BS110","v":"16:15:00"},{"$f":"'rolling hour totals_dir 1'!BT110","v":"16:45:00"},{"$f":"'rolling hour totals_dir 1'!BU110","v":"11:45:00"},{"$f":"'rolling hour totals_dir 1'!BV110","v":"11:00:00"},null,"Average Sat-Sun flow",null,null,{"$f":"AVERAGE(G28:H28)","v":6456.5}]
["19:00:00",{"$f":"'1hr_summary_dir 1'!BP29","v":291.5},{"$f":"'1hr_summary_dir 1'!BQ29","v":160.5},{"$f":"'1hr_summary_dir 1'!BR29","v":325},{"$f":"'1hr_summary_dir 1'!BS29","v":371.5},{"$f":"'1hr_summary_dir 1'!BT29","v":359.5},{"$f":"'1hr_summary_dir 1'!BU29","v":290.5},{"$f":"'1hr_summary_dir 1'!BV29","v":215.5},null,null,{"$f":"'rolling hour totals_dir 1'!BP111","v":"16:15:00"},{"$f":"'rolling hour totals_dir 1'!BQ111","v":"17:00:00"},{"$f":"'rolling hour totals_dir 1'!BR111","v":"16:15:00"},{"$f":"'rolling hour totals_dir 1'!BS111","v":"17:00:00"},{"$f":"'rolling hour totals_dir 1'!BT111","v":"17:00:00"},{"$f":"'rolling hour totals_dir 1'!BU111","v":"09:45:00"},{"$f":"'rolling hour totals_dir 1'!BV111","v":"10:45:00"}]
["20:00:00",{"$f":"'1hr_summary_dir 1'!BP30","v":183},{"$f":"'1hr_summary_dir 1'!BQ30","v":84},{"$f":"'1hr_summary_dir 1'!BR30","v":174},{"$f":"'1hr_summary_dir 1'!BS30","v":181.5},{"$f":"'1hr_summary_dir 1'!BT30","v":210.5},{"$f":"'1hr_summary_dir 1'!BU30","v":201.5},{"$f":"'1hr_summary_dir 1'!BV30","v":153.5},null,null,{"$f":"'rolling hour totals_dir 1'!BP112","v":"17:15:00"},{"$f":"'rolling hour totals_dir 1'!BQ112","v":"16:00:00"},{"$f":"'rolling hour totals_dir 1'!BR112","v":"17:15:00"},{"$f":"'rolling hour totals_dir 1'!BS112","v":"17:15:00"},{"$f":"'rolling hour totals_dir 1'!BT112","v":"15:45:00"},{"$f":"'rolling hour totals_dir 1'!BU112","v":"09:45:00"},{"$f":"'rolling hour totals_dir 1'!BV112","v":"11:45:00"}]
["21:00:00",{"$f":"'1hr_summary_dir 1'!BP31","v":143},{"$f":"'1hr_summary_dir 1'!BQ31","v":71},{"$f":"'1hr_summary_dir 1'!BR31","v":153},{"$f":"'1hr_summary_dir 1'!BS31","v":148.5},{"$f":"'1hr_summary_dir 1'!BT31","v":173.5},{"$f":"'1hr_summary_dir 1'!BU31","v":156.5},{"$f":"'1hr_summary_dir 1'!BV31","v":114.5}]
["22:00:00",{"$f":"'1hr_summary_dir 1'!BP32","v":76},{"$f":"'1hr_summary_dir 1'!BQ32","v":72},{"$f":"'1hr_summary_dir 1'!BR32","v":98},{"$f":"'1hr_summary_dir 1'!BS32","v":111},{"$f":"'1hr_summary_dir 1'!BT32","v":150.5},{"$f":"'1hr_summary_dir 1'!BU32","v":140},{"$f":"'1hr_summary_dir 1'!BV32","v":71},null,null,{"$f":"K19","v":"Mon"},"Tue","Wed","Thu","Fri","Sat","Sun"]
["23:00:00",{"$f":"'1hr_summary_dir 1'!BP33","v":40.5},{"$f":"'1hr_summary_dir 1'!BQ33","v":23.5},{"$f":"'1hr_summary_dir 1'!BR33","v":59},{"$f":"'1hr_summary_dir 1'!BS33","v":48.5},{"$f":"'1hr_summary_dir 1'!BT33","v":85},{"$f":"'1hr_summary_dir 1'!BU33","v":104},{"$f":"'1hr_summary_dir 1'!BV33","v":36},null,"% LGV",{"$f":"IFERROR(I56/B28,\"\")","v":0.32990424430641824},0.34943722943722944,0.34138061109015466,0.33438779307778194,0.33685012601840453,0.33654309099662977,0.32595020820412862]
["TOTAL",{"$f":"SUM(B4:B27)","v":7728},{"$f":"SUM(C4:C27)","v":5775},7953,8061,8530.5,7269.5,5643.5,null,"% HGV",{"$f":"IFERROR(P56/B28,\"\")","v":4.8460144927536232E-2},5.1341991341991342E-2,4.3379856657864958E-2,4.6148120580573132E-2,4.0677568723990386E-2,1.7745374509938787E-2,1.6744927793036237E-2]
[]
[null,"Mean values. CAR",null,null,null,null,null,null,"LGV",null,null,null,null,null,null,"HGV"]
["TIME",{"$f":"'1hr_summary_dir 1'!BP38","v":"Mon"},{"$f":"'1hr_summary_dir 1'!BQ38","v":"Tue"},{"$f":"'1hr_summary_dir 1'!BR38","v":"Wed"},{"$f":"'1hr_summary_dir 1'!BS38","v":"Thu"},{"$f":"'1hr_summary_dir 1'!BT38","v":"Fri"},{"$f":"'1hr_summary_dir 1'!BU38","v":"Sat"},{"$f":"'1hr_summary_dir 1'!BV38","v":"Sun"},{"$f":"'1hr_summary_dir 1'!BP68","v":"Mon"},{"$f":"'1hr_summary_dir 1'!BQ68","v":"Tue"},{"$f":"'1hr_summary_dir 1'!BR68","v":"Wed"},{"$f":"'1hr_summary_dir 1'!BS68","v":"Thu"},{"$f":"'1hr_summary_dir 1'!BT68","v":"Fri"},{"$f":"'1hr_summary_dir 1'!BU68","v":"Sat"},{"$f":"'1hr_summary_dir 1'!BV68","v":"Sun"},{"$f":"'1hr_summary_dir 1'!BP98","v":"Mon"},{"$f":"'1hr_summary_dir 1'!BQ98","v":"Tue"},{"$f":"'1hr_summary_dir 1'!BR98","v":"Wed"},{"$f":"'1hr_summary_dir 1'!BS98","v":"Thu"},{"$f":"'1hr_summary_dir 1'!BT98","v":"Fri"},{"$f":"'1hr_summary_dir 1'!BU98","v":"Sat"},{"$f":"'1hr_summary_dir 1'!BV98","v":"Sun"}]
["00:00:00",{"$f":"'1hr_summary_dir 1'!BP40","v":8},{"$f":"'1hr_summary_dir 1'!BQ40","v":15},{"$f":"'1hr_summary_dir 1'!BR40","v":13},{"$f":"'1hr_summary_dir 1'!BS40","v":11.5},{"$f":"'1hr_summary_dir 1'!BT40","v":17},{"$f":"'1hr_summary_dir 1'!BU40","v":21.5},{"$f":"'1hr_summary_dir 1'!BV40","v":49},{"$f":"'1hr_summary_dir 1'!BP70","v":5.5},{"$f":"'1hr_summary_dir 1'!BQ70","v":9},{"$f":"'1hr_summary_dir 1'!BR70","v":9},{"$f":"'1hr_summary_dir 1'!BS70","v":11.5},{"$f":"'1hr_summary_dir 1'!BT70","v":11.5},{"$f":"'1hr_summary_dir 1'!BU70","v":23.5},{"$f":"'1hr_summary_dir 1'!BV70","v":29},{"$f":"'1hr_summary_dir 1'!BP100","v":1},{"$f":"'1hr_summary_dir 1'!BQ100","v":2},{"$f":"'1hr_summary_dir 1'!BR100","v":1},{"$f":"'1hr_summary_dir 1'!BS100","v":0.5},{"$f":"'1hr_summary_dir 1'!BT100","v":1},{"$f":"'1hr_summary_dir 1'!BU100","v":2},{"$f":"'1hr_summary_dir 1'!BV100","v":1.5}]
["01:00:00",{"$f":"'1hr_summary_dir 1'!BP41","v":5},{"$f":"'1hr_summary_dir 1'!BQ41","v":3},{"$f":"'1hr_summary_dir 1'!BR41","v":3},{"$f":"'1hr_summary_dir 1'!BS41","v":3},{"$f":"'1hr_summary_dir 1'!BT41","v":6.5},{"$f":"'1hr_summary_dir 1'!BU41","v":9.5},{"$f":"'1hr_summary_dir 1'!BV41","v":23},{"$f":"'1hr_summary_dir 1'!BP71","v":4.5},{"$f":"'1hr_summary_dir 1'!BQ71","v":5},{"$f":"'1hr_summary_dir 1'!BR71","v":5},{"$f":"'1hr_summary_dir 1'!BS71","v":6},{"$f":"'1hr_summary_dir 1'!BT71","v":9.5},{"$f":"'1hr_summary_dir 1'!BU71","v":6.5},{"$f":"'1hr_summary_dir 1'!BV71","v":15},{"$f":"'1hr_summary_dir 1'!BP101","v":2},{"$f":"'1hr_summary_dir 1'!BQ101","v":1.5},{"$f":"'1hr_summary_dir 1'!BR101","v":2},{"$f":"'1hr_summary_dir 1'!BS101","v":1.5},{"$f":"'1hr_summary_dir 1'!BT101","v":1},{"$f":"'1hr_summary_dir 1'!BU101","v":1.5},{"$f":"'1hr_summary_dir 1'!BV101","v":1.5}]
["02:00:00",{"$f":"'1hr_summary_dir 1'!BP42","v":3.5},{"$f":"'1hr_summary_dir 1'!BQ42","v":4},{"$f":"'1hr_summary_dir 1'!BR42","v":9},{"$f":"'1hr_summary_dir 1'!BS42","v":4},{"$f":"'1hr_summary_dir 1'!BT42","v":3.5},{"$f":"'1hr_summary_dir 1'!BU42","v":2},{"$f":"'1hr_summary_dir 1'!BV42","v":12},{"$f":"'1hr_summary_dir 1'!BP72","v":5},{"$f":"'1hr_summary_dir 1'!BQ72","v":3.5},{"$f":"'1hr_summary_dir 1'!BR72","v":3},{"$f":"'1hr_summary_dir 1'!BS72","v":2.5},{"$f":"'1hr_summary_dir 1'!BT72","v":4},{"$f":"'1hr_summary_dir 1'!BU72","v":5},{"$f":"'1hr_summary_dir 1'!BV72","v":7},{"$f":"'1hr_summary_dir 1'!BP102","v":2.5},{"$f":"'1hr_summary_dir 1'!BQ102","v":3},{"$f":"'1hr_summary_dir 1'!BR102","v":1},{"$f":"'1hr_summary_dir 1'!BS102","v":3},{"$f":"'1hr_summary_dir 1'!BT102","v":2.5},{"$f":"'1hr_summary_dir 1'!BU102","v":2.5},{"$f":"'1hr_summary_dir 1'!BV102","v":1}]
["03:00:00",{"$f":"'1hr_summary_dir 1'!BP43","v":3},{"$f":"'1hr_summary_dir 1'!BQ43","v":1},{"$f":"'1hr_summary_dir 1'!BR43","v":4},{"$f":"'1hr_summary_dir 1'!BS43","v":2.5},{"$f":"'1hr_summary_dir 1'!BT43","v":1.5},{"$f":"'1hr_summary_dir 1'!BU43","v":2.5},{"$f":"'1hr_summary_dir 1'!BV43","v":3.5},{"$f":"'1hr_summary_dir 1'!BP73","v":6},{"$f":"'1hr_summary_dir 1'!BQ73","v":4.5},{"$f":"'1hr_summary_dir 1'!BR73","v":4},{"$f":"'1hr_summary_dir 1'!BS73","v":4.5},{"$f":"'1hr_summary_dir 1'!BT73","v":5.5},{"$f":"'1hr_summary_dir 1'!BU73","v":5},{"$f":"'1hr_summary_dir 1'!BV73","v":11},{"$f":"'1hr_summary_dir 1'!BP103","v":2.5},{"$f":"'1hr_summary_dir 1'!BQ103","v":2},{"$f":"'1hr_summary_dir 1'!BR103","v":1},{"$f":"'1hr_summary_dir 1'!BS103","v":1.5},{"$f":"'1hr_summary_dir 1'!BT103","v":2},{"$f":"'1hr_summary_dir 1'!BU103","v":2.5},{"$f":"'1hr_summary_dir 1'!BV103","v":0}]
["04:00:00",{"$f":"'1hr_summary_dir 1'!BP44","v":7.5},{"$f":"'1hr_summary_dir 1'!BQ44","v":6},{"$f":"'1hr_summary_dir 1'!BR44","v":6},{"$f":"'1hr_summary_dir 1'!BS44","v":12.5},{"$f":"'1hr_summary_dir 1'!BT44","v":10},{"$f":"'1hr_summary_dir 1'!BU44","v":3.5},{"$f":"'1hr_summary_dir 1'!BV44","v":6.5},{"$f":"'1hr_summary_dir 1'!BP74","v":7.5},{"$f":"'1hr_summary_dir 1'!BQ74","v":8},{"$f":"'1hr_summary_dir 1'!BR74","v":11},{"$f":"'1hr_summary_dir 1'!BS74","v":9},{"$f":"'1hr_summary_dir 1'!BT74","v":9},{"$f":"'1hr_summary_dir 1'!BU74","v":6.5},{"$f":"'1hr_summary_dir 1'!BV74","v":5},{"$f":"'1hr_summary_dir 1'!BP104","v":1},{"$f":"'1hr_summary_dir 1'!BQ104","v":0.5},{"$f":"'1hr_summary_dir 1'!BR104","v":2},{"$f":"'1hr_summary_dir 1'!BS104","v":2},{"$f":"'1hr_summary_dir 1'!BT104","v":2.5},{"$f":"'1hr_summary_dir 1'!BU104","v":4},{"$f":"'1hr_summary_dir 1'!BV104","v":0.5}]
["05:00:00",{"$f":"'1hr_summary_dir 1'!BP45","v":41.5},{"$f":"'1hr_summary_dir 1'!BQ45","v":43.5},{"$f":"'1hr_summary_dir 1'!BR45","v":45},{"$f":"'1hr_summary_dir 1'!BS45","v":37.5},{"$f":"'1hr_summary_dir 1'!BT45","v":37.5},{"$f":"'1hr_summary_dir 1'!BU45","v":25},{"$f":"'1hr_summary_dir 1'!BV45","v":15},{"$f":"'1hr_summary_dir 1'!BP75","v":29},{"$f":"'1hr_summary_dir 1'!BQ75","v":27},{"$f":"'1hr_summary_dir 1'!BR75","v":26},{"$f":"'1hr_summary_dir 1'!BS75","v":25},{"$f":"'1hr_summary_dir 1'!BT75","v":26.5},{"$f":"'1hr_summary_dir 1'!BU75","v":18},{"$f":"'1hr_summary_dir 1'!BV75","v":14.5},{"$f":"'1hr_summary_dir 1'!BP105","v":7},{"$f":"'1hr_summary_dir 1'!BQ105","v":8},{"$f":"'1hr_summary_dir 1'!BR105","v":8},{"$f":"'1hr_summary_dir 1'!BS105","v":10},{"$f":"'1hr_summary_dir 1'!BT105","v":9},{"$f":"'1hr_summary_dir 1'!BU105","v":3},{"$f":"'1hr_summary_dir 1'!BV105","v":0}]
["06:00:00",{"$f":"'1hr_summary_dir 1'!BP46","v":130},{"$f":"'1hr_summary_dir 1'!BQ46","v":115.5},{"$f":"'1hr_summary_dir 1'!BR46","v":151},{"$f":"'1hr_summary_dir 1'!BS46","v":128},{"$f":"'1hr_summary_dir 1'!BT46","v":112.5},{"$f":"'1hr_summary_dir 1'!BU46","v":55.5},{"$f":"'1hr_summary_dir 1'!BV46","v":31.5},{"$f":"'1hr_summary_dir 1'!BP76","v":82},{"$f":"'1hr_summary_dir 1'!BQ76","v":93.5},{"$f":"'1hr_summary_dir 1'!BR76","v":79},{"$f":"'1hr_summary_dir 1'!BS76","v":79.5},{"$f":"'1hr_summary_dir 1'!BT76","v":83},{"$f":"'1hr_summary_dir 1'!BU76","v":28},{"$f":"'1hr_summary_dir 1'!BV76","v":14},{"$f":"'1hr_summary_dir 1'!BP106","v":10.5},{"$f":"'1hr_summary_dir 1'!BQ106","v":16.5},{"$f":"'1hr_summary_dir 1'!BR106","v":10},{"$f":"'1hr_summary_dir 1'!BS106","v":13},{"$f":"'1hr_summary_dir 1'!BT106","v":11},{"$f":"'1hr_summary_dir 1'!BU106","v":5.5},{"$f":"'1hr_summary_dir 1'!BV106","v":0.5}]
["07:00:00",{"$f":"'1hr_summary_dir 1'!BP47","v":356.5},{"$f":"'1hr_summary_dir 1'!BQ47","v":355},{"$f":"'1hr_summary_dir 1'!BR47","v":397},{"$f":"'1hr_summary_dir 1'!BS47","v":324.5},{"$f":"'1hr_summary_dir 1'!BT47","v":308.5},{"$f":"'1hr_summary_dir 1'!BU47","v":124.5},{"$f":"'1hr_summary_dir 1'!BV47","v":58},{"$f":"'1hr_summary_dir 1'!BP77","v":163},{"$f":"'1hr_summary_dir 1'!BQ77","v":201.5},{"$f":"'1hr_summary_dir 1'!BR77","v":174},{"$f":"'1hr_summary_dir 1'!BS77","v":182},{"$f":"'1hr_summary_dir 1'!BT77","v":176.5},{"$f":"'1hr_summary_dir 1'!BU77","v":78},{"$f":"'1hr_summary_dir 1'!BV77","v":27},{"$f":"'1hr_summary_dir 1'!BP107","v":23},{"$f":"'1hr_summary_dir 1'!BQ107","v":22},{"$f":"'1hr_summary_dir 1'!BR107","v":21},{"$f":"'1hr_summary_dir 1'!BS107","v":20},{"$f":"'1hr_summary_dir 1'!BT107","v":22.5},{"$f":"'1hr_summary_dir 1'!BU107","v":7},{"$f":"'1hr_summary_dir 1'!BV107","v":3}]
["08:00:00",{"$f":"'1hr_summary_dir 1'!BP48","v":381},{"$f":"'1hr_summary_dir 1'!BQ48","v":396.5},{"$f":"'1hr_summary_dir 1'!BR48","v":379},{"$f":"'1hr_summary_dir 1'!BS48","v":398.5},{"$f":"'1hr_summary_dir 1'!BT48","v":380.5},{"$f":"'1hr_summary_dir 1'!BU48","v":281.5},{"$f":"'1hr_summary_dir 1'!BV48","v":125.5},{"$f":"'1hr_summary_dir 1'!BP78","v":182.5},{"$f":"'1hr_summary_dir 1'!BQ78","v":179},{"$f":"'1hr_summary_dir 1'!BR78","v":198},{"$f":"'1hr_summary_dir 1'!BS78","v":179.5},{"$f":"'1hr_summary_dir 1'!BT78","v":204.5},{"$f":"'1hr_summary_dir 1'!BU78","v":155.5},{"$f":"'1hr_summary_dir 1'!BV78","v":70},{"$f":"'1hr_summary_dir 1'!BP108","v":25},{"$f":"'1hr_summary_dir 1'!BQ108","v":22.5},{"$f":"'1hr_summary_dir 1'!BR108","v":30},{"$f":"'1hr_summary_dir 1'!BS108","v":25},{"$f":"'1hr_summary_dir 1'!BT108","v":22.5},{"$f":"'1hr_summary_dir 1'!BU108","v":11.5},{"$f":"'1hr_summary_dir 1'!BV108","v":5}]
["09:00:00",{"$f":"'1hr_summary_dir 1'!BP49","v":325.5},{"$f":"'1hr_summary_dir 1'!BQ49","v":339.5},{"$f":"'1hr_summary_dir 1'!BR49","v":294},{"$f":"'1hr_summary_dir 1'!BS49","v":349.5},{"$f":"'1hr_summary_dir 1'!BT49","v":344.5},{"$f":"'1hr_summary_dir 1'!BU49","v":366.5},{"$f":"'1hr_summary_dir 1'!BV49","v":258.5},{"$f":"'1hr_summary_dir 1'!BP79","v":162},{"$f":"'1hr_summary_dir 1'!BQ79","v":192.5},{"$f":"'1hr_summary_dir 1'!BR79","v":181},{"$f":"'1hr_summary_dir 1'!BS79","v":189},{"$f":"'1hr_summary_dir 1'!BT79","v":182.5},{"$f":"'1hr_summary_dir 1'!BU79","v":189.5},{"$f":"'1hr_summary_dir 1'!BV79","v":142.5},{"$f":"'1hr_summary_dir 1'!BP109","v":32},{"$f":"'1hr_summary_dir 1'!BQ109","v":24.5},{"$f":"'1hr_summary_dir 1'!BR109","v":30},{"$f":"'1hr_summary_dir 1'!BS109","v":30.5},{"$f":"'1hr_summary_dir 1'!BT109","v":29.5},{"$f":"'1hr_summary_dir 1'!BU109","v":9},{"$f":"'1hr_summary_dir 1'!BV109","v":7}]
["10:00:00",{"$f":"'1hr_summary_dir 1'!BP50","v":284},{"$f":"'1hr_summary_dir 1'!BQ50","v":296},{"$f":"'1hr_summary_dir 1'!BR50","v":305},{"$f":"'1hr_summary_dir 1'!BS50","v":338},{"$f":"'1hr_summary_dir 1'!BT50","v":369},{"$f":"'1hr_summary_dir 1'!BU50","v":494},{"$f":"'1hr_summary_dir 1'!BV50","v":385},{"$f":"'1hr_summary_dir 1'!BP80","v":175},{"$f":"'1hr_summary_dir 1'!BQ80","v":175.5},{"$f":"'1hr_summary_dir 1'!BR80","v":177},{"$f":"'1hr_summary_dir 1'!BS80","v":195},{"$f":"'1hr_summary_dir 1'!BT80","v":192.5},{"$f":"'1hr_summary_dir 1'!BU80","v":198.5},{"$f":"'1hr_summary_dir 1'!BV80","v":196},{"$f":"'1hr_summary_dir 1'!BP110","v":30},{"$f":"'1hr_summary_dir 1'!BQ110","v":31},{"$f":"'1hr_summary_dir 1'!BR110","v":27},{"$f":"'1hr_summary_dir 1'!BS110","v":30.5},{"$f":"'1hr_summary_dir 1'!BT110","v":26.5},{"$f":"'1hr_summary_dir 1'!BU110","v":14},{"$f":"'1hr_summary_dir 1'!BV110","v":12}]
["11:00:00",{"$f":"'1hr_summary_dir 1'!BP51","v":298.5},{"$f":"'1hr_summary_dir 1'!BQ51","v":270.5},{"$f":"'1hr_summary_dir 1'!BR51","v":290},{"$f":"'1hr_summary_dir 1'!BS51","v":346},{"$f":"'1hr_summary_dir 1'!BT51","v":351},{"$f":"'1hr_summary_dir 1'!BU51","v":452},{"$f":"'1hr_summary_dir 1'!BV51","v":431.5},{"$f":"'1hr_summary_dir 1'!BP81","v":153},{"$f":"'1hr_summary_dir 1'!BQ81","v":172.5},{"$f":"'1hr_summary_dir 1'!BR81","v":180},{"$f":"'1hr_summary_dir 1'!BS81","v":170},{"$f":"'1hr_summary_dir 1'!BT81","v":177.5},{"$f":"'1hr_summary_dir 1'!BU81","v":206.5},{"$f":"'1hr_summary_dir 1'!BV81","v":179.5},{"$f":"'1hr_summary_dir 1'!BP111","v":37},{"$f":"'1hr_summary_dir 1'!BQ111","v":42},{"$f":"'1hr_summary_dir 1'!BR111","v":26},{"$f":"'1hr_summary_dir 1'!BS111","v":32.5},{"$f":"'1hr_summary_dir 1'!BT111","v":31},{"$f":"'1hr_summary_dir 1'!BU111","v":9},{"$f":"'1hr_summary_dir 1'!BV111","v":10.5}]
["12:00:00",{"$f":"'1hr_summary_dir 1'!BP52","v":312.5},{"$f":"'1hr_summary_dir 1'!BQ52","v":279},{"$f":"'1hr_summary_dir 1'!BR52","v":313},{"$f":"'1hr_summary_dir 1'!BS52","v":323},{"$f":"'1hr_summary_dir 1'!BT52","v":349.5},{"$f":"'1hr_summary_dir 1'!BU52","v":457},{"$f":"'1hr_summary_dir 1'!BV52","v":384},{"$f":"'1hr_summary_dir 1'!BP82","v":165.5},{"$f":"'1hr_summary_dir 1'!BQ82","v":171.5},{"$f":"'1hr_summary_dir 1'!BR82","v":183},{"$f":"'1hr_summary_dir 1'!BS82","v":169.5},{"$f":"'1hr_summary_dir 1'!BT82","v":204},{"$f":"'1hr_summary_dir 1'!BU82","v":219},{"$f":"'1hr_summary_dir 1'!BV82","v":175.5},{"$f":"'1hr_summary_dir 1'!BP112","v":35},{"$f":"'1hr_summary_dir 1'!BQ112","v":29},{"$f":"'1hr_summary_dir 1'!BR112","v":36},{"$f":"'1hr_summary_dir 1'!BS112","v":33},{"$f":"'1hr_summary_dir 1'!BT112","v":31.5},{"$f":"'1hr_summary_dir 1'!BU112","v":9},{"$f":"'1hr_summary_dir 1'!BV112","v":5.5}]
["13:00:00",{"$f":"'1hr_summary_dir 1'!BP53","v":333},{"$f":"'1hr_summary_dir 1'!BQ53","v":222.5},{"$f":"'1hr_summary_dir 1'!BR53","v":327},{"$f":"'1hr_summary_dir 1'!BS53","v":362},{"$f":"'1hr_summary_dir 1'!BT53","v":381},{"$f":"'1hr_summary_dir 1'!BU53","v":397},{"$f":"'1hr_summary_dir 1'!BV53","v":380.5},{"$f":"'1hr_summary_dir 1'!BP83","v":174.5},{"$f":"'1hr_summary_dir 1'!BQ83","v":138.5},{"$f":"'1hr_summary_dir 1'!BR83","v":149},{"$f":"'1hr_summary_dir 1'!BS83","v":158},{"$f":"'1hr_summary_dir 1'!BT83","v":181},{"$f":"'1hr_summary_dir 1'!BU83","v":202},{"$f":"'1hr_summary_dir 1'!BV83","v":155.5},{"$f":"'1hr_summary_dir 1'!BP113","v":31.5},{"$f":"'1hr_summary_dir 1'!BQ113","v":23},{"$f":"'1hr_summary_dir 1'!BR113","v":30},{"$f":"'1hr_summary_dir 1'!BS113","v":26},{"$f":"'1hr_summary_dir 1'!BT113","v":29},{"$f":"'1hr_summary_dir 1'!BU113","v":9.5},{"$f":"'1hr_summary_dir 1'!BV113","v":10.5}]
["14:00:00",{"$f":"'1hr_summary_dir 1'!BP54","v":332.5},{"$f":"'1hr_summary_dir 1'!BQ54","v":144},{"$f":"'1hr_summary_dir 1'!BR54","v":314},{"$f":"'1hr_summary_dir 1'!BS54","v":299.5},{"$f":"'1hr_summary_dir 1'!BT54","v":386.5},{"$f":"'1hr_summary_dir 1'!BU54","v":373},{"$f":"'1hr_summary_dir 1'!BV54","v":342.5},{"$f":"'1hr_summary_dir 1'!BP84","v":157},{"$f":"'1hr_summary_dir 1'!BQ84","v":91.5},{"$f":"'1hr_summary_dir 1'!BR84","v":179},{"$f":"'1hr_summary_dir 1'!BS84","v":175},{"$f":"'1hr_summary_dir 1'!BT84","v":199.5},{"$f":"'1hr_summary_dir 1'!BU84","v":200.5},{"$f":"'1hr_summary_dir 1'!BV84","v":136},{"$f":"'1hr_summary_dir 1'!BP114","v":31},{"$f":"'1hr_summary_dir 1'!BQ114","v":14.5},{"$f":"'1hr_summary_dir 1'!BR114","v":39},{"$f":"'1hr_summary_dir 1'!BS114","v":35.5},{"$f":"'1hr_summary_dir 1'!BT114","v":35},{"$f":"'1hr_summary_dir 1'!BU114","v":7.5},{"$f":"'1hr_summary_dir 1'!BV114","v":9}]
["15:00:00",{"$f":"'1hr_summary_dir 1'!BP55","v":353.5},{"$f":"'1hr_summary_dir 1'!BQ55","v":182},{"$f":"'1hr_summary_dir 1'!BR55","v":330},{"$f":"'1hr_summary_dir 1'!BS55","v":326},{"$f":"'1hr_summary_dir 1'!BT55","v":394.5},{"$f":"'1hr_summary_dir 1'!BU55","v":298.5},{"$f":"'1hr_summary_dir 1'!BV55","v":258},{"$f":"'1hr_summary_dir 1'!BP85","v":209.5},{"$f":"'1hr_summary_dir 1'!BQ85","v":89},{"$f":"'1hr_summary_dir 1'!BR85","v":176},{"$f":"'1hr_summary_dir 1'!BS85","v":193.5},{"$f":"'1hr_summary_dir 1'!BT85","v":216},{"$f":"'1hr_summary_dir 1'!BU85","v":162.5},{"$f":"'1hr_summary_dir 1'!BV85","v":140.5},{"$f":"'1hr_summary_dir 1'!BP115","v":34.5},{"$f":"'1hr_summary_dir 1'!BQ115","v":12.5},{"$f":"'1hr_summary_dir 1'!BR115","v":29},{"$f":"'1hr_summary_dir 1'!BS115","v":29.5},{"$f":"'1hr_summary_dir 1'!BT115","v":22},{"$f":"'1hr_summary_dir 1'!BU115","v":2.5},{"$f":"'1hr_summary_dir 1'!BV115","v":7}]
["16:00:00",{"$f":"'1hr_summary_dir 1'!BP56","v":397.5},{"$f":"'1hr_summary_dir 1'!BQ56","v":192},{"$f":"'1hr_summary_dir 1'!BR56","v":394},{"$f":"'1hr_summary_dir 1'!BS56","v":426},{"$f":"'1hr_summary_dir 1'!BT56","v":450.5},{"$f":"'1hr_summary_dir 1'!BU56","v":273},{"$f":"'1hr_summary_dir 1'!BV56","v":234},{"$f":"'1hr_summary_dir 1'!BP86","v":213},{"$f":"'1hr_summary_dir 1'!BQ86","v":107.5},{"$f":"'1hr_summary_dir 1'!BR86","v":222},{"$f":"'1hr_summary_dir 1'!BS86","v":205.5},{"$f":"'1hr_summary_dir 1'!BT86","v":229.5},{"$f":"'1hr_summary_dir 1'!BU86","v":152},{"$f":"'1hr_summary_dir 1'!BV86","v":110.5},{"$f":"'1hr_summary_dir 1'!BP116","v":23.5},{"$f":"'1hr_summary_dir 1'!BQ116","v":16},{"$f":"'1hr_summary_dir 1'!BR116","v":13},{"$f":"'1hr_summary_dir 1'!BS116","v":24},{"$f":"'1hr_summary_dir 1'!BT116","v":21},{"$f":"'1hr_summary_dir 1'!BU116","v":10.5},{"$f":"'1hr_summary_dir 1'!BV116","v":3}]
["17:00:00",{"$f":"'1hr_summary_dir 1'!BP57","v":506.5},{"$f":"'1hr_summary_dir 1'!BQ57","v":212.5},{"$f":"'1hr_summary_dir 1'!BR57","v":477},{"$f":"'1hr_summary_dir 1'!BS57","v":452.5},{"$f":"'1hr_summary_dir 1'!BT57","v":467.5},{"$f":"'1hr_summary_dir 1'!BU57","v":261.5},{"$f":"'1hr_summary_dir 1'!BV57","v":180.5},{"$f":"'1hr_summary_dir 1'!BP87","v":228.5},{"$f":"'1hr_summary_dir 1'!BQ87","v":115.5},{"$f":"'1hr_summary_dir 1'!BR87","v":242},{"$f":"'1hr_summary_dir 1'!BS87","v":224},{"$f":"'1hr_summary_dir 1'!BT87","v":223},{"$f":"'1hr_summary_dir 1'!BU87","v":134.5},{"$f":"'1hr_summary_dir 1'!BV87","v":111.5},{"$f":"'1hr_summary_dir 1'!BP117","v":16},{"$f":"'1hr_summary_dir 1'!BQ117","v":9.5},{"$f":"'1hr_summary_dir 1'!BR117","v":18},{"$f":"'1hr_summary_dir 1'!BS117","v":18.5},{"$f":"'1hr_summary_dir 1'!BT117","v":15.5},{"$f":"'1hr_summary_dir 1'!BU117","v":8.5},{"$f":"'1hr_summary_dir 1'!BV117","v":4}]
["18:00:00",{"$f":"'1hr_summary_dir 1'!BP58","v":275},{"$f":"'1hr_summary_dir 1'!BQ58","v":135.5},{"$f":"'1hr_summary_dir 1'!BR58","v":346},{"$f":"'1hr_summary_dir 1'!BS58","v":327.5},{"$f":"'1hr_summary_dir 1'!BT58","v":336},{"$f":"'1hr_summary_dir 1'!BU58","v":220},{"$f":"'1hr_summary_dir 1'!BV58","v":164.5},{"$f":"'1hr_summary_dir 1'!BP88","v":160},{"$f":"'1hr_summary_dir 1'!BQ88","v":80},{"$f":"'1hr_summary_dir 1'!BR88","v":214},{"$f":"'1hr_summary_dir 1'!BS88","v":195},{"$f":"'1hr_summary_dir 1'!BT88","v":180.5},{"$f":"'1hr_summary_dir 1'!BU88","v":143.5},{"$f":"'1hr_summary_dir 1'!BV88","v":84},{"$f":"'1hr_summary_dir 1'!BP118","v":11.5},{"$f":"'1hr_summary_dir 1'!BQ118","v":6.5},{"$f":"'1hr_summary_dir 1'!BR118","v":11},{"$f":"'1hr_summary_dir 1'!BS118","v":17.5},{"$f":"'1hr_summary_dir 1'!BT118","v":13},{"$f":"'1hr_summary_dir 1'!BU118","v":5.5},{"$f":"'1hr_summary_dir 1'!BV118","v":4.5}]
["19:00:00",{"$f":"'1hr_summary_dir 1'!BP59","v":171},{"$f":"'1hr_summary_dir 1'!BQ59","v":100.5},{"$f":"'1hr_summary_dir 1'!BR59","v":200},{"$f":"'1hr_summary_dir 1'!BS59","v":232},{"$f":"'1hr_summary_dir 1'!BT59","v":218},{"$f":"'1hr_summary_dir 1'!BU59","v":185.5},{"$f":"'1hr_summary_dir 1'!BV59","v":133},{"$f":"'1hr_summary_dir 1'!BP89","v":114},{"$f":"'1hr_summary_dir 1'!BQ89","v":55},{"$f":"'1hr_summary_dir 1'!BR89","v":119},{"$f":"'1hr_summary_dir 1'!BS89","v":132.5},{"$f":"'1hr_summary_dir 1'!BT89","v":132.5},{"$f":"'1hr_summary_dir 1'!BU89","v":104},{"$f":"'1hr_summary_dir 1'!BV89","v":80},{"$f":"'1hr_summary_dir 1'!BP119","v":6.5},{"$f":"'1hr_summary_dir 1'!BQ119","v":5},{"$f":"'1hr_summary_dir 1'!BR119","v":6},{"$f":"'1hr_summary_dir 1'!BS119","v":7},{"$f":"'1hr_summary_dir 1'!BT119","v":9},{"$f":"'1hr_summary_dir 1'!BU119","v":1},{"$f":"'1hr_summary_dir 1'!BV119","v":2.5}]
["20:00:00",{"$f":"'1hr_summary_dir 1'!BP60","v":112.5},{"$f":"'1hr_summary_dir 1'!BQ60","v":44.5},{"$f":"'1hr_summary_dir 1'!BR60","v":106},{"$f":"'1hr_summary_dir 1'!BS60","v":105},{"$f":"'1hr_summary_dir 1'!BT60","v":132},{"$f":"'1hr_summary_dir 1'!BU60","v":126.5},{"$f":"'1hr_summary_dir 1'!BV60","v":96},{"$f":"'1hr_summary_dir 1'!BP90","v":66.5},{"$f":"'1hr_summary_dir 1'!BQ90","v":37},{"$f":"'1hr_summary_dir 1'!BR90","v":67},{"$f":"'1hr_summary_dir 1'!BS90","v":72},{"$f":"'1hr_summary_dir 1'!BT90","v":76},{"$f":"'1hr_summary_dir 1'!BU90","v":74},{"$f":"'1hr_summary_dir 1'!BV90","v":56.5},{"$f":"'1hr_summary_dir 1'!BP120","v":4},{"$f":"'1hr_summary_dir 1'!BQ120","v":2.5},{"$f":"'1hr_summary_dir 1'!BR120","v":1},{"$f":"'1hr_summary_dir 1'!BS120","v":4.5},{"$f":"'1hr_summary_dir 1'!BT120","v":2.5},{"$f":"'1hr_summary_dir 1'!BU120","v":1},{"$f":"'1hr_summary_dir 1'!BV120","v":1}]
["21:00:00",{"$f":"'1hr_summary_dir 1'!BP61","v":93.5},{"$f":"'1hr_summary_dir 1'!BQ61","v":42.5},{"$f":"'1hr_summary_dir 1'!BR61","v":89},{"$f":"'1hr_summary_dir 1'!BS61","v":88.5},{"$f":"'1hr_summary_dir 1'!BT61","v":110.5},{"$f":"'1hr_summary_dir 1'!BU61","v":103},{"$f":"'1hr_summary_dir 1'!BV61","v":74},{"$f":"'1hr_summary_dir 1'!BP91","v":46},{"$f":"'1hr_summary_dir 1'!BQ91","v":27},{"$f":"'1hr_summary_dir 1'!BR91","v":62},{"$f":"'1hr_summary_dir 1'!BS91","v":56},{"$f":"'1hr_summary_dir 1'!BT91","v":59.5},{"$f":"'1hr_summary_dir 1'!BU91","v":51.5},{"$f":"'1hr_summary_dir 1'!BV91","v":36.5},{"$f":"'1hr_summary_dir 1'!BP121","v":3.5},{"$f":"'1hr_summary_dir 1'!BQ121","v":1.5},{"$f":"'1hr_summary_dir 1'!BR121","v":2},{"$f":"'1hr_summary_dir 1'!BS121","v":4},{"$f":"'1hr_summary_dir 1'!BT121","v":3.5},{"$f":"'1hr_summary_dir 1'!BU121","v":2},{"$f":"'1hr_summary_dir 1'!BV121","v":4}]
["22:00:00",{"$f":"'1hr_summary_dir 1'!BP62","v":49.5},{"$f":"'1hr_summary_dir 1'!BQ62","v":47.5},{"$f":"'1hr_summary_dir 1'!BR62","v":67},{"$f":"'1hr_summary_dir 1'!BS62","v":70},{"$f":"'1hr_summary_dir 1'!BT62","v":89},{"$f":"'1hr_summary_dir 1'!BU62","v":92},{"$f":"'1hr_summary_dir 1'!BV62","v":40.5},{"$f":"'1hr_summary_dir 1'!BP92","v":22.5},{"$f":"'1hr_summary_dir 1'!BQ92","v":24},{"$f":"'1hr_summary_dir 1'!BR92","v":30},{"$f":"'1hr_summary_dir 1'!BS92","v":38.5},{"$f":"'1hr_summary_dir 1'!BT92","v":59},{"$f":"'1hr_summary_dir 1'!BU92","v":47.5},{"$f":"'1hr_summary_dir 1'!BV92","v":30},{"$f":"'1hr_summary_dir 1'!BP122","v":4},{"$f":"'1hr_summary_dir 1'!BQ122","v":0.5},{"$f":"'1hr_summary_dir 1'!BR122","v":1},{"$f":"'1hr_summary_dir 1'!BS122","v":2.5},{"$f":"'1hr_summary_dir 1'!BT122","v":2.5},{"$f":"'1hr_summary_dir 1'!BU122","v":0.5},{"$f":"'1hr_summary_dir 1'!BV122","v":0.5}]
["23:00:00",{"$f":"'1hr_summary_dir 1'!BP63","v":23},{"$f":"'1hr_summary_dir 1'!BQ63","v":13},{"$f":"'1hr_summary_dir 1'!BR63","v":34},{"$f":"'1hr_summary_dir 1'!BS63","v":26},{"$f":"'1hr_summary_dir 1'!BT63","v":53},{"$f":"'1hr_summary_dir 1'!BU63","v":69},{"$f":"'1hr_summary_dir 1'!BV63","v":23},{"$f":"'1hr_summary_dir 1'!BP93","v":17.5},{"$f":"'1hr_summary_dir 1'!BQ93","v":10},{"$f":"'1hr_summary_dir 1'!BR93","v":25},{"$f":"'1hr_summary_dir 1'!BS93","v":22.5},{"$f":"'1hr_summary_dir 1'!BT93","v":30.5},{"$f":"'1hr_summary_dir 1'!BU93","v":35},{"$f":"'1hr_summary_dir 1'!BV93","v":12.5},{"$f":"'1hr_summary_dir 1'!BP123","v":0},{"$f":"'1hr_summary_dir 1'!BQ123","v":0.5},{"$f":"'1hr_summary_dir 1'!BR123","v":0},{"$f":"'1hr_summary_dir 1'!BS123","v":0},{"$f":"'1hr_summary_dir 1'!BT123","v":1.5},{"$f":"'1hr_summary_dir 1'!BU123","v":0},{"$f":"'1hr_summary_dir 1'!BV123","v":0.5}]
["TOTAL",{"$f":"SUM(B32:B55)","v":4804},{"$f":"SUM(C32:C55)","v":3461},4893,4993.5,5310,4694,3709.5,{"$f":"SUM(I32:I55)","v":2549.5},{"$f":"SUM(J32:J55)","v":2018},2715,2695.5,2873.5,2446.5,1839.5,{"$f":"SUM(P32:P55)","v":374.5},{"$f":"SUM(Q32:Q55)","v":296.5},345,372,347,129,94.5]
[]
[{"$f":"UPPER('1hr_summary_dir 2'!A5)","v":"DIRECTION 2"},null,{"$f":"'1hr_summary_dir 2'!B5","v":"Westbound"}]
[null,"Mean values. CAR + LGV + HGV"]
["TIME",{"$f":"'1hr_summary_dir 2'!BP8","v":"Mon"},{"$f":"'1hr_summary_dir 2'!BQ8","v":"Tue"},{"$f":"'1hr_summary_dir 2'!BR8","v":"Wed"},{"$f":"'1hr_summary_dir 2'!BS8","v":"Thu"},{"$f":"'1hr_summary_dir 2'!BT8","v":"Fri"},{"$f":"'1hr_summary_dir 2'!BU8","v":"Sat"},{"$f":"'1hr_summary_dir 2'!BV8","v":"Sun"}]
["00:00:00",{"$f":"'1hr_summary_dir 2'!BP10","v":9},{"$f":"'1hr_summary_dir 2'!BQ10","v":11.5},{"$f":"'1hr_summary_dir 2'!BR10","v":16},{"$f":"'1hr_summary_dir 2'!BS10","v":13.5},{"$f":"'1hr_summary_dir 2'!BT10","v":16.5},{"$f":"'1hr_summary_dir 2'!BU10","v":34},{"$f":"'1hr_summary_dir 2'!BV10","v":73}]
["01:00:00",{"$f":"'1hr_summary_dir 2'!BP11","v":7},{"$f":"'1hr_summary_dir 2'!BQ11","v":6.5},{"$f":"'1hr_summary_dir 2'!BR11","v":7},{"$f":"'1hr_summary_dir 2'!BS11","v":7},{"$f":"'1hr_summary_dir 2'!BT11","v":6},{"$f":"'1hr_summary_dir 2'!BU11","v":15.5},{"$f":"'1hr_summary_dir 2'!BV11","v":24}]
["02:00:00",{"$f":"'1hr_summary_dir 2'!BP12","v":10.5},{"$f":"'1hr_summary_dir 2'!BQ12","v":12.5},{"$f":"'1hr_summary_dir 2'!BR12","v":8},{"$f":"'1hr_summary_dir 2'!BS12","v":9.5},{"$f":"'1hr_summary_dir 2'!BT12","v":9.5},{"$f":"'1hr_summary_dir 2'!BU12","v":8},{"$f":"'1hr_summary_dir 2'!BV12","v":20}]
["03:00:00",{"$f":"'1hr_summary_dir 2'!BP13","v":15},{"$f":"'1hr_summary_dir 2'!BQ13","v":14.5},{"$f":"'1hr_summary_dir 2'!BR13","v":19},{"$f":"'1hr_summary_dir 2'!BS13","v":13},{"$f":"'1hr_summary_dir 2'!BT13","v":15},{"$f":"'1hr_summary_dir 2'!BU13","v":19.5},{"$f":"'1hr_summary_dir 2'!BV13","v":17}]
["04:00:00",{"$f":"'1hr_summary_dir 2'!BP14","v":55.5},{"$f":"'1hr_summary_dir 2'!BQ14","v":47},{"$f":"'1hr_summary_dir 2'!BR14","v":43},{"$f":"'1hr_summary_dir 2'!BS14","v":44.5},{"$f":"'1hr_summary_dir 2'!BT14","v":46.5},{"$f":"'1hr_summary_dir 2'!BU14","v":19.5},{"$f":"'1hr_summary_dir 2'!BV14","v":25}]
["05:00:00",{"$f":"'1hr_summary_dir 2'!BP15","v":155.5},{"$f":"'1hr_summary_dir 2'!BQ15","v":145},{"$f":"'1hr_summary_dir 2'!BR15","v":160},{"$f":"'1hr_summary_dir 2'!BS15","v":147.5},{"$f":"'1hr_summary_dir 2'!BT15","v":142.5},{"$f":"'1hr_summary_dir 2'!BU15","v":50},{"$f":"'1hr_summary_dir 2'!BV15","v":28}]
["06:00:00",{"$f":"'1hr_summary_dir 2'!BP16","v":319},{"$f":"'1hr_summary_dir 2'!BQ16","v":338.5},{"$f":"'1hr_summary_dir 2'!BR16","v":315},{"$f":"'1hr_summary_dir 2'!BS16","v":302},{"$f":"'1hr_summary_dir 2'!BT16","v":300},{"$f":"'1hr_summary_dir 2'!BU16","v":84.5},{"$f":"'1hr_summary_dir 2'!BV16","v":53}]
["07:00:00",{"$f":"'1hr_summary_dir 2'!BP17","v":538.5},{"$f":"'1hr_summary_dir 2'!BQ17","v":594.5},{"$f":"'1hr_summary_dir 2'!BR17","v":545},{"$f":"'1hr_summary_dir 2'!BS17","v":565},{"$f":"'1hr_summary_dir 2'!BT17","v":555},{"$f":"'1hr_summary_dir 2'!BU17","v":173},{"$f":"'1hr_summary_dir 2'!BV17","v":106.5}]
["08:00:00",{"$f":"'1hr_summary_dir 2'!BP18","v":571.5},{"$f":"'1hr_summary_dir 2'!BQ18","v":563},{"$f":"'1hr_summary_dir 2'!BR18","v":578},{"$f":"'1hr_summary_dir 2'!BS18","v":573},{"$f":"'1hr_summary_dir 2'!BT18","v":515},{"$f":"'1hr_summary_dir 2'!BU18","v":350.5},{"$f":"'1hr_summary_dir 2'!BV18","v":182.5}]
["09:00:00",{"$f":"'1hr_summary_dir 2'!BP19","v":453.5},{"$f":"'1hr_summary_dir 2'!BQ19","v":413.5},{"$f":"'1hr_summary_dir 2'!BR19","v":446},{"$f":"'1hr_summary_dir 2'!BS19","v":439},{"$f":"'1hr_summary_dir 2'!BT19","v":464.5},{"$f":"'1hr_summary_dir 2'!BU19","v":424},{"$f":"'1hr_summary_dir 2'!BV19","v":289.5}]
["10:00:00",{"$f":"'1hr_summary_dir 2'!BP20","v":443.5},{"$f":"'1hr_summary_dir 2'!BQ20","v":437.5},{"$f":"'1hr_summary_dir 2'!BR20","v":424},{"$f":"'1hr_summary_dir 2'!BS20","v":461},{"$f":"'1hr_summary_dir 2'!BT20","v":457.5},{"$f":"'1hr_summary_dir 2'!BU20","v":577.5},{"$f":"'1hr_summary_dir 2'!BV20","v":479}]
["11:00:00",{"$f":"'1hr_summary_dir 2'!BP21","v":523},{"$f":"'1hr_summary_dir 2'!BQ21","v":470.5},{"$f":"'1hr_summary_dir 2'!BR21","v":463},{"$f":"'1hr_summary_dir 2'!BS21","v":488.5},{"$f":"'1hr_summary_dir 2'!BT21","v":521},{"$f":"'1hr_summary_dir 2'!BU21","v":613},{"$f":"'1hr_summary_dir 2'!BV21","v":555.5}]
["12:00:00",{"$f":"'1hr_summary_dir 2'!BP22","v":484},{"$f":"'1hr_summary_dir 2'!BQ22","v":492},{"$f":"'1hr_summary_dir 2'!BR22","v":499},{"$f":"'1hr_summary_dir 2'!BS22","v":540},{"$f":"'1hr_summary_dir 2'!BT22","v":537.5},{"$f":"'1hr_summary_dir 2'!BU22","v":638.5},{"$f":"'1hr_summary_dir 2'!BV22","v":577}]
["13:00:00",{"$f":"'1hr_summary_dir 2'!BP23","v":472},{"$f":"'1hr_summary_dir 2'!BQ23","v":379},{"$f":"'1hr_summary_dir 2'!BR23","v":458},{"$f":"'1hr_summary_dir 2'!BS23","v":513},{"$f":"'1hr_summary_dir 2'!BT23","v":520.5},{"$f":"'1hr_summary_dir 2'!BU23","v":564},{"$f":"'1hr_summary_dir 2'!BV23","v":532}]
["14:00:00",{"$f":"'1hr_summary_dir 2'!BP24","v":519},{"$f":"'1hr_summary_dir 2'!BQ24","v":254.5},{"$f":"'1hr_summary_dir 2'!BR24","v":484},{"$f":"'1hr_summary_dir 2'!BS24","v":520.5},{"$f":"'1hr_summary_dir 2'!BT24","v":592.5},{"$f":"'1hr_summary_dir 2'!BU24","v":571},{"$f":"'1hr_summary_dir 2'!BV24","v":555.5},null,null,"TOP 5 busiest hours"]
["15:00:00",{"$f":"'1hr_summary_dir 2'!BP25","v":544},{"$f":"'1hr_summary_dir 2'!BQ25","v":277},{"$f":"'1hr_summary_dir 2'!BR25","v":554},{"$f":"'1hr_summary_dir 2'!BS25","v":574.5},{"$f":"'1hr_summary_dir 2'!BT25","v":620.5},{"$f":"'1hr_summary_dir 2'!BU25","v":570},{"$f":"'1hr_summary_dir 2'!BV25","v":491},null,null,{"$f":"B60","v":"Mon"},"Tue","Wed","Thu","Fri","Sat","Sun",null,"Busiest day of the week",null,null,{"$f":"INDEX(B60:H60,MATCH(LARGE(B85:H85,1),B85:H85,0))","v":"Fri"}]
["16:00:00",{"$f":"'1hr_summary_dir 2'!BP26","v":621},{"$f":"'1hr_summary_dir 2'!BQ26","v":309},{"$f":"'1hr_summary_dir 2'!BR26","v":688},{"$f":"'1hr_summary_dir 2'!BS26","v":642},{"$f":"'1hr_summary_dir 2'!BT26","v":671},{"$f":"'1hr_summary_dir 2'!BU26","v":554.5},{"$f":"'1hr_summary_dir 2'!BV26","v":474},null,null,{"$f":"'rolling hour totals_dir 2'!BP108","v":"16:30:00"},{"$f":"'rolling hour totals_dir 2'!BQ108","v":"16:45:00"},{"$f":"'rolling hour totals_dir 2'!BR108","v":"16:00:00"},{"$f":"'rolling hour totals_dir 2'!BS108","v":"16:45:00"},{"$f":"'rolling hour totals_dir 2'!BT108","v":"16:00:00"},{"$f":"'rolling hour totals_dir 2'!BU108","v":"12:00:00"},{"$f":"'rolling hour totals_dir 2'!BV108","v":"12:15:00"},null,"Maximum flow on any day",null,null,{"$f":"LARGE(B61:H84,1)","v":688}]
["17:00:00",{"$f":"'1hr_summary_dir 2'!BP27","v":630},{"$f":"'1hr_summary_dir 2'!BQ27","v":317},{"$f":"'1hr_summary_dir 2'!BR27","v":641},{"$f":"'1hr_summary_dir 2'!BS27","v":647},{"$f":"'1hr_summary_dir 2'!BT27","v":612},{"$f":"'1hr_summary_dir 2'!BU27","v":492},{"$f":"'1hr_summary_dir 2'!BV27","v":361.5},null,null,{"$f":"'rolling hour totals_dir 2'!BP109","v":"17:00:00"},{"$f":"'rolling hour totals_dir 2'!BQ109","v":"16:30:00"},{"$f":"'rolling hour totals_dir 2'!BR109","v":"16:15:00"},{"$f":"'rolling hour totals_dir 2'!BS109","v":"16:15:00"},{"$f":"'rolling hour totals_dir 2'!BT109","v":"16:15:00"},{"$f":"'rolling hour totals_dir 2'!BU109","v":"12:30:00"},{"$f":"'rolling hour totals_dir 2'!BV109","v":"12:00:00"},null,"Average Mon-Fri flow",null,null,{"$f":"AVERAGE(B85:F85)","v":7331.3}]
["18:00:00",{"$f":"'1hr_summary_dir 2'!BP28","v":484.5},{"$f":"'1hr_summary_dir 2'!BQ28","v":231},{"$f":"'1hr_summary_dir 2'!BR28","v":503},{"$f":"'1hr_summary_dir 2'!BS28","v":437},{"$f":"'1hr_summary_dir 2'!BT28","v":485.5},{"$f":"'1hr_summary_dir 2'!BU28","v":383},{"$f":"'1hr_summary_dir 2'!BV28","v":278.5},null,null,{"$f":"'rolling hour totals_dir 2'!BP110","v":"16:15:00"},{"$f":"'rolling hour totals_dir 2'!BQ110","v":"17:00:00"},{"$f":"'rolling hour totals_dir 2'!BR110","v":"16:30:00"},{"$f":"'rolling hour totals_dir 2'!BS110","v":"16:15:00"},{"$f":"'rolling hour totals_dir 2'!BT110","v":"15:45:00"},{"$f":"'rolling hour totals_dir 2'!BU110","v":"10:45:00"},{"$f":"'rolling hour totals_dir 2'!BV110","v":"12:00:00"},null,"Average Sat-Sun flow",null,null,{"$f":"AVERAGE(G85:H85)","v":6334.5}]
["19:00:00",{"$f":"'1hr_summary_dir 2'!BP29","v":300},{"$f":"'1hr_summary_dir 2'!BQ29","v":151.5},{"$f":"'1hr_summary_dir 2'!BR29","v":307},{"$f":"'1hr_summary_dir 2'!BS29","v":314},{"$f":"'1hr_summary_dir 2'!BT29","v":316.5},{"$f":"'1hr_summary_dir 2'!BU29","v":286},{"$f":"'1hr_summary_dir 2'!BV29","v":212},null,null,{"$f":"'rolling hour totals_dir 2'!BP111","v":"16:45:00"},{"$f":"'rolling hour totals_dir 2'!BQ111","v":"16:15:00"},{"$f":"'rolling hour totals_dir 2'!BR111","v":"16:45:00"},{"$f":"'rolling hour totals_dir 2'!BS111","v":"17:00:00"},{"$f":"'rolling hour totals_dir 2'!BT111","v":"15:30:00"},{"$f":"'rolling hour totals_dir 2'!BU111","v":"10:45:00"},{"$f":"'rolling hour totals_dir 2'!BV111","v":"11:45:00"}]
["20:00:00",{"$f":"'1hr_summary_dir 2'!BP30","v":180.5},{"$f":"'1hr_summary_dir 2'!BQ30","v":80},{"$f":"'1hr_summary_dir 2'!BR30","v":220},{"$f":"'1hr_summary_dir 2'!BS30","v":180},{"$f":"'1hr_summary_dir 2'!BT30","v":202.5},{"$f":"'1hr_summary_dir 2'!BU30","v":192.5},{"$f":"'1hr_summary_dir 2'!BV30","v":158.5},null,null,{"$f":"'rolling hour totals_dir 2'!BP112","v":"16:00:00"},{"$f":"'rolling hour totals_dir 2'!BQ112","v":"07:30:00"},{"$f":"'rolling hour totals_dir 2'!BR112","v":"15:45:00"},{"$f":"'rolling hour totals_dir 2'!BS112","v":"16:00:00"},{"$f":"'rolling hour totals_dir 2'!BT112","v":"16:30:00"},{"$f":"'rolling hour totals_dir 2'!BU112","v":"11:45:00"},{"$f":"'rolling hour totals_dir 2'!BV112","v":"13:30:00"}]
["21:00:00",{"$f":"'1hr_summary_dir 2'!BP31","v":127.5},{"$f":"'1hr_summary_dir 2'!BQ31","v":69},{"$f":"'1hr_summary_dir 2'!BR31","v":176},{"$f":"'1hr_summary_dir 2'!BS31","v":156.5},{"$f":"'1hr_summary_dir 2'!BT31","v":143},{"$f":"'1hr_summary_dir 2'!BU31","v":136.5},{"$f":"'1hr_summary_dir 2'!BV31","v":108}]
["22:00:00",{"$f":"'1hr_summary_dir 2'!BP32","v":68},{"$f":"'1hr_summary_dir 2'!BQ32","v":59.5},{"$f":"'1hr_summary_dir 2'!BR32","v":108},{"$f":"'1hr_summary_dir 2'!BS32","v":121.5},{"$f":"'1hr_summary_dir 2'!BT32","v":122.5},{"$f":"'1hr_summary_dir 2'!BU32","v":129},{"$f":"'1hr_summary_dir 2'!BV32","v":57.5},null,null,{"$f":"K76","v":"Mon"},"Tue","Wed","Thu","Fri","Sat","Sun"]
["23:00:00",{"$f":"'1hr_summary_dir 2'!BP33","v":27},{"$f":"'1hr_summary_dir 2'!BQ33","v":19.5},{"$f":"'1hr_summary_dir 2'!BR33","v":44},{"$f":"'1hr_summary_dir 2'!BS33","v":44.5},{"$f":"'1hr_summary_dir 2'!BT33","v":71},{"$f":"'1hr_summary_dir 2'!BU33","v":97.5},{"$f":"'1hr_summary_dir 2'!BV33","v":27},null,"% LGV",{"$f":"IFERROR(I113/B85,\"\")","v":0.35183225294351106},0.36682181434969702,0.35647547365689075,0.35955635800876967,0.35668429003021146,0.34581513567695282,0.34807844516753145]
["TOTAL",{"$f":"SUM(B61:B84)","v":7559},{"$f":"SUM(C61:C84)","v":5693.5},7706,7754,7944,6983.5,5685.5,null,"% HGV",{"$f":"IFERROR(P113/B85,\"\")","v":4.3458129382193414E-2},4.8037235443927288E-2,4.152608357124319E-2,4.4170750580345627E-2,3.8016112789526685E-2,1.6682179422925467E-2,1.7060944507958843E-2]
[]
[null,"Mean values. CAR",null,null,null,null,null,null,"LGV",null,null,null,null,null,null,"HGV"]
["TIME",{"$f":"'1hr_summary_dir 2'!BP38","v":"Mon"},{"$f":"'1hr_summary_dir 2'!BQ38","v":"Tue"},{"$f":"'1hr_summary_dir 2'!BR38","v":"Wed"},{"$f":"'1hr_summary_dir 2'!BS38","v":"Thu"},{"$f":"'1hr_summary_dir 2'!BT38","v":"Fri"},{"$f":"'1hr_summary_dir 2'!BU38","v":"Sat"},{"$f":"'1hr_summary_dir 2'!BV38","v":"Sun"},{"$f":"'1hr_summary_dir 2'!BP68","v":"Mon"},{"$f":"'1hr_summary_dir 2'!BQ68","v":"Tue"},{"$f":"'1hr_summary_dir 2'!BR68","v":"Wed"},{"$f":"'1hr_summary_dir 2'!BS68","v":"Thu"},{"$f":"'1hr_summary_dir 2'!BT68","v":"Fri"},{"$f":"'1hr_summary_dir 2'!BU68","v":"Sat"},{"$f":"'1hr_summary_dir 2'!BV68","v":"Sun"},{"$f":"'1hr_summary_dir 2'!BP98","v":"Mon"},{"$f":"'1hr_summary_dir 2'!BQ98","v":"Tue"},{"$f":"'1hr_summary_dir 2'!BR98","v":"Wed"},{"$f":"'1hr_summary_dir 2'!BS98","v":"Thu"},{"$f":"'1hr_summary_dir 2'!BT98","v":"Fri"},{"$f":"'1hr_summary_dir 2'!BU98","v":"Sat"},{"$f":"'1hr_summary_dir 2'!BV98","v":"Sun"}]
["00:00:00",{"$f":"'1hr_summary_dir 2'!BP40","v":3.5},{"$f":"'1hr_summary_dir 2'!BQ40","v":6.5},{"$f":"'1hr_summary_dir 2'!BR40","v":10},{"$f":"'1hr_summary_dir 2'!BS40","v":7.5},{"$f":"'1hr_summary_dir 2'!BT40","v":6.5},{"$f":"'1hr_summary_dir 2'!BU40","v":21},{"$f":"'1hr_summary_dir 2'!BV40","v":40.5},{"$f":"'1hr_summary_dir 2'!BP70","v":5},{"$f":"'1hr_summary_dir 2'!BQ70","v":4.5},{"$f":"'1hr_summary_dir 2'!BR70","v":5},{"$f":"'1hr_summary_dir 2'!BS70","v":5},{"$f":"'1hr_summary_dir 2'!BT70","v":10},{"$f":"'1hr_summary_dir 2'!BU70","v":12.5},{"$f":"'1hr_summary_dir 2'!BV70","v":31},{"$f":"'1hr_summary_dir 2'!BP100","v":0.5},{"$f":"'1hr_summary_dir 2'!BQ100","v":0.5},{"$f":"'1hr_summary_dir 2'!BR100","v":1},{"$f":"'1hr_summary_dir 2'!BS100","v":1},{"$f":"'1hr_summary_dir 2'!BT100","v":0},{"$f":"'1hr_summary_dir 2'!BU100","v":0.5},{"$f":"'1hr_summary_dir 2'!BV100","v":1.5}]
["01:00:00",{"$f":"'1hr_summary_dir 2'!BP41","v":4},{"$f":"'1hr_summary_dir 2'!BQ41","v":2},{"$f":"'1hr_summary_dir 2'!BR41","v":2},{"$f":"'1hr_summary_dir 2'!BS41","v":2},{"$f":"'1hr_summary_dir 2'!BT41","v":2},{"$f":"'1hr_summary_dir 2'!BU41","v":9},{"$f":"'1hr_summary_dir 2'!BV41","v":14},{"$f":"'1hr_summary_dir 2'!BP71","v":2.5},{"$f":"'1hr_summary_dir 2'!BQ71","v":4},{"$f":"'1hr_summary_dir 2'!BR71","v":5},{"$f":"'1hr_summary_dir 2'!BS71","v":4.5},{"$f":"'1hr_summary_dir 2'!BT71","v":3},{"$f":"'1hr_summary_dir 2'!BU71","v":6.5},{"$f":"'1hr_summary_dir 2'!BV71","v":9},{"$f":"'1hr_summary_dir 2'!BP101","v":0.5},{"$f":"'1hr_summary_dir 2'!BQ101","v":0.5},{"$f":"'1hr_summary_dir 2'!BR101","v":0},{"$f":"'1hr_summary_dir 2'!BS101","v":0.5},{"$f":"'1hr_summary_dir 2'!BT101","v":1},{"$f":"'1hr_summary_dir 2'!BU101","v":0},{"$f":"'1hr_summary_dir 2'!BV101","v":1}]
["02:00:00",{"$f":"'1hr_summary_dir 2'!BP42","v":5.5},{"$f":"'1hr_summary_dir 2'!BQ42","v":3},{"$f":"'1hr_summary_dir 2'!BR42","v":6},{"$f":"'1hr_summary_dir 2'!BS42","v":2.5},{"$f":"'1hr_summary_dir 2'!BT42","v":4},{"$f":"'1hr_summary_dir 2'!BU42","v":3.5},{"$f":"'1hr_summary_dir 2'!BV42","v":9.5},{"$f":"'1hr_summary_dir 2'!BP72","v":3.5},{"$f":"'1hr_summary_dir 2'!BQ72","v":8},{"$f":"'1hr_summary_dir 2'!BR72","v":2},{"$f":"'1hr_summary_dir 2'!BS72","v":6},{"$f":"'1hr_summary_dir 2'!BT72","v":4.5},{"$f":"'1hr_summary_dir 2'!BU72","v":4.5},{"$f":"'1hr_summary_dir 2'!BV72","v":10},{"$f":"'1hr_summary_dir 2'!BP102","v":1.5},{"$f":"'1hr_summary_dir 2'!BQ102","v":1.5},{"$f":"'1hr_summary_dir 2'!BR102","v":0},{"$f":"'1hr_summary_dir 2'!BS102","v":1},{"$f":"'1hr_summary_dir 2'!BT102","v":1},{"$f":"'1hr_summary_dir 2'!BU102","v":0},{"$f":"'1hr_summary_dir 2'!BV102","v":0.5}]
["03:00:00",{"$f":"'1hr_summary_dir 2'!BP43","v":10},{"$f":"'1hr_summary_dir 2'!BQ43","v":9},{"$f":"'1hr_summary_dir 2'!BR43","v":9},{"$f":"'1hr_summary_dir 2'!BS43","v":3.5},{"$f":"'1hr_summary_dir 2'!BT43","v":6.5},{"$f":"'1hr_summary_dir 2'!BU43","v":11},{"$f":"'1hr_summary_dir 2'!BV43","v":8.5},{"$f":"'1hr_summary_dir 2'!BP73","v":5},{"$f":"'1hr_summary_dir 2'!BQ73","v":4.5},{"$f":"'1hr_summary_dir 2'!BR73","v":9},{"$f":"'1hr_summary_dir 2'!BS73","v":8.5},{"$f":"'1hr_summary_dir 2'!BT73","v":6.5},{"$f":"'1hr_summary_dir 2'!BU73","v":7.5},{"$f":"'1hr_summary_dir 2'!BV73","v":8.5},{"$f":"'1hr_summary_dir 2'!BP103","v":0},{"$f":"'1hr_summary_dir 2'!BQ103","v":1},{"$f":"'1hr_summary_dir 2'!BR103","v":1},{"$f":"'1hr_summary_dir 2'!BS103","v":1},{"$f":"'1hr_summary_dir 2'!BT103","v":2},{"$f":"'1hr_summary_dir 2'!BU103","v":1},{"$f":"'1hr_summary_dir 2'!BV103","v":0}]
["04:00:00",{"$f":"'1hr_summary_dir 2'!BP44","v":25.5},{"$f":"'1hr_summary_dir 2'!BQ44","v":19.5},{"$f":"'1hr_summary_dir 2'!BR44","v":14},{"$f":"'1hr_summary_dir 2'!BS44","v":14.5},{"$f":"'1hr_summary_dir 2'!BT44","v":16},{"$f":"'1hr_summary_dir 2'!BU44","v":9},{"$f":"'1hr_summary_dir 2'!BV44","v":14},{"$f":"'1hr_summary_dir 2'!BP74","v":25.5},{"$f":"'1hr_summary_dir 2'!BQ74","v":21.5},{"$f":"'1hr_summary_dir 2'!BR74","v":24},{"$f":"'1hr_summary_dir 2'!BS74","v":24.5},{"$f":"'1hr_summary_dir 2'!BT74","v":26.5},{"$f":"'1hr_summary_dir 2'!BU74","v":9.5},{"$f":"'1hr_summary_dir 2'!BV74","v":11},{"$f":"'1hr_summary_dir 2'!BP104","v":4.5},{"$f":"'1hr_summary_dir 2'!BQ104","v":6},{"$f":"'1hr_summary_dir 2'!BR104","v":5},{"$f":"'1hr_summary_dir 2'!BS104","v":5.5},{"$f":"'1hr_summary_dir 2'!BT104","v":4},{"$f":"'1hr_summary_dir 2'!BU104","v":1},{"$f":"'1hr_summary_dir 2'!BV104","v":0}]
["05:00:00",{"$f":"'1hr_summary_dir 2'!BP45","v":65.5},{"$f":"'1hr_summary_dir 2'!BQ45","v":60},{"$f":"'1hr_summary_dir 2'!BR45","v":73},{"$f":"'1hr_summary_dir 2'!BS45","v":56},{"$f":"'1hr_summary_dir 2'!BT45","v":62},{"$f":"'1hr_summary_dir 2'!BU45","v":23},{"$f":"'1hr_summary_dir 2'!BV45","v":14},{"$f":"'1hr_summary_dir 2'!BP75","v":78},{"$f":"'1hr_summary_dir 2'!BQ75","v":73},{"$f":"'1hr_summary_dir 2'!BR75","v":77},{"$f":"'1hr_summary_dir 2'!BS75","v":77.5},{"$f":"'1hr_summary_dir 2'!BT75","v":66.5},{"$f":"'1hr_summary_dir 2'!BU75","v":24.5},{"$f":"'1hr_summary_dir 2'!BV75","v":12.5},{"$f":"'1hr_summary_dir 2'!BP105","v":12},{"$f":"'1hr_summary_dir 2'!BQ105","v":12},{"$f":"'1hr_summary_dir 2'!BR105","v":10},{"$f":"'1hr_summary_dir 2'!BS105","v":14},{"$f":"'1hr_summary_dir 2'!BT105","v":14},{"$f":"'1hr_summary_dir 2'!BU105","v":2.5},{"$f":"'1hr_summary_dir 2'!BV105","v":1.5}]
["06:00:00",{"$f":"'1hr_summary_dir 2'!BP46","v":156},{"$f":"'1hr_summary_dir 2'!BQ46","v":159.5},{"$f":"'1hr_summary_dir 2'!BR46","v":163},{"$f":"'1hr_summary_dir 2'!BS46","v":141.5},{"$f":"'1hr_summary_dir 2'!BT46","v":138},{"$f":"'1hr_summary_dir 2'!BU46","v":46.5},{"$f":"'1hr_summary_dir 2'!BV46","v":34},{"$f":"'1hr_summary_dir 2'!BP76","v":145},{"$f":"'1hr_summary_dir 2'!BQ76","v":156},{"$f":"'1hr_summary_dir 2'!BR76","v":134},{"$f":"'1hr_summary_dir 2'!BS76","v":138.5},{"$f":"'1hr_summary_dir 2'!BT76","v":142},{"$f":"'1hr_summary_dir 2'!BU76","v":30},{"$f":"'1hr_summary_dir 2'!BV76","v":16.5},{"$f":"'1hr_summary_dir 2'!BP106","v":18},{"$f":"'1hr_summary_dir 2'!BQ106","v":23},{"$f":"'1hr_summary_dir 2'!BR106","v":18},{"$f":"'1hr_summary_dir 2'!BS106","v":22},{"$f":"'1hr_summary_dir 2'!BT106","v":20},{"$f":"'1hr_summary_dir 2'!BU106","v":8},{"$f":"'1hr_summary_dir 2'!BV106","v":2.5}]
["07:00:00",{"$f":"'1hr_summary_dir 2'!BP47","v":321},{"$f":"'1hr_summary_dir 2'!BQ47","v":334.5},{"$f":"'1hr_summary_dir 2'!BR47","v":335},{"$f":"'1hr_summary_dir 2'!BS47","v":314},{"$f":"'1hr_summary_dir 2'!BT47","v":328},{"$f":"'1hr_summary_dir 2'!BU47","v":97},{"$f":"'1hr_summary_dir 2'!BV47","v":62.5},{"$f":"'1hr_summary_dir 2'!BP77","v":192.5},{"$f":"'1hr_summary_dir 2'!BQ77","v":232.5},{"$f":"'1hr_summary_dir 2'!BR77","v":187},{"$f":"'1hr_summary_dir 2'!BS77","v":219.5},{"$f":"'1hr_summary_dir 2'!BT77","v":202.5},{"$f":"'1hr_summary_dir 2'!BU77","v":68.5},{"$f":"'1hr_summary_dir 2'!BV77","v":41},{"$f":"'1hr_summary_dir 2'!BP107","v":25},{"$f":"'1hr_summary_dir 2'!BQ107","v":27.5},{"$f":"'1hr_summary_dir 2'!BR107","v":23},{"$f":"'1hr_summary_dir 2'!BS107","v":31.5},{"$f":"'1hr_summary_dir 2'!BT107","v":24.5},{"$f":"'1hr_summary_dir 2'!BU107","v":7.5},{"$f":"'1hr_summary_dir 2'!BV107","v":3}]
["08:00:00",{"$f":"'1hr_summary_dir 2'!BP48","v":346},{"$f":"'1hr_summary_dir 2'!BQ48","v":352.5},{"$f":"'1hr_summary_dir 2'!BR48","v":375},{"$f":"'1hr_summary_dir 2'!BS48","v":337.5},{"$f":"'1hr_summary_dir 2'!BT48","v":308.5},{"$f":"'1hr_summary_dir 2'!BU48","v":210.5},{"$f":"'1hr_summary_dir 2'!BV48","v":103},{"$f":"'1hr_summary_dir 2'!BP78","v":193},{"$f":"'1hr_summary_dir 2'!BQ78","v":188},{"$f":"'1hr_summary_dir 2'!BR78","v":174},{"$f":"'1hr_summary_dir 2'!BS78","v":204},{"$f":"'1hr_summary_dir 2'!BT78","v":185.5},{"$f":"'1hr_summary_dir 2'!BU78","v":126.5},{"$f":"'1hr_summary_dir 2'!BV78","v":73},{"$f":"'1hr_summary_dir 2'!BP108","v":32.5},{"$f":"'1hr_summary_dir 2'!BQ108","v":22.5},{"$f":"'1hr_summary_dir 2'!BR108","v":29},{"$f":"'1hr_summary_dir 2'!BS108","v":31.5},{"$f":"'1hr_summary_dir 2'!BT108","v":21},{"$f":"'1hr_summary_dir 2'!BU108","v":13.5},{"$f":"'1hr_summary_dir 2'!BV108","v":6.5}]
["09:00:00",{"$f":"'1hr_summary_dir 2'!BP49","v":265},{"$f":"'1hr_summary_dir 2'!BQ49","v":212},{"$f":"'1hr_summary_dir 2'!BR49","v":267},{"$f":"'1hr_summary_dir 2'!BS49","v":257.5},{"$f":"'1hr_summary_dir 2'!BT49","v":264},{"$f":"'1hr_summary_dir 2'!BU49","v":258},{"$f":"'1hr_summary_dir 2'!BV49","v":182},{"$f":"'1hr_summary_dir 2'!BP79","v":163.5},{"$f":"'1hr_summary_dir 2'!BQ79","v":175.5},{"$f":"'1hr_summary_dir 2'!BR79","v":156},{"$f":"'1hr_summary_dir 2'!BS79","v":150.5},{"$f":"'1hr_summary_dir 2'!BT79","v":173.5},{"$f":"'1hr_summary_dir 2'!BU79","v":156},{"$f":"'1hr_summary_dir 2'!BV79","v":98.5},{"$f":"'1hr_summary_dir 2'!BP109","v":25},{"$f":"'1hr_summary_dir 2'!BQ109","v":26},{"$f":"'1hr_summary_dir 2'!BR109","v":23},{"$f":"'1hr_summary_dir 2'!BS109","v":31},{"$f":"'1hr_summary_dir 2'!BT109","v":27},{"$f":"'1hr_summary_dir 2'!BU109","v":10},{"$f":"'1hr_summary_dir 2'!BV109","v":9}]
["10:00:00",{"$f":"'1hr_summary_dir 2'!BP50","v":264},{"$f":"'1hr_summary_dir 2'!BQ50","v":268.5},{"$f":"'1hr_summary_dir 2'!BR50","v":241},{"$f":"'1hr_summary_dir 2'!BS50","v":273},{"$f":"'1hr_summary_dir 2'!BT50","v":256},{"$f":"'1hr_summary_dir 2'!BU50","v":385},{"$f":"'1hr_summary_dir 2'!BV50","v":298.5},{"$f":"'1hr_summary_dir 2'!BP80","v":151.5},{"$f":"'1hr_summary_dir 2'!BQ80","v":141},{"$f":"'1hr_summary_dir 2'!BR80","v":153},{"$f":"'1hr_summary_dir 2'!BS80","v":164},{"$f":"'1hr_summary_dir 2'!BT80","v":178.5},{"$f":"'1hr_summary_dir 2'!BU80","v":181},{"$f":"'1hr_summary_dir 2'!BV80","v":169},{"$f":"'1hr_summary_dir 2'!BP110","v":28},{"$f":"'1hr_summary_dir 2'!BQ110","v":28},{"$f":"'1hr_summary_dir 2'!BR110","v":30},{"$f":"'1hr_summary_dir 2'!BS110","v":24},{"$f":"'1hr_summary_dir 2'!BT110","v":23},{"$f":"'1hr_summary_dir 2'!BU110","v":11.5},{"$f":"'1hr_summary_dir 2'!BV110","v":11.5}]
["11:00:00",{"$f":"'1hr_summary_dir 2'!BP51","v":312.5},{"$f":"'1hr_summary_dir 2'!BQ51","v":276},{"$f":"'1hr_summary_dir 2'!BR51","v":279},{"$f":"'1hr_summary_dir 2'!BS51","v":295},{"$f":"'1hr_summary_dir 2'!BT51","v":327},{"$f":"'1hr_summary_dir 2'!BU51","v":418},{"$f":"'1hr_summary_dir 2'!BV51","v":370},{"$f":"'1hr_summary_dir 2'!BP81","v":178},{"$f":"'1hr_summary_dir 2'!BQ81","v":168.5},{"$f":"'1hr_summary_dir 2'!BR81","v":158},{"$f":"'1hr_summary_dir 2'!BS81","v":169},{"$f":"'1hr_summary_dir 2'!BT81","v":165.5},{"$f":"'1hr_summary_dir 2'!BU81","v":189.5},{"$f":"'1hr_summary_dir 2'!BV81","v":179.5},{"$f":"'1hr_summary_dir 2'!BP111","v":32.5},{"$f":"'1hr_summary_dir 2'!BQ111","v":26},{"$f":"'1hr_summary_dir 2'!BR111","v":26},{"$f":"'1hr_summary_dir 2'!BS111","v":24.5},{"$f":"'1hr_summary_dir 2'!BT111","v":28.5},{"$f":"'1hr_summary_dir 2'!BU111","v":5.5},{"$f":"'1hr_summary_dir 2'!BV111","v":6}]
["12:00:00",{"$f":"'1hr_summary_dir 2'!BP52","v":288.5},{"$f":"'1hr_summary_dir 2'!BQ52","v":301},{"$f":"'1hr_summary_dir 2'!BR52","v":290},{"$f":"'1hr_summary_dir 2'!BS52","v":341.5},{"$f":"'1hr_summary_dir 2'!BT52","v":337.5},{"$f":"'1hr_summary_dir 2'!BU52","v":436},{"$f":"'1hr_summary_dir 2'!BV52","v":380.5},{"$f":"'1hr_summary_dir 2'!BP82","v":175},{"$f":"'1hr_summary_dir 2'!BQ82","v":171.5},{"$f":"'1hr_summary_dir 2'!BR82","v":181},{"$f":"'1hr_summary_dir 2'!BS82","v":169.5},{"$f":"'1hr_summary_dir 2'!BT82","v":180.5},{"$f":"'1hr_summary_dir 2'!BU82","v":196.5},{"$f":"'1hr_summary_dir 2'!BV82","v":191},{"$f":"'1hr_summary_dir 2'!BP112","v":20.5},{"$f":"'1hr_summary_dir 2'!BQ112","v":19.5},{"$f":"'1hr_summary_dir 2'!BR112","v":28},{"$f":"'1hr_summary_dir 2'!BS112","v":29},{"$f":"'1hr_summary_dir 2'!BT112","v":19.5},{"$f":"'1hr_summary_dir 2'!BU112","v":6},{"$f":"'1hr_summary_dir 2'!BV112","v":5.5}]
["13:00:00",{"$f":"'1hr_summary_dir 2'!BP53","v":288.5},{"$f":"'1hr_summary_dir 2'!BQ53","v":220.5},{"$f":"'1hr_summary_dir 2'!BR53","v":277},{"$f":"'1hr_summary_dir 2'!BS53","v":313.5},{"$f":"'1hr_summary_dir 2'!BT53","v":341.5},{"$f":"'1hr_summary_dir 2'!BU53","v":362},{"$f":"'1hr_summary_dir 2'!BV53","v":346},{"$f":"'1hr_summary_dir 2'!BP83","v":155},{"$f":"'1hr_summary_dir 2'!BQ83","v":132.5},{"$f":"'1hr_summary_dir 2'!BR83","v":153},{"$f":"'1hr_summary_dir 2'!BS83","v":174.5},{"$f":"'1hr_summary_dir 2'!BT83","v":153.5},{"$f":"'1hr_summary_dir 2'!BU83","v":197},{"$f":"'1hr_summary_dir 2'!BV83","v":174.5},{"$f":"'1hr_summary_dir 2'!BP113","v":28.5},{"$f":"'1hr_summary_dir 2'!BQ113","v":26},{"$f":"'1hr_summary_dir 2'!BR113","v":28},{"$f":"'1hr_summary_dir 2'!BS113","v":25},{"$f":"'1hr_summary_dir 2'!BT113","v":25.5},{"$f":"'1hr_summary_dir 2'!BU113","v":5},{"$f":"'1hr_summary_dir 2'!BV113","v":11.5}]
["14:00:00",{"$f":"'1hr_summary_dir 2'!BP54","v":314},{"$f":"'1hr_summary_dir 2'!BQ54","v":152.5},{"$f":"'1hr_summary_dir 2'!BR54","v":288},{"$f":"'1hr_summary_dir 2'!BS54","v":309.5},{"$f":"'1hr_summary_dir 2'!BT54","v":353},{"$f":"'1hr_summary_dir 2'!BU54","v":368.5},{"$f":"'1hr_summary_dir 2'!BV54","v":364},{"$f":"'1hr_summary_dir 2'!BP84","v":177.5},{"$f":"'1hr_summary_dir 2'!BQ84","v":89.5},{"$f":"'1hr_summary_dir 2'!BR84","v":169},{"$f":"'1hr_summary_dir 2'!BS84","v":187},{"$f":"'1hr_summary_dir 2'!BT84","v":218},{"$f":"'1hr_summary_dir 2'!BU84","v":194},{"$f":"'1hr_summary_dir 2'!BV84","v":182},{"$f":"'1hr_summary_dir 2'!BP114","v":27.5},{"$f":"'1hr_summary_dir 2'!BQ114","v":12.5},{"$f":"'1hr_summary_dir 2'!BR114","v":27},{"$f":"'1hr_summary_dir 2'!BS114","v":24},{"$f":"'1hr_summary_dir 2'!BT114","v":21.5},{"$f":"'1hr_summary_dir 2'!BU114","v":8.5},{"$f":"'1hr_summary_dir 2'!BV114","v":9.5}]
["15:00:00",{"$f":"'1hr_summary_dir 2'!BP55","v":328},{"$f":"'1hr_summary_dir 2'!BQ55","v":171.5},{"$f":"'1hr_summary_dir 2'!BR55","v":350},{"$f":"'1hr_summary_dir 2'!BS55","v":360},{"$f":"'1hr_summary_dir 2'!BT55","v":391.5},{"$f":"'1hr_summary_dir 2'!BU55","v":372},{"$f":"'1hr_summary_dir 2'!BV55","v":307.5},{"$f":"'1hr_summary_dir 2'!BP85","v":193.5},{"$f":"'1hr_summary_dir 2'!BQ85","v":91},{"$f":"'1hr_summary_dir 2'!BR85","v":183},{"$f":"'1hr_summary_dir 2'!BS85","v":188},{"$f":"'1hr_summary_dir 2'!BT85","v":203},{"$f":"'1hr_summary_dir 2'!BU85","v":193},{"$f":"'1hr_summary_dir 2'!BV85","v":176},{"$f":"'1hr_summary_dir 2'!BP115","v":22.5},{"$f":"'1hr_summary_dir 2'!BQ115","v":14.5},{"$f":"'1hr_summary_dir 2'!BR115","v":21},{"$f":"'1hr_summary_dir 2'!BS115","v":26.5},{"$f":"'1hr_summary_dir 2'!BT115","v":26},{"$f":"'1hr_summary_dir 2'!BU115","v":5},{"$f":"'1hr_summary_dir 2'!BV115","v":7.5}]
["16:00:00",{"$f":"'1hr_summary_dir 2'!BP56","v":397},{"$f":"'1hr_summary_dir 2'!BQ56","v":187},{"$f":"'1hr_summary_dir 2'!BR56","v":421},{"$f":"'1hr_summary_dir 2'!BS56","v":380},{"$f":"'1hr_summary_dir 2'!BT56","v":435},{"$f":"'1hr_summary_dir 2'!BU56","v":351},{"$f":"'1hr_summary_dir 2'!BV56","v":297},{"$f":"'1hr_summary_dir 2'!BP86","v":204},{"$f":"'1hr_summary_dir 2'!BQ86","v":111},{"$f":"'1hr_summary_dir 2'!BR86","v":246},{"$f":"'1hr_summary_dir 2'!BS86","v":238.5},{"$f":"'1hr_summary_dir 2'!BT86","v":216.5},{"$f":"'1hr_summary_dir 2'!BU86","v":193.5},{"$f":"'1hr_summary_dir 2'!BV86","v":171},{"$f":"'1hr_summary_dir 2'!BP116","v":20},{"$f":"'1hr_summary_dir 2'!BQ116","v":11},{"$f":"'1hr_summary_dir 2'!BR116","v":21},{"$f":"'1hr_summary_dir 2'!BS116","v":23.5},{"$f":"'1hr_summary_dir 2'!BT116","v":19.5},{"$f":"'1hr_summary_dir 2'!BU116","v":10},{"$f":"'1hr_summary_dir 2'!BV116","v":6}]
["17:00:00",{"$f":"'1hr_summary_dir 2'!BP57","v":427},{"$f":"'1hr_summary_dir 2'!BQ57","v":214.5},{"$f":"'1hr_summary_dir 2'!BR57","v":413},{"$f":"'1hr_summary_dir 2'!BS57","v":436.5},{"$f":"'1hr_summary_dir 2'!BT57","v":398},{"$f":"'1hr_summary_dir 2'!BU57","v":292.5},{"$f":"'1hr_summary_dir 2'!BV57","v":235.5},{"$f":"'1hr_summary_dir 2'!BP87","v":194.5},{"$f":"'1hr_summary_dir 2'!BQ87","v":96.5},{"$f":"'1hr_summary_dir 2'!BR87","v":217},{"$f":"'1hr_summary_dir 2'!BS87","v":201},{"$f":"'1hr_summary_dir 2'!BT87","v":207},{"$f":"'1hr_summary_dir 2'!BU87","v":190.5},{"$f":"'1hr_summary_dir 2'!BV87","v":122},{"$f":"'1hr_summary_dir 2'!BP117","v":8.5},{"$f":"'1hr_summary_dir 2'!BQ117","v":6},{"$f":"'1hr_summary_dir 2'!BR117","v":11},{"$f":"'1hr_summary_dir 2'!BS117","v":9.5},{"$f":"'1hr_summary_dir 2'!BT117","v":7},{"$f":"'1hr_summary_dir 2'!BU117","v":9},{"$f":"'1hr_summary_dir 2'!BV117","v":4}]
["18:00:00",{"$f":"'1hr_summary_dir 2'!BP58","v":308},{"$f":"'1hr_summary_dir 2'!BQ58","v":149},{"$f":"'1hr_summary_dir 2'!BR58","v":307},{"$f":"'1hr_summary_dir 2'!BS58","v":274},{"$f":"'1hr_summary_dir 2'!BT58","v":319.5},{"$f":"'1hr_summary_dir 2'!BU58","v":245.5},{"$f":"'1hr_summary_dir 2'!BV58","v":172.5},{"$f":"'1hr_summary_dir 2'!BP88","v":168.5},{"$f":"'1hr_summary_dir 2'!BQ88","v":78.5},{"$f":"'1hr_summary_dir 2'!BR88","v":184},{"$f":"'1hr_summary_dir 2'!BS88","v":156},{"$f":"'1hr_summary_dir 2'!BT88","v":159},{"$f":"'1hr_summary_dir 2'!BU88","v":134.5},{"$f":"'1hr_summary_dir 2'!BV88","v":102.5},{"$f":"'1hr_summary_dir 2'!BP118","v":8},{"$f":"'1hr_summary_dir 2'!BQ118","v":3.5},{"$f":"'1hr_summary_dir 2'!BR118","v":12},{"$f":"'1hr_summary_dir 2'!BS118","v":7},{"$f":"'1hr_summary_dir 2'!BT118","v":7},{"$f":"'1hr_summary_dir 2'!BU118","v":3},{"$f":"'1hr_summary_dir 2'!BV118","v":3.5}]
["19:00:00",{"$f":"'1hr_summary_dir 2'!BP59","v":185},{"$f":"'1hr_summary_dir 2'!BQ59","v":91.5},{"$f":"'1hr_summary_dir 2'!BR59","v":189},{"$f":"'1hr_summary_dir 2'!BS59","v":194.5},{"$f":"'1hr_summary_dir 2'!BT59","v":189.5},{"$f":"'1hr_summary_dir 2'!BU59","v":173.5},{"$f":"'1hr_summary_dir 2'!BV59","v":123.5},{"$f":"'1hr_summary_dir 2'!BP89","v":109.5},{"$f":"'1hr_summary_dir 2'!BQ89","v":56.5},{"$f":"'1hr_summary_dir 2'!BR89","v":115},{"$f":"'1hr_summary_dir 2'!BS89","v":113.5},{"$f":"'1hr_summary_dir 2'!BT89","v":122},{"$f":"'1hr_summary_dir 2'!BU89","v":107.5},{"$f":"'1hr_summary_dir 2'!BV89","v":86.5},{"$f":"'1hr_summary_dir 2'!BP119","v":5.5},{"$f":"'1hr_summary_dir 2'!BQ119","v":3.5},{"$f":"'1hr_summary_dir 2'!BR119","v":3},{"$f":"'1hr_summary_dir 2'!BS119","v":6},{"$f":"'1hr_summary_dir 2'!BT119","v":5},{"$f":"'1hr_summary_dir 2'!BU119","v":5},{"$f":"'1hr_summary_dir 2'!BV119","v":2}]
["20:00:00",{"$f":"'1hr_summary_dir 2'!BP60","v":106.5},{"$f":"'1hr_summary_dir 2'!BQ60","v":47},{"$f":"'1hr_summary_dir 2'!BR60","v":128},{"$f":"'1hr_summary_dir 2'!BS60","v":109},{"$f":"'1hr_summary_dir 2'!BT60","v":122},{"$f":"'1hr_summary_dir 2'!BU60","v":127},{"$f":"'1hr_summary_dir 2'!BV60","v":104.5},{"$f":"'1hr_summary_dir 2'!BP90","v":71.5},{"$f":"'1hr_summary_dir 2'!BQ90","v":33},{"$f":"'1hr_summary_dir 2'!BR90","v":90},{"$f":"'1hr_summary_dir 2'!BS90","v":68.5},{"$f":"'1hr_summary_dir 2'!BT90","v":78},{"$f":"'1hr_summary_dir 2'!BU90","v":63.5},{"$f":"'1hr_summary_dir 2'!BV90","v":53.5},{"$f":"'1hr_summary_dir 2'!BP120","v":2.5},{"$f":"'1hr_summary_dir 2'!BQ120","v":0},{"$f":"'1hr_summary_dir 2'!BR120","v":2},{"$f":"'1hr_summary_dir 2'!BS120","v":2.5},{"$f":"'1hr_summary_dir 2'!BT120","v":2.5},{"$f":"'1hr_summary_dir 2'!BU120","v":2},{"$f":"'1hr_summary_dir 2'!BV120","v":0.5}]
["21:00:00",{"$f":"'1hr_summary_dir 2'!BP61","v":92},{"$f":"'1hr_summary_dir 2'!BQ61","v":44.5},{"$f":"'1hr_summary_dir 2'!BR61","v":102},{"$f":"'1hr_summary_dir 2'!BS61","v":107},{"$f":"'1hr_summary_dir 2'!BT61","v":85},{"$f":"'1hr_summary_dir 2'!BU61","v":88},{"$f":"'1hr_summary_dir 2'!BV61","v":72.5},{"$f":"'1hr_summary_dir 2'!BP91","v":33.5},{"$f":"'1hr_summary_dir 2'!BQ91","v":23.5},{"$f":"'1hr_summary_dir 2'!BR91","v":74},{"$f":"'1hr_summary_dir 2'!BS91","v":48.5},{"$f":"'1hr_summary_dir 2'!BT91","v":58},{"$f":"'1hr_summary_dir 2'!BU91","v":48.5},{"$f":"'1hr_summary_dir 2'!BV91","v":34},{"$f":"'1hr_summary_dir 2'!BP121","v":2},{"$f":"'1hr_summary_dir 2'!BQ121","v":1},{"$f":"'1hr_summary_dir 2'!BR121","v":0},{"$f":"'1hr_summary_dir 2'!BS121","v":1},{"$f":"'1hr_summary_dir 2'!BT121","v":0},{"$f":"'1hr_summary_dir 2'!BU121","v":0},{"$f":"'1hr_summary_dir 2'!BV121","v":1.5}]
["22:00:00",{"$f":"'1hr_summary_dir 2'!BP62","v":43},{"$f":"'1hr_summary_dir 2'!BQ62","v":37},{"$f":"'1hr_summary_dir 2'!BR62","v":67},{"$f":"'1hr_summary_dir 2'!BS62","v":67},{"$f":"'1hr_summary_dir 2'!BT62","v":71.5},{"$f":"'1hr_summary_dir 2'!BU62","v":83},{"$f":"'1hr_summary_dir 2'!BV62","v":37.5},{"$f":"'1hr_summary_dir 2'!BP92","v":23},{"$f":"'1hr_summary_dir 2'!BQ92","v":21.5},{"$f":"'1hr_summary_dir 2'!BR92","v":40},{"$f":"'1hr_summary_dir 2'!BS92","v":53.5},{"$f":"'1hr_summary_dir 2'!BT92","v":49.5},{"$f":"'1hr_summary_dir 2'!BU92","v":44.5},{"$f":"'1hr_summary_dir 2'!BV92","v":19},{"$f":"'1hr_summary_dir 2'!BP122","v":2},{"$f":"'1hr_summary_dir 2'!BQ122","v":1},{"$f":"'1hr_summary_dir 2'!BR122","v":1},{"$f":"'1hr_summary_dir 2'!BS122","v":1},{"$f":"'1hr_summary_dir 2'!BT122","v":1.5},{"$f":"'1hr_summary_dir 2'!BU122","v":1.5},{"$f":"'1hr_summary_dir 2'!BV122","v":1}]
["23:00:00",{"$f":"'1hr_summary_dir 2'!BP63","v":15},{"$f":"'1hr_summary_dir 2'!BQ63","v":12.5},{"$f":"'1hr_summary_dir 2'!BR63","v":33},{"$f":"'1hr_summary_dir 2'!BS63","v":26.5},{"$f":"'1hr_summary_dir 2'!BT63","v":46},{"$f":"'1hr_summary_dir 2'!BU63","v":61.5},{"$f":"'1hr_summary_dir 2'!BV63","v":18},{"$f":"'1hr_summary_dir 2'!BP93","v":11},{"$f":"'1hr_summary_dir 2'!BQ93","v":6.5},{"$f":"'1hr_summary_dir 2'!BR93","v":11},{"$f":"'1hr_summary_dir 2'!BS93","v":18},{"$f":"'1hr_summary_dir 2'!BT93","v":24},{"$f":"'1hr_summary_dir 2'!BU93","v":35.5},{"$f":"'1hr_summary_dir 2'!BV93","v":7.5},{"$f":"'1hr_summary_dir 2'!BP123","v":1},{"$f":"'1hr_summary_dir 2'!BQ123","v":0.5},{"$f":"'1hr_summary_dir 2'!BR123","v":0},{"$f":"'1hr_summary_dir 2'!BS123","v":0},{"$f":"'1hr_summary_dir 2'!BT123","v":1},{"$f":"'1hr_summary_dir 2'!BU123","v":0.5},{"$f":"'1hr_summary_dir 2'!BV123","v":1.5}]
["TOTAL",{"$f":"SUM(B89:B112)","v":4571},{"$f":"SUM(C89:C112)","v":3331.5},4639,4623.5,4808.5,4452,3609.5,{"$f":"SUM(I89:I112)","v":2659.5},{"$f":"SUM(J89:J112)","v":2088.5},2747,2788,2833.5,2415,1979,{"$f":"SUM(P89:P112)","v":328.5},{"$f":"SUM(Q89:Q112)","v":273.5},320,342.5,302,116.5,97]